Acme-TLDR v0.004 Perl 5 v5.43.3 amd64-netbsd
- Status
- Pass
- From
- Carlos Guevara
- Dist
- Acme-TLDR v0.004
- Platform
- Perl 5 v5.43.3 amd64-netbsd
- Date
- 2025-09-02 21:41:31
- ID
- 9718c8fe-8845-11f0-8909-a5cbb4c4ffaa
This distribution has been tested as part of the CPAN Testers
project, supporting the Perl programming language. See
http://wiki.cpantesters.org/ for more information or email
questions to cpan-testers-discuss@perl.org
--
Dear Stanislaw Pusep,
This is a computer-generated report for Acme-TLDR-0.004
on perl 5.43.3, created by CPAN-Reporter-1.2020.
Thank you for uploading your work to CPAN. Congratulations!
All tests were successful.
Sections of this report:
* Tester comments
* Program output
* Prerequisites
* Environment and other context
------------------------------
TESTER COMMENTS
------------------------------
Additional comments from tester:
this report is from an automated smoke testing program
and was not reviewed by a human for accuracy
------------------------------
PROGRAM OUTPUT
------------------------------
Output from '/usr/bin/make test':
PERL_DL_NONLAZY=1 "/home/cpan/bin/perl/bin/perl5.43.3" "-MExtUtils::Command::MM" "-MTest::Harness" "-e" "undef *Test::Harness::Switches; test_harness(0, 'blib/lib', 'blib/arch')" t/*.t
t/00-compile.t ............... ok
Version string '1.2 ' contains invalid data; ignoring: ' ' at /home/cpan/bin/perl/lib/site_perl/5.43.3/ExtUtils/MM_Unix.pm line 3048.
# Acme::TLDR v0.004, Perl 5.043003, /home/cpan/bin/perl/bin/perl5.43.3
t/00-load.t .................. ok
ExtUtils::Installed cache: /home/cpan/.Acme-TLDR-b8880affb6a9ab2f8f974b094f00451d.cache
no cache found; generating
Version string '1.2 ' contains invalid data; ignoring: ' ' at /home/cpan/bin/perl/lib/site_perl/5.43.3/ExtUtils/MM_Unix.pm line 3048.
ACL::Lite => ACL::L
AI::Calibrate => AI::C
Acme::6502 => A::6502
Acme::Akashic::Records => A::A::R
Acme::AliG => A::AliG
Acme::Anything => A::A
Acme::Auggy => *undef*
Acme::Backwards => A::B
Acme::Beamerang::Logger => A::B::L
Acme::Bleach::Numerically => A::B::N
Acme::CPANAuthors => A::CPANA
Acme::CPANAuthors::Australian => A::CPANA::A
Acme::CPANAuthors::Austrian => *undef*
Acme::CPANAuthors::British => A::CPANA::B
Acme::CPANAuthors::CPANTS::FiveOrMore => A::CPANA::CPANTS::FOrM
Acme::CPANAuthors::CodeRepos => A::CPANA::CR
Acme::CPANAuthors::DebianDev => A::CPANA::DDev
Acme::CPANAuthors::MetaSyntactic => A::CPANA::MS
Acme::CPANAuthors::Norwegian => A::CPANA::N
Acme::CPANAuthors::Pumpkings => A::CPANA::P
Acme::CPANAuthors::Russian => A::CPANA::R
Acme::CPANAuthors::Turkish => A::CPANA::T
Acme::CPANAuthors::You::re_using => A::CPANA::You::r
Acme::CPANModulesUtil::Bencher => A::CPANMU::B
Acme::CatalystX::ILoveDebug => A::CX::ILD
Acme::Collector64 => A::C64
Acme::ComeFrom => A::CF
Acme::Constructor::Pythonic => A::C::P
Acme::Crap => A::C
Acme::Current::Forever => A::C::F
Acme::Curse => *undef*
Acme::Damn => A::D
Acme::Data::Dumper::Extensions => A::D::D::E
Acme::Devel::Hide::Tiny => A::D::H::T
Acme::DieOnLoad => A::DieOnL
Acme::Don::t => A::Don::t
Acme::Dump::And::Dumper => A::D::And::D
Acme::Everything => A::E
Acme::EyeDrops => A::EyeD
Acme::Flat => A::F
Acme::Frog => *undef*
Acme::Github::Test => A::G::T
Acme::Given::Hash => A::G::H
Acme::Has::Tiny => A::Has::T
Acme::JavaTrace => A::JT
Acme::KMX::Test => A::KMX::T
Acme::Kensiro => A::K
Acme::Laugh => A::L
Acme::LifeUniverseEverything => A::LUE
Acme::Lingua::EN::Inflect::Modern => A::L::EN::I::M
Acme::List::CarCdr => A::L::CarCdr
Acme::Loopy => *undef*
Acme::MJD::FR => A::MJD::FR
Acme::MathProfessor::RandomPrime => A::MP::RP
Acme::Matrix => A::M
Acme::Meta => *undef*
Acme::MetaSyntactic => A::MS
Acme::MetaSyntactic::Themes::Abigail => A::MS::T::A
Acme::MetaSyntactic::WordList => A::MS::WL
Acme::MetaSyntactic::buzzwords => A::MS::b
Acme::MetaSyntactic::chinese_zodiac => A::MS::c
Acme::MetaSyntactic::christmas => *undef*
Acme::MetaSyntactic::countries => *undef*
Acme::MetaSyntactic::cpanauthors => *undef*
Acme::MetaSyntactic::dangdut => A::MS::d
Acme::MetaSyntactic::display_resolution => *undef*
Acme::MetaSyntactic::dune => *undef*
Acme::MetaSyntactic::errno => A::MS::e
Acme::MetaSyntactic::frasier => A::MS::f
Acme::MetaSyntactic::gavan => A::MS::g
Acme::MetaSyntactic::id_beverages => A::MS::i
Acme::MetaSyntactic::id_dishes => *undef*
Acme::MetaSyntactic::id_names => *undef*
Acme::MetaSyntactic::legobatman => A::MS::l
Acme::MetaSyntactic::legocityundercover => *undef*
Acme::MetaSyntactic::legoharrypotter => *undef*
Acme::MetaSyntactic::legoindianajones => *undef*
Acme::MetaSyntactic::legojurassicworld => *undef*
Acme::MetaSyntactic::legolotr => *undef*
Acme::MetaSyntactic::legomarvelsavengers => *undef*
Acme::MetaSyntactic::legomarvelsuperheroes => *undef*
Acme::MetaSyntactic::legomovievideogame => *undef*
Acme::MetaSyntactic::legopiratesofthecaribbean => *undef*
Acme::MetaSyntactic::legostarwarstheforceawakens => *undef*
Acme::MetaSyntactic::legothehobbit => *undef*
Acme::MetaSyntactic::legoworlds => *undef*
Acme::MetaSyntactic::metal_heroes => A::MS::m
Acme::MetaSyntactic::mlpfim => *undef*
Acme::MetaSyntactic::morning_musume => *undef*
Acme::MetaSyntactic::nethack => A::MS::n
Acme::MetaSyntactic::seinfeld => A::MS::s
Acme::MetaSyntactic::soviet => *undef*
Acme::MetaSyntactic::unyil => A::MS::u
Acme::MetaSyntactic::vim => A::MS::vim
Acme::MirrorTracer => A::MT
Acme::MorningMusume => A::MM
Acme::NamespaceRoulette => A::NR
Acme::Note => A::N
Acme::Nothing => *undef*
Acme::Numbers => *undef*
Acme::Ook => A::Ook
Acme::PERLANCAR::Prime => A::PERLANCAR::P
Acme::PERLANCAR::Test::SameRelease => A::PERLANCAR::T::SR
Acme::Partitioner => A::P
Acme::Perl::Consensual => A::P::C
Acme::Phlegethoth => *undef*
Acme::Pi => A::Pi
Acme::Playwright => *undef*
Acme::Pony::Pink => A::P::P
Acme::Prereq::BigDistro => A::P::BigD
Acme::RequireModule => A::RM
Acme::RunDoc => A::RunDoc
Acme::Scurvy::Whoreson::BilgeRat => A::S::W::BRat
Acme::Sneeze => A::S
Acme::Spider => *undef*
Acme::Spork => *undef*
Acme::Steganography::Image::Png => A::S::I::Png
Acme::SuperCollider::Programming => A::SC::P
Acme::SvGROW => A::SvGROW
Acme::Takahashi::Method => A::T::M
Acme::Test::Buffy => A::T::B
Acme::Test::VW => A::T::VW
Acme::Text::Rhombus => A::T::R
Acme::Text::Shorten::ForTwitter => A::T::S::ForT
Acme::Time::Asparagus => A::T::A
Acme::UNIVERSAL::cannot => A::UNIVERSAL::c
Acme::USIG => A::USIG
Acme::Urinal => A::U
Acme::UseStrict => A::UseS
Acme::Version::Hex => A::V::Hex
Acme::YAPC::Asia::2012::LTthon::Hakushu => A::YAPC::A::2012::LT::H
Acme::Your => A::Y
Acme::landmine => A::l
Acme::please => A::p
Adapter::Async => *undef*
Algorithm::Backoff => *undef*
Algorithm::BreakOverlappingRectangles => A::BOR
Algorithm::C3 => A::C3
Algorithm::ChooseSubsets => A::CS
Algorithm::ClusterPoints => A::CP
Algorithm::Combinatorics => *undef*
Algorithm::ConsistentHash::CHash => A::CH::CH
Algorithm::ConsistentHash::Ketama => A::CH::K
Algorithm::ConstructDFA => A::CDFA
Algorithm::Cron => *undef*
Algorithm::Dependency => *undef*
Algorithm::Dependency::MapReduce => A::D::MapR
Algorithm::Dependency::Source::DBI => A::D::S::DBI
Algorithm::Diff => *undef*
Algorithm::Diff::Callback => A::D::C
Algorithm::Diff::JSON => A::D::JSON
Algorithm::Evolutionary::Fitness => A::E::F
Algorithm::Evolutionary::Utils => A::E::U
Algorithm::Evolve => *undef*
Algorithm::FEC => A::FEC
Algorithm::GaussianElimination::GF2 => A::GE::GF2
Algorithm::GenerateSequence => A::GS
Algorithm::Kelly => *undef*
Algorithm::Loops => *undef*
Algorithm::Odometer::Tiny => A::O::T
Algorithm::Permute => *undef*
Algorithm::RectanglesContainingDot => A::RCDot
Algorithm::Scale2x => A::S2x
Algorithm::SkipList => A::SL
Algorithm::SpatialIndex => A::SI
Algorithm::SpatialIndex::Storage::Redis => A::SI::S::R
Alien::Base::ModuleBuild => A::B::MB
Alien::Build => *undef*
Alien::Build::MB => *undef*
Alien::Build::Plugin::Download::GitHub => A::B::P::D::GitHub
Alien::Build::Plugin::Download::GitLab => A::B::P::D::GitLab
Alien::GvaScript => A::GvaS
Alien::Libxml2 => A::L2
Alien::TidyHTML5 => A::THTML5
Alien::cmake3 => A::c3
Alien::curl => A::c
Alien::libtickit => *undef*
Alt::Acme::Math::XS::CPP => Alt::A::M::XS::CPP
Alt::Crypt::RSA::BigInt => Alt::C::RSA::BigInt
Alt::Devel::CallParser::ButWorking => Alt::D::CP::ButW
Amiga::ARexx => A::AR
Amiga::Exec => *undef*
Amon2 => A2
Amon2::DBI => A2::DBI
Amon2::Lite => A2::L
Amon2::Plugin::LogDispatch => A2::P::LogD
Amon2::Plugin::ShareDir => A2::P::SDir
Amon2::Plugin::Web::CSRFDefender => A2::P::Web::CSRFD
Amon2::Plugin::Web::HTTPSession => A2::P::Web::HTTPS
Anonymous::Object => A::O
Any::Moose => Any::M
AnyDBM_File => AnyDBM_F
AnyData => AnyD
AnyEvent => AnyE
AnyEvent::CacheDNS => AnyE::CDNS
AnyEvent::Chromi => AnyE::C
AnyEvent::FIFO => AnyE::FIFO
AnyEvent::Fork::Remote => AnyE::F::R
AnyEvent::HTTP => AnyE::HTTP
AnyEvent::Handle::UDP => AnyE::H::UDP
AnyEvent::IRC => AnyE::IRC
AnyEvent::PacketForwarder => AnyE::PF
AnyEvent::PacketReader => AnyE::PR
AnyEvent::SKKServ => AnyE::SKKS
AnyEvent::Semaphore => AnyE::S
Apache::Bootstrap => *undef*
Apache::Dir => A::Dir
Apache::Htgroup => A::H
Apache::Htpasswd => *undef*
Apache::LogFormat::Compiler => A::LogF::C
Apache::Session => *undef*
Apachish::Examples => *undef*
Apigee::Edge => *undef*
App::BCVI::InstallManager => App::BCVI::IM
App::BarnesNoble::WishListMinder => App::BN::WLM
App::Benchmark => App::B
App::CPANIDX::HTTP::Server => App::CPANIDX::HTTP::S
App::CPANTS::Lint => App::CPANTS::L
App::Cache => App::C
App::Charon => *undef*
App::Cleo => *undef*
App::Colorist => *undef*
App::Cpan => *undef*
App::DPath => App::DP
App::Dispatch => App::D
App::EnvUtils => App::EnvU
App::FatPacker => App::FatP
App::FatPacker::Simple => App::FatP::S
App::Genpass => App::G
App::Git::Info => App::Git::I
App::Git::Ribbon => App::Git::R
App::Git::Spark => App::Git::S
App::Info => App::I
App::JSON::Tools => App::JSON::T
App::KeePass2 => App::KeeP2
App::LoadWatcher => App::LW
App::Module::Lister => App::M::L
App::Nopaste => App::N
App::Nopaste::Service::AnyPastebin => App::N::S::AnyP
App::Nopaste::Service::Linode => App::N::S::L
App::Nopaste::Service::PastebinCa => App::N::S::PCa
App::Notifo => *undef*
App::Office::Contacts => App::O::C
App::PPI::Dumper => App::PPI::D
App::Physics::ParticleMotion => App::P::PM
App::PipeFilter => App::PF
App::PodPreview => App::PodP
App::PrettyRes => App::PRes
App::Procapult => App::P
App::Prolix => *undef*
App::Prove => *undef*
App::Prove::Plugin::SetEnv => App::P::P::SetEnv
App::Prove::State => App::P::S
App::Prove::State::Result => App::P::S::R
App::Prove::State::Result::Test => App::P::S::R::T
App::Rad::Plugin::ConfigLoader => App::Rad::P::CL
App::Rcsync => App::R
App::Relate => *undef*
App::RouterColorizer => App::RC
App::Session::Token => App::S::T
App::ShellCompleter::cpanm => App::SC::c
App::ShellCompleter::perlbrew => App::SC::p
App::Skeletor => App::S
App::Stash => *undef*
App::Tacochan => App::T
App::ThisDist => App::TD
App::Whatsit => App::W
App::ansifold => App::a
App::codefork => App::c
App::colourhexdump => *undef*
App::cpanm::script => App::c::s
App::cpanminus => *undef*
App::cpantimes => *undef*
App::csv2sqlite => App::csv2
App::distfind => App::d
App::duino => *undef*
App::find2perl => App::f2
App::livehttperf => App::l
App::makebeamerinfo => App::m
App::mymeta_requires => *undef*
App::perlvars => App::p
App::plockf => *undef*
App::pmdir => *undef*
App::prove4air => App::p4
App::rlibperl => App::r
App::starbucksloginator => App::s
App::test::travis => App::t::t
App::typemap => App::t
AppConfig => AppC
AppConfig::Std => AppC::Std
AppleII::LibA2 => AII::LibA2
Archive::Any => A::Any
Archive::Any::Create => A::Any::C
Archive::Any::Lite => A::Any::L
Archive::Extract => *undef*
Archive::Libarchive => *undef*
Archive::Peek => *undef*
Archive::StringToZip => A::SToZip
Archive::Tar => A::Tar
Archive::Tar::Constant => A::Tar::C
Archive::Tar::File => A::Tar::F
Archive::Tar::Wrapper => A::Tar::W
Archive::Zip => A::Zip
Ark::Plugin::I18N => Ark::P::I18N
Ark::Plugin::ReproxyCallback => Ark::P::RC
Array::AsHash => A::AsH
Array::Columnize => *undef*
Array::Diff => *undef*
Array::Each::Override => A::E::O
Array::Extract => *undef*
Array::FileReader => A::FR
Array::Frugal => *undef*
Array::Group => A::G
Array::Heap => *undef*
Array::Heap::ModifiablePriorityQueue => A::H::MPQ
Array::IntSpan => A::IntS
Array::Iter => A::I
Array::Iterator => *undef*
Array::Merge::Unique => A::M::U
Array::Objectify => *undef*
Array::OverlapFinder => A::OF
Array::PseudoScalar => A::PS
Array::RefElem => A::RefE
Array::Sample::SysRand => A::S::SysR
Array::Sample::WeightedRandom => A::S::WR
Array::Unique => *undef*
Array::Util::MultiTarget => A::U::MT
ArrayData => AD
ArrayData::Lingua::Word::ID::KBBI::ByClass::Adverb => AD::L::W::ID::KBBI::ByC::A
ArrayData::Lingua::Word::ID::KBBI::ByClass::Verb => AD::L::W::ID::KBBI::ByC::V
ArrayDataRoles::Standard => ADR::S
Ascii::Text => A::T
Aspect::Library::Memoize => A::L::M
Aspect::Library::Trace => A::L::T
Astro::Coord::Constellations => A::C::C
Astro::Coord::Precession => *undef*
Astro::FITS::Header => A::FITS::H
Astro::MapProjection => A::MapP
Astro::MoonPhase => A::MP
Astro::Utils => *undef*
Async::Group => *undef*
Async::Interrupt => *undef*
Attribute::Benchmark => *undef*
Attribute::Handlers => *undef*
Attribute::Handlers::Prospective => A::H::P
Attribute::Lexical => *undef*
Attribute::Overload => *undef*
Attribute::Overload::Match => A::O::M
Attribute::Property => *undef*
Attribute::Protected => *undef*
Attribute::QueueStack => A::QS
Attribute::Signature => *undef*
Attribute::Unimplemented => *undef*
Attribute::Util => *undef*
Audio::MPD => A::MPD
Audio::MPD::Common => A::MPD::C
Authen::DecHpwd => A::DecH
Authen::DigestMD5 => A::DMD5
Authen::Htpasswd => *undef*
Authen::NTLM => A::NTLM
Authen::PAM => A::PAM
Authen::Passphrase => *undef*
Authen::Passphrase::SaltedSHA512 => A::P::SSHA512
Authen::Radius => A::R
Authen::SASL => A::SASL
Authen::SASL::SASLprep => A::SASL::SASL
Authen::SCRAM => A::SCRAM
Authen::Simple => *undef*
Authen::Simple::CDBI => A::S::CDBI
Authen::Simple::DBI => A::S::DBI
Authen::Simple::HTTP => A::S::HTTP
Authen::Simple::PAM => A::S::PAM
Authen::Simple::Passwd => A::S::P
Authen::Simple::RADIUS => A::S::RADIUS
AutoLoader => AL
AutoSplit => AS
B::CodeLines => B::CL
B::Compiling => *undef*
B::Concise => *undef*
B::Debug => B::D
B::Deparse => *undef*
B::Flags => B::F
B::Generate => B::G
B::Hooks::AtRuntime => B::H::AtR
B::Hooks::EndOfScope => B::H::EndOfS
B::Hooks::OP::Annotation => B::H::OP::A
B::Hooks::OP::Check => B::H::OP::C
B::Hooks::OP::Check::StashChange => B::H::OP::C::SC
B::Hooks::OP::PPAddr => B::H::OP::PPA
B::Hooks::Parser => B::H::P
B::Keywords => B::K
B::OPCheck => B::OPC
B::Op_private => B::O
B::OptreeShortestPath => B::OSP
B::Showlex => B::S
B::Terse => B::T
B::Tools => *undef*
B::Utils => B::U
B::Xref => B::X
BSD::Resource => BSD::R
BSON::Decode => BSON::D
Backblaze::B2 => B::B2
Badge::Depot => *undef*
Badge::Depot::Plugin::Cpantesters => B::D::P::C
Barcode::Code128 => B::C128
Bash::Completion => *undef*
Bash::Completion::Plugin::Test => B::C::P::T
Bash::Completion::Plugins::cpanm => B::C::P::c
Bash::Completion::Plugins::perlbrew => B::C::P::p
Bash::Completion::Plugins::pinto => *undef*
Bash::History::Read => B::H::R
Beam::Emitter => B::E
Beam::Make => B::M
Beam::Runner => B::R
Beam::Service => *undef*
Beam::Wire => B::W
Beam::Wire::Moose => B::W::M
Benchmark::Apps => B::A
Benchmark::Command => *undef*
Benchmark::Featureset::StopwordLists => B::F::SL
Benchmark::Perl::Formance::Cargo => B::P::F::C
Benchmark::Stopwatch => *undef*
BenchmarkAnything::Config => BA::C
BenchmarkAnything::Reporter => BA::R
Biblio-LCC => B-LCC
Biblio::Thesaurus => *undef*
Bio::SSRTool => Bio::SSRT
Bit::Fast => Bit::F
Bit::Vector => Bit::V
Blessed::Merge => *undef*
Blog::Simple::HTMLOnly => B::S::HTMLO
BorderStyle => BS
BorderStyles::Standard => BS::S
Bot::Training => Bot::T
Bot::Training::StarCraft => Bot::T::SC
Box::Calc => Box::C
Bread::Board => B::B
Browser::Open => *undef*
Bryar::Config::YAML => B::C::YAML
Build-Daily => B-D
Build::Simple => *undef*
Builtin::Logged => B::L
Business-BR-Ids => B-BR-Ids
Business::AU::ABN => B::AU::ABN
Business::BalancedPayments => B::BP
Business::CA::GST => B::CA::GST
Business::CCCheck => B::CCC
Business::Colissimo => *undef*
Business::CreditCard => B::CC
Business::DK::CPR => B::DK::CPR
Business::DK::CVR => B::DK::CVR
Business::DK::Phonenumber => B::DK::P
Business::ISBN => B::ISBN
Business::ISBN::Data => B::ISBN::D
Business::ISSN => B::ISSN
Business::Tax::Canada => B::Tax::C
Business::Tax::US::Form_1040::Worksheets => B::Tax::US::F1040::W
Business::Tax::VAT => B::Tax::VAT
Business::US::USPS::IMB => B::US::USPS::IMB
Bytes::Random::Secure => B::R::S
C::Tokenize => C::T
CACertOrg::CA => CACOrg::CA
CASCM::Wrapper => CASCM::W
CBOR::Free => CBOR::F
CGI-Kwiki => CGI-K
CGI::AIS::Session => CGI::AIS::S
CGI::Application => CGI::A
CGI::Application::Demo::Basic => CGI::A::D::B
CGI::Application::Dispatch => CGI::A::D
CGI::Application::Plugin::AutoRunmode => CGI::A::P::AR
CGI::Application::Plugin::DBH => CGI::A::P::DBH
CGI::Application::Plugin::DBIx::Class => CGI::A::P::DBIx::C
CGI::Application::Plugin::DevPopup => CGI::A::P::DevP
CGI::Application::Plugin::HTCompiled => CGI::A::P::HTC
CGI::Application::Plugin::LogDispatch => CGI::A::P::LogD
CGI::Application::Plugin::RateLimit => CGI::A::P::RL
CGI::Application::Plugin::Redirect => CGI::A::P::R
CGI::Application::Plugin::Session => CGI::A::P::S
CGI::Application::Plugin::Stash => *undef*
CGI::Application::Plugin::TT => CGI::A::P::TT
CGI::Application::Plugin::TT::Any => CGI::A::P::TT::Any
CGI::Capture => CGI::C
CGI::Carp::StackTrace => CGI::C::ST
CGI::Compile => *undef*
CGI::Compress::Gzip => CGI::C::G
CGI::Deurl::XS => CGI::D::XS
CGI::Emulate::PSGI => CGI::E::PSGI
CGI::Expand => CGI::E
CGI::ExtDirect => CGI::ExtD
CGI::Fast => CGI::F
CGI::Form2XML => CGI::F2XML
CGI::Form::Table => CGI::F::T
CGI::Session => CGI::S
CGI::Session::Driver::oracle => CGI::S::D::o
CGI::Simple => *undef*
CGI::Snapp => *undef*
CGI::Snapp::Demo::Three => CGI::S::D::T
CGI::Snapp::Demo::Two => CGI::S::D::Two
CGI::Snapp::Dispatch => CGI::S::D
CGI::Struct => *undef*
CGI::Test => CGI::T
CGI::Tiny => *undef*
CGI::Untaint => CGI::U
CGI::Untaint::email => CGI::U::e
CGI::Widget::Tabs => CGI::W::T
CGI::XMLForm => CGI::XMLF
CLI::Framework => CLI::F
CLI::Osprey => CLI::O
CPAN::02Packages::Search => CPAN::02P::S
CPAN::Author => CPAN::A
CPAN::Bundle => CPAN::B
CPAN::CacheMgr => CPAN::CMgr
CPAN::CachingProxy => CPAN::CP
CPAN::Changes => CPAN::C
CPAN::Changes::Dependencies::Details => CPAN::C::D::D
CPAN::Changes::Group::Dependencies::Details => CPAN::C::G::D::D
CPAN::Checksums => *undef*
CPAN::Common::Index => CPAN::C::I
CPAN::Complete => *undef*
CPAN::Cover::Results => CPAN::C::R
CPAN::Cpanorg::Auxiliary => CPAN::C::A
CPAN::Debug => CPAN::D
CPAN::DeferredCode => CPAN::DC
CPAN::DistnameInfo => CPAN::DI
CPAN::Distribution => *undef*
CPAN::Distroprefs => *undef*
CPAN::Distrostatus => *undef*
CPAN::Exception::RecursiveDependency => CPAN::E::RD
CPAN::Exception::blocked_urllist => CPAN::E::b
CPAN::Exception::yaml_not_installed => CPAN::E::y
CPAN::Exception::yaml_process_error => *undef*
CPAN::FTP::netrc => CPAN::FTP::n
CPAN::FirstTime => CPAN::FT
CPAN::Flatten => CPAN::F
CPAN::HTTP::Client => CPAN::HTTP::C
CPAN::HTTP::Credentials => *undef*
CPAN::HandleConfig => CPAN::HC
CPAN::Index => CPAN::I
CPAN::Indexer::Mirror => CPAN::I::M
CPAN::Info::FromRepoName => CPAN::I::FRN
CPAN::Info::FromURL => CPAN::I::FURL
CPAN::InfoObj => CPAN::IObj
CPAN::Inject => *undef*
CPAN::Kwalify => CPAN::K
CPAN::LWP::UserAgent => CPAN::LWP::UA
CPAN::Meta => CPAN::M
CPAN::Meta::Check => CPAN::M::C
CPAN::Meta::Converter => *undef*
CPAN::Meta::Feature => CPAN::M::F
CPAN::Meta::History => CPAN::M::H
CPAN::Meta::Merge => CPAN::M::M
CPAN::Meta::Prereqs => CPAN::M::P
CPAN::Meta::Prereqs::Diff => CPAN::M::P::D
CPAN::Meta::Requirements => CPAN::M::R
CPAN::Meta::Requirements::Range => CPAN::M::R::R
CPAN::Meta::Spec => CPAN::M::S
CPAN::Meta::Validator => CPAN::M::V
CPAN::Meta::YAML => CPAN::M::YAML
CPAN::Mini => *undef*
CPAN::Mini::Devel => CPAN::M::D
CPAN::Mini::LatestDistVersion => CPAN::M::LDV
CPAN::Mini::NoLargeFiles => CPAN::M::NoLF
CPAN::Mirrors => *undef*
CPAN::Module => *undef*
CPAN::Patches => CPAN::P
CPAN::Patches::Plugin::Debian => CPAN::P::P::D
CPAN::Perl::Releases => CPAN::P::R
CPAN::Perl::Releases::MetaCPAN => CPAN::P::R::MCPAN
CPAN::Plugin => *undef*
CPAN::Plugin::Specfile => CPAN::P::S
CPAN::Prompt => *undef*
CPAN::Queue => CPAN::Q
CPAN::Reporter => CPAN::R
CPAN::Requirements::Dynamic => CPAN::R::D
CPAN::SQLite => CPAN::SQL
CPAN::Search::Tester => CPAN::S::T
CPAN::Shell => CPAN::S
CPAN::Static => *undef*
CPAN::Tarzip => CPAN::T
CPAN::Test::Dummy::MultiPkgVer::NoMETA => CPAN::T::D::MPkgVer::NoMETA
CPAN::Test::Dummy::Perl5::Deps::UndefModule => CPAN::T::D::P5::D::UM
CPAN::Test::Dummy::Perl5::Make => CPAN::T::D::P5::M
CPAN::Test::Dummy::Perl5::Make::CircularPrereq => CPAN::T::D::P5::M::CP
CPAN::Test::Dummy::Perl5::Make::Features => CPAN::T::D::P5::M::F
CPAN::Test::Dummy::Perl5::Make::OptionalPrereq => CPAN::T::D::P5::M::OP
CPAN::Test::Dummy::Perl5::Make::UnsatPrereq => CPAN::T::D::P5::M::UP
CPAN::Test::Dummy::Perl5::Make::Zip => CPAN::T::D::P5::M::Zip
CPAN::Test::Dummy::Perl5::StaticInstall => CPAN::T::D::P5::SI
CPAN::Test::Dummy::Perl5::VersionBump => CPAN::T::D::P5::VB
CPAN::Test::Dummy::Perl5::VersionDeclare => CPAN::T::D::P5::VD
CPAN::Testers => *undef*
CPAN::Testers::Common::Client => CPAN::T::C::C
CPAN::Testers::Common::DBUtils => CPAN::T::C::DBU
CPAN::Testers::Common::Utils => CPAN::T::C::U
CPAN::Testers::Config => CPAN::T::C
CPAN::Testers::Report => CPAN::T::R
CPAN::Testers::TailLog => CPAN::T::TLog
CPAN::Testers::WWW::Reports::Parser => CPAN::T::WWW::R::P
CPAN::Unpack => CPAN::U
CPAN::Version => CPAN::V
CPANPLUS::Internals::Source::CPANMetaDB => CPANPLUS::I::S::CPANMDB
CPS::Governor::IOAsync => CPS::G::IOA
CPU::x86_64::InstructionWriter => CPU::x86_64::IW
CSS::Compressor => CSS::C
CSS::Minifier => CSS::M
CSS::Minifier::XS => CSS::M::XS
CSS::Moonfall => *undef*
CSS::Orientation => CSS::O
CSS::Packer => CSS::P
CSS::SpriteMaker::Simple => CSS::SM::S
CSS::Tiny => CSS::T
Cache::Bounded => C::B
Cache::Cache => C::C
Cache::FastMmap => C::FM
Cache::Keys::DSL => C::K::DSL
Cache::KyotoTycoon => C::KT
Cache::LRU => C::LRU
Cache::LRU::WithExpires => C::LRU::WE
Cache::Memcached => C::M
Cache::Memcached::Fast => C::M::F
Cache::Memcached::Managed => C::M::M
Cache::Profile => C::P
Cache::Ref => C::Ref
Cache::Simple::TimedExpiry => C::S::TE
Calendar::List => C::L
Calendar::Simple => C::S
Caller::Hide => C::H
Canary::Stability => *undef*
Cantella::Store::UUID => C::S::UUID
Capture::Tiny => *undef*
Capture::Tiny::Extended => C::T::E
Carp::Always => C::A
Carp::Always::SyntaxHighlightSource => C::A::SHS
Carp::Assert => *undef*
Carp::Assert::More => C::A::M
Carp::Clan => *undef*
Carp::Clan::Share => C::C::S
Carp::Growl => C::G
Carp::Heavy => *undef*
Carp::Object => C::O
Carp::REPL => C::REPL
Catalyst::Action::REST => C::A::REST
Catalyst::Action::RenderView => C::A::RV
Catalyst::Action::Serialize::Data::Serializer => C::A::S::D::S
Catalyst::ActionRole::ACL => C::AR::ACL
Catalyst::ActionRole::DetachOnDie => C::AR::DOnDie
Catalyst::ActionRole::MatchRequestAccepts => C::AR::MRA
Catalyst::ActionRole::Methods => C::AR::M
Catalyst::ActionRole::NamedFields => C::AR::NF
Catalyst::ActionRole::PseudoCache => C::AR::PC
Catalyst::Authentication::Credential::Authen::Simple => C::A::C::A::S
Catalyst::Authentication::Credential::HTTP => C::A::C::HTTP
Catalyst::Authentication::Credential::HTTP::Proxy => C::A::C::HTTP::P
Catalyst::Authentication::Credential::RPX => C::A::C::RPX
Catalyst::Authentication::Credential::RemoteHTTP => C::A::C::RHTTP
Catalyst::Authentication::Store::DBIx::Class => C::A::S::DBIx::C
Catalyst::Component::InstancePerContext => C::C::IPerC
Catalyst::Component::WithDelayedSetup => C::C::WDS
Catalyst::ComponentRole::PathFrom => C::CR::PF
Catalyst::Controller::Accessors => C::C::A
Catalyst::Controller::ActionRole => C::C::AR
Catalyst::Controller::POD => C::C::POD
Catalyst::Devel => C::D
Catalyst::Engine::Apache => C::E::A
Catalyst::Engine::PSGI => C::E::PSGI
Catalyst::Helper::DBIC::DeploymentHandler => C::H::DBIC::DH
Catalyst::Model::Adaptor => C::M::A
Catalyst::Model::CDBI => C::M::CDBI
Catalyst::Model::DBI => C::M::DBI
Catalyst::Model::DBI::SQL::Library => C::M::DBI::SQL::L
Catalyst::Model::DBIC::Schema => C::M::DBIC::S
Catalyst::Model::DataHash => C::M::DH
Catalyst::Model::Jifty::DBI => C::M::J::DBI
Catalyst::Model::LDAP => C::M::LDAP
Catalyst::Model::Proxy => C::M::P
Catalyst::Model::Redis => C::M::R
Catalyst::Plugin::AccessLog => C::P::ALog
Catalyst::Plugin::Authentication => C::P::A
Catalyst::Plugin::Authentication::Credential::HTTP => C::P::A::C::HTTP
Catalyst::Plugin::Authorization::ACL => C::P::A::ACL
Catalyst::Plugin::Authorization::Roles => C::P::A::R
Catalyst::Plugin::AutoRestart => C::P::AR
Catalyst::Plugin::Cache => C::P::C
Catalyst::Plugin::Compress::Bzip2 => C::P::C::B2
Catalyst::Plugin::ConfigLoader => C::P::CL
Catalyst::Plugin::ConfigLoader::Environment => C::P::CL::E
Catalyst::Plugin::Email => C::P::E
Catalyst::Plugin::EnableMiddleware => C::P::EM
Catalyst::Plugin::FormValidator => C::P::FV
Catalyst::Plugin::FormValidator::Simple => C::P::FV::S
Catalyst::Plugin::HashedCookies => C::P::HC
Catalyst::Plugin::I18N => C::P::I18N
Catalyst::Plugin::I18N::PathPrefix => C::P::I18N::PP
Catalyst::Plugin::I18N::Request => C::P::I18N::R
Catalyst::Plugin::Images => C::P::I
Catalyst::Plugin::LogWarnings => C::P::LogW
Catalyst::Plugin::MapComponentDependencies => C::P::MapCD
Catalyst::Plugin::Params::Nested => C::P::P::N
Catalyst::Plugin::Pluggable => C::P::P
Catalyst::Plugin::Session => C::P::S
Catalyst::Plugin::Session::DynamicExpiry => C::P::S::DE
Catalyst::Plugin::Session::PSGI => C::P::S::PSGI
Catalyst::Plugin::Session::State::Cookie => C::P::S::S::C
Catalyst::Plugin::Session::Store::FastMmap => C::P::S::S::FM
Catalyst::Plugin::Session::Store::File => C::P::S::S::F
Catalyst::Plugin::Session::Store::Jifty::DBI => C::P::S::S::J::DBI
Catalyst::Plugin::Snippets => *undef*
Catalyst::Plugin::Static::Simple => C::P::S::S
Catalyst::Plugin::Textile => C::P::T
Catalyst::Plugin::URLMap => C::P::URLMap
Catalyst::Plugin::UploadProgress => C::P::UP
Catalyst::Runtime => C::R
Catalyst::TraitFor::Context::PSGI::FindEnv => C::TFor::C::PSGI::FEnv
Catalyst::TraitFor::Controller::RenderView => C::TFor::C::RV
Catalyst::TraitFor::Request::XMLHttpRequest => C::TFor::R::XMLHR
Catalyst::View::BasePerRequest => C::V::BPerR
Catalyst::View::CSS::Minifier::XS => C::V::CSS::M::XS
Catalyst::View::Email => C::V::E
Catalyst::View::EmbeddedPerl::PerRequest => C::V::EP::PerR
Catalyst::View::FillInForm => C::V::FInF
Catalyst::View::GD => C::V::GD
Catalyst::View::Graphics::Primitive => C::V::G::P
Catalyst::View::JSON => C::V::JSON
Catalyst::View::JavaScript::Minifier::XS => C::V::JS::M::XS
Catalyst::View::Petal => C::V::P
Catalyst::View::REST::YAML => C::V::REST::YAML
Catalyst::View::Spreadsheet::Template => C::V::S::T
Catalyst::View::TT => C::V::TT
Catalyst::View::TT::FunctionGenerator => C::V::TT::FG
CatalystX::Component::Traits => CX::C::T
CatalystX::Crudite => CX::C
CatalystX::Errors => CX::E
CatalystX::Features => CX::F
CatalystX::Imports => CX::I
CatalystX::InjectComponent => CX::IC
CatalystX::PathContext => CX::PC
CatalystX::REPL => CX::REPL
CatalystX::Resource => CX::R
CatalystX::RoleApplicator => CX::RA
CatalystX::SimpleLogin => CX::SL
CatalystX::Syntax::Action => CX::S::A
Chart::Gnuplot => *undef*
Chart::Math::Axis => *undef*
Check::ISA => C::ISA
Check::UnitCheck => C::UC
Chemistry::Elements => C::E
Child::Socket => *undef*
Class::Accessor => *undef*
Class::Accessor::Array => C::A::A
Class::Accessor::Array::Glob => C::A::A::G
Class::Accessor::Assert => *undef*
Class::Accessor::Chained => C::A::C
Class::Accessor::Class => *undef*
Class::Accessor::Classy => *undef*
Class::Accessor::Complex => *undef*
Class::Accessor::Constructor => *undef*
Class::Accessor::Fast::XS => C::A::F::XS
Class::Accessor::Grouped => C::A::G
Class::Accessor::Installer => C::A::I
Class::Accessor::Lite => C::A::L
Class::Accessor::Lvalue => *undef*
Class::Accessor::PackedString::Set => C::A::PS::Set
Class::ActsLike => C::AL
Class::Adapter => *undef*
Class::ArrayObjects => C::AO
Class::Autouse => *undef*
Class::Base => *undef*
Class::Bits => *undef*
Class::C3 => C::C3
Class::C3::Adopt::NEXT => C::C3::A::NEXT
Class::C3::Componentised => C::C3::C
Class::C3::XS => C::C3::XS
Class::CGI => C::CGI
Class::CGI::DateTime => C::CGI::DT
Class::Can => C::Can
Class::Closure => *undef*
Class::CompoundMethods => C::CM
Class::Config => *undef*
Class::Container => *undef*
Class::DBI => C::DBI
Class::DBI::AbstractSearch => C::DBI::AS
Class::DBI::Loader => C::DBI::L
Class::DBI::Plugin => C::DBI::P
Class::DBI::Plugin::RetrieveAll => C::DBI::P::RAll
Class::DBI::Plugin::TO_JSON => C::DBI::P::TO_JSON
Class::DBI::Relationship::HasVariant => C::DBI::R::HasV
Class::DBI::SQLite => C::DBI::SQL
Class::DBI::Storable => C::DBI::S
Class::DBI::ToSax => C::DBI::ToSax
Class::Data::Accessor => C::D::A
Class::Data::Inheritable => C::D::I
Class::Data::Lite => C::D::L
Class::Data::TIN => C::D::TIN
Class::Default => *undef*
Class::DispatchToAll => C::DToAll
Class::ErrorHandler => C::EH
Class::Exporter => *undef*
Class::Factory => C::F
Class::Factory::Enhanced => C::F::E
Class::GenSource => C::GenS
Class::Handle => *undef*
Class::Hook => *undef*
Class::ISA => *undef*
Class::Inner => C::I
Class::InsideOut => C::IOut
Class::Inspector => *undef*
Class::Interfaces => *undef*
Class::Iterator => *undef*
Class::Lego => *undef*
Class::Lego::Constructor => C::L::C
Class::Load => *undef*
Class::Load::XS => C::L::XS
Class::Loader => *undef*
Class::MaybeXSAccessor => C::MXSA
Class::Measure => *undef*
Class::Member => *undef*
Class::Meta => *undef*
Class::Method::Modifiers => *undef*
Class::Method::Modifiers::Fast => C::M::M::F
Class::MethodFilter => C::MF
Class::MethodMaker => C::MM
Class::Mix => C::Mix
Class::Monadic => *undef*
Class::Multimethods => *undef*
Class::Null => C::N
Class::Object => *undef*
Class::Observable => *undef*
Class::Printable => *undef*
Class::Private => *undef*
Class::Prototyped => *undef*
Class::Proxy::Lite => C::P::L
Class::PseudoHash => C::PH
Class::Refresh => *undef*
Class::ReturnValue => C::RV
Class::Roles => *undef*
Class::Singleton => *undef*
Class::SingletonProxy => C::SP
Class::StateMachine => C::SM
Class::Std => C::Std
Class::Std::Fast => C::Std::F
Class::Std::Utils => C::Std::U
Class::StorageFactory => C::SF
Class::StrongSingleton => C::SS
Class::Struct => *undef*
Class::Superclasses => *undef*
Class::Throwable => *undef*
Class::Tie::InsideOut => C::Tie::IOut
Class::Tiny => *undef*
Class::Tiny::Antlers => C::T::A
Class::Trigger => *undef*
Class::Unload => C::U
Class::Utils => *undef*
Class::Virtual => C::V
Class::WeakSingleton => C::WS
Class::Workflow => C::W
Class::XSAccessor => C::XSA
Class::XSAccessor::Compat => C::XSA::C
Clone::Any => C::Any
Clone::AsUTF8Bytes => C::AsUTF8B
Clone::Choose => *undef*
Clone::PP => C::PP
Clone::Util => *undef*
Closure::Loop => *undef*
Code::TidyAll => C::TAll
Code::TidyAll::Plugin::ESLint => C::TAll::P::ESL
Code::TidyAll::Plugin::Flake8 => C::TAll::P::F8
Code::TidyAll::Plugin::SortLines::Naturally => C::TAll::P::SL::N
Code::TidyAll::Plugin::TSLint => C::TAll::P::TSL
Code::TidyAll::Plugin::YAMLFrontMatter => C::TAll::P::YAMLFM
Code::Tooling => *undef*
CodeGen::Cpppp => CGen::C
Coerce::Types::Standard => C::T::S
CogWiki => CogW
Collision::Util => *undef*
Color::ANSI::Util => C::ANSI::U
Color::Library => *undef*
Color::RGB::Util => C::RGB::U
Color::Spectrum => *undef*
Color::Spectrum::Multi => C::S::M
Color::Theme::Util => C::T::U
ColorThemeBase::Static => CTB::S
ColorThemeRole::ANSI => CTR::ANSI
ColorThemeUtil::ANSI => CTU::ANSI
ColorThemes::Standard => CT::S
Colouring::In => C::In
Combine::Keys => C::K
Command::Runner => *undef*
Common::CLI => C::CLI
Compare::Directory => *undef*
Compass::Points => *undef*
Compiled::Params::OO => C::P::OO
Compiler::Lexer => *undef*
Complete::Bash => *undef*
Complete::Common => *undef*
Complete::Dist => *undef*
Complete::Dpkg => *undef*
Complete::Env => C::Env
Complete::File => *undef*
Complete::Fish => *undef*
Complete::Getopt::Long => C::G::L
Complete::Module => *undef*
Complete::Number => *undef*
Complete::Path => *undef*
Complete::Perl => *undef*
Complete::Pod::Weaver => C::Pod::W
Complete::Program => *undef*
Complete::Riap::Clientless => C::R::C
Complete::Sah => C::Sah
Complete::Sequence => *undef*
Complete::Tcsh => *undef*
Complete::Util => *undef*
Complete::Zsh => C::Zsh
Compress::Bzip2 => C::B2
Compress::LZF => C::LZF
Compress::LZMA::External => C::LZMA::E
Compress::Raw::Bzip2 => C::Raw::B2
Compress::Raw::Lzma => C::Raw::L
Compress::Raw::Zlib => C::Raw::Z
Compress::Snappy => *undef*
Compress::Stream::Zstd => C::S::Z
Compress::Zlib => C::Z
Compress::Zlib::Perl => C::Z::P
Cond::Expr => *undef*
Config-Checker => C-C
Config-SL => C-SL
Config::Abstract => *undef*
Config::Any => *undef*
Config::Any::TOML => C::Any::TOML
Config::ApacheFormat => C::AF
Config::Apachish::Reader => C::A::R
Config::Auto => *undef*
Config::AutoConf => C::AC
Config::Basic => *undef*
Config::Extend::MySQL => C::E::MySQL
Config::Extensions => *undef*
Config::File => *undef*
Config::General => *undef*
Config::GitLike => C::GitL
Config::INI => C::INI
Config::INI::Reader::Ordered => C::INI::R::O
Config::INI::Serializer => C::INI::S
Config::INI::Tiny => C::INI::T
Config::IOD::Reader => C::IOD::R
Config::IPFilter => C::IPF
Config::Identity => *undef*
Config::Inetd => *undef*
Config::IniFiles => C::IniF
Config::JFDI => C::JFDI
Config::MVP => C::MVP
Config::MVP::Reader::INI => C::MVP::R::INI
Config::Path => *undef*
Config::Perl => *undef*
Config::Perl::V => C::P::V
Config::Plugin::TinyManifold => C::P::TM
Config::Properties => *undef*
Config::Settings => *undef*
Config::Simple => *undef*
Config::Std => *undef*
Config::Tiny => *undef*
Config::Tiny::Ordered => C::T::O
Config::XPath => C::XP
Config::YAML => C::YAML
ConfigReader::Simple => CR::S
Const::Common => *undef*
Const::Common::Generator => C::C::G
Const::Exporter => *undef*
Const::Fast => *undef*
Const::PP => *undef*
Const::XS => C::XS
Constant::Generate => *undef*
Consumer::NonBlock => C::NonB
Context::Preserve => *undef*
Contextual::Return => *undef*
Contract::Declare => *undef*
Convert::ASCII::Armour => C::ASCII::A
Convert::ASN1 => C::ASN1
Convert::Base32 => C::B32
Convert::Base32::Crockford => C::B32::C
Convert::BaseN => C::BN
Convert::Bencode => *undef*
Convert::Bencode_XS => C::BXS
Convert::BinHex => C::BinHex
Convert::Braille => *undef*
Convert::CookingTimes => C::CT
Convert::DUDE => C::DUDE
Convert::Moji => *undef*
Convert::NLS_DATE_FORMAT => C::NLS_DATE_FORMAT
Convert::Number::Ethiopic => C::N::E
Convert::Number::Greek => C::N::G
Convert::Number::Roman => C::N::R
Convert::PEM => C::PEM
Convert::SSH2 => C::SSH2
Convert::Scalar => *undef*
Cookie::Baker => *undef*
Cookie::Baker::XS => C::B::XS
Cpanel::JSON::XS => C::JSON::XS
Crypt-DES_PP => C-DES_PP
Crypt::Argon2 => C::A2
Crypt::Bcrypt => *undef*
Crypt::Blowfish => *undef*
Crypt::CAST5 => C::CAST5
Crypt::CAST5_PP => C::CAST5_PP
Crypt::CBC => C::CBC
Crypt::Curve25519 => C::C25519
Crypt::DES => C::DES
Crypt::DES_EDE3 => C::DES_EDE3
Crypt::DSA => C::DSA
Crypt::Diceware => *undef*
Crypt::ECDH_ES => C::ECDH_ES
Crypt::Ed25519 => C::Ed25519
Crypt::Eksblowfish => *undef*
Crypt::IDEA => C::IDEA
Crypt::JWT => C::JWT
Crypt::Lite => *undef*
Crypt::MySQL => C::MySQL
Crypt::OpenBSD::Blowfish => C::OBSD::B
Crypt::OpenPGP => C::OPGP
Crypt::OpenSSL::Bignum => C::OSSL::B
Crypt::OpenSSL::DSA => C::OSSL::DSA
Crypt::OpenSSL::Guess => C::OSSL::G
Crypt::PBKDF2 => C::PBKDF2
Crypt::Passphrase => *undef*
Crypt::Passphrase::Argon2 => C::P::A2
Crypt::Passphrase::Argon2::AES => C::P::A2::AES
Crypt::Passphrase::Yescrypt => C::P::Y
Crypt::PasswdMD5 => C::PMD5
Crypt::Password => *undef*
Crypt::Password::Util => C::P::U
Crypt::RC4 => C::RC4
Crypt::RC6 => C::RC6
Crypt::RIPEMD160 => C::RIPEMD160
Crypt::Random::Seed => C::R::S
Crypt::Random::Source => *undef*
Crypt::Random::TESHA2 => C::R::TESHA2
Crypt::Rijndael => *undef*
Crypt::Rijndael_PP => C::RPP
Crypt::SRP => C::SRP
Crypt::SSSS => C::SSSS
Crypt::Salsa20 => C::S20
Crypt::SaltedHash => C::SH
Crypt::Simple => *undef*
Crypt::Skip32::XS => C::S32::XS
Crypt::Solitaire => *undef*
Crypt::SysRandom => C::SysR
Crypt::SysRandom::XS => C::SysR::XS
Crypt::Twofish => *undef*
Crypt::Twofish2 => C::T2
Crypt::URandom => C::UR
Crypt::URandom::Token => C::UR::T
Crypt::UnixCrypt_XS => C::UCXS
Crypt::Util => *undef*
Crypt::XKCDCommon1949 => C::XKCDC1949
Crypt::XkcdPassword => *undef*
Crypt::Yescrypt => C::Y
CryptX => CX
Cwd::Guard => Cwd::G
DB::Color => DB::C
DB::Skip => DB::S
DBD::Crate => DBD::C
DBD::Mock => DBD::M
DBD::SQLite => DBD::SQL
DBD::SQLite2 => DBD::SQL2
DBD::SQLite::FTS3Transitional => DBD::SQL::FTS3T
DBD::XMLSimple => DBD::XMLS
DBD::mysql => DBD::m
DBICx::Sugar => DBICx::S
DBICx::TestDatabase => DBICx::TD
DBIx-Class-SingletonRows => DBIx-C-SR
DBIx::Admin::BackupRestore => DBIx::A::BR
DBIx::Admin::CreateTable => DBIx::A::CT
DBIx::Admin::DSNManager => DBIx::A::DSNM
DBIx::Admin::TableInfo => DBIx::A::TI
DBIx::CSVDumper => DBIx::CSVD
DBIx::Class => DBIx::C
DBIx::Class::BatchUpdate => DBIx::C::BU
DBIx::Class::Candy => DBIx::C::C
DBIx::Class::ColumnDefault => DBIx::C::CD
DBIx::Class::Cursor::Cached => DBIx::C::C::C
DBIx::Class::DateTime::Epoch => DBIx::C::DT::E
DBIx::Class::DeploymentHandler => DBIx::C::DH
DBIx::Class::DynamicDefault => DBIx::C::DD
DBIx::Class::EasyFixture => DBIx::C::EF
DBIx::Class::EncodedColumn => DBIx::C::EC
DBIx::Class::Fixtures => DBIx::C::F
DBIx::Class::Helper::Row::Types => DBIx::C::H::Row::T
DBIx::Class::Helpers => DBIx::C::H
DBIx::Class::Indexed => DBIx::C::I
DBIx::Class::InflateColumn::Authen::Passphrase => DBIx::C::IC::A::P
DBIx::Class::InflateColumn::FS => DBIx::C::IC::FS
DBIx::Class::InflateColumn::Serializer => DBIx::C::IC::S
DBIx::Class::InflateColumn::Serializer::Sereal => DBIx::C::IC::S::S
DBIx::Class::InflateColumn::TimePiece => DBIx::C::IC::TP
DBIx::Class::IntrospectableM2M => DBIx::C::IM2M
DBIx::Class::PassphraseColumn => DBIx::C::PC
DBIx::Class::RandomStringColumns => DBIx::C::RSC
DBIx::Class::Report => DBIx::C::R
DBIx::Class::ResultDDL => DBIx::C::RDDL
DBIx::Class::ResultSet::Data::Pageset => DBIx::C::RSet::D::P
DBIx::Class::ResultSet::RecursiveUpdate => DBIx::C::RSet::RU
DBIx::Class::Schema::Loader => DBIx::C::S::L
DBIx::Class::Schema::RestrictWithObject => DBIx::C::S::RWO
DBIx::Class::Schema::ResultSetNames => DBIx::C::S::RSetN
DBIx::Class::TimeStamp => DBIx::C::TS
DBIx::Class::Tree => DBIx::C::T
DBIx::Class::UUIDColumns => DBIx::C::UUIDC
DBIx::Class::UnicornLogger => DBIx::C::UL
DBIx::Connect::FromConfig => DBIx::C::FC
DBIx::Connector => *undef*
DBIx::ContextualFetch => DBIx::CF
DBIx::DBHResolver => DBIx::DBHR
DBIx::DBSchema => DBIx::DBS
DBIx::DataModel => DBIx::DM
DBIx::Diff::Schema => DBIx::D::S
DBIx::DisconnectAll => DBIx::DAll
DBIx::FixtureLoader => DBIx::FL
DBIx::HTML::ClientDB => DBIx::HTML::CDB
DBIx::Handler => DBIx::H
DBIx::Introspector => DBIx::I
DBIx::Lookup::Field => DBIx::L::F
DBIx::OpenTracing => DBIx::OT
DBIx::Printf => DBIx::P
DBIx::Printf::Named => DBIx::P::N
DBIx::QuickDB => DBIx::QDB
DBIx::QuickORM => DBIx::QORM
DBIx::RoboQuery => DBIx::RQ
DBIx::Roles => DBIx::R
DBIx::SearchBuilder => DBIx::SB
DBIx::Simple => DBIx::S
DBIx::Simple::DataSection => DBIx::S::DS
DBIx::Simple::OO => DBIx::S::OO
DBIx::SpatialKey => DBIx::SKey
DBIx::Sunny => *undef*
DBIx::Table2Hash => DBIx::T2H
DBIx::TableLoader => DBIx::TL
DBIx::TableLoader::CSV => DBIx::TL::CSV
DBIx::Tracer => DBIx::T
DBIx::TransactionManager => DBIx::TM
DBIx::Tree => *undef*
DBIx::UpdateTable::FromHoH => DBIx::UT::FHoH
DBIx::Util::Schema => DBIx::U::S
DBIx::Wrapper => DBIx::W
DBIx::Wrapper::Config => DBIx::W::C
DBIx::Wrapper::VerySimple => DBIx::W::VS
DBIx::XHTML_Table => DBIx::XHTML_T
DBM::Deep => DBM::D
DBM_Filter => DBM_F
DBM_Filter::compress => DBM_F::c
DBM_Filter::encode => DBM_F::e
DBM_Filter::int32 => DBM_F::int32
DBM_Filter::null => DBM_F::n
DBM_Filter::utf8 => DBM_F::utf8
DB_File => DB_F
DB_File::Utils => DB_F::U
DIME::Tools => DIME::T
DNS::ZoneEdit => DNS::ZE
DOM::Tiny => DOM::T
Daemon::Daemonize => D::D
Dancer2 => D2
Dancer2::Controllers => D2::C
Dancer2::Logger::Syslog => D2::L::S
Dancer2::Plugin::AppRole::Helper => D2::P::AppR::H
Dancer2::Plugin::Auth::Tiny => D2::P::A::T
Dancer2::Plugin::DBIC => D2::P::DBIC
Dancer2::Plugin::DBIx::Class => D2::P::DBIx::C
Dancer2::Plugin::HTTP::ContentNegotiation => D2::P::HTTP::CN
Dancer2::Plugin::Minify => D2::P::M
Dancer2::Plugin::Model => *undef*
Dancer2::Plugin::OpenAPI => D2::P::OAPI
Dancer2::Plugin::REST => D2::P::REST
Dancer2::Plugin::ViewCache => D2::P::VC
Dancer2::Template::HTCompiled => D2::T::HTC
Dancer::Layout::Bootstrap => D::L::B
Dancer::Logger::Syslog => D::L::S
Dancer::Plugin::Adapter => D::P::A
Dancer::Plugin::Auth::Extensible => D::P::A::E
Dancer::Plugin::Auth::RBAC => D::P::A::RBAC
Dancer::Plugin::Auth::RBAC::Credentials::DBIC => D::P::A::RBAC::C::DBIC
Dancer::Plugin::Cache::CHI => D::P::C::CHI
Dancer::Plugin::DBIC => D::P::DBIC
Dancer::Plugin::Database => D::P::D
Dancer::Plugin::Database::Core => D::P::D::C
Dancer::Plugin::DebugDump => D::P::DD
Dancer::Plugin::EscapeHTML => D::P::EHTML
Dancer::Plugin::FlashMessage => D::P::FM
Dancer::Plugin::LDAP => D::P::LDAP
Dancer::Plugin::MPD => D::P::MPD
Dancer::Plugin::Negotiate => D::P::N
Dancer::Plugin::REST => D::P::REST
Dancer::Plugin::SMS => D::P::SMS
Dancer::Plugin::Showterm => D::P::S
Dancer::Plugin::Syntax::GetPost => D::P::S::GetP
Dancer::Plugin::TimeRequests => D::P::TR
Dancer::Serializer::JSONPP => D::S::JSONPP
Dancer::Session::Memcached => D::S::M
Dancer::Session::Memcached::Fast => D::S::M::F
Dancer::Session::Storable => D::S::S
Dancer::Template::Handlebars => D::T::H
Dancer::Template::Tenjin => D::T::T
Dancer::Template::Tiny => *undef*
Danga::Socket => D::S
Danga::Socket::AnyEvent => D::S::AnyE
Danga::Socket::Callback => D::S::C
Darwin::InitObjC => D::IObjC
Data::Alias => D::A
Data::Annotation => *undef*
Data::AutoBimap => D::AB
Data::BLNS => D::BLNS
Data::BT::PhoneBill => D::BT::PB
Data::BiaB => D::BiaB
Data::Binary => D::B
Data::BitMask => D::BitM
Data::BitStream::XS => D::BitS::XS
Data::Buffer => *undef*
Data::CSel => D::CSel
Data::Censor => D::C
Data::Check::Structure => D::C::S
Data::Checks => *undef*
Data::Circular::Util => D::C::U
Data::Clean => *undef*
Data::Clean::ForJSON => D::C::ForJSON
Data::Clean::JSON => D::C::JSON
Data::Clone => *undef*
Data::Cmp => D::Cmp
Data::Coloured => *undef*
Data::Combination => *undef*
Data::CompactReadonly => D::CR
Data::Compare => *undef*
Data::Constraint => *undef*
Data::Container => *undef*
Data::ConveyorBelt => D::CB
Data::Couplet => *undef*
Data::DPath => D::DP
Data::Decimate => *undef*
Data::Decycle => *undef*
Data::Denter => *undef*
Data::Difflet => *undef*
Data::Diver => *undef*
Data::Dmp => D::Dmp
Data::Domain => *undef*
Data::Domain::SemanticAdapter => D::D::SA
Data::DownSample::LargestTriangleThreeBuckets => D::DS::LTTB
Data::Dump => *undef*
Data::Dump::Color => D::D::C
Data::Dump::JavaScript => D::D::JS
Data::Dump::ObjectAsString => D::D::OAsS
Data::Dump::OneLine => D::D::OneL
Data::Dump::Options => D::D::O
Data::Dump::Partial => D::D::P
Data::Dump::Patch::Deparse => D::D::P::D
Data::Dump::Patch::ReplaceWithDataDmp => D::D::P::RWDDmp
Data::Dump::Streamer => D::D::S
Data::DumpXML => D::DXML
Data::Dumper => *undef*
Data::Dumper::Again => D::D::A
Data::Dumper::AutoEncode => D::D::AE
Data::Dumper::Compact => *undef*
Data::Dumper::Concise => *undef*
Data::Dumper::Names => D::D::N
Data::Dumper::Perltidy => *undef*
Data::Dumper::Simple => *undef*
Data::Dumper::Sorted => *undef*
Data::Edit => D::E
Data::Embed => *undef*
Data::Entropy => *undef*
Data::EventStream => D::ES
Data::FDSet => D::FDSet
Data::Fake => D::F
Data::Fake::MetaSyntactic => D::F::MS
Data::Faker => *undef*
Data::Float => *undef*
Data::FormValidator => D::FV
Data::FormValidator::Constraints::Words => D::FV::C::W
Data::FormValidator::Filters::Demoroniser => D::FV::F::D
Data::FormValidator::Filters::WikiTrim => D::FV::F::WT
Data::FormValidator::Profile => D::FV::P
Data::Format::Pretty => D::F::P
Data::Format::Pretty::Console => D::F::P::C
Data::Format::Pretty::HTML => D::F::P::HTML
Data::Format::Pretty::JSON => D::F::P::JSON
Data::Format::Pretty::PHPSerialization => D::F::P::PHPS
Data::Format::Pretty::Perl => D::F::P::P
Data::Format::Pretty::YAML => D::F::P::YAML
Data::Frame => *undef*
Data::GUID => D::GUID
Data::GUID::Any => D::GUID::Any
Data::HanConvert => D::HanC
Data::Header::Fields => D::H::F
Data::HexDump => D::HexD
Data::HexDump::XXD => D::HexD::XXD
Data::Hexdumper => D::H
Data::Hexify => *undef*
Data::ICal => D::ICal
Data::ICal::TimeZone => D::ICal::TZ
Data::ID::Exim => D::ID::E
Data::IEEE754 => D::IEEE754
Data::IEEE754::Tools => D::IEEE754::T
Data::Inherited => D::I
Data::Integer => *undef*
Data::Interactive::Inspect => D::I::I
Data::Iterator::Hierarchical => D::I::H
Data::Iterator::SlidingWindow => D::I::SW
Data::JavaScript::Anon => D::JS::A
Data::Kanji::Kanjidic => D::K::K
Data::LNPath => D::LNP
Data::Leaf::Walker => D::L::W
Data::LnArray => D::LnA
Data::Lock => D::L
Data::Math => D::M
Data::Message => *undef*
Data::MessagePack => D::MP
Data::MessagePack::Stream => D::MP::S
Data::Miscellany => *undef*
Data::ModeMerge => D::MM
Data::Munge => *undef*
Data::NestedParams => D::NP
Data::Netflow => D::N
Data::ObjectDriver => D::OD
Data::OptList => D::OptL
Data::Overlay => D::O
Data::PABX::ParseLex => D::PABX::PLex
Data::Page => D::P
Data::Page::Navigation => *undef*
Data::Page::NoTotalEntries => D::P::NoTE
Data::Pageset => *undef*
Data::Pageset::Exponential => D::P::E
Data::Paginate => *undef*
Data::Paginated => *undef*
Data::Password::Common => D::P::C
Data::Password::Manager => D::P::M
Data::Perl => *undef*
Data::PerlSurvey2007 => D::PS2007
Data::Phrasebook => *undef*
Data::Phrasebook::Loader::Ini => D::P::L::Ini
Data::Phrasebook::Loader::JSON::Syck => D::P::L::JSON::S
Data::Phrasebook::Loader::YAML => D::P::L::YAML
Data::Prepare => *undef*
Data::Pretty => *undef*
Data::Printer => *undef*
Data::Printer::Filter::ClassicRegex => D::P::F::CR
Data::Printer::Filter::URI => D::P::F::URI
Data::Printer::Theme::Zellner => D::P::T::Z
Data::PropertyList => D::PL
Data::Rand => D::R
Data::Random => *undef*
Data::Random::Contact => D::R::C
Data::Random::Structure => D::R::S
Data::Random::Structure::UTF8 => D::R::S::UTF8
Data::RandomPerson => D::RP
Data::Reach => *undef*
Data::Record => *undef*
Data::Recursive::Encode => D::R::E
Data::Resolver => *undef*
Data::Reuse => *undef*
Data::Rmap => *undef*
Data::Roundtrip => *undef*
Data::Rx => D::Rx
Data::Sah::DefaultValue => D::Sah::DV
Data::Sah::Filter => D::Sah::F
Data::Sah::Format => *undef*
Data::Sah::Format::perl::sci2dec => D::Sah::F::p::sci2
Data::Sah::Normalize => D::Sah::N
Data::Sah::Object => D::Sah::O
Data::Sah::Resolve => D::Sah::R
Data::Sah::Terse => D::Sah::T
Data::Sah::Util::Type => D::Sah::U::T
Data::Section => *undef*
Data::Section::Pluggable => D::S::P
Data::Section::Seekable => *undef*
Data::Section::Simple => *undef*
Data::Semantic => *undef*
Data::Serializer => *undef*
Data::Session => *undef*
Data::SmartMunge => D::SM
Data::Storage => *undef*
Data::Stream::Bulk => D::S::B
Data::Structure::Util => D::S::U
Data::TableData::Lookup => D::TD::L
Data::TableData::Object => D::TD::O
Data::TableData::Pick => D::TD::P
Data::TableData::Rank => D::TD::R
Data::TableReader => D::TR
Data::TableReader::Decoder::HTML => D::TR::D::HTML
Data::Tabulate => D::T
Data::Tabulate::Plugin::ASCIITable => D::T::P::ASCIIT
Data::TagHive => D::TagH
Data::Taxi => *undef*
Data::Template => *undef*
Data::TemporaryBag => D::TBag
Data::Transactional => *undef*
Data::Transmute::Rules::TreeNodeHash::StringifyChildren => D::T::R::TNH::SC
Data::Transpose => *undef*
Data::TreeDumper => D::TD
Data::TreeDumper::Renderer::DHTML => D::TD::R::DHTML
Data::Types => *undef*
Data::UNLreport => D::UNL
Data::URIEncode => D::URIE
Data::UUID => D::UUID
Data::UUID::MT => D::UUID::MT
Data::Uniqid => D::U
Data::Unixish => *undef*
Data::Unixish::ANSI => D::U::ANSI
Data::Unixish::Perl => D::U::P
Data::Util => *undef*
Data::VString => D::VS
Data::Validate => D::V
Data::Validate::Domain => D::V::D
Data::Validate::IP => D::V::IP
Data::Validate::WithYAML => D::V::WYAML
Data::Validate::WithYAML::Plugin::Country => D::V::WYAML::P::C
Data::Validator => *undef*
Data::Verifier => *undef*
Data::Visitor => *undef*
Data::Visitor::Tiny => D::V::T
Data::Vitals => *undef*
Data::WeightedRoundRobin => D::WRR
Data::XML::Variant => D::XML::V
Data::YAML => D::YAML
DataFlow => DF
DataFlow::Proc::DBF => DF::P::DBF
DataFlow::Proc::DPath => DF::P::DP
DataFlow::Proc::HTMLFilter => DF::P::HTMLF
DataFlow::Proc::JSON => DF::P::JSON
DataFlow::Proc::URLRetriever => DF::P::URLR
DataFlow::Proc::YAML => DF::P::YAML
Date::Bahai::Simple => D::B::S
Date::Calc => *undef*
Date::Calc::XS => D::C::XS
Date::Chinese => *undef*
Date::DayOfWeek => D::DayOfW
Date::Easter => *undef*
Date::Exception => *undef*
Date::Extract => *undef*
Date::Extract::ID => D::E::ID
Date::EzDate2 => D::EzD2
Date::Format::ISO8601 => D::F::ISO8601
Date::Hebrew::Simple => D::H::S
Date::Hijri::Simple => *undef*
Date::Holidays::AT => D::H::AT
Date::Holidays::BY => D::H::BY
Date::Holidays::CA => D::H::CA
Date::Holidays::CZ => D::H::CZ
Date::Holidays::FR => D::H::FR
Date::Holidays::GB => D::H::GB
Date::Holidays::PT => D::H::PT
Date::Holidays::RU => D::H::RU
Date::Holidays::Super => *undef*
Date::ICal => *undef*
Date::ISO8601 => D::ISO8601
Date::JD => D::JD
Date::Japanese::Era => D::J::Era
Date::Julian::Simple => D::J::S
Date::Leapyear => *undef*
Date::Maya => *undef*
Date::Parse => *undef*
Date::Persian::Simple => *undef*
Date::Pregnancy => *undef*
Date::Qreki => D::Q
Date::Range => *undef*
Date::Range::Birth => D::R::B
Date::Simple => *undef*
Date::SundayLetter => D::SL
Date::TimeOfDay => D::TOfDay
Date::Utils => *undef*
DateTime => DT
DateTime::Calendar::Julian => DT::C::J
DateTime::Calendar::Mayan => DT::C::M
DateTime::Calendar::Pataphysical => DT::C::P
DateTime::Duration::Patch::StringifyAsISO8601 => DT::D::P::SAsISO8601
DateTime::Event::Easter => DT::E::E
DateTime::Event::ICal => DT::E::ICal
DateTime::Event::Recurrence => DT::E::R
DateTime::Format::Alami => DT::F::A
DateTime::Format::Atom => *undef*
DateTime::Format::Bork => DT::F::B
DateTime::Format::Builder => *undef*
DateTime::Format::CLDR => DT::F::CLDR
DateTime::Format::DateParse => DT::F::DP
DateTime::Format::Duration => DT::F::D
DateTime::Format::Duration::ConciseHMS => DT::F::D::CHMS
DateTime::Format::Duration::ISO8601 => DT::F::D::ISO8601
DateTime::Format::Epoch => DT::F::E
DateTime::Format::Excel => *undef*
DateTime::Format::Flexible => DT::F::F
DateTime::Format::GnuAt => DT::F::GnuAt
DateTime::Format::HTTP => DT::F::HTTP
DateTime::Format::ICal => DT::F::ICal
DateTime::Format::ISO8601 => DT::F::ISO8601
DateTime::Format::ISO8601::Format => DT::F::ISO8601::F
DateTime::Format::Intl => DT::F::I
DateTime::Format::MSSQL => DT::F::MSSQL
DateTime::Format::Mail => DT::F::M
DateTime::Format::MySQL => DT::F::MySQL
DateTime::Format::Natural => DT::F::N
DateTime::Format::Oracle => DT::F::O
DateTime::Format::PayPal::IPN => DT::F::PayPal::IPN
DateTime::Format::Pg => DT::F::Pg
DateTime::Format::RFC3339 => DT::F::RFC3339
DateTime::Format::SQLite => DT::F::SQL
DateTime::Format::Strptime => DT::F::S
DateTime::Format::Unicode => DT::F::U
DateTime::Format::W3CDTF => DT::F::W3CDTF
DateTime::Functions => DT::F
DateTime::HiRes => DT::HiRes
DateTime::Incomplete => DT::I
DateTime::Locale => DT::L
DateTime::Locale::FromCLDR => DT::L::FCLDR
DateTime::Moonpig => DT::M
DateTime::Ordinal => DT::O
DateTime::Patch::AddDowNameToYmd => DT::P::AddDowNToYmd
DateTime::Set => DT::Set
DateTime::Span::Birthdate => DT::S::B
DateTime::TimeZone => DT::TZ
DateTime::TimeZone::LMT => DT::TZ::LMT
DateTimeX::Auto => DTX::A
DateTimeX::Format::Ago => DTX::F::Ago
DateTimeX::Web => DTX::Web
Debian::Dpkg::Version => D::D::V
Debug::Phases => *undef*
Debug::Print => *undef*
Debug::ShowStuff => D::SS
Declare::CLI => D::CLI
Declare::Constraints::Simple => *undef*
Deep::Hash::Utils => D::H::U
DefHash => DefH
DefHash::Examples => DefH::E
Desktop::Notify => *undef*
Devel-StringInfo => D-SI
Devel::Assert => *undef*
Devel::Autoflush => *undef*
Devel::CallChecker => D::CC
Devel::CallParser => D::CP
Devel::CallStack => D::CS
Devel::Caller => *undef*
Devel::Caller::IgnoreNamespaces => D::C::IN
Devel::Caller::Perl => D::C::P
Devel::Caller::Util => *undef*
Devel::Callsite => *undef*
Devel::CheckBin => D::CBin
Devel::CheckCompiler => *undef*
Devel::CheckLib => D::CLib
Devel::CheckOS => D::COS
Devel::Confess => *undef*
Devel::ContinuousProfiler => *undef*
Devel::Cycle => *undef*
Devel::Declare => *undef*
Devel::Declare::Parser => *undef*
Devel::Declare::Parser::Fennec => D::D::P::F
Devel::Depend::Cpp => D::D::Cpp
Devel::Deprecations::Environmental => D::D::E
Devel::EnforceEncapsulation => D::EE
Devel::Eval => *undef*
Devel::FakeOSName => D::FOSN
Devel::FindPerl => D::FP
Devel::FindRef => D::FRef
Devel::Git::MultiBisect => D::Git::MB
Devel::Gladiator => D::G
Devel::GlobalDestruction => D::GD
Devel::GlobalPhase => D::GP
Devel::Hide => *undef*
Devel::Hook => *undef*
Devel::INC::Sorted => D::INC::S
Devel::Isa::Explainer => D::Isa::E
Devel::KYTProf => D::KYTP
Devel::Leak => *undef*
Devel::LexAlias => D::LexA
Devel::MAT::Dumper => D::MAT::D
Devel::Mallinfo => *undef*
Devel::Memalyzer => *undef*
Devel::Modlist => *undef*
Devel::NYTProf => D::NYTP
Devel::Nopeep => *undef*
Devel::OverloadInfo => D::OI
Devel::OverrideGlobalRequire => D::OGR
Devel::PPPort => D::PPP
Devel::PackagePath => D::PP
Devel::PartialDump => D::PD
Devel::PatchPerl => *undef*
Devel::Peek => *undef*
Devel::Platform::Info => D::P::I
Devel::Pointer::PP => D::P::PP
Devel::Pragma => *undef*
Devel::REPL => D::REPL
Devel::REPL::Plugin::Editor => D::REPL::P::E
Devel::Refcount => *undef*
Devel::SelfStubber => *undef*
Devel::StackTrace => D::ST
Devel::StackTrace::AsHTML => D::ST::AsHTML
Devel::StackTrace::WithLexicals => D::ST::WL
Devel::StrictMode => *undef*
Devel::SummarizedWarnings => D::SW
Devel::Symdump => *undef*
Devel::System => *undef*
Devel::TakeHashArgs => D::THA
Devel::ThreadsForks => D::TF
Devel::Trace => *undef*
Devel::Trace::Subs => D::T::S
Devel::TraceLoad => D::TL
Devel::Unplug => *undef*
Devel::UseAnyFunc => D::UseAnyF
Devel::ebug => D::e
Devel::file => D::f
Devel::ptkdb => D::p
Device::Gsm => D::Gsm
Device::IRU_GE => D::IRU_GE
Device::Modem => *undef*
Device::SNP => D::SNP
Device::SerialPort => D::SP
Die::Hard => Die::H
Digest::BubbleBabble => D::BB
Digest::CMAC => D::CMAC
Digest::CRC => D::CRC
Digest::CubeHash::XS => D::CH::XS
Digest::DJB32 => D::DJB32
Digest::ECHO => D::ECHO
Digest::Fugue => *undef*
Digest::HMAC => D::HMAC
Digest::Hamsi => *undef*
Digest::Hashcash => *undef*
Digest::JH => D::JH
Digest::JHash => *undef*
Digest::Keccak => D::K
Digest::MD2 => D::MD2
Digest::MD4 => D::MD4
Digest::MD5 => D::MD5
Digest::MurmurHash2::Neutral => D::MH2::N
Digest::MurmurHash3 => D::MH3
Digest::Perl::MD4 => D::P::MD4
Digest::Perl::MD5 => D::P::MD5
Digest::SHA => D::SHA
Digest::SHA1 => D::SHA1
Digest::SHA2 => D::SHA2
Digest::SHA3 => D::SHA3
Digest::SHAvite3 => *undef*
Digest::SipHash => D::SipH
Digest::TransformPath => D::TP
Digest::Whirlpool => D::W
Digest::base => D::b
Digest::file => *undef*
Dir::Manifest => Dir::M
Dir::Self => Dir::S
Dir::Split => *undef*
DirHandle => DirH
Directory::Scratch => *undef*
Directory::Transactional => *undef*
Dispatch::Class => *undef*
Display::Resolution => *undef*
Dist::Build => *undef*
Dist::CheckConflicts => *undef*
Dist::Data => *undef*
Dist::Inkt::Role::Test => D::I::R::T
Dist::Inkt::Role::Test::Kwalitee => D::I::R::T::K
Dist::Metadata => *undef*
Dist::Util => *undef*
Dist::Zilla::Role::PERLANCAR::WriteModules => D::Z::R::PERLANCAR::WM
Dist::Zilla::Role::Rinci::CheckDefinesMeta => D::Z::R::R::CDM
Dist::Zilla::Stash::Contributors => D::Z::S::C
Dist::Zilla::Util::Git::Branches => D::Z::U::Git::B
Dist::Zilla::Util::Git::Refs => D::Z::U::Git::R
Dist::Zilla::Util::Git::Tags => D::Z::U::Git::T
Dist::Zilla::Util::Git::Wrapper => D::Z::U::Git::W
Dist::Zilla::Util::MergePrereqsFromDistInis => D::Z::U::MPFDI
Dist::Zilla::Util::ParsePrereqsFromDistIni => D::Z::U::PPFDIni
Dist::Zilla::UtilRole::MaybeZilla => D::Z::UR::MZ
Distribution::Guess::BuildSystem => D::G::BS
Distribution::Metadata => *undef*
Doc::Simply => Doc::S
Document::Tools => *undef*
DoubleBlind => *undef*
Doubly::Linked::PP => D::L::PP
DublinCore::Record => DC::R
Dunce::time => D::t
DynaLoader => DL
DynaLoader::Functions => DL::F
EBook::EPUB => EB::EPUB
ELF::Writer => ELF::W
EPublisher => EP
ESPPlus::Storage => ESPP::S
Emacs::Rep => E::Rep
Emacs::Run => E::Run
Email::Abstract => E::A
Email::Address => *undef*
Email::Address::XS => E::A::XS
Email::Date => E::D
Email::Date::Format => E::D::F
Email::Enkoder => E::E
Email::Folder => E::F
Email::Folder::POP3 => E::F::POP3
Email::FolderType => E::FT
Email::FolderType::Net => E::FT::Net
Email::MIME => E::MIME
Email::MIME::ContentType => E::MIME::CT
Email::MIME::Encodings => E::MIME::E
Email::MIME::Kit => E::MIME::Kit
Email::MIME::Kit::Bulk => E::MIME::Kit::B
Email::MIME::Kit::Renderer::TT => E::MIME::Kit::R::TT
Email::MIME::RFC2047 => E::MIME::RFC2047
Email::MessageID => E::MID
Email::Send => E::S
Email::Send::TheSchwartz => E::S::TheS
Email::Sender => *undef*
Email::Simple => *undef*
Email::Stuffer => *undef*
Email::Valid => E::V
Email::Valid::Loose => E::V::L
Encode::Alias => *undef*
Encode::Base58::BigInt => E::B58::BigInt
Encode::Byte => E::B
Encode::CJKConstants => E::CJKC
Encode::CN => E::CN
Encode::CN::HZ => E::CN::HZ
Encode::Config => E::C
Encode::DoubleEncodedUTF8 => E::DEUTF8
Encode::EBCDIC => E::EBCDIC
Encode::Encoder => *undef*
Encode::Encoding => *undef*
Encode::GSM0338 => E::GSM0338
Encode::Guess => E::G
Encode::HP => E::HP
Encode::HanConvert => E::HanC
Encode::HanExtra => E::HanE
Encode::IBM => E::IBM
Encode::IMAPUTF7 => E::IMAPUTF7
Encode::ISO2022 => E::ISO2022
Encode::JP => E::JP
Encode::JP::H2Z => E::JP::H2Z
Encode::JP::JIS7 => E::JP::JIS7
Encode::JavaScript::UCS => E::JS::UCS
Encode::KR => E::KR
Encode::KR::2022_KR => E::KR::2022_KR
Encode::Locale => E::L
Encode::MIME::Header => E::MIME::H
Encode::MIME::Header::ISO_2022_JP => E::MIME::H::ISO_2022_JP
Encode::MIME::Name => E::MIME::N
Encode::Newlines => E::N
Encode::Repair => E::R
Encode::Simple => *undef*
Encode::Symbol => *undef*
Encode::TW => E::TW
Encode::Unicode => E::U
Encode::Unicode::UTF7 => E::U::UTF7
Encode::ZapCP1252 => E::ZapCP1252
Encode::compat => E::c
Encoding::BER => E::BER
Encoding::FixLatin => E::FixL
Encoding::FixLatin::XS => E::FixL::XS
English::Name => *undef*
EntityModel::Class => EM::C
EntityModel::Log => EM::Log
Env::Sanctify => Env::S
Env::ShellWords => Env::SW
Error::Hierarchy => E::H
Error::Pure => E::P
Error::Pure::Output::Text => E::P::O::T
Error::Show => *undef*
Error::Tiny => E::T
Eval::Closure => *undef*
Eval::LineNumbers => E::LN
Eval::Quosure => E::Q
Eval::WithLexicals => E::WL
Event::Join => E::J
Event::Notify => *undef*
Event::Stats => *undef*
Examples::Generator => *undef*
Excel::Template => *undef*
Excel::Template::Plus => E::T::P
Excel::ValueReader::XLSX => E::VR::XLSX
Excel::ValueWriter::XLSX => E::VW::XLSX
Excel::Writer::XLSX => E::W::XLSX
Exception::Class => *undef*
Exception::Class::TryCatch => E::C::TryC
Exception::Delayed => *undef*
Exception::Stringy => *undef*
Expect::Simple => *undef*
Export::Attrs => *undef*
Exporter::Almighty => *undef*
Exporter::AutoClean => E::AC
Exporter::Constants => *undef*
Exporter::Declare => *undef*
Exporter::Declare::Magic => E::D::M
Exporter::Easy => *undef*
Exporter::Extensible => *undef*
Exporter::Heavy => *undef*
Exporter::Lexical => *undef*
Exporter::Lite => *undef*
Exporter::Rinci => *undef*
Exporter::Tidy => *undef*
Exporter::Tiny => *undef*
ExtUtils::Builder => ExtU::B
ExtUtils::Builder::Compiler => ExtU::B::C
ExtUtils::CBuilder => ExtU::CB
ExtUtils::CBuilder::Base => ExtU::CB::B
ExtUtils::CBuilder::Platform::Unix => ExtU::CB::P::U
ExtUtils::CBuilder::Platform::VMS => ExtU::CB::P::VMS
ExtUtils::CBuilder::Platform::Windows => ExtU::CB::P::W
ExtUtils::CBuilder::Platform::Windows::BCC => ExtU::CB::P::W::BCC
ExtUtils::CBuilder::Platform::Windows::GCC => ExtU::CB::P::W::GCC
ExtUtils::CBuilder::Platform::Windows::MSVC => ExtU::CB::P::W::MSVC
ExtUtils::CBuilder::Platform::aix => ExtU::CB::P::aix
ExtUtils::CBuilder::Platform::android => ExtU::CB::P::a
ExtUtils::CBuilder::Platform::cygwin => ExtU::CB::P::c
ExtUtils::CBuilder::Platform::darwin => ExtU::CB::P::d
ExtUtils::CBuilder::Platform::dec_osf => *undef*
ExtUtils::CBuilder::Platform::os2 => ExtU::CB::P::os2
ExtUtils::CChecker => ExtU::CC
ExtUtils::Command => ExtU::C
ExtUtils::Command::MM => ExtU::C::MM
ExtUtils::Config => *undef*
ExtUtils::Constant => *undef*
ExtUtils::Constant::Base => ExtU::C::B
ExtUtils::Constant::ProxySubs => ExtU::C::PS
ExtUtils::Constant::Utils => ExtU::C::U
ExtUtils::Constant::XS => ExtU::C::XS
ExtUtils::Depends => ExtU::D
ExtUtils::DynaGlue => ExtU::DG
ExtUtils::Embed => ExtU::E
ExtUtils::FindFunctions => ExtU::FF
ExtUtils::HasCompiler => ExtU::HasC
ExtUtils::Helpers => ExtU::H
ExtUtils::Install => ExtU::I
ExtUtils::InstallPaths => ExtU::IP
ExtUtils::Installed => *undef*
ExtUtils::LibBuilder => ExtU::LibB
ExtUtils::Liblist => ExtU::L
ExtUtils::Liblist::Kid => ExtU::L::Kid
ExtUtils::MM => ExtU::MM
ExtUtils::MM_AIX => ExtU::MM_AIX
ExtUtils::MM_Any => ExtU::MM_Any
ExtUtils::MM_BeOS => ExtU::MM_BeOS
ExtUtils::MM_Cygwin => ExtU::MM_C
ExtUtils::MM_DOS => ExtU::MM_DOS
ExtUtils::MM_Darwin => ExtU::MM_D
ExtUtils::MM_MacOS => ExtU::MM_MacOS
ExtUtils::MM_NW5 => ExtU::MM_NW5
ExtUtils::MM_OS2 => ExtU::MM_OS2
ExtUtils::MM_OS390 => ExtU::MM_OS390
ExtUtils::MM_QNX => ExtU::MM_QNX
ExtUtils::MM_UWIN => ExtU::MM_UWIN
ExtUtils::MM_Unix => ExtU::MM_U
ExtUtils::MM_VMS => ExtU::MM_VMS
ExtUtils::MM_VOS => ExtU::MM_VOS
ExtUtils::MM_Win32 => ExtU::MM_Win32
ExtUtils::MM_Win95 => ExtU::MM_Win95
ExtUtils::MY => ExtU::MY
ExtUtils::MakeMaker => *undef*
ExtUtils::MakeMaker::CPANfile => ExtU::MM::CPAN
ExtUtils::MakeMaker::Config => ExtU::MM::C
ExtUtils::MakeMaker::Dist::Zilla::Develop => ExtU::MM::D::Z::D
ExtUtils::MakeMaker::Extensions => ExtU::MM::E
ExtUtils::MakeMaker::Locale => ExtU::MM::L
ExtUtils::MakeMaker::version => ExtU::MM::v
ExtUtils::MakeMaker::version::regex => ExtU::MM::v::r
ExtUtils::Manifest => ExtU::M
ExtUtils::Miniperl => *undef*
ExtUtils::Mkbootstrap => *undef*
ExtUtils::Mksymlists => *undef*
ExtUtils::PL2Bat => ExtU::PL2Bat
ExtUtils::Packlist => ExtU::P
ExtUtils::ParseXS => ExtU::PXS
ExtUtils::ParseXS::Constants => ExtU::PXS::C
ExtUtils::ParseXS::CountLines => ExtU::PXS::CL
ExtUtils::ParseXS::Eval => ExtU::PXS::E
ExtUtils::ParseXS::Node => ExtU::PXS::N
ExtUtils::ParseXS::Utilities => ExtU::PXS::U
ExtUtils::PkgConfig => ExtU::PkgC
ExtUtils::Typemaps => ExtU::T
ExtUtils::Typemaps::Cmd => ExtU::T::Cmd
ExtUtils::Typemaps::InputMap => ExtU::T::IMap
ExtUtils::Typemaps::Magic => ExtU::T::M
ExtUtils::Typemaps::OutputMap => ExtU::T::OMap
ExtUtils::Typemaps::Signal => ExtU::T::S
ExtUtils::Typemaps::Type => ExtU::T::T
ExtUtils::XSSymSet => ExtU::XSSymSet
ExtUtils::XSpp => ExtU::XSpp
ExtUtils::testlib => ExtU::t
FCGI::Client => FCGI::C
FCGI::Engine => FCGI::E
FCGI::ProcManager => FCGI::PM
FFI::C::Stat => FFI::C::S
FFI::CheckLib => FFI::CLib
FFI::ExtractSymbols => FFI::ES
FFI::Platypus => FFI::P
FFI::Platypus::Lang::Rust => FFI::P::L::R
FFI::Platypus::Type::Enum => FFI::P::T::E
FFI::Platypus::Type::PtrObject => FFI::P::T::PtrO
FFI::Util => FFI::U
FIX::Parser => FIX::P
Factory::Sub => F::Sub
FakeHash => FH
Feature::Compat::Class => F::C::C
Feature::Compat::Defer => F::C::D
Feature::Compat::Try => F::C::Try
Feed::Find => F::F
Feed::PhaseCheck => F::PC
Fennec::Declare => F::D
Fennec::Lite => F::L
Fey::DBIManager => Fey::DBIM
Fey::Loader => Fey::L
Fey::ORM::Mock => Fey::ORM::M
Fey::Test => Fey::T
FeyX::Active => FeyX::A
File::BaseDir => F::BDir
File::Basename => F::B
File::BasicFlock => F::BF
File::Binary => *undef*
File::Butler => *undef*
File::ByLine => F::ByL
File::ChangeNotify => F::CN
File::Compare => F::C
File::ConfigDir => F::CDir
File::ConfigDir::Plack => F::CDir::P
File::Copy => *undef*
File::Copy::Link => F::C::L
File::Copy::Recursive => F::C::R
File::Copy::Recursive::Reduced => F::C::R::R
File::DesktopEntry => F::DE
File::DirCompare => F::DirC
File::DosGlob => F::DosG
File::Edit::Portable => F::E::P
File::Fetch => *undef*
File::Find => *undef*
File::Find::CaseCollide => F::F::CC
File::Find::Duplicates => F::F::D
File::Find::Iterator => F::F::I
File::Find::Object => F::F::O
File::Find::Object::Rule => F::F::O::R
File::Find::Object::Rule::MMagic => F::F::O::R::MM
File::Find::Parallel => F::F::P
File::Find::Rule => F::F::R
File::Find::Rule::Age => F::F::R::Age
File::Find::Rule::CVS => F::F::R::CVS
File::Find::Rule::DIZ => F::F::R::DIZ
File::Find::Rule::Digest => F::F::R::D
File::Find::Rule::Filesys::Virtual => F::F::R::F::V
File::Find::Rule::Perl => F::F::R::P
File::Find::Rule::VCS => F::F::R::VCS
File::Find::Rule::XPath => F::F::R::XP
File::Find::Upwards => F::F::U
File::Find::Wanted => F::F::W
File::Flat => *undef*
File::Flock::Retry => *undef*
File::Flock::Tiny => F::F::T
File::Fu => F::Fu
File::GetLineMaxLength => F::GetLMaxL
File::Glob => F::G
File::GlobMapper => F::GM
File::HomeDir => F::HDir
File::IgnoreReadonly => F::IR
File::IsSorted => F::IsS
File::KeePass => F::KeeP
File::KeePass::Agent => F::KeeP::A
File::LinearRaid => F::LR
File::LinkTree::Builder => F::LT::B
File::Listing => *undef*
File::LoadLines => F::LL
File::MMagic => F::MM
File::MMagic::XS => F::MM::XS
File::Map => F::Map
File::Marker => F::M
File::MimeInfo => F::MI
File::Misc => *undef*
File::MoreUtil => F::MU
File::Mork => *undef*
File::Mountpoint => *undef*
File::MultiTail => F::MT
File::NFSLock => F::NFSL
File::Next => F::N
File::Object => F::O
File::Open => *undef*
File::Path => F::P
File::Path::Expand => F::P::E
File::Path::Tiny => F::P::T
File::RandomLine => F::RL
File::Read => F::R
File::ReadBackwards => F::RB
File::Remove => *undef*
File::Replace => *undef*
File::Replace::Fancy => F::R::F
File::Rotate::Backup => F::R::B
File::Rotate::Simple => F::R::S
File::Rsync => *undef*
File::SafeDO => F::SDO
File::Save::Home => F::S::H
File::Serialize => F::S
File::Share => *undef*
File::ShareDir => F::SDir
File::ShareDir::Dist => F::SDir::D
File::ShareDir::Install => F::SDir::I
File::ShareDir::PathClass => F::SDir::PC
File::ShareDir::Tarball => F::SDir::T
File::ShareDir::Tiny => *undef*
File::SharedNFSLock => F::SNFSL
File::Signature => *undef*
File::Sip => F::Sip
File::Slurp => *undef*
File::Slurp::Tiny => F::S::T
File::Slurp::Tree => *undef*
File::Slurper => *undef*
File::Slurper::Dash => F::S::D
File::Spec => *undef*
File::Spec::AmigaOS => F::S::AOS
File::Spec::Cygwin => F::S::C
File::Spec::Epoc => F::S::E
File::Spec::Functions => F::S::F
File::Spec::Mac => F::S::Mac
File::Spec::Native => F::S::N
File::Spec::OS2 => F::S::OS2
File::Spec::Unix => F::S::U
File::Spec::VMS => F::S::VMS
File::Spec::Win32 => F::S::Win32
File::StatCache => F::SC
File::Tabular => F::T
File::Tail => *undef*
File::Temp => *undef*
File::Tempdir => *undef*
File::Touch => *undef*
File::TreeCreate => F::TC
File::Type => *undef*
File::Update => F::U
File::UserConfig => F::UC
File::Util => *undef*
File::Util::Sort => F::U::S
File::Util::Tempdir => F::U::T
File::Util::Test => *undef*
File::Which => F::W
File::Which::Patch::Hide => F::W::P::H
File::Write::Rotate => F::W::R
File::Zglob => F::Z
File::chdir => F::c
File::chdir::WalkDir => F::c::WDir
File::chmod => *undef*
File::chown => *undef*
File::is => F::is
File::lchown => F::l
File::pfopen => F::p
File::pushd => *undef*
File::stat => F::s
File::stat::Extra => F::s::E
File::umask => F::u
FileCache => FC
FileHandle => *undef*
FileHandle::Fmode => FH::F
Filename::Archive => F::A
Filename::Compressed => *undef*
Filename::Type::Image => F::T::I
Filename::Type::Perl::Release => F::T::P::R
Filesys::Cap => F::Cap
Filesys::Notify::Simple => F::N::S
Filesys::Virtual => F::V
Filesys::Virtual::Async => F::V::A
Filesys::Virtual::Async::inMemory => F::V::A::inM
Filesys::Virtual::Plain => F::V::P
Filter::EOF => F::EOF
Filter::Simple => *undef*
Filter::Simple::Compile => *undef*
Filter::Util::Call => F::U::C
Filter::signatures => *undef*
Finance::Bank::US::INGDirect => F::B::US::INGD
Finance::Exchange => F::E
Finance::PaycheckRecords::Fetcher => F::PR::F
Finance::PremiumBonds => F::PB
FindBin => FBin
FindBin::Real => FBin::R
FindBin::libs => FBin::l
Font::AFM => F::AFM
Font::GlyphNames => F::GN
Font::TFM => F::TFM
Font::TTF => F::TTF
FormValidator::Lite => FV::L
FormValidator::Lite::Constraint::Mouse => FV::L::C::M
FormValidator::Simple => FV::S
FormValidator::Simple::Plugin::CustomConstraint => FV::S::P::CC
Format::Human::Bytes => F::H::B
Format::Util => *undef*
FreezeThaw => FT
Function::Fallback::CoreOrPP => F::F::COrPP
Function::Override => *undef*
Function::Parameters => *undef*
Function::Return => *undef*
Future::Buffer => *undef*
Future::Mojo => *undef*
Future::Queue => F::Q
Future::XS => F::XS
GD::Image::AnimatedGif => GD::I::AGif
GD::SecurityImage => GD::SI
GDBM_File => GDBM_F
GIS::Distance => GIS::D
GIS::Distance::Fast => GIS::D::F
Game::Cribbage => G::C
Games::ABC_Path::Solver => G::ABC_P::S
Games::Backgammon => G::B
Games::Boggle => *undef*
Games::Bowling::Scorecard => G::B::S
Games::Cards => *undef*
Games::Cellulo => *undef*
Games::Crossword::Puzzle => G::C::P
Games::Go::SimpleBoard => G::Go::SB
Games::Maze => G::M
Games::NES::ROM => G::NES::ROM
Games::NES::SpriteMaker => G::NES::SM
Games::Nintendo::Mario => G::N::M
Games::Nonogram => G::N
Games::PMM => G::PMM
Games::SGF => G::SGF
Games::SGF::Go::Rotator => G::SGF::Go::R
Games::Terrain::DiamondSquare => G::T::DS
Games::Word => G::W
Games::Word::Phraselist => G::W::P
Games::Word::Phraselist::CCIC => G::W::P::CCIC
Games::Word::Wordlist::Enable => G::W::W::E
Games::WordFind => G::WF
Gcis::Client => *undef*
Gen::Test::Rinci::FuncResult => Gen::T::R::FR
Genealogy::Gedcom => G::G
Genealogy::Gedcom::Date => G::G::D
Gentoo::ChangeLog::Parser::Eventual => G::CLog::P::E
Gentoo::Overlay => G::O
Gentoo::Overlay::Group => G::O::G
Gentoo::Overlay::Group::INI => G::O::G::INI
Gentoo::PerlMod::Version => G::PMod::V
Gentoo::PerlMod::Version::FixEbuild => G::PMod::V::FixE
Geo::Address::Mail => Geo::A::M
Geo::Address::Mail::Standardizer => Geo::A::M::S
Geo::Address::Mail::Standardizer::USPS => Geo::A::M::S::USPS
Geo::Cache => Geo::C
Geo::Coder::Bing => Geo::C::B
Geo::Coder::Navteq => Geo::C::N
Geo::Coder::OSM => Geo::C::OSM
Geo::Coder::RandMcnally => Geo::C::RM
Geo::Coder::TomTom => Geo::C::TomTom
Geo::Coordinates::Transform => Geo::C::T
Geo::Coordinates::UTM => Geo::C::UTM
Geo::Coordinates::UTM::XS => Geo::C::UTM::XS
Geo::Distance => Geo::D
Geo::Hash => Geo::H
Geo::IP::PurePerl => Geo::IP::PP
Geo::JSON::Simple => Geo::JSON::S
Geo::OSM::StaticMap => Geo::OSM::SMap
Geo::PostalCode => Geo::PC
Geo::StreetAddress::US => Geo::SA::US
Geography::Countries => *undef*
Geography::JapanesePrefectures => G::JP
Geometry::Primitive => G::P
Getopt-Janus => G-J
Getopt::ArgvFile => G::AF
Getopt::Attribute => G::A
Getopt::Chain => *undef*
Getopt::Declare => G::D
Getopt::EX => G::EX
Getopt::EX::Hashed => G::EX::H
Getopt::EX::RPN => G::EX::RPN
Getopt::Easy => G::E
Getopt::Euclid => *undef*
Getopt::Inherited => G::I
Getopt::Kingpin => G::K
Getopt::Long => G::L
Getopt::Long::Complete => G::L::C
Getopt::Long::Descriptive => G::L::D
Getopt::Long::EvenLess => G::L::EL
Getopt::Long::Negate::EN => G::L::N::EN
Getopt::Long::Parser => G::L::P
Getopt::Long::Subcommand => G::L::S
Getopt::Long::Util => G::L::U
Getopt::Lucid => *undef*
Getopt::Mini => *undef*
Getopt::Param => *undef*
Getopt::Param::Tiny => G::P::T
Getopt::Simple => G::S
Getopt::Std => G::Std
Getopt::Tabular => G::T
Getopt::Usaginator => G::U
Getopt::constant => G::c
Git::DescribeVersion => Git::DV
Git::Version => Git::V
Git::Version::Compare => Git::V::C
Git::Wrapper => Git::W
Google::ProtocolBuffers => G::PB
Goto::Cached => *undef*
Graph::Convert => *undef*
Graph::Easy => *undef*
Graph::Easy::As_svg => G::E::A
Graph::Easy::Manual => G::E::M
Graph::NewmanGirvan => G::NG
Graph::RandomPath => G::RP
Graph::ReadWrite => G::RW
Graph::Reader::LoadClassHierarchy => G::R::LCH
Graph::Writer::DrGeo => G::W::DrGeo
Graphics::Color => *undef*
Graphics::ColorNames => G::CN
Graphics::ColorNames::EmergyC => G::CN::EC
Graphics::ColorNamesLite::WWW => G::CNL::WWW
Graphics::ColorUtils => G::CU
Graphics::Primitive => *undef*
Graphite::Enumerator => *undef*
Gravatar::URL => G::URL
Grips::Cmd => G::Cmd
Grips::Gripsrc => *undef*
Growl::Any => G::Any
GrowthForecast::Aggregator::Declare => GF::A::D
Guardian::OpenPlatform::API => G::OP::API
HOP::Lexer => HOP::L
HOP::Stream => HOP::S
HTML-Query => HTML-Q
HTML-TableExtract => HTML-TE
HTML::AutoPagerize => HTML::AP
HTML::DateSelector => HTML::DS
HTML::Declare => HTML::D
HTML::Defang => *undef*
HTML::Differences => *undef*
HTML::Display => *undef*
HTML::Element::Library => HTML::E::L
HTML::Element::Replacer => HTML::E::R
HTML::Encoding => HTML::E
HTML::Entities::ImodePictogram => HTML::E::IP
HTML::Entities::Interpolate => HTML::E::I
HTML::Entities::Numbered => HTML::E::N
HTML::Escape => *undef*
HTML::FillInForm => HTML::FInF
HTML::FillInForm::Lite => HTML::FInF::L
HTML::Filter::Callbacks => HTML::F::C
HTML::Form => HTML::F
HTML::Form::ForceValue => HTML::F::FV
HTML::FormHandler => HTML::FH
HTML::FormHandler::Model::DBIC => HTML::FH::M::DBIC
HTML::FormatExternal => HTML::FE
HTML::FormatText::Html2textPY => HTML::FT::H2PY
HTML::FormatText::WithLinks => HTML::FT::WL
HTML::FormatText::WithLinks::AndTables => HTML::FT::WL::AndT
HTML::Formatter => *undef*
HTML::Fraction => *undef*
HTML::FromANSI => HTML::FANSI
HTML::HTML5::Entities => HTML::HTML5::E
HTML::Latemp::GenMakeHelpers => HTML::L::GenMH
HTML::LinkAdd => HTML::LAdd
HTML::Lint => HTML::L
HTML::Make => HTML::M
HTML::Mason => *undef*
HTML::Mason::PlackHandler => HTML::M::PH
HTML::MobileJp => HTML::MJp
HTML::Obliterate => HTML::O
HTML::Packer => HTML::P
HTML::Pager => *undef*
HTML::Parser => *undef*
HTML::PodCodeReformat => HTML::PodCR
HTML::PopupTreeSelect => HTML::PTS
HTML::PopupTreeSelect::Dynamic => HTML::PTS::D
HTML::PrettyPrinter => HTML::PP
HTML::Prototype => *undef*
HTML::Rainbow => HTML::R
HTML::ResolveLink => HTML::RL
HTML::Revelation => *undef*
HTML::Scrubber => HTML::S
HTML::Selector::XPath => HTML::S::XP
HTML::Shakan => *undef*
HTML::Spry::DataSet => HTML::S::DSet
HTML::StickyQuery => HTML::SQ
HTML::Stream => *undef*
HTML::Strip::Whitespace => HTML::S::W
HTML::Summary => *undef*
HTML::SummaryBasic => HTML::SB
HTML::Table => HTML::T
HTML::TagCloud => HTML::TagC
HTML::Tagset => *undef*
HTML::Template => *undef*
HTML::Template::Associate => HTML::T::A
HTML::Template::Compiled => HTML::T::C
HTML::Template::Compiled::Plugin::DHTML => HTML::T::C::P::DHTML
HTML::Template::Compiled::Plugin::HTML_Tags => HTML::T::C::P::HTML_T
HTML::Template::Compiled::Plugin::InlineImage => HTML::T::C::P::II
HTML::Template::Filter::TT2 => HTML::T::F::TT2
HTML::Tiny => *undef*
HTML::TokeParser::Simple => HTML::TP::S
HTML::Tooltip::Javascript => HTML::T::J
HTML::TrackerLink => HTML::TL
HTML::Transmorgify => *undef*
HTML::Tree => *undef*
HTML::TreeBuilder::XPath => HTML::TB::XP
HTML::Valid => HTML::V
HTML::ValidationRules => HTML::VR
HTML::Widget::Factory => HTML::W::F
HTML::Widget::Plugin::Calendar => HTML::W::P::C
HTML::Widget::Plugin::Combo => *undef*
HTML::YUI3::Menu => HTML::YUI3::M
HTML::Zoom => HTML::Z
HTTP::Body => HTTP::B
HTTP::Body::Builder => HTTP::B::B
HTTP::BrowserDetect => HTTP::BD
HTTP::CookieJar => HTTP::CJar
HTTP::Cookies => HTTP::C
HTTP::Cookies::Chrome => HTTP::C::C
HTTP::Daemon => HTTP::D
HTTP::Daemon::Patch::IPv6 => HTTP::D::P::IPv6
HTTP::Date => *undef*
HTTP::Entity::Parser => HTTP::E::P
HTTP::Exception => HTTP::E
HTTP::Headers::ActionPack => HTTP::H::AP
HTTP::Headers::Fancy => HTTP::H::F
HTTP::Headers::Fast => *undef*
HTTP::Headers::UserAgent => HTTP::H::UA
HTTP::Link => HTTP::L
HTTP::Lite => *undef*
HTTP::Message => HTTP::M
HTTP::MultiPartParser => HTTP::MPP
HTTP::Negotiate => HTTP::N
HTTP::Parser => HTTP::P
HTTP::Parser2::XS => HTTP::P2::XS
HTTP::Parser::XS => HTTP::P::XS
HTTP::Request::AsCGI => HTTP::R::AsCGI
HTTP::Request::Params => HTTP::R::P
HTTP::Response::Encoding => HTTP::R::E
HTTP::Response::Stringable => HTTP::R::S
HTTP::Router => HTTP::R
HTTP::Server::Simple => HTTP::S::S
HTTP::Server::Simple::Authen => HTTP::S::S::A
HTTP::Server::Simple::Bonjour => HTTP::S::S::B
HTTP::Server::Simple::PSGI => HTTP::S::S::PSGI
HTTP::Server::Simple::Recorder => HTTP::S::S::R
HTTP::ServerEvent => HTTP::SE
HTTP::Session2 => HTTP::S2
HTTP::Session::Store::KyotoTycoon => HTTP::S::S::KT
HTTP::Simple => HTTP::S
HTTP::Status::Const => HTTP::S::C
HTTP::StreamParser => HTTP::SP
HTTP::Tiny => HTTP::T
HTTP::Tiny::Bandwidth => HTTP::T::B
HTTP::Tiny::FromHTTPRequest => HTTP::T::FHTTPR
HTTP::Tiny::Mech => HTTP::T::M
HTTP::Tiny::Multipart => *undef*
HTTP::Tiny::NewestFirefox => HTTP::T::NF
HTTP::Tiny::Patch::Delay => HTTP::T::P::D
HTTP::Tiny::Patch::Retry => HTTP::T::P::R
HTTP::Tiny::Patch::SetUserAgent => HTTP::T::P::SetUA
HTTP::Tiny::Plugin => HTTP::T::P
HTTP::Tiny::Plugin::Delay => *undef*
HTTP::Tiny::Plugin::Retry => *undef*
HTTP::Tiny::ProgressAny => HTTP::T::PAny
HTTP::Tiny::UA => HTTP::T::UA
HTTP::Tiny::UNIX => HTTP::T::UNIX
HTTP::Tinyish => *undef*
HTTP::UserAgentStr::Util::ByNickname => HTTP::UAStr::U::ByN
HTTP::XSCookies => HTTP::XSC
HTTP::XSHeaders => HTTP::XSH
Hash::AsObject => H::AsO
Hash::DefHash => H::DefH
Hash::ExtendedKeys => H::EK
Hash::FieldHash => H::FH
Hash::Fold => H::F
Hash::Key::Quote => H::Key::Q
Hash::Match => H::M
Hash::Merge => *undef*
Hash::Merge::Simple => H::M::S
Hash::MoreUtils => H::MU
Hash::MultiValue => H::MV
Hash::Normalize => H::N
Hash::Objectify => H::O
Hash::Ordered => *undef*
Hash::Param => H::P
Hash::Rename => H::R
Hash::Slice => H::S
Hash::Subset => *undef*
Hash::Type => H::T
Hash::Typed => *undef*
Hash::Union => H::U
Hash::Util => *undef*
Hash::Util::FieldHash => H::U::FH
Hash::Util::FieldHash::Compat => H::U::FH::C
Hash::Util::Regexp => H::U::R
Hook::AfterRuntime => H::AR
Hook::LexWrap => H::LexW
Hook::Output::File => H::O::F
I18N::AcceptLanguage => I18N::AL
I18N::Charset => I18N::C
I18N::Collate => *undef*
I18N::LangTags => I18N::LT
I18N::LangTags::Detect => I18N::LT::D
I18N::LangTags::List => I18N::LT::L
I18N::Langinfo => I18N::L
IBGE::Municipios => IBGE::M
IM::Engine => IM::E
IM::Engine::Plugin::Dispatcher => IM::E::P::D
IO::Async => IO::A
IO::Async::Loop::linux => IO::A::L::l
IO::AsyncX::Sendfile => IO::AX::S
IO::Capture => IO::C
IO::Capture::Extended => IO::C::E
IO::CaptureOutput => IO::CO
IO::Compress => *undef*
IO::Compress::Adapter::Bzip2 => IO::C::A::B2
IO::Compress::Adapter::Deflate => IO::C::A::D
IO::Compress::Adapter::Identity => IO::C::A::I
IO::Compress::Base => IO::C::B
IO::Compress::Base::Common => IO::C::B::C
IO::Compress::Brotli => *undef*
IO::Compress::Bzip2 => IO::C::B2
IO::Compress::Deflate => IO::C::D
IO::Compress::Gzip => IO::C::G
IO::Compress::Gzip::Constants => IO::C::G::C
IO::Compress::Lzf => IO::C::Lzf
IO::Compress::Lzma => IO::C::L
IO::Compress::RawDeflate => IO::C::RawD
IO::Compress::Zip => IO::C::Zip
IO::Compress::Zip::Constants => IO::C::Zip::C
IO::Compress::Zlib::Constants => IO::C::Z::C
IO::Compress::Zlib::Extra => IO::C::Z::E
IO::Compress::Zstd => IO::C::Z
IO::Digest => IO::D
IO::Dir::Dirfd => IO::Dir::D
IO::Events => IO::E
IO::ExplicitHandle => IO::EH
IO::FDPass => IO::FDP
IO::File => IO::F
IO::Handle => IO::H
IO::Handle::Util => IO::H::U
IO::Interactive => IO::I
IO::Interactive::Tiny => IO::I::T
IO::KQueue => IO::KQ
IO::LockedFile => IO::LF
IO::Null => IO::N
IO::Page => IO::P
IO::Pager => *undef*
IO::Pipe => *undef*
IO::Pipely => *undef*
IO::Poll => *undef*
IO::Prompt => *undef*
IO::Prompt::Hooked => IO::P::H
IO::Prompt::I18N => IO::P::I18N
IO::Prompt::Simple => IO::P::S
IO::Prompt::Tiny => IO::P::T
IO::Prompter => *undef*
IO::Seekable => IO::S
IO::Select => *undef*
IO::SessionData => IO::SD
IO::Slice => *undef*
IO::Socket => *undef*
IO::Socket::DNS => IO::S::DNS
IO::Socket::Forwarder => IO::S::F
IO::Socket::INET => IO::S::INET
IO::Socket::INET6 => IO::S::INET6
IO::Socket::IP => IO::S::IP
IO::Socket::PortState => IO::S::PS
IO::Socket::PortState::cPanel => IO::S::PS::cP
IO::Socket::Telnet => IO::S::T
IO::Socket::Timeout => *undef*
IO::Socket::UNIX => IO::S::UNIX
IO::Socket::UNIX::Util => IO::S::UNIX::U
IO::String => *undef*
IO::Stringy => *undef*
IO::Stty => *undef*
IO::Termios => IO::T
IO::TieCombine => IO::TieC
IO::Uncompress::Adapter::Bunzip2 => IO::U::A::B2
IO::Uncompress::Adapter::Identity => IO::U::A::I
IO::Uncompress::Adapter::Inflate => *undef*
IO::Uncompress::AnyInflate => IO::U::AnyI
IO::Uncompress::AnyUncompress => IO::U::AnyU
IO::Uncompress::Base => IO::U::B
IO::Uncompress::Bunzip2 => IO::U::B2
IO::Uncompress::Gunzip => IO::U::G
IO::Uncompress::Inflate => IO::U::I
IO::Uncompress::RawInflate => IO::U::RawI
IO::Uncompress::Unzip => IO::U::U
IO::Unread => IO::U
IO::WrapOutput => IO::WO
IO::Zlib => IO::Z
IOD::Examples => IOD::E
IP::Country => IP::C
IPC::Capture => IPC::C
IPC::ConcurrencyLimit => IPC::CL
IPC::ConcurrencyLimit::Lock::MySQL => IPC::CL::L::MySQL
IPC::ConcurrencyLimit::Lock::NFS => IPC::CL::L::NFS
IPC::LeaderBoard => IPC::LB
IPC::Lockfile => IPC::L
IPC::Open2 => IPC::O2
IPC::Open3 => IPC::O3
IPC::Open3::Simple => IPC::O3::S
IPC::Open3::Utils => IPC::O3::U
IPC::Pidfile => IPC::P
IPC::Run::Fused => IPC::Run::F
IPC::Run::SafeHandles => IPC::Run::SH
IPC::ScoreBoard => IPC::SB
IPC::Semaphore => IPC::S
IPC::Shareable => *undef*
IPC::SharedMem => IPC::SMem
IPC::Signal => *undef*
IPC::System::Options => IPC::S::O
IPC::System::Simple => IPC::S::S
Image::Base => I::B
Image::Dot => I::Dot
Image::EXIF => I::EXIF
Image::ExifTool => I::ET
Image::Info => I::I
Image::Magick::CommandParser => I::M::CP
Image::PNG::Libpng => I::PNG::L
Image::PNG::Rewriter => I::PNG::R
Image::PNM => I::PNM
Image::Resize => I::R
Image::Size => I::S
Image::TextMode => I::TM
Image::TextMode::Reader::ANSI::XS => I::TM::R::ANSI::XS
Image::Thumbnail => I::T
Image::Xbm => I::Xbm
Image::Xpm => I::Xpm
Imager::Bing::MapLayer => I::B::MapL
Imager::File::JPEG => I::F::JPEG
Imager::Graph => I::G
Imager::Image::Base => I::I::B
Import::Box => I::Box
Import::Export => I::E
Import::Into => *undef*
Import::These => *undef*
Inline::Basic => *undef*
Inline::C => I::C
Inline::Files => I::F
Inline::Filters => *undef*
Inline::YAML => I::YAML
InlineX::XS => IX::XS
Input::Validator => I::V
Integer::Partition => I::P
Integer::Tiny => *undef*
Internals::CountObjects => I::CO
Iterator::Diamond => I::D
Iterator::IO => I::IO
Iterator::Simple => *undef*
Iterator::Util => I::U
JS::Chicken => JS::C
JS::Test::Simple => JS::T::S
JS::jQuery => JS::jQ
JSAN::Librarian => JSAN::L
JSAN::Parse::FileDeps => JSAN::P::FD
JSON-Diffable => JSON-D
JSON::Color => JSON::C
JSON::Create => *undef*
JSON::Decode::Regexp => JSON::D::R
JSON::Eval => JSON::E
JSON::Karabiner => JSON::K
JSON::Lines => JSON::L
JSON::MaybeUTF8 => JSON::MUTF8
JSON::MaybeXS => JSON::MXS
JSON::MultiValueOrdered => JSON::MVO
JSON::PP::Boolean => JSON::PP::B
JSON::Parse => JSON::P
JSON::Path => *undef*
JSON::Pointer => *undef*
JSON::Repair => JSON::R
JSON::Schema::Modern => JSON::S::M
JSON::Schema::Shorthand => JSON::S::S
JSON::Schema::Tiny => JSON::S::T
JSON::Server => JSON::S
JSON::String => *undef*
JSON::Tiny => *undef*
JSON::Transform => *undef*
JSON::UnblessObject => JSON::UO
JSON::Util => JSON::U
JSON::Validator => JSON::V
JSON::XS::VersionOneAndTwo => JSON::XS::VOneAndTwo
JSON_File => JSON_F
Jabber::Connection => J::C
Jar::Manifest => Jar::M
JavaScript::Librarian => JS::L
JavaScript::Minifier => JS::M
JavaScript::Minifier::XS => JS::M::XS
JavaScript::Packer => JS::P
Javascript::MD5 => J::MD5
Jifty::DBI => J::DBI
Kelp::Module::Bcrypt => K::M::B
Kelp::Module::Template::Toolkit => K::M::T::T
Keyword::DEVELOPMENT => K::DEVELOPMENT
Keyword::Declare => K::D
Keyword::Simple => K::S
Kossy::Validator => K::V
Kwiki::AuthorOnlyPageEditing => K::AOPE
Kwiki::BroadcastMessage => K::BM
Kwiki::Cache => K::C
Kwiki::DB => K::DB
Kwiki::DoubleClickToEdit => K::DCToE
Kwiki::Favorites => K::F
Kwiki::Formatter::Pod => K::F::Pod
Kwiki::HanConvert => K::HanC
Kwiki::HtmlBlocks => K::HB
Kwiki::IRCMode => K::IRCM
Kwiki::Infobox => K::I
Kwiki::OpenSearch::Service => K::OS::S
Kwiki::PagePrivacy => K::PP
Kwiki::Pages::Perldoc => K::P::P
Kwiki::ParagraphBlocks => K::PB
Kwiki::PerlTidyModule => K::PTM
Kwiki::PodBlocks => K::PodB
Kwiki::PoweredBy => K::PBy
Kwiki::PreformattedBlocks => *undef*
Kwiki::Revisions => K::R
Kwiki::Theme::PerlMongers => K::T::PM
Kwiki::TimeZone => K::TZ
Kwiki::UserName => K::UN
Kwiki::UserPhoto => K::UP
Kwiki::UserPreferences => *undef*
Kwiki::Widgets::RecentChanges => K::W::RC
LUGS::Events::Parser => LUGS::E::P
LWP::MediaTypes => LWP::MT
LWP::Online => LWP::O
LWP::Protocol::PSGI => LWP::P::PSGI
LWP::Protocol::Patch::CountBytesIn => LWP::P::P::CBIn
LWP::Protocol::http10 => LWP::P::h10
LWP::Protocol::http::SocketUnixAlt => LWP::P::h::SUAlt
LWP::UserAgent::Determined => LWP::UA::D
LWP::UserAgent::Patch::FilterMirror => LWP::UA::P::FM
LWP::UserAgent::Plugin => LWP::UA::P
LWP::UserAgent::Plugin::Retry => LWP::UA::P::R
LWP::UserAgent::ProgressAny => LWP::UA::PAny
LWPx::ParanoidAgent => LWPx::PA
LaBrea::Tarpit => LaB::T
LaTeX::Writer::Simple => LaTeX::W::S
Labyrinth::DIUtils::GD => L::DIU::GD
Language::BF => L::BF
Language::Basic => L::B
Language::Befunge::Vector::XS => L::B::V::XS
Language::Expr => L::E
LastFM::Export => LFM::E
Leading::Zeros => L::Z
Lexical::Accessor => L::A
Lexical::Attributes => *undef*
Lexical::Failure => L::F
Lexical::Hints => L::H
Lexical::Persistence => L::P
Lexical::SealRequireHints => L::SRH
Lingua::Alphabet::Phonetic => L::A::P
Lingua::Boolean => *undef*
Lingua::Charsets => L::C
Lingua::Conjunction => *undef*
Lingua::DE::ASCII => L::DE::ASCII
Lingua::EN::FindNumber => L::EN::FN
Lingua::EN::Fractions => L::EN::F
Lingua::EN::GivenNames => L::EN::GN
Lingua::EN::Grammarian => L::EN::G
Lingua::EN::Infinitive => L::EN::I
Lingua::EN::Inflect => *undef*
Lingua::EN::Inflect::Number => L::EN::I::N
Lingua::EN::Inflect::Phrase => L::EN::I::P
Lingua::EN::MatchNames => L::EN::MN
Lingua::EN::NameCase => L::EN::NC
Lingua::EN::NameParse => L::EN::NP
Lingua::EN::Nickname => L::EN::N
Lingua::EN::Number::Format::MixWithWords => L::EN::N::F::MixWW
Lingua::EN::Number::IsOrdinal => L::EN::N::IsO
Lingua::EN::Numbers => *undef*
Lingua::EN::Numbers::Ordinate => L::EN::N::O
Lingua::EN::Numbers::Years => L::EN::N::Y
Lingua::EN::Nums2Words => L::EN::N2W
Lingua::EN::PluralToSingular => L::EN::PToS
Lingua::EN::Segmenter => L::EN::S
Lingua::EN::Sentence => *undef*
Lingua::EN::Squeeze => *undef*
Lingua::EN::StopWordList => L::EN::SWL
Lingua::EN::Tagger => L::EN::T
Lingua::EN::Titlecase::Simple => L::EN::T::S
Lingua::EN::VarCon => L::EN::VarCon
Lingua::EN::Words2Nums => L::EN::W2N
Lingua::ENG::Inflect => L::ENG::I
Lingua::EO::Supersignoj => L::EO::S
Lingua::FI::Hyphenate => L::FI::H
Lingua::FR::Numbers => L::FR::N
Lingua::FR::Nums2Words => L::FR::N2W
Lingua::Flags => *undef*
Lingua::ID::Nums2Words => L::ID::N2W
Lingua::ID::Words2Nums => L::ID::W2N
Lingua::JA::Fold => L::JA::F
Lingua::JA::Gairaigo::Fuzzy => L::JA::G::F
Lingua::JA::Moji => L::JA::M
Lingua::JA::Name::Splitter => L::JA::N::S
Lingua::JA::Numbers => L::JA::N
Lingua::JA::Regular::Unicode => L::JA::R::U
Lingua::JA::Sort::JIS => L::JA::S::JIS
Lingua::Jspell => L::J
Lingua::KO::Hangul::Util => L::KO::H::U
Lingua::KO::MacKorean => L::KO::MacK
Lingua::KO::Romanize::Hangul => L::KO::R::H
Lingua::PT::Hyphenate => L::PT::H
Lingua::PT::Inflect => L::PT::I
Lingua::PT::Nums2Ords => L::PT::N2O
Lingua::PT::Nums2Words => L::PT::N2W
Lingua::PT::Ords2Nums => L::PT::O2N
Lingua::PT::Stemmer => L::PT::S
Lingua::PT::Words2Nums => L::PT::W2N
Lingua::PTD => L::PTD
Lingua::Preferred => *undef*
Lingua::RU::Charset => L::RU::C
Lingua::RU::Declension => L::RU::D
Lingua::Romana::Perligata => L::R::P
Lingua::Shakespeare => L::S
Lingua::Slavic::Numbers => L::S::N
Lingua::StarDict::Gen => L::SD::Gen
Lingua::Stem => *undef*
Lingua::Stem::Fr => L::S::Fr
Lingua::Stem::It => L::S::It
Lingua::Stem::Ru => L::S::Ru
Lingua::Stem::Snowball => L::S::S
Lingua::Stem::Snowball::Da => L::S::S::Da
Lingua::Stem::Snowball::No => L::S::S::No
Lingua::Stem::Snowball::Se => L::S::S::Se
Lingua::StopWords => L::SW
Lingua::Thesaurus => L::T
Lingua::ZH::CCDICT => L::ZH::CCDICT
Lingua::ZH::HanDetect => L::ZH::HanD
Lingua::ZH::MacChinese::Traditional => L::ZH::MacC::T
Lingua::ZH::PinyinConvert::ID => L::ZH::PC::ID
Lingua::ZH::Romanize::Pinyin => L::ZH::R::P
Lingua::ZH::Wrap => L::ZH::W
Linux::Fuser => *undef*
Linux::IO_Prio => L::IO_P
Linux::Statm::Tiny => L::S::T
List::AllUtils => L::AllU
List::AssignRef => L::ARef
List::BinarySearch => L::BS
List::BinarySearch::XS => L::BS::XS
List::Bisect => *undef*
List::Categorize => *undef*
List::Categorize::Multi => L::C::M
List::Compare => *undef*
List::Cycle => *undef*
List::Enumerator => *undef*
List::Gather => L::G
List::GroupBy => L::GBy
List::Keywords => L::K
List::Maker => L::M
List::MapMulti => L::MapM
List::MoreUtils => L::MU
List::MoreUtils::XS => L::MU::XS
List::Permute::Limit => L::P::L
List::Permutor => *undef*
List::PowerSet => L::PSet
List::Rank => L::R
List::RewriteElements => L::RE
List::Rotation::Cycle => L::R::C
List::Slice => *undef*
List::SomeUtils => L::SU
List::SomeUtils::XS => L::SU::XS
List::Stream => *undef*
List::Uniqnum => L::U
List::Util => *undef*
List::Util::MaybeXS => L::U::MXS
List::Util::Uniq => L::U::U
List::Util::WeightedChoice => L::U::WC
List::Util::XS => L::U::XS
List::Util::sglice => L::U::s
List::UtilsBy => L::UBy
LocalOverride => LO
Locale::AU => L::AU
Locale::CA => L::CA
Locale::Country::Multilingual => *undef*
Locale::Currency::Format => L::C::F
Locale::Intl => L::I
Locale::MO::File => L::MO::F
Locale::Maketext => *undef*
Locale::Maketext::Gettext => L::M::G
Locale::Maketext::Guts => *undef*
Locale::Maketext::GutsLoader => L::M::GL
Locale::Maketext::Lexicon => L::M::L
Locale::Maketext::Lexicon::Properties => L::M::L::P
Locale::Maketext::Lexicon::Slurp => L::M::L::S
Locale::Maketext::ManyPluralForms => L::M::MPF
Locale::Maketext::Pseudo => L::M::P
Locale::Maketext::Simple => L::M::S
Locale::Nationality::en => L::N::en
Locale::PO => L::PO
Locale::POFileManager => L::POFM
Locale::TextDomain::OO => L::TD::OO
Locale::TextDomain::OO::Util => L::TD::OO::U
Locale::TextDomain::UTF8 => L::TD::UTF8
Locale::Unicode => *undef*
Locale::Unicode::Data => L::U::D
Locale::Utils::PlaceholderBabelFish => L::U::PBF
Locale::Utils::PlaceholderMaketext => L::U::PM
Locale::Utils::PlaceholderNamed => L::U::PN
Localizer::Scanner => *undef*
Localizer::Scanner::Xslate => L::S::X
LockFile::Simple => LF::S
Log::Any::Adapter::Callback => Log::Any::A::C
Log::Any::Adapter::Daemontools => Log::Any::A::D
Log::Any::Adapter::Log4perl => Log::Any::A::Log4
Log::Any::Adapter::TAP => Log::Any::A::TAP
Log::Contextual => Log::C
Log::Contextual::LogDispatchouli => Log::C::LogD
Log::Contextual::WarnLogger::Fancy => Log::C::WL::F
Log::Defer => Log::D
Log::Dispatch => *undef*
Log::Dispatch::Array => Log::D::A
Log::Dispatch::Binlog => Log::D::B
Log::Dispatch::Config => Log::D::C
Log::Dispatch::DBI => Log::D::DBI
Log::Dispatch::Dir => Log::D::Dir
Log::Dispatch::FileWriteRotate => Log::D::FWR
Log::Dispatch::Growl => Log::D::G
Log::Dispatch::Perl => Log::D::P
Log::Dispatch::TestDiag => Log::D::TD
Log::Dispatchouli => *undef*
Log::Handler => Log::H
Log::JSON::Lines => Log::JSON::L
Log::Log4perl => Log::Log4
Log::Log4perl::Appender::Elasticsearch => Log::Log4::A::E
Log::Log4perl::Appender::TAP => Log::Log4::A::TAP
Log::Log4perl::Layout::SimpleLayout::Multiline => Log::Log4::L::SL::M
Log::Log4perl::Shortcuts => Log::Log4::S
Log::Log4perl::Tiny => Log::Log4::T
Log::LogLite => Log::LogL
Log::Message => Log::M
Log::Message::Simple => Log::M::S
Log::Minimal => *undef*
Log::Minimal::Object => Log::M::O
Log::Report => Log::R
Log::Report::Optional => Log::R::O
Log::Sprintf => Log::S
Log::Structured => *undef*
Log::ger::Layout::Pattern => Log::ger::L::P
Log::ger::Level::FromEnv => Log::ger::L::FEnv
Log::ger::Level::FromVar => Log::ger::L::FVar
Log::ger::Output::Composite => Log::ger::O::C
Log::ger::Output::File => Log::ger::O::F
Log::ger::Output::Screen => Log::ger::O::S
Log::ger::Output::SimpleFile => Log::ger::O::SF
Log::ger::Output::Syslog => *undef*
Log::ger::Screen => Log::ger::S
Log::ger::UseDataDumpObjectAsString => Log::ger::UseDDOAsS
Logfile::Rotate => *undef*
Logfile::Tail::Switch => L::T::S
Long::Jump => *undef*
Loop::Control => *undef*
MARC::Crosswalk::DublinCore => MARC::C::DC
MARC::File::MiJ => MARC::F::MiJ
MARC::Record => MARC::R
MCE::Shared => MCE::S
MIDI-Perl => MIDI-P
MIDI::Pitch => MIDI::P
MIDI::Tools => MIDI::T
MIME::Base32 => MIME::B32
MIME::Base64 => MIME::B64
MIME::Base64::Perl => MIME::B64::P
MIME::Base64::URLSafe => MIME::B64::URLS
MIME::BodyMunger => MIME::BM
MIME::Charset => MIME::C
MIME::EcoEncode => MIME::EcoE
MIME::Lite => MIME::L
MIME::Lite::HT::HTML => MIME::L::HT::HTML
MIME::Lite::TT::HTML => MIME::L::TT::HTML
MIME::QuotedPrint => MIME::QP
MIME::Tools => MIME::T
MIME::Types => *undef*
MLDBM::Serializer::JSON => MLDBM::S::JSON
MP3::Info => MP3::I
MP4::Info => MP4::I
MPEG::Audio::Frame => MPEG::A::F
MRO::Compat => MRO::C
MRO::Define => MRO::D
MSIE::MenuExt => MSIE::MExt
Mac::PropertyList => Mac::PL
Mac::RecentDocuments => Mac::RD
Machine::Epsilon => M::E
Mackerel::Webhook::Receiver => M::W::R
Magic::Coerce => M::C
Mail::Alias::Reader => M::A::R
Mail::Audit => M::A
Mail::Audit::Attach => M::A::A
Mail::Audit::List => M::A::L
Mail::Box => M::Box
Mail::Box::IMAP4 => M::Box::IMAP4
Mail::Convert::Mbox::ToEml => M::C::M::ToEml
Mail::IMAPClient => M::IMAPC
Mail::ListDetector => M::LD
Mail::LocalDelivery => *undef*
Mail::Log::Exceptions => M::Log::E
Mail::Message => M::M
Mail::POP3Client => M::POP3C
Mail::Procmail => M::P
Mail::SMTP::Honeypot => M::SMTP::H
Mail::Sender => M::S
Mail::Sender::Easy => M::S::E
Mail::Thread => M::T
Mail::Thread::Arc => M::T::Arc
Mail::Thread::Chronological => M::T::C
Mail::Transport => *undef*
MailTools => MT
Markdown::Pod => M::Pod
Markdown::To::POD => M::To::POD
Marpa::R2 => M::R2
MarpaX::Demo::JSONParser => MX::D::JSONP
MarpaX::Demo::SampleScripts => MX::D::SS
MarpaX::Languages::Perl::PackUnpack => MX::L::P::PU
MarpaX::Simple => MX::S
MasonX::Resolver::Multiplex => MX::R::M
MasonX::Resolver::WidgetFactory => MX::R::WF
Math::AnyNum => M::AnyNum
Math::Approx => *undef*
Math::Approx::Symbolic => M::A::S
Math::Base36 => M::B36
Math::Base85 => M::B85
Math::Base::Convert => M::B::C
Math::Basic::XS => M::B::XS
Math::Bezier => M::B
Math::Bezier::Convert => *undef*
Math::Big => M::Big
Math::BigFloat => M::BigF
Math::BigFloat::Trace => M::BigF::T
Math::BigInt => M::BigInt
Math::BigInt::Calc => M::BigInt::C
Math::BigInt::Constant => *undef*
Math::BigInt::FastCalc => M::BigInt::FC
Math::BigInt::GMP => M::BigInt::GMP
Math::BigInt::Lib => M::BigInt::Lib
Math::BigInt::Lite => M::BigInt::L
Math::BigInt::Named => M::BigInt::N
Math::BigInt::Random::OO => M::BigInt::R::OO
Math::BigInt::Trace => M::BigInt::T
Math::BigRat => M::BigRat
Math::BigRat::Trace => M::BigRat::T
Math::BivariateCDF => M::BCDF
Math::Business::BlackScholes => M::B::BS
Math::Business::BlackScholesMerton => M::B::BSM
Math::CDF => M::CDF
Math::Cartesian::Product => M::C::P
Math::CheckDigits => M::CD
Math::Combinatorics => *undef*
Math::Complex => *undef*
Math::Complex_C => M::CC
Math::ConvexHull::MonotoneChain => M::CH::MC
Math::Curve::Hilbert => M::C::H
Math::Decimal => M::D
Math::Derivative => *undef*
Math::EWMA => M::EWMA
Math::Expression::Evaluator => M::E::E
Math::Factor::XS => M::F::XS
Math::Fibonacci => M::F
Math::Fibonacci::Phi => M::F::Phi
Math::Financial => *undef*
Math::Fleximal => *undef*
Math::Fortran => *undef*
Math::Fractal::DLA => M::F::DLA
Math::GMPf => M::GMPf
Math::GMPq => M::GMPq
Math::GMPz => M::GMPz
Math::Gauss => M::G
Math::Geometry::IntersectionArea => M::G::IA
Math::Geometry::Planar::Offset => M::G::P::O
Math::Gradient => *undef*
Math::Grid::Coordinates => M::G::C
Math::HashSum => M::HSum
Math::HoltWinters => M::HW
Math::Inequalities::Parser => M::I::P
Math::Int64 => M::Int64
Math::Int64::C_API::Sample => M::Int64::C_API::S
Math::Integral::Romberg => M::I::R
Math::InterpolationCompiler => M::IC
Math::Intersection::Circle::Line => M::I::C::L
Math::JS => M::JS
Math::LinearCombination => M::LC
Math::MPC => M::MPC
Math::MPFR => M::MPFR
Math::Matrix => *undef*
Math::MatrixReal => M::MR
Math::ModInt => M::ModInt
Math::NV => M::NV
Math::NoCarry => M::NoC
Math::ODE => M::ODE
Math::PSNR => M::PSNR
Math::Pandigital => *undef*
Math::Permute::List => M::P::L
Math::Polygon => *undef*
Math::Polynomial => *undef*
Math::Polynomial::Chebyshev => M::P::C
Math::Prime::Util => M::P::U
Math::Prime::Util::GMP => M::P::U::GMP
Math::Project3D => M::P3D
Math::Project3D::Plot => M::P3D::P
Math::RNG::Microsoft => M::RNG::M
Math::RPN => M::RPN
Math::Rand48 => M::R48
Math::Random => M::R
Math::Random::AcceptReject => M::R::AR
Math::Random::BlumBlumShub => M::R::BBS
Math::Random::Discrete => M::R::D
Math::Random::ISAAC => M::R::ISAAC
Math::Random::ISAAC::XS => M::R::ISAAC::XS
Math::Random::MT => M::R::MT
Math::Random::MT::Auto => M::R::MT::A
Math::Random::MT::Perl => M::R::MT::P
Math::Random::NormalDistribution => M::R::ND
Math::Random::OO => M::R::OO
Math::Random::Secure => M::R::S
Math::Round => *undef*
Math::RungeKutta => M::RK
Math::SMA => M::SMA
Math::SO3 => M::SO3
Math::ScientificNotation::Util => M::SN::U
Math::Sequence => *undef*
Math::Sequence::DeBruijn => M::S::DeB
Math::SimpleHisto::XS => M::SH::XS
Math::SimpleVariable => M::SV
Math::Spline => *undef*
Math::String => *undef*
Math::String::Charset::Wordlist => M::S::C::W
Math::Summation => *undef*
Math::Symbolic => *undef*
Math::Symbolic::Custom::CCompiler => M::S::C::CC
Math::Symbolic::Custom::Pattern => M::S::C::P
Math::Symbolic::Custom::Transformation => M::S::C::T
Math::SymbolicX::BigNum => M::SX::BigNum
Math::SymbolicX::Calculator => M::SX::C
Math::SymbolicX::NoSimplification => M::SX::NoS
Math::SymbolicX::ParserExtensionFactory => M::SX::PEF
Math::Telephony::ErlangB => M::T::EB
Math::Telephony::ErlangC => M::T::EC
Math::Trig => *undef*
Math::Utils => M::U
Math::VarRate => M::VarR
Math::Vec => M::Vec
Math::VecStat => M::VecS
Math::Vector::Real => M::V::R
Math::Vector::Real::Farthest => M::V::R::F
Math::Vector::Real::MultiNormalMixture => M::V::R::MNM
Math::Vector::Real::Polyline => M::V::R::P
Math::Vector::Real::XS => M::V::R::XS
Math::Vector::SortIndexes => M::V::SI
Math::Volume::Rotational => *undef*
Math::Yapp => M::Y
Math::nSphere => M::nS
Math::simpleRNG => M::sRNG
McBain::WithWebSocket => McB::WWebS
MediaWiki::Table::Tiny => MW::T::T
Memoize::AnyDBM_File => M::AnyDBM_F
Memoize::Expire => *undef*
Memoize::ExpireLRU => M::ELRU
Memoize::NDBM_File => M::NDBM_F
Memoize::Once => M::O
Memoize::SDBM_File => M::SDBM_F
Memoize::Saves => *undef*
Memoize::Storable => *undef*
Memory::Stats => *undef*
Memory::Usage => *undef*
Menlo::Legacy => M::L
Message::Passing => *undef*
Message::Stack => *undef*
Message::Stack::Parser => M::S::P
Meta::Builder => *undef*
MetaCPAN::Moose => MCPAN::M
MetaPOD => MPOD
MetaPOD::Spec => MPOD::S
Metabase::Client::Simple => M::C::S
Metabase::Fact => *undef*
Method::Extension => *undef*
Method::ParamValidator => M::PV
Method::Signatures => *undef*
Method::Signatures::Simple => M::S::S
Method::Slice => *undef*
Method::WeakCallback => M::WC
Metrics::Any => M::Any
Metrics::Any::Adapter::Statsd => M::Any::A::S
Mixin::Event::Dispatch => M::E::D
Mixin::Linewise => *undef*
Mo::utils => Mo::u
Mock::Config => *undef*
Mock::MonkeyPatch => M::MP
Mock::Quick => M::Q
Mock::Sub => M::Sub
Modern::Perl => *undef*
Module::Build => *undef*
Module::Build::CleanInstall => M::B::CI
Module::Build::Deprecated => M::B::D
Module::Build::FFI => M::B::FFI
Module::Build::Pluggable => M::B::P
Module::Build::Pluggable::AuthorTests => M::B::P::AT
Module::Build::Pluggable::CPANfile => M::B::P::CPAN
Module::Build::Pluggable::PPPort => M::B::P::PPP
Module::Build::Pluggable::ReadmeMarkdownFromPod => M::B::P::RMFPod
Module::Build::Pluggable::XSUtil => M::B::P::XSU
Module::Build::SysPath => M::B::SysP
Module::Build::Tiny => M::B::T
Module::Build::Using::PkgConfig => M::B::U::PkgC
Module::Build::XSUtil => M::B::XSU
Module::CAPIMaker => M::CAPIM
Module::CPANTS::Analyse => M::CPANTS::A
Module::CPANfile => M::CPAN
Module::Changes => *undef*
Module::Check_Args => M::CA
Module::Collect => *undef*
Module::Collection => *undef*
Module::Compile => *undef*
Module::Compile::TT => M::C::TT
Module::CoreList => M::CL
Module::CoreList::DBSchema => M::CL::DBS
Module::CoreList::More => M::CL::M
Module::CoreList::Utils => M::CL::U
Module::CryptSource => M::CS
Module::Data => *undef*
Module::DataPack => M::DP
Module::Depends => *undef*
Module::Depends::Tree => M::D::T
Module::Extract => *undef*
Module::Extract::DeclaredMinimumPerl => M::E::DMP
Module::Extract::Use => M::E::Use
Module::Extract::VERSION => M::E::VERSION
Module::Faker => *undef*
Module::FatPack => M::FatP
Module::FeaturesUtil::Get => M::FU::Get
Module::Find => *undef*
Module::Functions => *undef*
Module::Generate => *undef*
Module::Generate::Hash => M::G::H
Module::Hash => M::H
Module::HideRename => M::HR
Module::Implementation => M::I
Module::Info => *undef*
Module::Inspector => *undef*
Module::Install => *undef*
Module::Install::AckXXX => M::I::AckXXX
Module::Install::AuthorTests => M::I::AT
Module::Install::AutoManifest => M::I::AM
Module::Install::PrePAN => M::I::PrePAN
Module::Install::ReadmeFromPod => M::I::RFPod
Module::Install::Repository => *undef*
Module::Install::RequiresList => M::I::RL
Module::Install::ShareFile => M::I::SF
Module::Install::Template => M::I::T
Module::Install::TrustMetaYml => M::I::TMYml
Module::Install::XSUtil => M::I::XSU
Module::Installed::Tiny => *undef*
Module::InstalledVersion => M::IV
Module::List => *undef*
Module::List::Pluggable => M::L::P
Module::List::Tiny => M::L::T
Module::List::Tiny::Patch::Hide => M::L::T::P::H
Module::List::WithPath => M::L::WP
Module::Load => *undef*
Module::Load::Conditional => M::L::C
Module::Load::Util => M::L::U
Module::Loadable => *undef*
Module::Loaded => *undef*
Module::Loader => *undef*
Module::Locate => *undef*
Module::Manifest => *undef*
Module::Mask => *undef*
Module::Mask::Deps => M::M::D
Module::Math::Depends => *undef*
Module::Metadata => *undef*
Module::Metadata::Changes => M::M::C
Module::MultiConf => M::MC
Module::Notify => M::N
Module::Patch => *undef*
Module::Path => *undef*
Module::Path::More => M::P::M
Module::Pluggable => *undef*
Module::Pluggable::Loader => *undef*
Module::PrintUsed => M::PU
Module::Quote => *undef*
Module::Refresh => *undef*
Module::Release => *undef*
Module::Release::Git => M::R::Git
Module::Release::Select => *undef*
Module::Runtime => *undef*
Module::Runtime::Conflicts => M::R::C
Module::ScanDeps => M::SD
Module::Spy => M::Spy
Module::Starter => *undef*
Module::Starter::Plugin::TT2 => M::S::P::TT2
Module::Starter::Smart => *undef*
Module::Starter::XSimple => M::S::XS
Module::Used => *undef*
Module::Util => *undef*
Module::Version => M::V
Module::Want => M::W
Module::XSOrPP => M::XSOrPP
Module::cpmfile => M::c
Mojo::Autobox => *undef*
Mojo::CSV => M::CSV
Mojo::CouchDB => M::CDB
Mojo::DOM58 => M::DOM58
Mojo::Log::Clearable => M::Log::C
Mojo::PDF => M::PDF
Mojo::Promise::Role::HigherOrder => M::P::R::HO
Mojo::YR => M::YR
MojoX::CustomTemplateFileParser => MX::CTFP
MojoX::Session => *undef*
MojoX::ValidateHeadLinks => MX::VHL
MojoX::Validator => MX::V
Mojolicious::Plugin::AssetPack => M::P::AP
Mojolicious::Plugin::Bcrypt => M::P::B
Mojolicious::Plugin::CSSCompressor => M::P::CSSC
Mojolicious::Plugin::ExposeControllerMethod => M::P::ECM
Mojolicious::Plugin::FormChecker => M::P::FC
Mojolicious::Plugin::HamlRenderer => M::P::HR
Mojolicious::Plugin::Humane => M::P::H
Mojolicious::Plugin::PPI => M::P::PPI
Mojolicious::Plugin::Parametry => M::P::P
Mojolicious::Plugin::Renderer::WithoutCache => M::P::R::WC
Mojolicious::Plugin::ServerType => M::P::ST
Mojolicious::Plugin::Status => M::P::S
Mojolicious::Plugin::TemplatePerlish => M::P::TP
Monkey::Patch::Action => M::P::A
Month::Simple => *undef*
MooX::Aliases => MooX::A
MooX::Attribute::ENV => MooX::A::ENV
MooX::ChainedAttributes => MooX::CA
MooX::ClassAttribute => *undef*
MooX::ConfigFromFile => MooX::CFF
MooX::Enumeration => MooX::E
MooX::File::ConfigDir => MooX::F::CDir
MooX::HandlesVia => MooX::HVia
MooX::Keyword => MooX::K
MooX::Keyword::Chain => MooX::K::C
MooX::LazierAttributes => MooX::LA
MooX::Locale::Passthrough => MooX::L::P
MooX::Locale::TextDomain::OO => MooX::L::TD::OO
MooX::Lsub => MooX::L
MooX::LvalueAttribute => *undef*
MooX::NewDefaults => MooX::NewD
MooX::Options => MooX::O
MooX::Private::Attribute => MooX::P::A
MooX::ProtectedAttributes => MooX::PA
MooX::ReturnModifiers => MooX::RM
MooX::Role::CachedURL => MooX::R::CURL
MooX::Role::Logger => MooX::R::L
MooX::ShortHas => MooX::SHas
MooX::Should => MooX::S
MooX::Singleton => *undef*
MooX::StrictConstructor => MooX::SC
MooX::Struct => *undef*
MooX::Traits => MooX::T
MooX::TypeTiny => MooX::TT
MooX::Types::MooseLike => MooX::T::ML
MooX::Types::MooseLike::Numeric => MooX::T::ML::N
MooX::late => MooX::l
Mooish::Caller::Util => M::C::U
Moose::Autobox => *undef*
Moose::Test => *undef*
Moose::Tiny => *undef*
MooseX => MX
MooseX::APIRole => MX::APIR
MooseX::AbstractMethod => MX::AM
MooseX::Aliases => MX::A
MooseX::AlwaysCoerce => MX::AC
MooseX::App => MX::App
MooseX::App::Cmd => MX::App::Cmd
MooseX::App::Plugin::ZshCompletion => MX::App::P::ZshC
MooseX::ArrayRef => MX::ARef
MooseX::Atom => *undef*
MooseX::Attribute::Chained => MX::A::C
MooseX::Attribute::Deflator => MX::A::D
MooseX::Attribute::Dependent => *undef*
MooseX::Attribute::Multibuilder => MX::A::M
MooseX::Attribute::TypeConstraint::CustomizeFatal => MX::A::TC::CF
MooseX::Attribute::ValidateWithException => MX::A::VWE
MooseX::AttributeHelpers => MX::AH
MooseX::AttributeShortcuts => MX::AS
MooseX::AttributeTags => MX::AT
MooseX::Attributes::Curried => *undef*
MooseX::AutoDestruct => MX::AD
MooseX::ClassAttribute => MX::CA
MooseX::ClassCompositor => MX::CC
MooseX::Clone => MX::C
MooseX::ConfigFromFile => MX::CFF
MooseX::Configuration => *undef*
MooseX::Constructor::AllErrors => MX::C::AllE
MooseX::CurriedDelegation => MX::CD
MooseX::CustomInitArgs => MX::CIA
MooseX::Daemonize => MX::D
MooseX::Declare => *undef*
MooseX::Declare::Context::WithOptions::Patch::Extensible => MX::D::C::WO::P::E
MooseX::DeclareX => MX::DX
MooseX::DeclareX::Plugin::singleton => MX::DX::P::s
MooseX::Deprecated => *undef*
MooseX::Emulate::Class::Accessor::Fast => MX::E::C::A::F
MooseX::Enumeration => MX::E
MooseX::Extended => *undef*
MooseX::FileAttribute => MX::FA
MooseX::Final => MX::F
MooseX::FollowPBP => MX::FPBP
MooseX::Getopt => MX::G
MooseX::Graph::Easy::StateMachine => MX::G::E::SM
MooseX::HandlesConstructor => MX::HC
MooseX::Has::Sugar => MX::Has::S
MooseX::HasDefaults => MX::HasD
MooseX::InsideOut => MX::IOut
MooseX::InstanceTracking => MX::IT
MooseX::LazyRequire => MX::LR
MooseX::LeakCheck => MX::LC
MooseX::LogDispatch => MX::LogD
MooseX::LvalueAttribute => MX::LA
MooseX::MakeImmutable => MX::MI
MooseX::MarkAsMethods => MX::MAsM
MooseX::Meta::TypeConstraint::ForceCoercion => MX::M::TC::FC
MooseX::Meta::TypeConstraint::Intersection => MX::M::TC::I
MooseX::Meta::TypeConstraint::Mooish => MX::M::TC::M
MooseX::Method::Signatures => MX::M::S
MooseX::MethodAttributes => MX::MA
MooseX::MojoControllerExposingAttributes => MX::MCEA
MooseX::MungeHas => MX::MHas
MooseX::NewDefaults => MX::NewD
MooseX::NonMoose => MX::NonM
MooseX::Object::Pluggable => MX::O::P
MooseX::OneArgNew => MX::OneArgNew
MooseX::Param => MX::P
MooseX::Params::Validate => MX::P::V
MooseX::Prototype => *undef*
MooseX::RelatedClassRoles => MX::RCR
MooseX::RememberHistory => MX::RH
MooseX::RemoteHelper => *undef*
MooseX::Role::Callback => MX::R::C
MooseX::Role::Data::Verifier => MX::R::D::V
MooseX::Role::Matcher => *undef*
MooseX::Role::Parameterized => MX::R::P
MooseX::Role::Pluggable => *undef*
MooseX::Role::TraitConstructor => MX::R::TC
MooseX::Role::Validatable => MX::R::V
MooseX::Role::WarnOnConflict => MX::R::WOnC
MooseX::RoleFor => MX::RFor
MooseX::Runnable => MX::R
MooseX::SemiAffordanceAccessor => MX::SAA
MooseX::SetOnce => MX::SetO
MooseX::ShortHas => MX::SHas
MooseX::SimpleConfig => MX::SC
MooseX::Singleton => *undef*
MooseX::Storage => *undef*
MooseX::Storage::Format::JSONpm => MX::S::F::JSONpm
MooseX::StrictConstructor => *undef*
MooseX::TrackDirty::Attributes => MX::TD::A
MooseX::TraitFor::Meta::Class::BetterAnonClassNames => MX::TFor::M::C::BACN
MooseX::Traitor => MX::T
MooseX::Traits => *undef*
MooseX::Traits::Attribute::MergeHashRef => MX::T::A::MHRef
MooseX::Traits::Pluggable => MX::T::P
MooseX::Types => *undef*
MooseX::Types::Common => MX::T::C
MooseX::Types::Data::GUID => MX::T::D::GUID
MooseX::Types::DateTime => MX::T::DT
MooseX::Types::DateTime::MySQL => MX::T::DT::MySQL
MooseX::Types::DateTime::W3C => MX::T::DT::W3C
MooseX::Types::Email => MX::T::E
MooseX::Types::FakeHash => MX::T::FH
MooseX::Types::IO => MX::T::IO
MooseX::Types::LoadableClass => MX::T::LC
MooseX::Types::Meta => MX::T::M
MooseX::Types::MoreUtils => MX::T::MU
MooseX::Types::Parameterizable => *undef*
MooseX::Types::Path::Class => MX::T::P::C
MooseX::Types::Path::Tiny => MX::T::P::T
MooseX::Types::Perl => *undef*
MooseX::Types::PortNumber => MX::T::PN
MooseX::Types::Set::Object => MX::T::Set::O
MooseX::Types::Signal => MX::T::S
MooseX::Types::Stringlike => *undef*
MooseX::Types::Structured => *undef*
MooseX::Types::Tied => MX::T::T
MooseX::Types::URI => MX::T::URI
MooseX::Types::VariantTable => MX::T::VT
MooseX::Types::XMLSchema => MX::T::XMLS
MooseX::UndefTolerant => MX::UT
MooseX::Util => MX::U
MooseX::XSAccessor => MX::XSA
MooseX::hasn::t => MX::h::t
Mortal::Kombat => M::K
MouseX::ConfigFromFile => *undef*
MouseX::Foreign => *undef*
MouseX::Params::Validate => *undef*
MouseX::SimpleConfig => *undef*
MouseX::SingletonMethod => MX::SM
MouseX::StrictConstructor => *undef*
MouseX::Types => *undef*
MouseX::Types::Common => *undef*
MouseX::Types::Path::Class => *undef*
MouseX::Types::URI => *undef*
Mozilla::CA => *undef*
Mozilla::PublicSuffix => M::PS
Mu::Tiny => Mu::T
Munin::Plugin::ApacheRequest => M::P::AR
Music::Harmonics => *undef*
Music::PitchNum => M::PNum
Music::VoiceGen => M::VGen
MySQL::Diff => MySQL::D
NDBM_File => NDBM_F
Net::Abuse::Utils::Spamhaus => Net::A::U::S
Net::Airbrake => Net::A
Net::Amazon::Config => Net::A::C
Net::Amazon::Signature::V4 => Net::A::S::V4
Net::Appliance::Phrasebook => Net::A::P
Net::Async::ControlChannel => Net::A::CC
Net::Async::EmptyPort => Net::A::EP
Net::Async::FTP => Net::A::FTP
Net::Async::FastCGI => Net::A::FCGI
Net::Async::HTTP => Net::A::HTTP
Net::Async::HTTP::Server => Net::A::HTTP::S
Net::Async::Memcached => Net::A::M
Net::Async::PostgreSQL => Net::A::PSQL
Net::BitTorrent::DHT => Net::BitT::DHT
Net::BitTorrent::Protocol => Net::BitT::P
Net::CIDR::Lite => Net::CIDR::L
Net::CIDR::MobileJP => Net::CIDR::MJP
Net::ClientServer => Net::CS
Net::Config => Net::C
Net::Curl => *undef*
Net::DHCP::Info => Net::DHCP::I
Net::DNS::Codes => Net::DNS::C
Net::DNS::Lite => Net::DNS::L
Net::DNS::QueryID => Net::DNS::QID
Net::DNS::ToolKit => Net::DNS::TKit
Net::Detect => Net::D
Net::Domain => *undef*
Net::Domain::TLD => Net::D::TLD
Net::FTP::Tiny => Net::FTP::T
Net::FTP::dataconn => Net::FTP::d
Net::FastCGI => Net::FCGI
Net::Finger => Net::F
Net::Forward => *undef*
Net::GraphSpace => Net::GS
Net::Groonga::HTTP => Net::G::HTTP
Net::HTTP::Tiny => Net::HTTP::T
Net::Hadoop::WebHDFS => Net::H::WebHDFS
Net::IDN::Encode => Net::IDN::E
Net::IMAP::Simple => Net::IMAP::S
Net::IMAP::Simple::NB => Net::IMAP::S::NB
Net::IP::Match::Regexp => Net::IP::M::R
Net::IP::Match::XS => Net::IP::M::XS
Net::IP::Minimal => Net::IP::M
Net::IP::Resolver => Net::IP::R
Net::IPAddress::Minimal => Net::IPA::M
Net::IPv4Addr => Net::IPv4A
Net::Kestrel => Net::K
Net::LDAP::Server => Net::LDAP::S
Net::LDAP::Server::Test => Net::LDAP::S::T
Net::LastFM => Net::LFM
Net::Minecraft::Login => Net::M::L
Net::NBsocket => Net::NB
Net::Netmask => Net::N
Net::Netrc => *undef*
Net::OAuth => Net::OA
Net::OpenSSH => Net::OSSH
Net::Patricia => Net::P
Net::Ping => *undef*
Net::Ping::External => Net::P::E
Net::Rackspace::Notes => Net::R::N
Net::Rendezvous::Publish => Net::R::P
Net::SFTP::Foreign => Net::SFTP::F
Net::SMS::ArxMobile => Net::SMS::ArxM
Net::SMTP::OneLiner => Net::SMTP::OneL
Net::SNMP::Interfaces => Net::SNMP::I
Net::SNMP::Mixin => Net::SNMP::M
Net::SNMP::Mixin::Dot1dStp => Net::SNMP::M::Dot1dStp
Net::SNMP::Mixin::IpCidrRouteTable => Net::SNMP::M::IpCRT
Net::SNMP::Mixin::PoE => Net::SNMP::M::PoE
Net::SNMP::QueryEngine::AnyEvent => Net::SNMP::QE::AnyE
Net::STF::Client => Net::STF::C
Net::SecurityCenter => Net::SC
Net::Server => Net::S
Net::Server::SS::PreFork => Net::S::SS::PreF
Net::Social => *undef*
Net::Social::Service::Jabber => Net::S::S::J
Net::Statsd => *undef*
Net::Statsd::Tiny => Net::S::T
Net::Stomp => *undef*
Net::Telnet => Net::T
Net::Telnet::Cisco => Net::T::C
Net::Time => *undef*
Net::Traceroute => *undef*
Net::Travis::API => Net::T::API
Net::TribalWarsMap::API::HTTP => Net::TWMap::API::HTTP
Net::Vitelity => Net::V
Net::WebSocket::Server => Net::WebS::S
Net::Whois::IP => Net::W::IP
Net::XWhois => Net::XW
Net::hostent => Net::h
Net::netent => Net::n
Net::protoent => Net::p
Net::servent => Net::s
NetAddr::IP => NetA::IP
NetHack::Engravings => NetH::E
NetHack::Logfile => NetH::L
NetHack::NAOdash => NetH::NAO
NetHack::PriceID => NetH::PID
Netscape::Cache => N::C
Nice::Try => N::Try
Nodejs::Util => N::U
Number::Bytes::Human => N::B::H
Number::Closest => *undef*
Number::Closest::NonOO => N::C::NonOO
Number::Compare => *undef*
Number::Format => N::F
Number::Format::BigFloat => N::F::BigF
Number::Format::FixedLocale => N::F::FL
Number::Format::Metric => N::F::M
Number::Format::SouthAsian => N::F::SA
Number::Fraction => *undef*
Number::Latin => N::L
Number::Misc => N::M
Number::Natural::SetTheory => N::N::SetT
Number::Phone => N::P
Number::Phone::JP::AreaCode => N::P::JP::AC
Number::Phone::UK::DetailedLocations => N::P::UK::DL
Number::RGB => N::RGB
Number::Rangify => N::R
Number::RecordLocator => N::RL
Number::Tolerant => N::T
Number::WithError => N::WE
Number::WithError::LaTeX => N::WE::LaTeX
ODBM_File => ODBM_F
OLE::Storage_Lite => OLE::SL
ORDB::CPANMeta => ORDB::CPANM
ORDB::CPANRelease => ORDB::CPANR
ORDB::CPANTesters => ORDB::CPANT
ORDB::CPANUploads => ORDB::CPANU
ORDB::Unihan => ORDB::U
ORLite => ORL
ORLite::Mirror => ORL::M
ORLite::PDL => ORL::PDL
ORLite::Pod => ORL::Pod
OS2::ExtAttr => OS2::ExtA
OS2::Process => OS2::P
Object-Dependency => O-D
Object::Accessor => O::A
Object::Adhoc => *undef*
Object::BlankStr => O::BStr
Object::Capsule => O::C
Object::Container => *undef*
Object::Declare => O::D
Object::Disoriented => *undef*
Object::Enum => O::E
Object::Event => *undef*
Object::HashBase => O::HB
Object::ID => O::ID
Object::InsideOut => O::IOut
Object::MultiType => O::MT
Object::NulStr => O::NulStr
Object::Pluggable => O::P
Object::Realize::Later => O::R::L
Object::Remote => O::R
Object::Result => *undef*
Object::Signature => O::S
Object::Simple => *undef*
Object::SpaceBackStr => O::SBStr
Object::Tap => O::Tap
Object::Tiny => O::T
Object::Tiny::Lvalue => O::T::L
Object::Util => O::U
Object::Util::Stringify => O::U::S
OpenOffice::OOSheets => OO::OOS
OpenTracing::GlobalTracer => OT::GT
OpenTracing::Implementation => OT::I
OpenTracing::Interface => *undef*
OpenTracing::Role => OT::R
Org::Dump => Org::D
Org::Parser => Org::P
Org::Parser::Tiny => Org::P::T
Output::Buffer => O::B
Overload::FileCheck => O::FC
PAR::Dist => PAR::D
PAR::Indexer => PAR::I
PAR::Packer => PAR::P
PAR::Repository => PAR::R
PAR::Repository::Client => PAR::R::C
PAR::Repository::Query => PAR::R::Q
PAR::Repository::Web => PAR::R::Web
PAUSE::Packages => PAUSE::P
PAUSE::Permissions => *undef*
PBKDF2::Tiny => PBKDF2::T
PBS::Client => PBS::C
PDF::Builder => PDF::B
PDF::Create => PDF::C
PDF::EasyPDF => PDF::EPDF
PDF::Reuse => PDF::R
PDF::Reuse::OverlayChart => PDF::R::OC
PDF::Reuse::Tutorial => PDF::R::T
PDF::Writer => PDF::W
PDL::Apply => PDL::A
PDL::DateTime => PDL::DT
PDL::Graphics::ColorDistance => PDL::G::CD
PDL::Graphics::ColorSpace => PDL::G::CS
PDL::Graphics::Simple => PDL::G::S
PDL::IO::Sereal => PDL::IO::S
PDL::Stats => PDL::S
PDL::Transform::Color => PDL::T::C
PERLANCAR::AppUtil::PerlStripper => PERLANCAR::AppU::PS
PERLANCAR::Exporter::Lite => PERLANCAR::E::L
PERLANCAR::File::HomeDir => PERLANCAR::F::HDir
PERLANCAR::Module::List => PERLANCAR::M::L
PERLANCAR::ShellQuote::Any => PERLANCAR::SQ::Any
PERLANCAR::Text::Levenshtein => PERLANCAR::T::L
PERLANCAR::Tree::Examples => PERLANCAR::T::E
PHP::Include => PHP::I
PHP::Serialization => PHP::S
PHP::Session => *undef*
PITA::Test::Dummy::Perl5::Build => PITA::T::D::P5::B
PITA::Test::Dummy::Perl5::Make => PITA::T::D::P5::M
PITA::Test::Dummy::Perl5::XS => PITA::T::D::P5::XS
POD2::Base => POD2::B
POE::Component::IRC::Plugin::Logger::Irssi => POE::C::IRC::P::L::I
POE::Test::Loops => POE::T::L
PONAPI::Tools => PONAPI::T
POSIX::AtFork => POSIX::AtF
POSIX::RT::SharedMem => POSIX::RT::SMem
POSIX::RT::Timer => POSIX::RT::T
POSIX::Regex => POSIX::R
POSIX::bsearch => POSIX::b
POSIX::pselect => POSIX::p
POSIX::strftime::Compiler => POSIX::s::C
POSIX::strptime => POSIX::s
PPI::PowerToys => PPI::PT
PPIx::DocumentName => PPIx::DN
PPIx::Literal => PPIx::L
PPIx::QuoteLike => PPIx::QL
PPIx::Regexp => PPIx::R
PPIx::Utils => PPIx::U
Package::Abbreviate => P::A
Package::Anon => *undef*
Package::Constants => P::C
Package::DeprecationManager => P::DM
Package::Generator => P::G
Package::Locator => P::L
Package::MoreUtil => P::MU
Package::Pkg => P::Pkg
Package::Rename => P::R
Package::Stash => P::S
Package::Stash::XS => P::S::XS
Package::Strictures => *undef*
Package::Util::Lite => P::U::L
Package::Variant => P::V
PadWalker => PadW
Palm::PDB => P::PDB
Palm::TreoPhoneCallDB => P::TPCDB
Paper::Specs => *undef*
Parallel::ForkManager => P::FM
Parallel::Iterator => P::I
Parallel::Pipes => P::P
Parallel::Runner => *undef*
Parallel::Scoreboard => *undef*
Params::Check => *undef*
Params::Check::Faster => P::C::F
Params::Classify => *undef*
Params::Coerce => *undef*
Params::Get => P::Get
Params::Smart => *undef*
Params::Style => *undef*
Params::Util => P::U
Params::Validate => *undef*
Params::Validate::Dependencies => P::V::D
Params::Validate::Strict => P::V::S
Params::ValidationCompiler => P::VC
Parcel::Track => P::T
Parse::ANSIColor::Tiny => P::ANSIC::T
Parse::BBCode => P::BBC
Parse::BBCode::SCEditor => P::BBC::SCE
Parse::Binary => P::B
Parse::CPAN::Authors => P::CPAN::A
Parse::CPAN::Distributions => P::CPAN::D
Parse::CPAN::Meta => P::CPAN::M
Parse::CPAN::MirroredBy => P::CPAN::MBy
Parse::CPAN::Packages => P::CPAN::P
Parse::CPAN::Packages::Fast => P::CPAN::P::F
Parse::CPAN::Ratings => P::CPAN::R
Parse::CPAN::Whois => P::CPAN::W
Parse::CSV => P::CSV
Parse::CVSEntries => P::CVSE
Parse::CommandLine => P::CL
Parse::Crontab => *undef*
Parse::DaemontoolsStatus => P::DS
Parse::Deb::Control => P::Deb::C
Parse::Diagnostics => P::D
Parse::Distname => *undef*
Parse::ExCtags => P::ExC
Parse::FSM => P::FSM
Parse::File::Metadata => P::F::M
Parse::FixedRecord => P::FR
Parse::Hosts => P::H
Parse::IASLog => P::IASLog
Parse::IRC => P::IRC
Parse::IRCLog => P::IRCLog
Parse::Keyword => P::K
Parse::LocalDistribution => P::LD
Parse::MIME => P::MIME
Parse::Method::Signatures => P::M::S
Parse::Netstat => P::N
Parse::Number::EN => P::N::EN
Parse::Number::ID => P::N::ID
Parse::PMFile => P::PMF
Parse::RecDescent => P::RecD
Parse::SQL => P::SQL
Parse::SQLOutput => P::SQLO
Parse::Syslog => *undef*
Parse::Syslog::Mail => P::S::M
Parse::VarName => P::VarN
Parse::Yapp => P::Y
Parser::MGC => P::MGC
Path::Abstract => *undef*
Path::AttrRouter => P::AR
Path::Class => *undef*
Path::Class::Each => P::C::E
Path::Class::Versioned => P::C::V
Path::Dispatcher => *undef*
Path::Dispatcher::Declarative => P::D::D
Path::Extended::Tiny => P::E::T
Path::FindDev => P::FDev
Path::Hilbert => *undef*
Path::IsDev => P::IsDev
Path::IsDev::HeuristicSet::FromConfig => P::IsDev::HSet::FC
Path::Iter => *undef*
Path::Iterator::Rule => P::I::R
Path::Map => P::Map
Path::Mapper => P::M
Path::Naive => *undef*
Path::Resolver => *undef*
Path::ScanINC => P::SINC
Path::Tiny => *undef*
Pegex::CSV => *undef*
Pegex::Chess => *undef*
Pegex::Forth => P::F
Perinci::Access::Base => P::A::B
Perinci::Access::HTTP::Client => P::A::HTTP::C
Perinci::Access::Lite => P::A::L
Perinci::Access::Simple::Client => P::A::S::C
Perinci::AccessUtil => P::AU
Perinci::CmdLine::Call => P::CmdL::C
Perinci::CmdLine::Util => P::CmdL::U
Perinci::CmdLine::Util::Config => P::CmdL::U::C
Perinci::CmdLineX::CommonOptions::SelfUpgrade => P::CmdLX::CO::SU
Perinci::Declare => *undef*
Perinci::Examples => P::E
Perinci::Object => P::O
Perinci::Result::Format => P::R::F
Perinci::Result::Format::Lite => P::R::F::L
Perinci::Result::Util => P::R::U
Perinci::Sub::ArgEntity::perl_version => P::Sub::ArgE::p
Perinci::Sub::ConvertArgs::Argv => P::Sub::CA::A
Perinci::Sub::ConvertArgs::Array => *undef*
Perinci::Sub::DepChecker => P::Sub::DepC
Perinci::Sub::GetArgs::Array => P::Sub::GetA::A
Perinci::Sub::Normalize => P::Sub::N
Perinci::Sub::Property::arg::cmdline => P::Sub::P::arg::c
Perinci::Sub::Property::arg::form => P::Sub::P::arg::f
Perinci::Sub::Property::cmdline => P::Sub::P::c
Perinci::Sub::PropertyUtil => P::Sub::PU
Perinci::Sub::Util => P::Sub::U
Perinci::Sub::Util::PropertyModule => P::Sub::U::PM
Perinci::Web => P::Web
Perl4::CoreLibs => P4::CL
Perl5::Build::Warnings => P5::B::W
Perl6::Currying => P6::C
Perl6::Doc => P6::Doc
Perl6::Export => P6::E
Perl6::Export::Attrs => P6::E::A
Perl6::Form => P6::F
Perl6::Gather => P6::G
Perl6::Junction => P6::J
Perl6::Perl => P6::P
Perl6::Perldoc => *undef*
Perl6::Perldoc::To::Ansi => P6::P::To::A
Perl6::Roles => P6::R
Perl6::Signature => P6::S
Perl6::Slurp => *undef*
Perl6::Str => P6::Str
Perl6::Take => P6::T
Perl::Build => *undef*
Perl::Build::Git => P::B::Git
Perl::Critic => *undef*
Perl::Critic::Bangs => P::C::B
Perl::Critic::Dancer2 => P::C::D2
Perl::Critic::More => P::C::M
Perl::Critic::Plicease => P::C::P
Perl::Critic::Policy::BadStrings => P::C::P::BadS
Perl::Critic::Policy::InputOutput::ProhibitHighPrecedentLogicalOperatorErrorHandling => P::C::P::IO::PHPLOEH
Perl::Critic::Policy::RegularExpressions::RequireDefault => P::C::P::RE::RD
Perl::Critic::Policy::ValuesAndExpressions::PreventSQLInjection => P::C::P::VAndE::PSQLI
Perl::Critic::Policy::logicLAB::ModuleBlacklist => P::C::P::lLAB::MB
Perl::Critic::Policy::logicLAB::ProhibitShellDispatch => P::C::P::lLAB::PSD
Perl::Critic::Policy::logicLAB::ProhibitUseLib => P::C::P::lLAB::PUseLib
Perl::Critic::Policy::logicLAB::RequirePackageNamePattern => P::C::P::lLAB::RPNP
Perl::Critic::Policy::logicLAB::RequireParamsValidate => P::C::P::lLAB::RPV
Perl::Critic::Policy::logicLAB::RequireSheBang => P::C::P::lLAB::RSheB
Perl::Critic::Policy::logicLAB::RequireVersionFormat => P::C::P::lLAB::RVF
Perl::Critic::Swift => P::C::S
Perl::Critic::Tics => P::C::T
Perl::Critic::logicLAB => P::C::lLAB
Perl::Destruct::Level => P::D::L
Perl::ImportReport => P::IR
Perl::Maker => *undef*
Perl::Meta => *undef*
Perl::Metrics::Lite => P::M::L
Perl::MinimumVersion => P::MV
Perl::MinimumVersion::Fast => P::MV::F
Perl::OSType => P::OST
Perl::PrereqScanner => P::PS
Perl::PrereqScanner::NotQuiteLite => P::PS::NotQL
Perl::PrereqScanner::Scanner::DistBuild => P::PS::S::DB
Perl::PrereqScanner::Scanner::MooseXTypesCombine => P::PS::S::MXTC
Perl::PrereqScanner::Scanner::Zim => P::PS::S::Zim
Perl::SAX => P::SAX
Perl::Shell => *undef*
Perl::Strip => *undef*
Perl::Stripper => *undef*
Perl::Syntax => *undef*
Perl::Tidy => *undef*
Perl::Version => *undef*
Perl::Version::Bumper => P::V::B
Perl::osnames => P::o
PerlIO => PIO
PerlIO::Layers => PIO::L
PerlIO::Via::Base64 => PIO::Via::B64
PerlIO::encoding => PIO::e
PerlIO::fse => PIO::fse
PerlIO::gzip => PIO::g
PerlIO::locale => PIO::l
PerlIO::mmap => PIO::m
PerlIO::scalar => PIO::s
PerlIO::subfile => *undef*
PerlIO::utf8_strict => PIO::utf8
PerlIO::via => PIO::via
PerlIO::via::ANSIColor => PIO::via::ANSIC
PerlIO::via::LineNumber => PIO::via::LN
PerlIO::via::Pipe => PIO::via::P
PerlIO::via::QuotedPrint => PIO::via::QP
PerlIO::via::Timeout => PIO::via::T
PerlIO::via::as_is => PIO::via::a
PerlIO::via::chop => PIO::via::c
PerlIO::via::dynamic => PIO::via::d
PerlMongers::MadMongers => PM::MadM
PerlX::Assert => PX::A
PerlX::Define => PX::D
PerlX::Maybe => PX::M
PerlX::Maybe::XS => PX::M::XS
PerlX::Perform => PX::P
PerlX::QuoteOperator => PX::QO
PerlX::QuoteOperator::URL => PX::QO::URL
Perlbal::Plugin::TrustHeader => P::P::TH
Permute::Named => *undef*
Permute::Named::Iter => P::N::I
Pg::hstore => Pg::h
Phaylon::Class::Cloner => P::C::C
Photography::EV => P::EV
Physics::RayTransfer => P::RayT
Pipe::Find => *undef*
Pipe::Tube::Csv => P::T::Csv
Plack-Middleware-DiePretty => P-M-DieP
Plack::App::Directory::Apaxy => P::App::D::A
Plack::App::File::CaseInsensitive => P::App::F::CI
Plack::App::GitHub::WebHook => P::App::GitHub::WebH
Plack::App::Proxy => P::App::P
Plack::App::Vhost => P::App::V
Plack::Builder::Conditionals => P::B::C
Plack::Handler::SCGI => P::H::SCGI
Plack::Middleware::Access => P::M::A
Plack::Middleware::Acme::PHPE9568F34::D428::11d2::A769::00AA001ACF42 => P::M::A::PHPE9568F34::D428::11d2::A769::00AA001ACF42
Plack::Middleware::AdaptFilehandleRead => P::M::AFR
Plack::Middleware::Auth::Htpasswd => P::M::A::H
Plack::Middleware::AxsLog => P::M::AxsLog
Plack::Middleware::BotDetector => P::M::BotD
Plack::Middleware::Cache => P::M::C
Plack::Middleware::Class::Refresh => P::M::C::R
Plack::Middleware::Debug => P::M::D
Plack::Middleware::Debug::W3CValidate => P::M::D::W3CV
Plack::Middleware::DirIndex => P::M::DirI
Plack::Middleware::ETag => P::M::ETag
Plack::Middleware::ExtDirect => P::M::ExtD
Plack::Middleware::FixIEXDomainRequestBug => P::M::FixIEXDRBug
Plack::Middleware::FixMissingBodyInRedirect => P::M::FixMBInR
Plack::Middleware::Header => P::M::H
Plack::Middleware::HubSignature => P::M::HubS
Plack::Middleware::Log::Contextual => P::M::Log::C
Plack::Middleware::Log::Minimal => P::M::Log::M
Plack::Middleware::MethodOverride => P::M::MO
Plack::Middleware::NoDeflate => P::M::NoD
Plack::Middleware::OptionsOK => P::M::OOK
Plack::Middleware::Pod => P::M::Pod
Plack::Middleware::Profiler::KYTProf => P::M::P::KYTP
Plack::Middleware::Prometheus::RequestTimes => P::M::P::RT
Plack::Middleware::ProxyMap => P::M::PMap
Plack::Middleware::RemoveRedundantBody => P::M::RRB
Plack::Middleware::Return::MultiLevel => P::M::R::ML
Plack::Middleware::ReverseProxy => P::M::RP
Plack::Middleware::ReverseProxyPath => P::M::RPP
Plack::Middleware::ServerStatus::Lite => P::M::SS::L
Plack::Middleware::Session => *undef*
Plack::Middleware::SetAccept => P::M::SetA
Plack::Middleware::Static::Range => P::M::S::R
Plack::Middleware::StaticShared => P::M::SS
Plack::Middleware::TemplateToolkit => P::M::TT
Plack::Middleware::Throttle::Lite => P::M::T::L
Plack::Middleware::Throttle::Lite::Backend::Redis => P::M::T::L::B::R
Plack::Request::WithEncoding => P::R::WE
Plack::Test::ExternalServer => P::T::ES
Platform::Unix => *undef*
Pod-MinimumVersion => Pod-MV
Pod-Outline => Pod-O
Pod::AsciiDoctor => Pod::AD
Pod::AxPoint => Pod::AxP
Pod::Browser => Pod::B
Pod::Checker => Pod::C
Pod::Coverage => *undef*
Pod::Coverage::Moose => Pod::C::M
Pod::Coverage::TrustPod => Pod::C::TPod
Pod::Elemental => Pod::E
Pod::Elemental::MakeSelector => Pod::E::MS
Pod::Elemental::Transformer::List::Converter => Pod::E::T::L::C
Pod::Elemental::Transformer::WikiDoc => Pod::E::T::WDoc
Pod::Elide => *undef*
Pod::Escapes => *undef*
Pod::Eventual => *undef*
Pod::Functions => Pod::F
Pod::Html => Pod::H
Pod::Html::Util => Pod::H::U
Pod::HtmlHelp => Pod::HH
Pod::Loom => Pod::L
Pod::Markdown => Pod::M
Pod::Markdown::Github => Pod::M::G
Pod::Multi => *undef*
Pod::POM::View::Confluence => Pod::POM::V::C
Pod::POM::View::TOC => Pod::POM::V::TOC
Pod::ParseLink => Pod::PL
Pod::Parser => Pod::P
Pod::Perldoc => *undef*
Pod::Perldoc::BaseTo => Pod::P::BTo
Pod::Perldoc::GetOptsOO => Pod::P::GetOOO
Pod::Perldoc::ToANSI => Pod::P::ToANSI
Pod::Perldoc::ToChecker => Pod::P::ToC
Pod::Perldoc::ToMan => Pod::P::ToMan
Pod::Perldoc::ToNroff => Pod::P::ToN
Pod::Perldoc::ToPod => Pod::P::ToPod
Pod::Perldoc::ToRtf => Pod::P::ToRtf
Pod::Perldoc::ToTerm => Pod::P::ToT
Pod::Perldoc::ToText => *undef*
Pod::Perldoc::ToTk => Pod::P::ToTk
Pod::Perldoc::ToXml => Pod::P::ToXml
Pod::Perldocs => *undef*
Pod::PseudoPod => Pod::PPod
Pod::Readme => Pod::R
Pod::Readme::Brief => Pod::R::B
Pod::Simple => Pod::S
Pod::Simple::BlackBox => Pod::S::BBox
Pod::Simple::Checker => Pod::S::C
Pod::Simple::Debug => Pod::S::D
Pod::Simple::DumpAsText => Pod::S::DAsT
Pod::Simple::DumpAsXML => Pod::S::DAsXML
Pod::Simple::HTML => Pod::S::HTML
Pod::Simple::HTMLBatch => Pod::S::HTMLB
Pod::Simple::HTMLLegacy => Pod::S::HTMLL
Pod::Simple::JustPod => Pod::S::JPod
Pod::Simple::LaTeX => Pod::S::LaTeX
Pod::Simple::LinkSection => Pod::S::LS
Pod::Simple::Methody => Pod::S::M
Pod::Simple::Progress => Pod::S::P
Pod::Simple::PullParser => Pod::S::PP
Pod::Simple::PullParserEndToken => Pod::S::PPEndT
Pod::Simple::PullParserStartToken => Pod::S::PPST
Pod::Simple::PullParserTextToken => Pod::S::PPTT
Pod::Simple::PullParserToken => Pod::S::PPT
Pod::Simple::RTF => Pod::S::RTF
Pod::Simple::Search => Pod::S::S
Pod::Simple::SimpleTree => Pod::S::ST
Pod::Simple::Text => Pod::S::T
Pod::Simple::TextContent => Pod::S::TC
Pod::Simple::TiedOutFH => Pod::S::TOutFH
Pod::Simple::Transcode => *undef*
Pod::Simple::TranscodeDumb => Pod::S::TD
Pod::Simple::TranscodeSmart => Pod::S::TS
Pod::Simple::XHTML => Pod::S::XHTML
Pod::Simple::XMLOutStream => Pod::S::XMLOutS
Pod::Spell => *undef*
Pod::Spell::CommonMistakes => Pod::S::CM
Pod::Spelling => *undef*
Pod::Strip => *undef*
Pod::Tests => Pod::T
Pod::Text => *undef*
Pod::Text::Color => Pod::T::C
Pod::Text::Overstrike => Pod::T::O
Pod::Text::Termcap => Pod::T::T
Pod::ToDemo => Pod::ToD
Pod::Tree => *undef*
Pod::Usage => Pod::U
Pod::Usage::CommandLine => Pod::U::CL
Pod::Weaver => Pod::W
Pod::Weaver::Plugin::App::lcpan => Pod::W::P::App::l
Pod::Weaver::Plugin::Eval => Pod::W::P::E
Pod::Weaver::Plugin::Exec => *undef*
Pod::Weaver::Plugin::Run => Pod::W::P::Run
Pod::Weaver::Role::AddTextToSection => Pod::W::R::AddTToS
Pod::Weaver::Role::DetectPerinciCmdLineScript => Pod::W::R::DPCmdLS
Pod::Weaver::Role::SectionReplacer => Pod::W::R::SR
Pod::Weaver::Role::SectionText::HasCompletion => Pod::W::R::ST::HasC
Pod::Weaver::Role::SectionText::SelfCompletion => Pod::W::R::ST::SC
Pod::Weaver::Role::SortSections => Pod::W::R::SS
Pod::Weaver::Section::AllowOverride => Pod::W::S::AO
Pod::Weaver::Section::BorderStyles::ANSITable => Pod::W::S::BS::ANSIT
Pod::Weaver::Section::Bugs::DefaultRT => Pod::W::S::B::DRT
Pod::Weaver::Section::Changes => Pod::W::S::C
Pod::Weaver::Section::Collect::FromOther => Pod::W::S::C::FO
Pod::Weaver::Section::CollectWithIntro => Pod::W::S::CWI
Pod::Weaver::Section::ColorThemes::ANSITable => Pod::W::S::CT::ANSIT
Pod::Weaver::Section::Completion::GetoptLongMore => Pod::W::S::C::GLM
Pod::Weaver::Section::Completion::PerinciCmdLine => Pod::W::S::C::PCmdL
Pod::Weaver::Section::Contributors => *undef*
Pod::Weaver::Section::ReplaceSource::DefaultGitHub => Pod::W::S::RS::DGitHub
Pod::Weaver::Section::Source::DefaultGitHub => Pod::W::S::S::DGitHub
Pod::Weaver::Section::Support => Pod::W::S::S
Pod::Weaver::Section::Template => Pod::W::S::T
Pod::Webserver => *undef*
Pod::WikiDoc => Pod::WDoc
Pod::Wordlist::hanekomu => Pod::W::h
Pointy::Counter => *undef*
Port::Selector => *undef*
Portable::Dist => *undef*
PostScript::File => PS::F
PostScript::ScheduleGrid => PS::SG
Postfix::Parse::Mailq => P::P::M
PostgreSQL::PLPerl::NYTProf => PSQL::PLP::NYTP
Probe::Perl => *undef*
Proc::Background => *undef*
Proc::ChildError => P::CE
Proc::Daemon => *undef*
Proc::FastSpawn => P::FS
Proc::Find::Parents => P::F::P
Proc::Fork => *undef*
Proc::ForkSafe => *undef*
Proc::Guard => *undef*
Proc::InvokeEditor => P::IE
Proc::PID::File => P::PID::F
Proc::PidUtil => P::PidU
Proc::Pidfile => *undef*
Proc::ProcessTable => P::PT
Proc::Reliable => *undef*
Proc::Terminator => *undef*
Process::Status => *undef*
Progress::Any => P::Any
Progress::Any::Output::TermProgressBarColor => P::Any::O::TPBarC
Progress::Any::Output::TermSpin => P::Any::O::TS
Promise::ES6 => P::ES6
Prompt::ReadKey => P::RKey
Property::Lookup => *undef*
Protect::Unwind => *undef*
Protocol::ControlChannel => P::CC
Protocol::IMAP => P::IMAP
Protocol::MTProto => P::MTP
Protocol::Memcached => *undef*
Protocol::Modbus => *undef*
Protocol::Notifo => *undef*
Protocol::PerlDebugCLI => P::PDCLI
Protocol::PostgreSQL => P::PSQL
Protocol::Redis => *undef*
Protocol::SMTP => P::SMTP
Protocol::SocketIO => P::SIO
Protocol::WebSocket => P::WebS
Python::Version => *undef*
Quantum::Usrn => Q::U
Querylet::Output::Excel::XLS => Q::O::E::XLS
Queue::Base => Q::B
Quota::OO => Q::OO
Quote::Code => Q::C
RAPNAP::client => RAPNAP::c
RDF::Core => RDF::C
RDF::DOAP::Lite => RDF::DOAP::L
RDF::Helper::Properties => RDF::H::P
RDF::NS::Curated => RDF::NS::C
RDF::Prefixes => RDF::P
RDF::Trine => RDF::T
RDF::TrineX::Functions => RDF::TX::F
RDF::TrineX::Serializer::MockTurtleSoup => RDF::TX::S::MTS
REST::Cypher => REST::C
RPC::ExtDirect => RPC::ExtD
RPC::ExtDirect::Client => RPC::ExtD::C
RPC::ExtDirect::Server => RPC::ExtD::S
RPM::Search => RPM::S
RPM::VersionSort => RPM::VS
RT::Client::REST => RT::C::REST
RTF::Tokenizer => RTF::T
RTF::Writer => RTF::W
Radioactive::Decay => R::D
Random::Any => R::Any
Random::PoissonDisc => R::PD
Random::RDTSC => R::RDTSC
Range::Merge => R::M
RateLimitations::Pluggable => RL::P
Readonly::Enum => R::E
Readonly::Values::Syslog => R::V::S
Readonly::XS => R::XS
ReadonlyX => RX
Reddit::Client => R::C
Redis::Client => *undef*
Redis::Parser::XS => R::P::XS
RedisDB => RDB
RedisDB::Parser => RDB::P
Ref::Explicit => Ref::E
Ref::List => Ref::L
Ref::Util => Ref::U
Ref::Util::Rewriter => Ref::U::R
Ref::Util::XS => Ref::U::XS
Regex::Iterator => R::I
Regex::Range::Number => R::R::N
Regexp::Assemble => R::A
Regexp::CharClasses::Helper => R::CC::H
Regexp::Cherokee => *undef*
Regexp::Common => *undef*
Regexp::Common::Email::Address => R::C::E::A
Regexp::Common::Markdown => R::C::M
Regexp::Debugger => *undef*
Regexp::DefaultFlags => R::DF
Regexp::Ethiopic => *undef*
Regexp::Exhaustive => *undef*
Regexp::From::String => R::F::S
Regexp::Functions::chmod_et_al => R::F::c
Regexp::Grammars => R::G
Regexp::Grammars::Common::String => R::G::C::S
Regexp::ID::NumVerbage => R::ID::NumV
Regexp::IPv4 => R::IPv4
Regexp::IPv6 => R::IPv6
Regexp::Lexer => R::L
Regexp::Log => R::Log
Regexp::Log::WMS => R::Log::WMS
Regexp::Melody => *undef*
Regexp::N_Queens => R::N_Q
Regexp::Pattern => R::P
Regexp::Pattern::DefHash => R::P::DefH
Regexp::Pattern::Git => R::P::Git
Regexp::Pattern::Perl => R::P::P
Regexp::Pattern::RegexpCommon => R::P::RC
Regexp::RegGrp => R::RegGrp
Regexp::Stringify => R::S
Regexp::Trie => R::T
Regexp::Util => R::U
Regexp::Wildcards => R::W
Release::Util::Git => R::U::Git
Reply::Plugin::DataDumpColor => R::P::DDC
Reply::Plugin::DataDumperAutoEncode => R::P::DDAE
Require::Util => *undef*
Resource::Pack => *undef*
Return::DataButBool => R::DButB
Return::MultiLevel => R::ML
Return::Set => R::Set
Return::Type => *undef*
Return::Value => R::V
ReturnValue => RV
Role::Basic => R::B
Role::Commons => *undef*
Role::Declare => *undef*
Role::HasMessage => R::HasM
Role::HasPayload => R::HasP
Role::Hooks => R::H
Role::Identifiable => *undef*
Role::Inspector => *undef*
Role::Random::PerInstance => R::R::PerI
Role::Subsystem => *undef*
Role::Tiny => *undef*
Role::TinyCommons => R::TC
Role::TinyCommons::CSel => R::TC::CSel
Role::TinyCommons::Collection => R::TC::C
RoleBundle::TinyCommons::Iterator => RB::TC::I
RoleBundle::TinyCommons::Tree => RB::TC::T
Roman::Unicode => *undef*
Rope::Cmd => R::Cmd
Rose::DB => R::DB
Rose::DB::Object => R::DB::O
Rose::DateTime => R::DT
Rose::Object => R::O
Router::Boom => *undef*
Router::Simple => *undef*
Router::Simple::Sinatraish => R::S::S
Rubyish::Attribute => *undef*
Rule::Engine => *undef*
Running::Commentary => *undef*
SDBM_File => SDBM_F
SGML::DTDParse => SGML::DTDP
SMS::ClickSend => SMS::CS
SMS::Send => SMS::S
SMS::Send::AT::SmsAt => SMS::S::AT::SmsAt
SMS::Send::AT::TMobile => SMS::S::AT::TM
SMS::Send::ClickSend => SMS::S::CS
SMS::Send::DeviceGsm => SMS::S::DGsm
SMS::Send::KR::APIStore => SMS::S::KR::APIS
SPVM::Math => SPVM::M
SQL::Abstract => SQL::A
SQL::Abstract::Classic => SQL::A::C
SQL::Abstract::Limit => SQL::A::L
SQL::Abstract::More => SQL::A::M
SQL::Abstract::Plugin::TableAlias => SQL::A::P::TA
SQL::AlterTable::SQLite => SQL::AT::SQL
SQL::Concrete => SQL::C
SQL::Inserter => SQL::I
SQL::Interp => *undef*
SQL::Library => SQL::L
SQL::Maker => SQL::M
SQL::NamedPlaceholder => SQL::NP
SQL::QueryMaker => SQL::QM
SQL::ReservedWords => SQL::RW
SQL::Schema::Versioned => SQL::S::V
SQL::Script => SQL::S
SQL::SplitStatement => SQL::SS
SQL::Statement => *undef*
SQL::Tiny => SQL::T
SQL::Translator => *undef*
SQL::Translator::Producer::GoogleBigQuery => SQL::T::P::GBigQ
SQLite::Archive => *undef*
STF::Dispatcher::PSGI => STF::D::PSGI
SVG::Parser => SVG::P
SVN::Dump => SVN::D
SVN::DumpReloc => SVN::DR
SWF::File => SWF::F
SWF::NeedsRecompile => SWF::NR
Safe::Caller => S::C
Safe::Hole => S::H
Safe::Isa => S::Isa
Sah::Schemas => Sah::S
Sah::Schemas::Int => Sah::S::Int
Sah::Schemas::JSON => Sah::S::JSON
Sah::Schemas::Rinci => Sah::S::R
Sah::Schemas::SortSub => Sah::S::SSub
Scalar::Classify => *undef*
Scalar::Cmp => S::Cmp
Scalar::Construct => *undef*
Scalar::Defer => S::D
Scalar::Does => *undef*
Scalar::Induce => S::I
Scalar::Lazy => S::L
Scalar::List::Utils => S::L::U
Scalar::Listify => *undef*
Scalar::Properties => S::P
Scalar::Quote => S::Q
Scalar::Readonly => S::R
Scalar::String => S::S
Scalar::Type => S::T
Scalar::Util => S::U
Scalar::Util::LooksLikeNumber => S::U::LLN
Scalar::Util::Numeric => S::U::N
Scalar::Util::Numeric::PP => S::U::N::PP
Scalar::Vec::Util => S::Vec::U
Schedule::Cron::Events => S::C::E
Schema::RackTables => S::RT
Scope::Cleanup => *undef*
Scope::Context => *undef*
Scope::Escape => S::E
Scope::Guard => S::G
Scope::OnExit => S::OnE
Scope::OnExit::Wrap => S::OnE::W
Scope::Upper => *undef*
Scope::local_OnExit => S::lOnE
Search::Dict => *undef*
Search::GIN => S::GIN
Search::QueryParser => S::QP
Search::Tokenizer => *undef*
Search::WuManber => S::WuM
SelectSaver => SS
SelfLoader => SL
Sereal::Decoder => *undef*
Sereal::Encoder => *undef*
Server::Module::Comparison => S::M::C
Server::Starter => *undef*
Session::Token => *undef*
Set::Array => Set::A
Set::Associate => *undef*
Set::Crontab => Set::C
Set::CrossProduct => Set::CP
Set::DynamicGroups => Set::DG
Set::Hash::Keys => Set::H::K
Set::Infinite => Set::I
Set::IntRange => Set::IntR
Set::IntSpan => Set::IntS
Set::IntSpan::Fast => Set::IntS::F
Set::IntSpan::Util => Set::IntS::U
Set::NestedGroups => Set::NG
Set::Object => Set::O
Set::Product => Set::P
Set::Product::XS => Set::P::XS
Set::Scalar => Set::S
Set::Similarity => *undef*
Set::Similarity::BV => Set::S::BV
Set::Tiny => Set::T
Shannon::Entropy::XS => S::E::XS
ShardedKV => SKV
ShardedKV::Continuum::CHash => SKV::C::CH
Shell::Carapace => *undef*
Shell::Config::Generate => S::C::G
Shell::Guess => *undef*
Shell::Parser => *undef*
ShellQuote::Any::Tiny => SQ::Any::T
ShiftJIS::CP932::Correct => SJIS::CP932::C
ShiftJIS::String => SJIS::S
Signal::Mask => S::M
Signal::Safety => *undef*
Simulation::Sensitivity => *undef*
Skeletor::Template::Example => S::T::E
Skype::Any => S::Any
SlapbirdAPM::Agent::Mojo => SAPM::A::M
SlapbirdAPM::Agent::Plack => SAPM::A::P
Sledge::Authorizer::BasicAuth => S::A::BA
Smart::Comments => *undef*
Smart::Match => *undef*
SmartMatch::Sugar => SM::S
Socket6 => S6
Socket::GetAddrInfo => S::GetAI
Software::License => *undef*
Software::License::Boost_1_0 => S::L::B1_0
Software::License::DWTFYWWI => S::L::DWTFYWWI
Software::License::NYSL => S::L::NYSL
Software::License::NetHack => S::L::NetH
Software::License::PD => S::L::PD
Sort::ByExample => S::ByE
Sort::BySimilarity => S::ByS
Sort::BySpec => *undef*
Sort::External => *undef*
Sort::Half::Maker => S::H::M
Sort::Key => S::Key
Sort::Key::Domain => S::Key::D
Sort::Key::LargeInt => S::Key::LInt
Sort::Key::Top => S::Key::Top
Sort::Key::Top::PP => S::Key::Top::PP
Sort::MultipleFields => S::MF
Sort::Naturally => S::N
Sort::Naturally::XS => S::N::XS
Sort::Packed => *undef*
Sort::Sub => S::Sub
Sort::Sub::by_date_in_text => S::Sub::b
Sort::Sub::by_dmp => *undef*
Sort::Sub::by_example => *undef*
Sort::Sub::data_struct_by_data_cmp => S::Sub::d
Sort::Sub::filevercmp => S::Sub::f
Sort::SubList => S::SubL
Sort::Versions => S::V
Sort::XS => S::XS
Sort::filevercmp => S::f
SortExample::Color::Rainbow::EN => SE::C::R::EN
SortKey => SKey
SortKey::date_in_text => SKey::d
SortSpec => *undef*
SortSpec::Perl::CPAN::ChangesGroup::PERLANCAR => SS::P::CPAN::CG::PERLANCAR
Sorter::file_by_num_links => *undef*
Spark::Form => S::F
Specio::Library::Path::Tiny => S::L::P::T
Speech::Speakup => *undef*
Spellunker::Perl => *undef*
Sphinx::Log::Parser => S::Log::P
Spoon::Template::Mason => S::T::M
Spork::Hilite => *undef*
Spork::S5 => S::S5
Spork::S5ThemeRedSimple => S::S5TRedS
Spreadsheet::DataToExcel => S::DToE
Spreadsheet::Engine => *undef*
Spreadsheet::GenerateXLSX => S::GXLSX
Spreadsheet::ParseExcel => S::PE
Spreadsheet::ParseXLSX => S::PXLSX
Spreadsheet::Read => *undef*
Spreadsheet::Read::Ingester => S::R::I
Spreadsheet::SimpleExcel => S::SE
Spreadsheet::Template => *undef*
Spreadsheet::WriteExcel => S::WE
Spreadsheet::WriteExcel::Simple => S::WE::S
Spreadsheet::WriteExcel::Styler => *undef*
Spreadsheet::WriteExcelXML => S::WEXML
Stacktrace::Configurable => *undef*
Statistics::Basic => S::B
Statistics::CaseResampling => S::CR
Statistics::ChiSquare => S::ChiS
Statistics::DEA => S::DEA
Statistics::DependantTTest => S::DTT
Statistics::Descriptive => *undef*
Statistics::Distributions => *undef*
Statistics::Frequency => *undef*
Statistics::KruskalWallis => S::KW
Statistics::LogRank => S::LogR
Statistics::MaxEntropy => S::MaxE
Statistics::OLS => S::OLS
Statistics::Regression => *undef*
Statistics::SerialCorrelation => S::SC
Statistics::Simpson => *undef*
Statistics::TTest => S::TT
Statistics::Test::Sequence => S::T::S
Stream::Buffered => *undef*
String::Approx => S::A
String::BOM => S::BOM
String::Bash => *undef*
String::Binary::Interpolation => S::B::I
String::BlackWhiteList => S::BWL
String::BufferStack => S::BS
String::CRC32 => S::CRC32
String::CamelCase => S::CC
String::Clean => *undef*
String::Comments::Extract => *undef*
String::CommonPrefix => S::CP
String::Compare::ConstantTime => S::C::CT
String::Defer => *undef*
String::Eertree => *undef*
String::Elide::FromArray => S::E::FA
String::Elide::Lines => S::E::L
String::Elide::Parts => S::E::P
String::Elide::Tiny => S::E::T
String::Errf => *undef*
String::Escape => *undef*
String::Expando => *undef*
String::FixedLen => S::FLen
String::Flogger => *undef*
String::Flogger::Patch::UseDataDmp => S::F::P::UseDDmp
String::Format => *undef*
String::Formatter => *undef*
String::IRC => S::IRC
String::Indent => *undef*
String::Interpolate => *undef*
String::InterpolatedVariables => S::IV
String::Koremutake => S::K
String::LineNumber => S::LN
String::Lookup => *undef*
String::MFN => S::MFN
String::MMM => S::MMM
String::Mask => *undef*
String::MatchInterpolate => S::MI
String::Numeric => *undef*
String::Pad => S::Pad
String::Perl::Warnings => S::P::W
String::PerlQuote => S::PQ
String::PodQuote => S::PodQ
String::Print => *undef*
String::Random => *undef*
String::Random::Regexp::regxstring => S::R::R::r
String::RewritePrefix => S::RP
String::SQLColumnName => S::SQLCN
String::Sections => *undef*
String::ShellQuote => S::SQ
String::Similarity => *undef*
String::Sprintf => *undef*
String::Switches => *undef*
String::Tagged => *undef*
String::Template => *undef*
String::ToIdentifier::EN => S::ToI::EN
String::Trim => *undef*
String::Trim::More => *undef*
String::Truncate => *undef*
String::TtyLength => S::TtyL
String::UTF8::MD5 => S::UTF8::MD5
String::UnicodeUTF8 => S::UUTF8
String::Unquotemeta => *undef*
String::Util => *undef*
String::Util::Match => S::U::M
String::Wildcard::Bash => S::W::B
Struct::Conditional => *undef*
Struct::Dumb => *undef*
Struct::Flatten::Template => S::F::T
Struct::Match => *undef*
Struct::WOP => S::WOP
Sub::Args => Sub::A
Sub::Attribute => *undef*
Sub::Attributes => *undef*
Sub::Chain => Sub::C
Sub::Chain::Group => Sub::C::G
Sub::CharacterProperties => Sub::CP
Sub::Clean => *undef*
Sub::Delete => Sub::D
Sub::Exporter => Sub::E
Sub::Exporter::ForMethods => Sub::E::ForM
Sub::Exporter::GlobExporter => Sub::E::GE
Sub::Exporter::Progressive => Sub::E::P
Sub::Exporter::Simple => Sub::E::S
Sub::HandlesVia => Sub::HVia
Sub::Identify => Sub::I
Sub::Import => *undef*
Sub::Infix => *undef*
Sub::Info => *undef*
Sub::Inject => *undef*
Sub::Install => *undef*
Sub::Iterator => *undef*
Sub::Meta => Sub::M
Sub::Metadata => *undef*
Sub::MultiMethod => Sub::MM
Sub::Name => Sub::N
Sub::NamedParams => Sub::NP
Sub::NoRepeat => Sub::NoR
Sub::NonRole => Sub::NonR
Sub::Operable => Sub::O
Sub::Override => *undef*
Sub::Pipeline => Sub::P
Sub::Private => *undef*
Sub::Prototype => *undef*
Sub::Quote => Sub::Q
Sub::Quotelike => *undef*
Sub::Signatures => Sub::S
Sub::Talisman => Sub::T
Sub::Talisman::Struct => Sub::T::S
Sub::Todo => *undef*
Sub::Trigger::Lock => Sub::T::L
Sub::Uplevel => Sub::U
Sub::Util => *undef*
Sub::WrapPackages => Sub::WP
Subclass::Of => S::Of
SugarSync::API => SS::API
Surveyor::App => S::App
Surveyor::Benchmark::HTMLEntities => S::B::HTMLE
Swim::Plugin::badge => S::P::b
Switch::Again => *undef*
Switch::Plain => *undef*
Symbol::Util => *undef*
Syndication::ESF => S::ESF
Syntax::Construct => *undef*
Syntax::Feature::EachOnArray => S::F::EOnA
Syntax::Feature::Gather => S::F::G
Syntax::Feature::In => S::F::In
Syntax::Feature::Loop => S::F::L
Syntax::Feature::Method => S::F::M
Syntax::Feature::QwComments => S::F::QwC
Syntax::Feature::Qwa => S::F::Qwa
Syntax::Highlight::Engine::Kate => S::H::E::K
Syntax::Highlight::HTML => S::H::HTML
Syntax::Keyword::Assert => S::K::A
Syntax::Keyword::Defer => S::K::D
Syntax::Keyword::Gather => S::K::G
Syntax::Keyword::Inplace => S::K::I
Syntax::Keyword::Junction => S::K::J
Syntax::Keyword::Match => S::K::M
Syntax::Operator::ExistsOr => S::O::EOr
SyntaxHighlight::Any => SH::Any
Sys::Filesystem => Sys::F
Sys::GetRandom => Sys::GetR
Sys::GetRandom::FFI => Sys::GetR::FFI
Sys::HostIP => Sys::HIP
Sys::Hostname => Sys::H
Sys::Hostname::FQDN => Sys::H::FQDN
Sys::Hostname::Long => Sys::H::L
Sys::Info::Base => Sys::I::B
Sys::Load => Sys::L
Sys::LoadAvg => Sys::LAvg
Sys::Mmap => Sys::M
Sys::Path => Sys::P
Sys::Run::Safer => Sys::Run::S
Sys::RunUntil => Sys::RunU
Sys::Sendfile => Sys::S
Sys::SigAction => Sys::SigA
Sys::Syscall => *undef*
Sys::Syslog => *undef*
Sys::Syslog::Win32 => Sys::S::Win32
SysV::SharedMem => SysV::SMem
System::Command => *undef*
System::Info => *undef*
TAP::Base => TAP::B
TAP::DOM::Waivers => TAP::DOM::W
TAP::Filter => TAP::F
TAP::Formatter::Base => TAP::F::B
TAP::Formatter::Color => TAP::F::C
TAP::Formatter::Console => *undef*
TAP::Formatter::Console::ParallelSession => TAP::F::C::PS
TAP::Formatter::Console::Session => TAP::F::C::S
TAP::Formatter::Event => TAP::F::E
TAP::Formatter::File => TAP::F::F
TAP::Formatter::File::Session => TAP::F::F::S
TAP::Formatter::Session => TAP::F::S
TAP::Harness => TAP::H
TAP::Harness::Async => TAP::H::A
TAP::Harness::Env => TAP::H::Env
TAP::Harness::JUnit => TAP::H::JU
TAP::Harness::Restricted => TAP::H::R
TAP::Object => TAP::O
TAP::Parser => TAP::P
TAP::Parser::Aggregator => TAP::P::A
TAP::Parser::Grammar => TAP::P::G
TAP::Parser::Iterator => TAP::P::I
TAP::Parser::Iterator::Array => TAP::P::I::A
TAP::Parser::Iterator::Process => TAP::P::I::P
TAP::Parser::Iterator::Stream => TAP::P::I::S
TAP::Parser::IteratorFactory => TAP::P::IF
TAP::Parser::Multiplexer => TAP::P::M
TAP::Parser::Result => TAP::P::R
TAP::Parser::Result::Bailout => TAP::P::R::B
TAP::Parser::Result::Comment => TAP::P::R::C
TAP::Parser::Result::Plan => TAP::P::R::P
TAP::Parser::Result::Pragma => *undef*
TAP::Parser::Result::Test => TAP::P::R::T
TAP::Parser::Result::Unknown => TAP::P::R::U
TAP::Parser::Result::Version => TAP::P::R::V
TAP::Parser::Result::YAML => TAP::P::R::YAML
TAP::Parser::ResultFactory => TAP::P::RF
TAP::Parser::Scheduler => TAP::P::S
TAP::Parser::Scheduler::Job => TAP::P::S::Job
TAP::Parser::Scheduler::Spinner => TAP::P::S::S
TAP::Parser::Source => *undef*
TAP::Parser::SourceHandler => TAP::P::SH
TAP::Parser::SourceHandler::Executable => TAP::P::SH::E
TAP::Parser::SourceHandler::File => TAP::P::SH::F
TAP::Parser::SourceHandler::Handle => TAP::P::SH::H
TAP::Parser::SourceHandler::Perl => TAP::P::SH::P
TAP::Parser::SourceHandler::RawTAP => TAP::P::SH::RawTAP
TAP::Parser::YAMLish::Reader => TAP::P::YAML::R
TAP::Parser::YAMLish::Writer => TAP::P::YAML::W
TAP::SimpleOutput => TAP::SO
TAP::Spec::Parser => TAP::S::P
TAP::Stream => TAP::S
TOML::Parser => TOML::P
TV::ARIB::ProgramGenre => TV::ARIB::PG
Table::Readable => T::R
TableData => TD
Taint::Runtime => *undef*
Taint::Util => T::U
Task::Weaken => T::W
TeX::Encode => TeX::E
TeX::XDV::Parse => TeX::XDV::P
TeamCity::Message => TC::M
Temperature::Windchill => *undef*
Template-Plugin-Digest-SHA2 => T-P-D-SHA2
Template::Alloy => T::A
Template::EmbeddedPerl => T::EP
Template::ExpandHash => T::EH
Template::Iterator::XS => T::I::XS
Template::Liquid => T::L
Template::LiquidX::Tag::Dump => T::LX::Tag::D
Template::LiquidX::Tag::Include => T::LX::Tag::I
Template::Perlish => T::P
Template::Plain => *undef*
Template::Plugin::AutoDate => T::P::AD
Template::Plugin::CSV => T::P::CSV
Template::Plugin::Class => T::P::C
Template::Plugin::Clickable => *undef*
Template::Plugin::Colour => *undef*
Template::Plugin::Dump => T::P::D
Template::Plugin::EnvHash => T::P::EnvH
Template::Plugin::FillInForm => T::P::FInF
Template::Plugin::Filter::Minify::CSS => T::P::F::M::CSS
Template::Plugin::Filter::String::Truncate => T::P::F::S::T
Template::Plugin::GoogleLaTeX => T::P::GLaTeX
Template::Plugin::Group => T::P::G
Template::Plugin::HTMLMobileJp => T::P::HTMLMJp
Template::Plugin::Lingua::EN::Fractions => T::P::L::EN::F
Template::Plugin::ListMoreUtils => T::P::LMU
Template::Plugin::ListUtil => T::P::LU
Template::Plugin::Map => T::P::Map
Template::Plugin::NakedBody => T::P::NB
Template::Plugin::Pagination => T::P::P
Template::Plugin::Path::Tiny => T::P::P::T
Template::Plugin::StripComments => T::P::SC
Template::Plugin::Subst => T::P::S
Template::Plugin::Text::Greeking => T::P::T::G
Template::Plugin::Textile => T::P::T
Template::Plugin::TimeDate => T::P::TD
Template::Plugin::Tooltip => *undef*
Template::Plugin::Trac => *undef*
Template::Plugin::VMethods => T::P::VM
Template::Plugin::YAMLVal => T::P::YAMLVal
Template::Provider::ArchiveTar => T::P::ATar
Template::Provider::Encoding => T::P::E
Template::ShowStartStop => T::SSS
Template::Simple => T::S
Template::Stash::AutoEscaping => T::S::AE
Template::TT2Site => T::TT2S
Template::Timer => T::T
Template::Tiny => *undef*
Template::Tiny::Strict => T::T::S
Template::Toolkit::Simple => *undef*
TemplateRex => TRex
Term::ANSI::Sprintf => T::ANSI::S
Term::ANSIColor => T::ANSIC
Term::ANSIColor::Concise => T::ANSIC::C
Term::ANSIColor::Markup => T::ANSIC::M
Term::ANSIScreen => T::ANSIS
Term::App::Roles => T::App::R
Term::App::Util::Color => T::App::U::C
Term::App::Util::Interactive => T::App::U::I
Term::App::Util::Size => T::App::U::S
Term::Cap => T::Cap
Term::Choose => T::C
Term::Choose::LineFold::XS => T::C::LF::XS
Term::Choose::Util => T::C::U
Term::Complete => *undef*
Term::Detect::Software => T::D::S
Term::EditLine => T::EL
Term::Encoding => T::E
Term::Form => T::F
Term::Output::List => T::O::L
Term::Pager => *undef*
Term::ProgressBar => T::PBar
Term::Prompt => *undef*
Term::ReadKey => T::RKey
Term::ReadLine => T::RL
Term::ReadLine::EditLine => T::RL::EL
Term::ReadLine::Gnu => T::RL::Gnu
Term::ReadLine::Perl5 => T::RL::P5
Term::ReadLine::Zoid => T::RL::Z
Term::ReadPassword => T::RP
Term::Screen => *undef*
Term::Shell => *undef*
Term::Shell::Enhanced => T::S::E
Term::Size => *undef*
Term::Size::ReadKey => T::S::RKey
Term::Spark => *undef*
Term::Spinner::Lite => T::S::L
Term::Table => *undef*
Term::Table::Cell => T::T::C
Term::Table::CellStack => T::T::CS
Term::Table::HashBase => T::T::HB
Term::Table::LineBreak => T::T::LB
Term::Table::Spacer => *undef*
Term::Table::Util => T::T::U
Term::TablePrint => T::TP
Term::TermKey => T::TKey
Term::TtyRec => T::TtyRec
Term::TtyRec::Plus => T::TtyRec::P
Term::UI => T::UI
Term::VT102 => T::VT102
Term::VT102::Boundless => T::VT102::B
Term::Vspark => T::V
Terse::Config => *undef*
Terse::Headers => T::H
Terse::Plugin::Glitch => *undef*
Terse::Plugin::UA => T::P::UA
Terse::Runtime => *undef*
Terse::Static => *undef*
Terse::View::TT => T::V::TT
Test2 => T2
Test2::API => T2::API
Test2::API::Breakage => T2::API::B
Test2::API::Context => T2::API::C
Test2::API::Instance => T2::API::I
Test2::API::InterceptResult => T2::API::IR
Test2::API::InterceptResult::Event => T2::API::IR::E
Test2::API::InterceptResult::Facet => T2::API::IR::F
Test2::API::InterceptResult::Hub => T2::API::IR::Hub
Test2::API::InterceptResult::Squasher => T2::API::IR::S
Test2::API::Stack => T2::API::S
Test2::AsyncSubtest => T2::AS
Test2::AsyncSubtest::Event::Attach => T2::AS::E::A
Test2::AsyncSubtest::Event::Detach => T2::AS::E::D
Test2::AsyncSubtest::Formatter => T2::AS::F
Test2::AsyncSubtest::Hub => T2::AS::Hub
Test2::Bundle => T2::B
Test2::Bundle::Extended => T2::B::E
Test2::Bundle::More => T2::B::M
Test2::Bundle::Simple => T2::B::S
Test2::Compare => T2::C
Test2::Compare::Array => T2::C::A
Test2::Compare::Bag => T2::C::Bag
Test2::Compare::Base => T2::C::B
Test2::Compare::Bool => *undef*
Test2::Compare::Custom => T2::C::C
Test2::Compare::DeepRef => T2::C::DRef
Test2::Compare::Delta => T2::C::D
Test2::Compare::Event => T2::C::E
Test2::Compare::EventMeta => T2::C::EM
Test2::Compare::Float => T2::C::F
Test2::Compare::Hash => T2::C::H
Test2::Compare::Isa => T2::C::Isa
Test2::Compare::Meta => T2::C::M
Test2::Compare::Negatable => T2::C::N
Test2::Compare::Number => *undef*
Test2::Compare::Object => T2::C::O
Test2::Compare::OrderedSubset => T2::C::OS
Test2::Compare::Pattern => T2::C::P
Test2::Compare::Ref => T2::C::Ref
Test2::Compare::Regex => T2::C::R
Test2::Compare::Scalar => T2::C::S
Test2::Compare::Set => T2::C::Set
Test2::Compare::String => *undef*
Test2::Compare::Undef => T2::C::U
Test2::Compare::Wildcard => T2::C::W
Test2::Env => T2::Env
Test2::Event => T2::E
Test2::Event::Bail => T2::E::B
Test2::Event::Diag => T2::E::D
Test2::Event::Encoding => T2::E::E
Test2::Event::Exception => *undef*
Test2::Event::Fail => T2::E::F
Test2::Event::Generic => T2::E::G
Test2::Event::Note => T2::E::N
Test2::Event::Ok => T2::E::Ok
Test2::Event::Pass => T2::E::P
Test2::Event::Plan => *undef*
Test2::Event::Skip => T2::E::S
Test2::Event::Subtest => *undef*
Test2::Event::TAP::Version => T2::E::TAP::V
Test2::Event::V2 => T2::E::V2
Test2::Event::Waiting => T2::E::W
Test2::EventFacet => T2::EF
Test2::EventFacet::About => T2::EF::A
Test2::EventFacet::Amnesty => *undef*
Test2::EventFacet::Assert => *undef*
Test2::EventFacet::Control => T2::EF::C
Test2::EventFacet::Error => T2::EF::E
Test2::EventFacet::Hub => T2::EF::Hub
Test2::EventFacet::Info => T2::EF::I
Test2::EventFacet::Info::Table => T2::EF::I::T
Test2::EventFacet::Meta => T2::EF::M
Test2::EventFacet::Parent => T2::EF::P
Test2::EventFacet::Plan => *undef*
Test2::EventFacet::Render => T2::EF::R
Test2::EventFacet::Trace => T2::EF::T
Test2::Formatter => T2::F
Test2::Formatter::TAP => T2::F::TAP
Test2::Hub => T2::Hub
Test2::Hub::Interceptor => T2::Hub::I
Test2::Hub::Interceptor::Terminator => T2::Hub::I::T
Test2::Hub::Subtest => T2::Hub::S
Test2::IPC => T2::IPC
Test2::IPC::Driver => T2::IPC::D
Test2::IPC::Driver::Files => T2::IPC::D::F
Test2::Manual => T2::M
Test2::Manual::Anatomy => T2::M::A
Test2::Manual::Anatomy::API => T2::M::A::API
Test2::Manual::Anatomy::Context => T2::M::A::C
Test2::Manual::Anatomy::EndToEnd => T2::M::A::EndToEnd
Test2::Manual::Anatomy::Event => T2::M::A::E
Test2::Manual::Anatomy::Hubs => T2::M::A::H
Test2::Manual::Anatomy::IPC => T2::M::A::IPC
Test2::Manual::Anatomy::Utilities => T2::M::A::U
Test2::Manual::Concurrency => T2::M::C
Test2::Manual::Contributing => *undef*
Test2::Manual::Testing => T2::M::T
Test2::Manual::Testing::Introduction => T2::M::T::I
Test2::Manual::Testing::Migrating => T2::M::T::M
Test2::Manual::Testing::Planning => T2::M::T::P
Test2::Manual::Testing::Todo => T2::M::T::T
Test2::Manual::Tooling => *undef*
Test2::Manual::Tooling::FirstTool => T2::M::T::FT
Test2::Manual::Tooling::Formatter => T2::M::T::F
Test2::Manual::Tooling::Nesting => T2::M::T::N
Test2::Manual::Tooling::Plugin::TestExit => T2::M::T::P::TE
Test2::Manual::Tooling::Plugin::TestingDone => T2::M::T::P::TD
Test2::Manual::Tooling::Plugin::ToolCompletes => T2::M::T::P::TC
Test2::Manual::Tooling::Plugin::ToolStarts => T2::M::T::P::TS
Test2::Manual::Tooling::Subtest => T2::M::T::S
Test2::Manual::Tooling::TestBuilder => T2::M::T::TB
Test2::Manual::Tooling::Testing => *undef*
Test2::Mock => *undef*
Test2::Plugin => T2::P
Test2::Plugin::BailOnFail => T2::P::BOnF
Test2::Plugin::Cover => T2::P::C
Test2::Plugin::DBIProfile => T2::P::DBIP
Test2::Plugin::DieOnFail => T2::P::DieOnF
Test2::Plugin::ExitSummary => T2::P::ES
Test2::Plugin::MemUsage => T2::P::MemU
Test2::Plugin::NoWarnings => T2::P::NoW
Test2::Plugin::SRand => T2::P::SR
Test2::Plugin::Times => T2::P::T
Test2::Plugin::UTF8 => T2::P::UTF8
Test2::Plugin::UUID => T2::P::UUID
Test2::Require => T2::R
Test2::Require::AuthorTesting => T2::R::AT
Test2::Require::AutomatedTesting => *undef*
Test2::Require::EnvVar => T2::R::EnvVar
Test2::Require::ExtendedTesting => T2::R::ET
Test2::Require::Fork => T2::R::F
Test2::Require::Module => T2::R::M
Test2::Require::NonInteractiveTesting => T2::R::NonIT
Test2::Require::Perl => T2::R::P
Test2::Require::RealFork => T2::R::RF
Test2::Require::ReleaseTesting => T2::R::RT
Test2::Require::Threads => T2::R::T
Test2::Suite => T2::S
Test2::Todo => T2::T
Test2::Tools => *undef*
Test2::Tools::AsyncSubtest => T2::T::AS
Test2::Tools::Basic => T2::T::B
Test2::Tools::Class => T2::T::C
Test2::Tools::ClassicCompare => T2::T::CC
Test2::Tools::Compare => *undef*
Test2::Tools::Defer => T2::T::D
Test2::Tools::Encoding => T2::T::E
Test2::Tools::Event => *undef*
Test2::Tools::Exception => *undef*
Test2::Tools::Explain => *undef*
Test2::Tools::Exports => *undef*
Test2::Tools::Expressive => *undef*
Test2::Tools::FFI => T2::T::FFI
Test2::Tools::GenTemp => T2::T::GenT
Test2::Tools::Grab => T2::T::G
Test2::Tools::HTTP => T2::T::HTTP
Test2::Tools::JSON => T2::T::JSON
Test2::Tools::MemoryCycle => T2::T::MC
Test2::Tools::Mock => T2::T::M
Test2::Tools::PDL => T2::T::PDL
Test2::Tools::Ref => T2::T::Ref
Test2::Tools::Refcount => T2::T::R
Test2::Tools::Spec => T2::T::S
Test2::Tools::Subtest => *undef*
Test2::Tools::Target => T2::T::T
Test2::Tools::Tester => *undef*
Test2::Tools::Tiny => *undef*
Test2::Tools::URL => T2::T::URL
Test2::Tools::Warnings => T2::T::W
Test2::Util => T2::U
Test2::Util::ExternalMeta => T2::U::EM
Test2::Util::Facets2Legacy => T2::U::F2L
Test2::Util::Grabber => T2::U::G
Test2::Util::Guard => *undef*
Test2::Util::HashBase => T2::U::HB
Test2::Util::Importer => T2::U::I
Test2::Util::Ref => T2::U::Ref
Test2::Util::Sig => T2::U::Sig
Test2::Util::Stash => T2::U::S
Test2::Util::Sub => T2::U::Sub
Test2::Util::Table => T2::U::T
Test2::Util::Table::Cell => T2::U::T::C
Test2::Util::Table::LineBreak => T2::U::T::LB
Test2::Util::Term => *undef*
Test2::Util::Times => *undef*
Test2::Util::Trace => *undef*
Test2::V0 => T2::V0
Test2::Workflow => T2::W
Test2::Workflow::BlockBase => T2::W::BB
Test2::Workflow::Build => T2::W::B
Test2::Workflow::Runner => T2::W::R
Test2::Workflow::Task => T2::W::T
Test2::Workflow::Task::Action => T2::W::T::A
Test2::Workflow::Task::Group => T2::W::T::G
Test::API => T::API
Test::Abortable => *undef*
Test::Archive::Libarchive => T::A::L
Test::Base => T::B
Test::Bits => *undef*
Test::Builder => *undef*
Test::Builder::Formatter => T::B::F
Test::Builder::Module => T::B::M
Test::Builder::Tester => T::B::T
Test::Builder::Tester::Color => T::B::T::C
Test::Builder::TodoDiag => T::B::TD
Test::CPAN::Meta => T::CPAN::M
Test::CPAN::Meta::JSON => T::CPAN::M::JSON
Test::CPAN::Meta::YAML => T::CPAN::M::YAML
Test::CallCounter => T::CC
Test::Carp => *undef*
Test::CheckDeps => T::CD
Test::CheckManifest => T::CM
Test::Class => *undef*
Test::Class::Most => T::C::M
Test::Class::Tiny => T::C::T
Test::ClassAPI => T::CAPI
Test::CleanNamespaces => T::CN
Test::Cmd => T::Cmd
Test::Command => *undef*
Test::CompanionClasses => *undef*
Test::Compile => *undef*
Test::Corpus::Audio::MPD => T::C::A::MPD
Test::Cukes => *undef*
Test::DBIC::ExpectedQueries => T::DBIC::EQ
Test::DBICSchemaLoaderDigest => T::DBICSLD
Test::Database => T::D
Test::DatabaseRow => T::DRow
Test::Deep => *undef*
Test::Deep::Filter => T::D::F
Test::Deep::Fuzzy => *undef*
Test::Deep::JSON => T::D::JSON
Test::Deep::Type => T::D::T
Test::Deep::UnorderedPairs => T::D::UP
Test::Deep::YAML => T::D::YAML
Test::DescribeMe => T::DMe
Test::DiagINC => T::DINC
Test::DiagRef => T::DRef
Test::Differences => *undef*
Test::Dir => T::Dir
Test::Dirs => *undef*
Test::DistManifest => T::DM
Test::Distribution => *undef*
Test::Double => *undef*
Test::DoubleEncodedEntities => T::DEE
Test::EOL => T::EOL
Test::Effects => *undef*
Test::Excel => *undef*
Test::Exception => *undef*
Test::Exception::LessClever => T::E::LC
Test::Exit => *undef*
Test::Expander => *undef*
Test::Expect => *undef*
Test::ExpectAndCheck => T::EAndC
Test::Exports => *undef*
Test::Expr => *undef*
Test::FITesque => T::FIT
Test::FailWarnings => T::FW
Test::Fake::HTTPD => T::F::HTTPD
Test::Fatal => *undef*
Test::Fatal::matchfor => T::F::m
Test::File => *undef*
Test::File::Contents => T::F::C
Test::File::ShareDir => T::F::SDir
Test::Filename => *undef*
Test::Fork => *undef*
Test::Future::IO::Impl => T::F::IO::I
Test::HTML::Content => T::HTML::C
Test::HTML::Differences => T::HTML::D
Test::HTTP::LocalServer => T::HTTP::LS
Test::HTTP::Response => T::HTTP::R
Test::HTTP::Server => T::HTTP::S
Test::HTTP::Server::Simple => T::HTTP::S::S
Test::Harness => *undef*
Test::HasVersion => T::HasV
Test::HexDifferences => T::HexD
Test::HexString => T::HexS
Test::Identity => T::I
Test::Ika => T::Ika
Test::Image::GD => T::I::GD
Test::Import => *undef*
Test::InDistDir => T::InDDir
Test::InDomain => T::InD
Test::Inline => *undef*
Test::Instruction => *undef*
Test::Interface => *undef*
Test::Is => T::Is
Test::JSON => T::JSON
Test::JSON::Schema => T::JSON::S
Test::JSON::Schema::Acceptance => T::JSON::S::A
Test::JsonAPI::Autodoc => T::JAPI::A
Test::Kantan => T::K
Test::Kit => T::Kit
Test::Kwalitee => *undef*
Test::LWP::UserAgent => T::LWP::UA
Test::Lazy => *undef*
Test::LeakTrace => T::LT
Test::LectroTest => *undef*
Test::Lib => T::Lib
Test::Lives => *undef*
Test::LoadAllModules => T::LAllM
Test::Log::Log4perl => T::Log::Log4
Test::LongString => T::LS
Test::Manifest => T::M
Test::Memcached => *undef*
Test::Memory::Cycle => T::M::C
Test::Method => *undef*
Test::Metrics::Any => T::M::Any
Test::MinimumVersion => T::MV
Test::MinimumVersion::Fast => T::MV::F
Test::Mocha::PhantomJS => T::M::PJS
Test::Mock::Apache2 => T::M::A2
Test::Mock::Guard => T::M::G
Test::Mock::LWP => T::M::LWP
Test::Mock::LWP::Conditional => T::M::LWP::C
Test::Mock::LWP::Dispatch => T::M::LWP::D
Test::Mock::One => T::M::One
Test::Mock::Redis => T::M::R
Test::Mock::Test => T::M::T
Test::MockModule => T::MM
Test::MockObject => T::MO
Test::MockRandom => T::MR
Test::MockTime => T::MT
Test::MockTime::HiRes => T::MT::HiRes
Test::Mockingbird => *undef*
Test::Modern => *undef*
Test::Module::Used => T::M::U
Test::Mojibake => *undef*
Test::Mojo::Role::DOMinizer => T::M::R::DOM
Test::Mojo::WithRoles => T::M::WR
Test::Moose::More => T::M::M
Test::More => *undef*
Test::More::Diagnostic => T::M::D
Test::More::UTF8 => T::M::UTF8
Test::Most => *undef*
Test::Name::FromLine => T::N::FL
Test::Needs => T::N
Test::NiceDump => T::ND
Test::NoMalware => T::NoM
Test::NoPlan => T::NoP
Test::NoSmartComments => T::NoSC
Test::NoTabs => T::NoT
Test::NoTravisEncVars => T::NoTEncV
Test::NoWarnings => T::NoW
Test::Number::Delta => T::N::D
Test::Object => T::O
Test::OpenTracing::Integration => T::OT::I
Test::OpenTracing::Interface => *undef*
Test::Output => *undef*
Test::PAUSE::Permissions => T::PAUSE::P
Test::Perl::Critic => *undef*
Test::Perl::Metrics::Lite => T::P::M::L
Test::Pod => T::Pod
Test::Pod::Coverage => T::Pod::C
Test::Pod::LinkCheck => T::Pod::LC
Test::Pod::No404s => T::Pod::No404s
Test::Pod::Snippets => T::Pod::S
Test::Portability::Files => T::P::F
Test::Prereq => *undef*
Test::PureASCII => T::PASCII
Test::RDF::DOAP::Version => T::RDF::DOAP::V
Test::RandomResult => T::RR
Test::Recent => *undef*
Test::Refcount => *undef*
Test::Regexp => *undef*
Test::Regression => *undef*
Test::Reporter => *undef*
Test::Reporter::Transport::Metabase => T::R::T::M
Test::Requires => *undef*
Test::Requires::Git => T::R::Git
Test::Requires::Scanner => T::R::S
Test::RequiresInternet => T::RI
Test::Returns => *undef*
Test::Roo => T::Roo
Test::Roo::DataDriven => T::Roo::DD
Test::Routine => *undef*
Test::Run => T::Run
Test::Run::CmdLine => T::Run::CmdL
Test::RunValgrind => T::RunV
Test::STF::MockServer => T::STF::MS
Test::Sah::Filter => T::Sah::F
Test::Script => *undef*
Test::Script::Run => T::S::Run
Test::Script::Shebang => T::S::S
Test::Settings => *undef*
Test::SharedFork => T::SF
Test::SharedObject => T::SO
Test::Signature => *undef*
Test::Simple => *undef*
Test::Skip::UnlessExistsExecutable => T::S::UEE
Test::Snapshot => *undef*
Test::Spec => *undef*
Test::Spelling => *undef*
Test::Stream => *undef*
Test::Stream::Plugin::Explain::Terse => T::S::P::E::T
Test::Strict => *undef*
Test::SubCalls => T::SubC
Test::Synopsis => *undef*
Test::Synopsis::Expectation => *undef*
Test::Sys::Info => T::Sys::I
Test::TCP => T::TCP
Test::TableDriven => T::TD
Test::Taint => *undef*
Test::TempDir => T::TDir
Test::TempDir::Tiny => T::TDir::T
Test::TestCoverage => T::TC
Test::Tester => *undef*
Test::Tester::Capture => *undef*
Test::Tester::CaptureRunner => T::T::CR
Test::Tester::Delegate => T::T::D
Test::Time => *undef*
Test::Time::HiRes => T::T::HiRes
Test::Timer => *undef*
Test::TinyMocker => T::TM
Test::Toolbox => *undef*
Test::TraceCalls => *undef*
Test::TrailingSpace => T::TS
Test::Trap => *undef*
Test::UNIXSock => T::UNIXS
Test::URI => T::URI
Test::Unit => *undef*
Test::UseAllModules => T::UseAllM
Test::UsedModules => T::UM
Test::Vars => *undef*
Test::Version => *undef*
Test::WWW::Mechanize => T::WWW::M
Test::WWW::Mechanize::Catalyst => T::WWW::M::C
Test::WWW::Mechanize::HSS => T::WWW::M::HSS
Test::WWW::Mechanize::JSON => T::WWW::M::JSON
Test::WWW::Mechanize::MultiMech => T::WWW::M::MM
Test::WWW::Mechanize::PSGI => T::WWW::M::PSGI
Test::WWW::Selenium => T::WWW::S
Test::WWW::Selenium::More => T::WWW::S::M
Test::Warn => *undef*
Test::Warnings => *undef*
Test::WithDB => T::WDB
Test::Without::Module => T::W::M
Test::XML => T::XML
Test::XT => T::XT
Test::YAML => T::YAML
Test::YAML::Valid => T::YAML::V
Test::mysqld => T::m
Test::mysqld::DatadirDumper => T::m::DD
Test::use::ok => T::use::ok
Test::utf8 => T::utf8
TestML => TML
Text::ANSI::Fold => T::ANSI::F
Text::ANSI::Fold::Util => T::ANSI::F::U
Text::ANSI::Tabs => T::ANSI::T
Text::ANSI::Util => T::ANSI::U
Text::ANSI::WideUtil => T::ANSI::WU
Text::ANSITable => T::ANSIT
Text::API::Blueprint => T::API::B
Text::ASCIITable => T::ASCIIT
Text::Abbrev => *undef*
Text::Aligner => *undef*
Text::Aspell => *undef*
Text::Autoformat => *undef*
Text::Balanced => *undef*
Text::Balanced::Marpa => *undef*
Text::BlockLayout => T::BL
Text::Brew => *undef*
Text::CSV => T::CSV
Text::CSV::Encoded => T::CSV::E
Text::CSV::FromAOH => T::CSV::FAOH
Text::CSV::Hashify => T::CSV::H
Text::CSV::Slurp => T::CSV::S
Text::CSV_PP::Iterator => T::CSV_PP::I
Text::CSV_XS => T::CSV_XS
Text::CSV_XS::Backslash => T::CSV_XS::B
Text::Capitalize => *undef*
Text::CharWidth => T::CW
Text::Chompp => *undef*
Text::Column::Util => *undef*
Text::Conceal => *undef*
Text::Conjunct => *undef*
Text::Control => *undef*
Text::DelimMatch => *undef*
Text::Delimited::Marpa => T::D::M
Text::Demoroniser => *undef*
Text::Diff => *undef*
Text::DiffU => T::DU
Text::DumbTemplate => T::DT
Text::ECSV => T::ECSV
Text::Elide => *undef*
Text::Emoticon => *undef*
Text::Emoticon::GoogleTalk => T::E::GT
Text::Emoticon::MSN => T::E::MSN
Text::Extract::Word => T::E::W
Text::FIGlet => T::FIG
Text::FakeXML => T::FXML
Text::FillIn => T::FIn
Text::FindIndent => T::FI
Text::FixEOL => T::FixEOL
Text::FixedLength => T::FL
Text::Flow => *undef*
Text::Fold => *undef*
Text::Format => *undef*
Text::FormatTable => T::FT
Text::Fragment => *undef*
Text::Fuzzy => *undef*
Text::Fuzzy::PP => T::F::PP
Text::German => T::G
Text::Glob => *undef*
Text::Greeking => *undef*
Text::Greeking::zh_TW => T::G::zh_TW
Text::Haml => *undef*
Text::Handlebars => *undef*
Text::Iconv => *undef*
Text::Keywords => *undef*
Text::KwikiFormat => T::KF
Text::Levenshtein::Damerau => T::L::D
Text::Levenshtein::Flexible => T::L::F
Text::Levenshtein::XS => T::L::XS
Text::LevenshteinXS => T::LXS
Text::Lorem => *undef*
Text::Markdown => *undef*
Text::Markdown::Hoedown => T::M::H
Text::Markdown::PerlExtensions => T::M::PE
Text::MarkdownTable => *undef*
Text::Markup::Any => *undef*
Text::MessageFormat => T::MF
Text::Metaphone => *undef*
Text::MicroTemplate => *undef*
Text::MicroTemplate::Extended => T::MT::E
Text::Minify::XS => T::M::XS
Text::MultiMarkdown => *undef*
Text::Names => *undef*
Text::Names::GB => T::N::GB
Text::NonWideChar::Util => T::NonWC::U
Text::Normalize::NACO => T::N::NACO
Text::OutputFilter => T::OF
Text::PDF => T::PDF
Text::PageLayout => T::PL
Text::ParseWords => T::PW
Text::Patch => *undef*
Text::Pipe => *undef*
Text::Pipe::Encoding => *undef*
Text::Quantize => T::Q
Text::Quote => *undef*
Text::Quoted => *undef*
Text::RecordParser => *undef*
Text::Reform => *undef*
Text::Shoebox => *undef*
Text::SimpleTable => T::ST
Text::SlackEmoji => T::SE
Text::Snippet => *undef*
Text::Soundex => *undef*
Text::SpanningTable => *undef*
Text::Sparkline => *undef*
Text::SpellChecker => T::SC
Text::Sprintf::Named => T::S::N
Text::Sprintf::Zenkaku => T::S::Z
Text::Table => *undef*
Text::Table::ASV => T::T::ASV
Text::Table::Any => T::T::Any
Text::Table::CSV => T::T::CSV
Text::Table::HTML => T::T::HTML
Text::Table::HTML::DataTables => T::T::HTML::DT
Text::Table::LTSV => T::T::LTSV
Text::Table::Manifold => T::T::M
Text::Table::More => *undef*
Text::Table::Org => T::T::Org
Text::Table::Paragraph => T::T::P
Text::Table::Sprintf => *undef*
Text::Table::TSV => T::T::TSV
Text::Table::Tiny => T::T::T
Text::Table::Tiny::_ModuleFeatures => T::T::T::_MF
Text::Table::TinyBorderStyle => T::T::TBS
Text::Table::TinyColor => T::T::TC
Text::Table::TinyColorWide => T::T::TCW
Text::Table::TinyWide => T::T::TW
Text::Table::XLSX => T::T::XLSX
Text::Tabs => *undef*
Text::TabularDisplay => *undef*
Text::TagTemplate => T::TagT
Text::Template => *undef*
Text::Template::Library => T::T::L
Text::Template::LocalVars => T::T::LV
Text::Template::Simple => *undef*
Text::Template::Tiny => *undef*
Text::TestBase => T::TB
Text::Textile => *undef*
Text::Textile::Plaintext => *undef*
Text::TokenStream => *undef*
Text::Trac => *undef*
Text::Transliterator => *undef*
Text::Tree::Indented => T::T::I
Text::Trim => *undef*
Text::Unaccent::PurePerl => T::U::PP
Text::Undiacritic => *undef*
Text::UnicodeBox => T::UBox
Text::Unidecode => *undef*
Text::UpsideDown => T::UD
Text::VisualPrintf => T::VP
Text::VisualWidth => T::VW
Text::VisualWidth::PP => T::VW::PP
Text::Vpp => T::Vpp
Text::WagnerFischer => T::WF
Text::WagnerFischer::Amharic => T::WF::A
Text::WideChar::Util => T::WC::U
Text::WordDiff::Unified::ANSIColor => T::WD::U::ANSIC
Text::Wrap => *undef*
Text::WrapI18N => T::WI18N
Text::Wrapper => *undef*
Text::XLogfile => T::XL
Text::Xatena => T::X
Text::Xslate => *undef*
Text::Xslate::Bridge::Alloy => T::X::B::A
Text::Xslate::Bridge::TT2 => T::X::B::TT2
Text::Xslate::Bridge::TT2Like => T::X::B::TT2L
Text::sprintfn => T::s
Text::vFile::asData => T::vF::asD
Text::xSV => T::xSV
Text::xSV::Slurp => T::xSV::S
TextDoc::Examples => TDoc::E
TheSchwartz => TheS
TheSchwartz::Moosified => TheS::M
TheSchwartz::Worker::SendEmail => TheS::W::SE
Thread::Queue => *undef*
Thread::Semaphore => *undef*
Thread::SigMask => T::SigM
ThreatNet::DATN2004 => TNet::DATN2004
Throwable::Factory => *undef*
Throwable::SugarFactory => *undef*
Throwable::X => *undef*
Tie::Alias => Tie::A
Tie::Array => *undef*
Tie::Array::AsHash => Tie::A::AsH
Tie::Array::BoundedIndex => Tie::A::BI
Tie::Array::CSV => Tie::A::CSV
Tie::Array::File::LazyRead => Tie::A::F::LR
Tie::Array::IntSpan => Tie::A::IntS
Tie::Array::Log => Tie::A::Log
Tie::Array::PackedC => Tie::A::PC
Tie::Array::Unique => Tie::A::U
Tie::CArray => Tie::CA
Tie::CPHash => Tie::CPH
Tie::Cache => Tie::C
Tie::Cache::LRU => Tie::C::LRU
Tie::Cycle => *undef*
Tie::Cycle::Sinewave => Tie::C::S
Tie::Diamond => Tie::D
Tie::Discovery => *undef*
Tie::DiskUsage => Tie::DU
Tie::EncryptedHash => Tie::EH
Tie::File => Tie::F
Tie::FileHandle::Base => Tie::FH::B
Tie::FileHandle::Buffer => *undef*
Tie::FileHandle::Log => Tie::FH::Log
Tie::Filehandle::Preempt::Stdin => Tie::F::P::S
Tie::FlipFlop => Tie::FF
Tie::Function => *undef*
Tie::Handle => Tie::H
Tie::Handle::Base => Tie::H::B
Tie::Handle::FileWriteRotate => Tie::H::FWR
Tie::Handle::Filter => Tie::H::F
Tie::Handle::LogAny => Tie::H::LogAny
Tie::Handle::Offset => Tie::H::O
Tie::Handle::Scalar => Tie::H::S
Tie::Handle::TailSwitch => Tie::H::TS
Tie::Handle::TtyRec => Tie::H::TtyRec
Tie::Hash => *undef*
Tie::Hash::Abbrev::BibRefs => Tie::H::A::BibR
Tie::Hash::Approx => Tie::H::A
Tie::Hash::Constant => Tie::H::C
Tie::Hash::DBD => Tie::H::DBD
Tie::Hash::DataSection => Tie::H::DS
Tie::Hash::ImmutableKeys => Tie::H::IK
Tie::Hash::Indexed => Tie::H::I
Tie::Hash::LRU => Tie::H::LRU
Tie::Hash::Layered => Tie::H::L
Tie::Hash::Log => Tie::H::Log
Tie::Hash::Method => Tie::H::M
Tie::Hash::NamedCapture => Tie::H::NC
Tie::Hash::Regex => Tie::H::R
Tie::Hash::Stack => *undef*
Tie::InsertOrderHash => Tie::IOH
Tie::IntegerArray => Tie::IA
Tie::Ispell => Tie::I
Tie::IxHash => Tie::IxH
Tie::IxHash::Easy => Tie::IxH::E
Tie::IxHash::FixedSize => Tie::IxH::FS
Tie::LazyList => Tie::LL
Tie::Locked => Tie::L
Tie::Memoize => Tie::M
Tie::Mounted => *undef*
Tie::Multidim => *undef*
Tie::NumRange => Tie::NumR
Tie::Persistent => Tie::P
Tie::Pick => *undef*
Tie::Quicksort::Lazy => Tie::Q::L
Tie::RangeHash => Tie::RH
Tie::RefHash => Tie::RefH
Tie::RefHash::Weak => Tie::RefH::W
Tie::Scalar => Tie::S
Tie::Scalar::Callback => Tie::S::C
Tie::Scalar::Decay => Tie::S::D
Tie::Scalar::Random => Tie::S::R
Tie::Scalar::Ratio => *undef*
Tie::Scalar::Timeout => Tie::S::T
Tie::Select => *undef*
Tie::ShadowHash => Tie::SH
Tie::Simple => *undef*
Tie::Static => *undef*
Tie::StdHandle => Tie::StdH
Tie::StringArray => Tie::SA
Tie::Subset => *undef*
Tie::SubstrHash => *undef*
Tie::TextDir => Tie::TDir
Tie::ToObject => Tie::ToO
Tie::Toggle => Tie::T
Tie::Tools => *undef*
Tie::UnionHash => Tie::UH
Tie::VecArray => Tie::VecA
Time::Clock => *undef*
Time::Crontab => *undef*
Time::Duration => *undef*
Time::Duration::Concise::Localize => T::D::C::L
Time::Duration::Object => T::D::O
Time::Duration::Parse => T::D::P
Time::Duration::Parse::AsHash => T::D::P::AsH
Time::Duration::ja => T::D::ja
Time::Duration::pl => T::D::pl
Time::Duration::pt => T::D::pt
Time::Elapsed => *undef*
Time::Fake => *undef*
Time::GPS => T::GPS
Time::HiRes => T::HiRes
Time::Human => *undef*
Time::Local => *undef*
Time::Local::ISO8601 => T::L::ISO8601
Time::Moment => *undef*
Time::Moment::Role::Strptime => T::M::R::S
Time::Moment::Role::TimeZone => T::M::R::TZ
Time::OlsonTZ::Clustered => T::OTZ::C
Time::OlsonTZ::Data => T::OTZ::D
Time::ParseDate => T::PD
Time::Piece => *undef*
Time::Piece::MSSQL => T::P::MSSQL
Time::Piece::Plus => *undef*
Time::Piece::Range => T::P::R
Time::Seconds => *undef*
Time::Spec => *undef*
Time::Stamp => *undef*
Time::TAI::Now => T::TAI::Now
Time::TZOffset => T::TZO
Time::Tiny => *undef*
Time::UTC => T::UTC
Time::UTC::Now => T::UTC::Now
Time::Unix => *undef*
Time::Warp => *undef*
Time::gmtime => T::g
Time::localtime => T::l
Time::timegm => T::t
Time::tm => T::tm
Timer::Simple => *undef*
TipJar::fields => TipJar::f
Tk::Autoscroll => Tk::A
Tk::Canvas::GradientColor => Tk::C::GC
Tk::ColoredButton => Tk::CB
Tk::FontDialog => Tk::FD
Tk::Getopt => Tk::G
Tk::Splash => Tk::S
Tool::Bench => *undef*
Trace::Mask => *undef*
Trait::Attribute::Derived => T::A::D
Tree::Binary => *undef*
Tree::Create::Callback => T::C::C
Tree::Create::Size => T::C::S
Tree::DAG_Node => T::DAG_N
Tree::DAG_Node::Persist => T::DAG_N::P
Tree::Dump => *undef*
Tree::FSMethods => T::FSM
Tree::Fat => T::Fat
Tree::File => *undef*
Tree::From::Struct => T::F::S
Tree::Navigator => *undef*
Tree::Node => *undef*
Tree::Object => *undef*
Tree::ObjectXS => T::OXS
Tree::Parser => *undef*
Tree::Simple => *undef*
Tree::Simple::SAX => T::S::SAX
Tree::Simple::VisitorFactory => T::S::VF
Tree::Ternary => *undef*
Tree::To::FS => T::To::FS
Tree::To::Text => T::To::T
Try::Catch => Try::C
Try::Tiny => Try::T
Try::Tiny::ByClass => Try::T::ByC
Try::Tiny::Warnings => Try::T::W
TryCatch => TryC
Type::API => *undef*
Type::Guess => *undef*
Type::Tiny => *undef*
Type::Tiny::XS => T::T::XS
Type::TinyX::Facets => T::TX::F
Types::Const => *undef*
Types::DBI => T::DBI
Types::DateTime => *undef*
Types::Interface => *undef*
Types::LoadableClass => T::LC
Types::PDL => T::PDL
Types::Path::Tiny => *undef*
Types::ReadOnly => T::RO
Types::SQL => T::SQL
Types::Self => *undef*
Types::Serialiser => *undef*
Types::URI => *undef*
Types::UUID => T::UUID
Types::XSD => T::XSD
Types::XSD::Lite => T::XSD::L
UNIVERSAL::Object => UNIVERSAL::O
UNIVERSAL::cant => UNIVERSAL::c
UNIVERSAL::dump => UNIVERSAL::d
UNIVERSAL::moniker => UNIVERSAL::m
UNIVERSAL::require => UNIVERSAL::r
UNIVERSAL::to_yaml => UNIVERSAL::t
URBL::Prepare => URBL::P
URI::Coralize => URI::C
URI::Encode => URI::E
URI::Fetch => URI::F
URI::Find => *undef*
URI::Find::Simple => URI::F::S
URI::Find::UTF8 => URI::F::UTF8
URI::FromHash => URI::FH
URI::GoogleChart => URI::GC
URI::NamespaceMap => URI::NMap
URI::PackageURL => URI::PURL
URI::PathAbstract => URI::PA
URI::Signature::Tiny => URI::S::T
URI::SmartURI => URI::SURI
URI::Template => URI::T
URI::Template::Restrict => URI::T::R
URI::Title => *undef*
URI::Unredirect => URI::U
URI::magnet => URI::m
URI::redis => URI::r
URI::urn::uuid => URI::urn::u
URL::Builder => URL::B
URL::Encode => URL::E
URL::Encode::XS => URL::E::XS
URL::Signature => URL::S
URL::Transform => URL::T
UUID::Random => UUID::R
UUID::Tiny => UUID::T
UUID::Tiny::Patch::UseMRS => UUID::T::P::UseMRS
UUID::URandom => UUID::UR
Ukigumo::Client => U::C
Ukigumo::Common => *undef*
UnderscoreJS => UJS
Unicode::CaseFold => U::CF
Unicode::CheckUTF8 => U::CUTF8
Unicode::CheckUTF8::PP => U::CUTF8::PP
Unicode::Collate => *undef*
Unicode::Collate::CJK::Big5 => U::C::CJK::Big5
Unicode::Collate::CJK::GB2312 => U::C::CJK::GB2312
Unicode::Collate::CJK::JISX0208 => U::C::CJK::JISX0208
Unicode::Collate::CJK::Korean => U::C::CJK::K
Unicode::Collate::CJK::Pinyin => U::C::CJK::P
Unicode::Collate::CJK::Stroke => U::C::CJK::S
Unicode::Collate::CJK::Zhuyin => U::C::CJK::Z
Unicode::Collate::Locale => U::C::L
Unicode::Debug => U::D
Unicode::EastAsianWidth => U::EAW
Unicode::EastAsianWidth::Detect => U::EAW::D
Unicode::Escape => U::E
Unicode::Homoglyph => U::H
Unicode::ICU::Collator => U::ICU::C
Unicode::LineBreak => U::LB
Unicode::Map => U::Map
Unicode::Normalize => U::N
Unicode::Precis::Preparation => U::P::P
Unicode::RecursiveDowngrade => U::RD
Unicode::Security => U::S
Unicode::String => *undef*
Unicode::Stringprep => *undef*
Unicode::UCD => U::UCD
Unicode::UTF8 => U::UTF8
Unix::Mknod => U::M
Unix::MyPathToInc => U::MyPToInc
Unix::PID => U::PID
Unix::Passwd::File => U::P::F
Unix::Processors => U::P
Unix::SearchPathGuess => U::SPG
Unix::Syslog => *undef*
Unix::Uptime => U::U
Unknown::Values => U::V
Unwind::Protect => *undef*
Update::Immutable => U::I
User::Identity => *undef*
User::Utmp => *undef*
User::grent => U::g
User::pwent => U::p
Util::H2O => U::H2O
Util::H2O::More => U::H2O::M
VMS::DCLsym => VMS::DCL
VMS::Filespec => VMS::F
VMS::Stdio => VMS::S
VMware::vCloud => VM::vC
Validate::CodiceFiscale => V::CF
Validate::Net => V::Net
Validate::Tiny => V::T
Value::Canary => V::C
Var::Pairs => Var::P
Variable::Declaration => V::D
Variable::Disposition => *undef*
Variable::Expand::AnyLevel => V::E::AnyL
Variable::Magic => V::M
Variable::Temp => *undef*
Vcdiff::Xdelta3 => V::X3
Version::Monotonic => *undef*
Version::Next => V::N
Version::Requirements => V::R
Version::Util => V::U
Versioning::Scheme => V::S
Versioning::Scheme::Python => V::S::P
Vim::Helper => Vim::H
WWW::ActiveState::PPM => WWW::AS::PPM
WWW::Asana => WWW::A
WWW::Authy => *undef*
WWW::ColiPoste => WWW::CP
WWW::Form::UrlEncoded => WWW::F::UrlE
WWW::Form::UrlEncoded::XS => WWW::F::UrlE::XS
WWW::GoogleAnalytics::Mobile => WWW::GA::M
WWW::Hashbang::Pastebin::Client => WWW::H::P::C
WWW::Lengthen => WWW::L
WWW::Mechanize => WWW::M
WWW::Mechanize::AutoPager => WWW::M::AP
WWW::Mechanize::Cached => WWW::M::C
WWW::Mechanize::DecodedContent => WWW::M::DC
WWW::Mechanize::FormFiller => WWW::M::FF
WWW::MobileCarrierJP => WWW::MCJP
WWW::Notifo => WWW::N
WWW::Pastebin::Bot::Pastebot::Create => WWW::P::Bot::P::C
WWW::Pastebin::PastebinCa::Create => WWW::P::PCa::C
WWW::PunchTab => WWW::PTab
WWW::RobotRules => WWW::RR
WWW::Shorten => WWW::S
WWW::Shorten::Naver => WWW::S::N
WWW::Shorten::NotLong => WWW::S::NotL
WWW::Shorten::OneShortLink => WWW::S::OneSL
WWW::Shorten::Shorl => WWW::S::S
WWW::Shorten::SnipURL => WWW::S::SURL
WWW::SpinnerChief => WWW::SC
WWW::TWikiClient => WWW::TWC
WWW::Tracking => WWW::T
WWW::WebDevout::BrowserSupportInfo => WWW::WebD::BSI
Weather::WWO => W::WWO
Web::Library => Web::L
Web::Library::Bootstrap => Web::L::B
Web::Library::DataTables => Web::L::DT
Web::Library::jQuery => Web::L::jQ
Web::Library::jQueryUI => Web::L::jQUI
Web::Scraper => Web::S
Web::Simple => *undef*
WebService::8tracks => WebS::8
WebService::Bonusly => WebS::B
WebService::Client => WebS::C
WebService::Libris => WebS::L
WebService::MES => WebS::MES
WebService::MyAffiliates => WebS::MyA
WebService::Notifo => WebS::N
WebService::PagerDuty => WebS::PD
WebService::Tumblr => WebS::T
WebService::Validator::HTML::W3C => WebS::V::HTML::W3C
WebService::Validator::HTML::W3C::Fast => WebS::V::HTML::W3C::F
WebService::VerifyEmail => WebS::VE
Widget::Meta => W::M
WikiText => WT
WikiText::Socialtext => WT::S
Win32::Locale => Win32::L
Win32::MailboxGUID => Win32::MGUID
Win32::ShellQuote => Win32::SQ
Win32API::File => Win32API::F
Win32Guidgen => Win32G
With::Roles => W::R
WordList => WL
WordList::EN::CountryNames => WL::EN::CN
WordList::HTTP::UserAgentString::Browser::Firefox => WL::HTTP::UAS::B::F
WordList::Phrase::EN::Idiom::Wiktionary => WL::P::EN::I::W
WordList::Phrase::EN::Proverb::TWW => WL::P::EN::P::TWW
WordList::Phrase::EN::Proverb::Wiktionary => WL::P::EN::P::W
WordList::Phrase::FR::Proverb::Wikiquote => WL::P::FR::P::W
WordList::Phrase::FR::Proverb::Wiktionary => *undef*
WordList::Phrase::ID::Proverb::KBBI => WL::P::ID::P::KBBI
WordList::Phrase::JV::Proverb::PeribahasaNet => WL::P::JV::P::PNet
WordList::Phrase::SU::Proverb::PeribahasaNet => WL::P::SU::P::PNet
WordList::Phrase::ZH::CCIC => WL::P::ZH::CCIC
WordList::Phrase::ZH::Idiom::Wiktionary => WL::P::ZH::I::W
WordList::Phrase::ZH::Proverb::Wiktionary => WL::P::ZH::P::W
WordList::Test::Empty => WL::T::E
WordList::ZH::HSK => WL::ZH::HSK
Worlogog::Restart => *undef*
X11::Terminal => X11::T
X500::DN::Marpa => X500::DN::M
X::Tiny => X::T
XBase => XB
XML::Builder => XML::B
XML::Catalogs => XML::C
XML::Char => *undef*
XML::CommonNS => XML::CNS
XML::Compile::Tester => XML::C::T
XML::Conf => *undef*
XML::CuteQueries => XML::CQ
XML::DTDParser => XML::DTDP
XML::Descent => XML::D
XML::DoubleEncodedEntities => XML::DEE
XML::Dumper => *undef*
XML::Easy => XML::E
XML::Easy::SimpleSchemaUtil => XML::E::SSU
XML::Entities => *undef*
XML::Fast => XML::F
XML::Filter::BufferText => XML::F::BT
XML::Filter::DetectWS => XML::F::DWS
XML::Filter::Digest => XML::F::D
XML::Filter::ExceptionLocator => XML::F::EL
XML::Filter::EzPod => XML::F::EzPod
XML::Filter::NSNormalise => XML::F::NSN
XML::Filter::Reindent => XML::F::R
XML::Filter::SAX1toSAX2 => XML::F::SAX1toSAX2
XML::Filter::SAXT => XML::F::SAXT
XML::Flow => *undef*
XML::Generator::DBI => XML::G::DBI
XML::Handler::PrintEvents => XML::H::PE
XML::Handler::YAWriter => XML::H::YAW
XML::IODEF::Simple => XML::IODEF::S
XML::Invisible => XML::I
XML::Namespace => XML::N
XML::NamespaceFactory => XML::NF
XML::NamespaceSupport => XML::NS
XML::Parser => XML::P
XML::Parser::Lite::Tree => XML::P::L::T
XML::Parser::Style::EasyTree => XML::P::S::ET
XML::Parser::Wrapper => XML::P::W
XML::RSS::Aggregate => XML::RSS::A
XML::RSS::JavaScript => XML::RSS::JS
XML::Records => XML::R
XML::SAX::Base => XML::SAX::B
XML::SAX::Expat => XML::SAX::E
XML::SAX::ExpatXS => XML::SAX::EXS
XML::SAX::Writer => XML::SAX::W
XML::SemanticDiff => XML::SD
XML::Simple => XML::S
XML::Simple::DTDReader => XML::S::DTDR
XML::Smart => *undef*
XML::Stream => *undef*
XML::Tiny => XML::T
XML::Tiny::DOM => XML::T::DOM
XML::TokeParser => XML::TP
XML::TreePP => XML::TPP
XML::Twig => *undef*
XML::Writer => XML::W
XML::WriterX::Simple => XML::WX::S
XML::XPath => XML::XP
XML::XPathEngine => XML::XPE
XML::miniXQL => XML::mXQL
XMLRPC::Fast => XMLRPC::F
XS::APItest => XS::API
XS::Parse::Keyword => XS::P::K
XS::Typemap => XS::T
XSLoader => XSL
XString => XS
YAML::Diff => YAML::D
YAML::Hobo => YAML::H
YAML::PP::Schema::Env => YAML::PP::S::Env
YAML::Safe => YAML::S
YAML::Syck => *undef*
YAML::Tiny => YAML::T
YAML::Tiny::Color => YAML::T::C
YAML::Tiny::Stream => YAML::T::S
YAPE::Regex => YAPE::R
YAPE::Regex::Explain => YAPE::R::E
Yada::Yada::Yada => Y::Y::Y
Yeb::Plugin::JSON => Yeb::P::JSON
Yeb::Plugin::Session => Yeb::P::S
Yeb::Plugin::Xslate => Yeb::P::X
YiJing => YiJ
Zodiac::Tiny => Z::T
alias::module => a::m
autobox::Closure::Attributes => a::C::A
autobox::Colors => a::C
autobox::Core => *undef*
autobox::DateTime::Duration => a::DT::D
autobox::Encode => a::E
autobox::Transform => a::T
autobox::dump => a::d
autodie::Scope::Guard => a::S::G
autodie::Scope::GuardStack => a::S::GS
autodie::Util => a::U
autodie::exception => a::e
autodie::exception::system => a::e::s
autodie::hints => a::h
autodie::skip => a::s
bareword::filehandles => b::f
builtin::compat => b::c
cPanel => cP
cPanel::MemTest => cP::MemT
circular::require => c::r
colorize::stderr => c::s
common::sense => *undef*
constant::Atom => c::A
constant::defer => c::d
constant::more => c::m
coroutine0 => c0
encoding::warnings => e::w
ex::constant::vars => ex::c::v
ex::monkeypatched => ex::m
goto::file => g::f
http::session => h::s
lexical::underscore => l::u
lib::absolute => lib::a
lib::filter => lib::f
lib::findbin => *undef*
lib::glob => lib::g
lib::hiderename => lib::h
lib::none => lib::n
lib::noop => *undef*
lib::prereqs::only => lib::p::o
lib::relative => lib::r
lib::relative::to => lib::r::to
lib::restrict => *undef*
lib::tiny => lib::t
libintl-perl => l-p
libxml-perl => *undef*
local::lib => l::lib
match::simple => m::s
match::simple::XS => m::s::XS
namespace::allclean => n::a
namespace::autoclean => *undef*
namespace::clean => n::c
namespace::functions => n::f
namespace::sweep => n::s
open::layers => o::l
overload::numbers => o::n
overload::substr => o::s
overload::x => o::x
pQuery => pQ
perl5 => p5
pod2pdf => pod2
self::init => s::i
source::encoding => s::e
strict::ModuleName => s::MN
threads::shared => t::s
threads::variables::reap => t::v::r
unicore::Name => u::N
version::regex => v::r
warnings::illegalproto => w::i
warnings::lock => w::l
warnings::register => w::r
warnings::unused => w::u
t/10-check.t ................. ok
t/author-critic.t ............ skipped: these tests are for testing by the author
t/author-test-eol.t .......... skipped: these tests are for testing by the author
t/release-cpan-changes.t ..... skipped: these tests are for release candidate testing
t/release-dist-manifest.t .... skipped: these tests are for release candidate testing
t/release-distmeta.t ......... skipped: these tests are for release candidate testing
t/release-kwalitee.t ......... skipped: these tests are for release candidate testing
t/release-minimum-version.t .. skipped: these tests are for release candidate testing
t/release-mojibake.t ......... skipped: these tests are for release candidate testing
t/release-no-tabs.t .......... skipped: these tests are for release candidate testing
t/release-pod-coverage.t ..... skipped: these tests are for release candidate testing
t/release-pod-linkcheck.t .... skipped: these tests are for release candidate testing
t/release-pod-syntax.t ....... skipped: these tests are for release candidate testing
t/release-portability.t ...... skipped: these tests are for release candidate testing
t/release-test-version.t ..... skipped: these tests are for release candidate testing
t/release-unused-vars.t ...... skipped: these tests are for release candidate testing
All tests successful.
Files=18, Tests=4, 9 wallclock secs ( 0.06 usr 0.19 sys + 3.42 cusr 3.10 csys = 6.77 CPU)
Result: PASS
------------------------------
PREREQUISITES
------------------------------
Prerequisite modules loaded:
requires:
Module Need Have
------------------- ---- ----------
File::HomeDir 0 1.006
List::MoreUtils 0 0.430
Module::CoreList 0 5.20250920
build_requires:
Module Need Have
------------------- ---- ----------
ExtUtils::MakeMaker 0 7.76
configure_requires:
Module Need Have
------------------- ---- ----------
ExtUtils::MakeMaker 6.30 7.76
------------------------------
ENVIRONMENT AND OTHER CONTEXT
------------------------------
Environment variables:
AUTOMATED_TESTING = 1
DATE_MANIP_TEST_DM5 = 1
LC_ALL = C
NONINTERACTIVE_TESTING = 1
NO_NETWORK_TESTING = 1
PATH = /home/cpan/bin/perl/bin:/home/cpan/bin:/home/cpan/bin:/bin:/sbin:/usr/bin:/usr/sbin:/usr/X11R7/bin:/usr/pkg/bin:/usr/pkg/sbin:/usr/games:/usr/local/bin:/usr/local/sbin
PERL5LIB =
PERL5OPT =
PERL5_CPANPLUS_IS_RUNNING = 11354
PERL5_CPAN_IS_RUNNING = 11354
PERL_MM_USE_DEFAULT = 1
PERL_PERTURB_KEYS = 0
PERL_USE_UNSAFE_INC = 1
SHELL = /usr/pkg/bin/bash
TERM = screen
TMPDIR = /home/cpan/tmp
Perl special variables (and OS-specific diagnostics, for MSWin32):
$^X = /home/cpan/bin/perl/bin/perl5.43.3
$UID/$EUID = 1003 / 1003
$GID = 100 100
$EGID = 100 100
Perl module toolchain versions installed:
Module Have
------------------- --------
CPAN 2.38
CPAN::Meta 2.150010
Cwd 3.94
ExtUtils::CBuilder 0.280242
ExtUtils::Command 7.76
ExtUtils::Install 2.22
ExtUtils::MakeMaker 7.76
ExtUtils::Manifest 1.75
ExtUtils::ParseXS 3.60
File::Spec 3.94
JSON 4.10
JSON::PP 4.16
Module::Build 0.4234
Module::Signature n/a
Parse::CPAN::Meta 2.150010
Test2 1.302214
Test::Harness 3.52
Test::More 1.302214
YAML 1.31
YAML::Syck 1.34
version 0.9933
--
Summary of my perl5 (revision 5 version 43 subversion 3) configuration:
Commit id: f9d2deec767758d2dd1971d357c1aa4bf1c67b46
Platform:
osname=netbsd
osvers=10.1
archname=amd64-netbsd
uname='netbsd cjg-netbsd10 10.1 netbsd 10.1 (generic) #0: mon dec 16 13:08:11 utc 2024 mkrepro@mkrepro.netbsd.org:usrsrcsysarchamd64compilegeneric amd64 '
config_args='-des -Dprefix=/home/cpan/bin/perl -Dscriptdir=/home/cpan/bin/perl/bin -Dusedevel -Duse64bitall'
hint=recommended
useposix=true
d_sigaction=define
useithreads=undef
usemultiplicity=undef
use64bitint=define
use64bitall=define
uselongdouble=undef
usemymalloc=n
default_inc_excludes_dot=define
Compiler:
cc='cc'
ccflags ='-fwrapv -fno-strict-aliasing -pipe -fstack-protector-strong -I/usr/pkg/include -D_FORTIFY_SOURCE=2'
optimize='-O'
cppflags='-fwrapv -fno-strict-aliasing -pipe -fstack-protector-strong -I/usr/pkg/include'
ccversion=''
gccversion='10.5.0'
gccosandvers=''
intsize=4
longsize=8
ptrsize=8
doublesize=8
byteorder=12345678
doublekind=3
d_longlong=define
longlongsize=8
d_longdbl=define
longdblsize=16
longdblkind=3
ivtype='long'
ivsize=8
nvtype='double'
nvsize=8
Off_t='off_t'
lseeksize=8
alignbytes=8
prototype=define
Linker and Libraries:
ld='cc'
ldflags =' -Wl,-rpath,/usr/pkg/lib -Wl,-rpath,/usr/local/lib -fstack-protector-strong -L/usr/pkg/lib'
libpth=/usr/lib /usr/pkg/lib /lib
libs=-lpthread -lm -lcrypt -lutil -lc -lposix
perllibs=-lpthread -lm -lcrypt -lutil -lc -lposix
libc=/lib/libc.so
so=so
useshrplib=false
libperl=libperl.a
gnulibc_version=''
Dynamic Linking:
dlsrc=dl_dlopen.xs
dlext=so
d_dlsymun=undef
ccdlflags='-Wl,-E '
cccdlflags='-DPIC -fPIC '
lddlflags='-shared -L/usr/pkg/lib -fstack-protector-strong'
Characteristics of this binary (from libperl):
Compile-time options:
HAS_LONG_DOUBLE
HAS_STRTOLD
HAS_TIMES
PERLIO_LAYERS
PERL_COPY_ON_WRITE
PERL_DONT_CREATE_GVSV
PERL_HASH_FUNC_SIPHASH13
PERL_HASH_USE_SBOX32
PERL_MALLOC_WRAP
PERL_OP_PARENT
PERL_PRESERVE_IVUV
PERL_USE_DEVEL
PERL_USE_SAFE_PUTENV
USE_64_BIT_ALL
USE_64_BIT_INT
USE_LARGE_FILES
USE_LOCALE
USE_LOCALE_COLLATE
USE_LOCALE_CTYPE
USE_LOCALE_NUMERIC
USE_LOCALE_TIME
USE_PERLIO
USE_PERL_ATOF
Built under netbsd
Compiled at Sep 1 2025 22:25:26
%ENV:
PERL5LIB=""
PERL5OPT=""
PERL5_CPANPLUS_IS_RUNNING="11354"
PERL5_CPAN_IS_RUNNING="11354"
PERL_MM_USE_DEFAULT="1"
PERL_PERTURB_KEYS="0"
PERL_USE_UNSAFE_INC="1"
@INC:
/home/cpan/bin/perl/lib/site_perl/5.43.3/amd64-netbsd
/home/cpan/bin/perl/lib/site_perl/5.43.3
/home/cpan/bin/perl/lib/5.43.3/amd64-netbsd
/home/cpan/bin/perl/lib/5.43.3
.