Sniffer-HTTP v0.28 Perl 5 v5.39.7 x86_64-linux-thread-multi

Status
Pass
From
Andreas J. König (ANDK)
Dist
Sniffer-HTTP v0.28
Platform
Perl 5 v5.39.7 x86_64-linux-thread-multi
Date
2024-02-02 14:23:09
ID
97023cf6-c1d6-11ee-a4c7-f8e5f039ac2a
This distribution has been tested as part of the CPAN Testers
project, supporting the Perl programming language.  See
http://wiki.cpantesters.org/ for more information or email
questions to cpan-testers-discuss@perl.org


--
Dear Max Maischein,

This is a computer-generated report for Sniffer-HTTP-0.28
on perl 5.39.7, created by CPAN-Reporter-1.2019.

Thank you for uploading your work to CPAN.  Congratulations!
All tests were successful.

Sections of this report:

    * Tester comments
    * Program output
    * Prerequisites
    * Environment and other context

------------------------------
TESTER COMMENTS
------------------------------

Additional comments from tester:

this report is from an automated smoke testing program
and was not reviewed by a human for accuracy

------------------------------
PROGRAM OUTPUT
------------------------------

Output from '/usr/bin/make test':

PERL_DL_NONLAZY=1 "/tmp/basesmoker-reloperl-m6jX/bin/perl" "-MExtUtils::Command::MM" "-MTest::Harness" "-e" "undef *Test::Harness::Switches; test_harness(0, 'blib/lib', 'blib/arch')" t/01-find_device.t t/01-use.t t/02-chunked.t t/03-libpcap_dump.t t/04-other_port.t t/05-capture_to_file.t
Old package separator "'" deprecated at t/01-find_device.t line 33.
Old package separator "'" deprecated at t/01-find_device.t line 39.
Old package separator "'" deprecated at t/01-find_device.t line 43.
Old package separator "'" deprecated at t/01-find_device.t line 55.
# Pcap lib_version is libpcap version 1.9.1 (with TPACKET_V3)
# You're not running the tests as root - they might fail
Use of apostrophe as package separator was deprecated in Perl 5.37.9,
and will be removed in Perl 5.42.0.  You should change code that uses
Test::More::isn't() to use Test::More::isnt() as a replacement at t/01-find_device.t line 33
Use of apostrophe as package separator was deprecated in Perl 5.37.9,
and will be removed in Perl 5.42.0.  You should change code that uses
Test::More::isn't() to use Test::More::isnt() as a replacement at t/01-find_device.t line 39
Use of apostrophe as package separator was deprecated in Perl 5.37.9,
and will be removed in Perl 5.42.0.  You should change code that uses
Test::More::isn't() to use Test::More::isnt() as a replacement at t/01-find_device.t line 43
Use of apostrophe as package separator was deprecated in Perl 5.37.9,
and will be removed in Perl 5.42.0.  You should change code that uses
Test::More::isn't() to use Test::More::isnt() as a replacement at t/01-find_device.t line 55
t/01-find_device.t ...... ok
t/01-use.t .............. ok
# You're not running the tests as root - they might fail
# Creating connection 2537:80, sequence start at 779081851
# Got header
# Request header and content are ready (0 bytes)
# Got chunksize 0, reporting response
# Removing 2537:80
t/02-chunked.t .......... ok
# You're not running the tests as root - they might fail
# Creating connection 2929:80, sequence start at 4158002222
# Got header
# Request header and content are ready (0 bytes)
# Got chunksize 0, reporting response
# Got header
# Request header and content are ready (0 bytes)
# Got chunksize 0, reporting response
t/03-libpcap_dump.t ..... ok
# You're not running the tests as root - they might fail
# Creating connection 4345:8888, sequence start at 2872133876
# Got header
# Request header and content are ready (0 bytes)
# Got chunksize 0, reporting response
# Got header
# Request header and content are ready (0 bytes)
# Got chunksize 0, reporting response
t/04-other_port.t ....... ok
# Using libpcap version 1.9.1 (with TPACKET_V3)
# We are not root. find_device() might be unreliable and tests might fail.
# *** Doing live capture of an LWP request to http://www.cpan.org/
# *** If that is blocked or you live behind a proxy, this test will fail.
# *** The dump-to-file feature is untested then.
# Using device 'enp1s0'
# Couldn't sniff: Unable to create packet capture on device '<user specified device>': enp1s0: You don't have permission to capture on that device (socket: Operation not permitted) at /tmp/loop_over_bdir-2387-4NmEHU/Sniffer-HTTP-0.28-0/blib/lib/Sniffer/HTTP.pm line 423.
# Are you sure you have the proper permissions?
# Maybe you need to be root to get the proper permissions. Your user id is 1005
# Launching request to 'http://www.cpan.org/'
# Child done.
t/05-capture_to_file.t .. ok
All tests successful.

Test Summary Report
-------------------
t/01-find_device.t    (Wstat: 0 Tests: 11 Failed: 0)
  TODO passed:   2-11
Files=6, Tests=34,  2 wallclock secs ( 0.03 usr  0.02 sys +  0.67 cusr  0.15 csys =  0.87 CPU)
Result: PASS

------------------------------
PREREQUISITES
------------------------------

Prerequisite modules loaded:

requires:

    Module                   Need  Have    
    ------------------------ ----- --------
    Class::Accessor          0     0.51    
    Class::Data::Inheritable 0     0.09    
    Exporter                 5.5   5.78    
    HTTP::Request            6.14  6.45    
    HTTP::Response           6.14  6.45    
    LWP::Simple              0     6.76    
    Net::Pcap                0.09  0.21    
    NetPacket::TCP           0     1.7.2   
    parent                   0     0.241   
    perl                     5.006 5.039007

build_requires:

    Module                   Need  Have    
    ------------------------ ----- --------
    Data::Dumper             0     2.189   
    ExtUtils::MakeMaker      0     7.70    
    Image::Info              0     1.44    
    Test::Deep               0     1.204   
    Test::HTTP::LocalServer  0.61  0.75    
    Test::More               0     1.302198
    URI                      0     5.21    
    URI::file                0     5.21    

configure_requires:

    Module                   Need  Have    
    ------------------------ ----- --------
    ExtUtils::MakeMaker      0     7.70    


------------------------------
ENVIRONMENT AND OTHER CONTEXT
------------------------------

Environment variables:

    AUTOMATED_TESTING = 1
    LANG = en_US.UTF-8
    PATH = /home/sand/bin:/usr/local/bin:/usr/local/sbin:/usr/sbin:/usr/bin:/sbin:/bin:/usr/games:/usr/local/games:/snap/bin:/usr/local/perl/bin:/usr/X11/bin
    PERL = /tmp/basesmoker-reloperl-m6jX/bin/perl
    PERL5LIB = /tmp/loop_over_bdir-2387-4NmEHU/perl-Hardware-UPS-Perl-0.43-0/blib/arch:/tmp/loop_over_bdir-2387-4NmEHU/perl-Hardware-UPS-Perl-0.43-0/blib/lib:/tmp/loop_over_bdir-2387-4NmEHU/Alien-SNMP-MIBDEV-2.020000-0/blib/arch:/tmp/loop_over_bdir-2387-4NmEHU/Alien-SNMP-MIBDEV-2.020000-0/blib/lib:/tmp/loop_over_bdir-2387-4NmEHU/Linux-InitFS-0.2-0/blib/arch:/tmp/loop_over_bdir-2387-4NmEHU/Linux-InitFS-0.2-0/blib/lib:/tmp/loop_over_bdir-2387-4NmEHU/Lingua-YaTeA-0.626-0/blib/arch:/tmp/loop_over_bdir-2387-4NmEHU/Lingua-YaTeA-0.626-0/blib/lib:/tmp/loop_over_bdir-2387-4NmEHU/Dpkg-1.22.4-0/blib/arch:/tmp/loop_over_bdir-2387-4NmEHU/Dpkg-1.22.4-0/blib/lib:/tmp/loop_over_bdir-2387-4NmEHU/LiquidWeb-Storm-CLI-1.03-0/blib/arch:/tmp/loop_over_bdir-2387-4NmEHU/LiquidWeb-Storm-CLI-1.03-0/blib/lib:/tmp/loop_over_bdir-2387-4NmEHU/Net-ISP-Balance-1.31-0/blib/arch:/tmp/loop_over_bdir-2387-4NmEHU/Net-ISP-Balance-1.31-0/blib/lib:/tmp/loop_over_bdir-2387-4NmEHU/Business-Shipping-DataFiles-1.02-0/blib/arch:/tmp/loop_over_bdir-2387-4NmEHU/Business-Shipping-DataFiles-1.02-0/blib/lib:/tmp/loop_over_bdir-2387-4NmEHU/Devel-Required-0.16-0/blib/arch:/tmp/loop_over_bdir-2387-4NmEHU/Devel-Required-0.16-0/blib/lib:/tmp/loop_over_bdir-2387-4NmEHU/Sysync-0.35-0/blib/arch:/tmp/loop_over_bdir-2387-4NmEHU/Sysync-0.35-0/blib/lib:/tmp/loop_over_bdir-2387-4NmEHU/AllKnowingDNS-1.7-0/blib/arch:/tmp/loop_over_bdir-2387-4NmEHU/AllKnowingDNS-1.7-0/blib/lib
    PERL5OPT = 
    PERL5_CPANPLUS_IS_RUNNING = 2395
    PERL5_CPAN_IS_RUNNING = 2395
    PERL_CANARY_STABILITY_NOPROMPT = 1
    PERL_MM_USE_DEFAULT = 1
    PERL_USE_UNSAFE_INC = 1
    SHELL = /usr/bin/zsh
    TERM = screen

Perl special variables (and OS-specific diagnostics, for MSWin32):

    $^X = /tmp/basesmoker-reloperl-m6jX/bin/perl
    $UID/$EUID = 1005 / 1005
    $GID = 1005 1005
    $EGID = 1005 1005

Perl module toolchain versions installed:

    Module              Have    
    ------------------- --------
    CPAN                2.36    
    CPAN::Meta          2.150010
    Cwd                 3.90    
    ExtUtils::CBuilder  0.280240
    ExtUtils::Command   7.70    
    ExtUtils::Install   2.22    
    ExtUtils::MakeMaker 7.70    
    ExtUtils::Manifest  1.75    
    ExtUtils::ParseXS   3.51    
    File::Spec          3.90    
    JSON                4.10    
    JSON::PP            4.16    
    Module::Build       0.4234  
    Module::Signature   0.88    
    Parse::CPAN::Meta   2.150010
    Test2               1.302198
    Test::Harness       3.48    
    Test::More          1.302198
    YAML                1.31    
    YAML::Syck          1.34    
    version             0.9930  


--

Summary of my perl5 (revision 5 version 39 subversion 7) configuration:
  Commit id: 96559478fdc3f2fe9c51cad02ebbae0c950b7b68
  Platform:
    osname=linux
    osvers=5.4.0-169-generic
    archname=x86_64-linux-thread-multi
    uname='linux k93focal 5.4.0-169-generic #187-ubuntu smp thu nov 23 14:52:28 utc 2023 x86_64 x86_64 x86_64 gnulinux '
    config_args='-Dprefix=/home/sand/src/perl/repoperls/installed-perls/host/k93focal/v5.39.7/d119 -Dmyhostname=k93focal -Dinstallusrbinperl=n -Uversiononly -Dusedevel -des -Ui_db -Dlibswanted=cl pthread socket inet nsl gdbm dbm malloc dl ld sun m crypt sec util c cposix posix ucb BSD gdbm_compat -Duseithreads -Uuselongdouble -DEBUGGING=both'
    hint=recommended
    useposix=true
    d_sigaction=define
    useithreads=define
    usemultiplicity=define
    use64bitint=define
    use64bitall=define
    uselongdouble=undef
    usemymalloc=n
    default_inc_excludes_dot=define
  Compiler:
    cc='cc'
    ccflags ='-D_REENTRANT -D_GNU_SOURCE -fwrapv -DDEBUGGING -fno-strict-aliasing -pipe -fstack-protector-strong -I/usr/local/include -D_LARGEFILE_SOURCE -D_FILE_OFFSET_BITS=64'
    optimize='-O2 -g'
    cppflags='-D_REENTRANT -D_GNU_SOURCE -fwrapv -DDEBUGGING -fno-strict-aliasing -pipe -fstack-protector-strong -I/usr/local/include'
    ccversion=''
    gccversion='9.4.0'
    gccosandvers=''
    intsize=4
    longsize=8
    ptrsize=8
    doublesize=8
    byteorder=12345678
    doublekind=3
    d_longlong=define
    longlongsize=8
    d_longdbl=define
    longdblsize=16
    longdblkind=3
    ivtype='long'
    ivsize=8
    nvtype='double'
    nvsize=8
    Off_t='off_t'
    lseeksize=8
    alignbytes=8
    prototype=define
  Linker and Libraries:
    ld='cc'
    ldflags =' -fstack-protector-strong -L/usr/local/lib'
    libpth=/usr/local/lib /usr/lib/x86_64-linux-gnu /usr/lib /usr/lib64
    libs=-lpthread -lnsl -ldl -lm -lcrypt -lutil -lc
    perllibs=-lpthread -lnsl -ldl -lm -lcrypt -lutil -lc
    libc=libc-2.31.so
    so=so
    useshrplib=false
    libperl=libperl.a
    gnulibc_version='2.31'
  Dynamic Linking:
    dlsrc=dl_dlopen.xs
    dlext=so
    d_dlsymun=undef
    ccdlflags='-Wl,-E'
    cccdlflags='-fPIC'
    lddlflags='-shared -O2 -g -L/usr/local/lib -fstack-protector-strong'


Characteristics of this binary (from libperl): 
  Compile-time options:
    DEBUGGING
    HAS_LONG_DOUBLE
    HAS_STRTOLD
    HAS_TIMES
    MULTIPLICITY
    PERLIO_LAYERS
    PERL_COPY_ON_WRITE
    PERL_DONT_CREATE_GVSV
    PERL_HASH_FUNC_SIPHASH13
    PERL_HASH_USE_SBOX32
    PERL_MALLOC_WRAP
    PERL_OP_PARENT
    PERL_PRESERVE_IVUV
    PERL_TRACK_MEMPOOL
    PERL_USE_DEVEL
    PERL_USE_SAFE_PUTENV
    USE_64_BIT_ALL
    USE_64_BIT_INT
    USE_ITHREADS
    USE_LARGE_FILES
    USE_LOCALE
    USE_LOCALE_COLLATE
    USE_LOCALE_CTYPE
    USE_LOCALE_NUMERIC
    USE_LOCALE_TIME
    USE_PERLIO
    USE_PERL_ATOF
    USE_REENTRANT_API
    USE_THREAD_SAFE_LOCALE
  Built under linux
  Compiled at Jan 20 2024 14:00:37
  %ENV:
    PERL="/tmp/basesmoker-reloperl-m6jX/bin/perl"
    PERL5LIB="/tmp/loop_over_bdir-2387-4NmEHU/perl-Hardware-UPS-Perl-0.43-0/blib/arch:/tmp/loop_over_bdir-2387-4NmEHU/perl-Hardware-UPS-Perl-0.43-0/blib/lib:/tmp/loop_over_bdir-2387-4NmEHU/Alien-SNMP-MIBDEV-2.020000-0/blib/arch:/tmp/loop_over_bdir-2387-4NmEHU/Alien-SNMP-MIBDEV-2.020000-0/blib/lib:/tmp/loop_over_bdir-2387-4NmEHU/Linux-InitFS-0.2-0/blib/arch:/tmp/loop_over_bdir-2387-4NmEHU/Linux-InitFS-0.2-0/blib/lib:/tmp/loop_over_bdir-2387-4NmEHU/Lingua-YaTeA-0.626-0/blib/arch:/tmp/loop_over_bdir-2387-4NmEHU/Lingua-YaTeA-0.626-0/blib/lib:/tmp/loop_over_bdir-2387-4NmEHU/Dpkg-1.22.4-0/blib/arch:/tmp/loop_over_bdir-2387-4NmEHU/Dpkg-1.22.4-0/blib/lib:/tmp/loop_over_bdir-2387-4NmEHU/LiquidWeb-Storm-CLI-1.03-0/blib/arch:/tmp/loop_over_bdir-2387-4NmEHU/LiquidWeb-Storm-CLI-1.03-0/blib/lib:/tmp/loop_over_bdir-2387-4NmEHU/Net-ISP-Balance-1.31-0/blib/arch:/tmp/loop_over_bdir-2387-4NmEHU/Net-ISP-Balance-1.31-0/blib/lib:/tmp/loop_over_bdir-2387-4NmEHU/Business-Shipping-DataFiles-1.02-0/blib/arch:/tmp/loop_over_bdir-2387-4NmEHU/Business-Shipping-DataFiles-1.02-0/blib/lib:/tmp/loop_over_bdir-2387-4NmEHU/Devel-Required-0.16-0/blib/arch:/tmp/loop_over_bdir-2387-4NmEHU/Devel-Required-0.16-0/blib/lib:/tmp/loop_over_bdir-2387-4NmEHU/Sysync-0.35-0/blib/arch:/tmp/loop_over_bdir-2387-4NmEHU/Sysync-0.35-0/blib/lib:/tmp/loop_over_bdir-2387-4NmEHU/AllKnowingDNS-1.7-0/blib/arch:/tmp/loop_over_bdir-2387-4NmEHU/AllKnowingDNS-1.7-0/blib/lib"
    PERL5OPT=""
    PERL5_CPANPLUS_IS_RUNNING="2395"
    PERL5_CPAN_IS_RUNNING="2395"
    PERL_CANARY_STABILITY_NOPROMPT="1"
    PERL_MM_USE_DEFAULT="1"
    PERL_USE_UNSAFE_INC="1"
  @INC:
    /tmp/loop_over_bdir-2387-4NmEHU/perl-Hardware-UPS-Perl-0.43-0/blib/arch
    /tmp/loop_over_bdir-2387-4NmEHU/perl-Hardware-UPS-Perl-0.43-0/blib/lib
    /tmp/loop_over_bdir-2387-4NmEHU/Alien-SNMP-MIBDEV-2.020000-0/blib/arch
    /tmp/loop_over_bdir-2387-4NmEHU/Alien-SNMP-MIBDEV-2.020000-0/blib/lib
    /tmp/loop_over_bdir-2387-4NmEHU/Linux-InitFS-0.2-0/blib/arch
    /tmp/loop_over_bdir-2387-4NmEHU/Linux-InitFS-0.2-0/blib/lib
    /tmp/loop_over_bdir-2387-4NmEHU/Lingua-YaTeA-0.626-0/blib/arch
    /tmp/loop_over_bdir-2387-4NmEHU/Lingua-YaTeA-0.626-0/blib/lib
    /tmp/loop_over_bdir-2387-4NmEHU/Dpkg-1.22.4-0/blib/arch
    /tmp/loop_over_bdir-2387-4NmEHU/Dpkg-1.22.4-0/blib/lib
    /tmp/loop_over_bdir-2387-4NmEHU/LiquidWeb-Storm-CLI-1.03-0/blib/arch
    /tmp/loop_over_bdir-2387-4NmEHU/LiquidWeb-Storm-CLI-1.03-0/blib/lib
    /tmp/loop_over_bdir-2387-4NmEHU/Net-ISP-Balance-1.31-0/blib/arch
    /tmp/loop_over_bdir-2387-4NmEHU/Net-ISP-Balance-1.31-0/blib/lib
    /tmp/loop_over_bdir-2387-4NmEHU/Business-Shipping-DataFiles-1.02-0/blib/arch
    /tmp/loop_over_bdir-2387-4NmEHU/Business-Shipping-DataFiles-1.02-0/blib/lib
    /tmp/loop_over_bdir-2387-4NmEHU/Devel-Required-0.16-0/blib/arch
    /tmp/loop_over_bdir-2387-4NmEHU/Devel-Required-0.16-0/blib/lib
    /tmp/loop_over_bdir-2387-4NmEHU/Sysync-0.35-0/blib/arch
    /tmp/loop_over_bdir-2387-4NmEHU/Sysync-0.35-0/blib/lib
    /tmp/loop_over_bdir-2387-4NmEHU/AllKnowingDNS-1.7-0/blib/arch
    /tmp/loop_over_bdir-2387-4NmEHU/AllKnowingDNS-1.7-0/blib/lib
    /home/sand/src/perl/repoperls/installed-perls/host/k93focal/v5.39.7/d119/lib/site_perl/5.39.7/x86_64-linux-thread-multi
    /home/sand/src/perl/repoperls/installed-perls/host/k93focal/v5.39.7/d119/lib/site_perl/5.39.7
    /home/sand/src/perl/repoperls/installed-perls/host/k93focal/v5.39.7/d119/lib/5.39.7/x86_64-linux-thread-multi
    /home/sand/src/perl/repoperls/installed-perls/host/k93focal/v5.39.7/d119/lib/5.39.7
    .