Back
From: metabase:user:30f4dfbe-2aae-11df-837a-5e0a49663a4f
Subject: PASS Net-SugarCRM-3.21345 v5.8.8 GNU/Linux
Date: 2013-08-21T07:52:12Z
This distribution has been tested as part of the CPAN Testers
project, supporting the Perl programming language. See
http://wiki.cpantesters.org/ for more information or email
questions to cpan-testers-discuss@perl.org
--
Dear Nito Martinez,
This is a computer-generated report for Net-SugarCRM-3.21345
on perl 5.8.8, created by CPAN-Reporter-1.2010.
Thank you for uploading your work to CPAN. Congratulations!
All tests were successful.
Sections of this report:
* Tester comments
* Program output
* Prerequisites
* Environment and other context
------------------------------
TESTER COMMENTS
------------------------------
Additional comments from tester:
this report is from an automated smoke testing program
and was not reviewed by a human for accuracy
------------------------------
PROGRAM OUTPUT
------------------------------
Output from './Build test':
Use of uninitialized value in length at /home/njh/perl5/perlbrew/perls/perl-5.8.8/lib/site_perl/5.8.8/Module/Build/Base.pm line 2767.
# Testing Net::SugarCRM 3.21345, Perl 5.008008, /home/njh/perl5/perlbrew/perls/perl-5.8.8/bin/perl
t/00-load.t ................ ok
t/10-login.t ............... skipped: Author test. Set $ENV{TEST_AUTHOR_SUGAR} to a true value to run. Define it as DEBUG to see the debug messages
t/20-modules.t ............. skipped: Author test. Set $ENV{TEST_AUTHOR_SUGAR} to a true value to run. Define it as DEBUG to see the debug messages
t/30-lead.t ................ skipped: Author test. Set $ENV{TEST_AUTHOR_SUGAR} to a true value to run. Define it as DEBUG to see the debug messages
t/40-contact.t ............. skipped: Author test. Set $ENV{TEST_AUTHOR_SUGAR} to a true value to run. Define it as DEBUG to see the debug messages
t/50-account.t ............. skipped: Author test. Set $ENV{TEST_AUTHOR_SUGAR} to a true value to run. Define it as DEBUG to see the debug messages
t/60-opportunity.t ......... skipped: Author test. Set $ENV{TEST_AUTHOR_SUGAR} to a true value to run. Define it as DEBUG to see the debug messages
t/70-getmailentry.t ........ skipped: Author test. Set $ENV{TEST_AUTHOR_SUGAR} to a true value to run. Define it as DEBUG to see the debug messages
t/75-add-note.t ............ skipped: Author test. Set $ENV{TEST_AUTHOR_SUGAR} to a true value to run. Define it as DEBUG to see the debug messages
t/77-currency.t ............ skipped: Author test. Set $ENV{TEST_AUTHOR_SUGAR} to a true value to run. Define it as DEBUG to see the debug messages
t/80-mailinglist.t ......... skipped: Author test. Set $ENV{TEST_AUTHOR_SUGAR} to a true value to run. Define it as DEBUG to see the debug messages
t/90-send-campaign-mail.t .. skipped: Author test. Set $ENV{TEST_AUTHOR_SUGAR} to a true value to run. Define it as DEBUG to see the debug messages
t/manifest.t ............... skipped: Author tests not required for installation
t/perlcritic.t ............. skipped: Author test. Set $ENV{TEST_AUTHOR} to a true value to run.
t/pod-coverage.t ........... ok
t/pod.t .................... ok
All tests successful.
Files=16, Tests=6, 2 wallclock secs ( 0.05 usr 0.03 sys + 1.37 cusr 0.09 csys = 1.54 CPU)
Result: PASS
------------------------------
PREREQUISITES
------------------------------
Prerequisite modules loaded:
requires:
Module Need Have
-------------- ---- ------
DateTime 0 1.01
DBI 0 1.627
File::Spec 0 3.40
JSON 0 2.53
Log::Log4perl 0 1.42
LWP::UserAgent 0 6.04
Moose 0 2.0801
Readonly 0 1.03
Try::Tiny 0 0.12
build_requires:
Module Need Have
-------------- ---- ------
Test::More 0 0.98
configure_requires:
Module Need Have
-------------- ---- ------
Module::Build 0.38 0.4003
------------------------------
ENVIRONMENT AND OTHER CONTEXT
------------------------------
Environment variables:
AUTOMATED_TESTING = 1
LANG = en_GB.UTF-8
LANGUAGE = en_GB:en
LD_LIBRARY_PATH = /usr/local/lib::
PATH = /home/njh/perl5/perlbrew/bin:/home/njh/perl5/perlbrew/perls/perl-5.8.8/bin:/home/njh/perl5/perlbrew/bin:/usr/local/bin:/usr/bin:/bin:/usr/local/games:/usr/games:/home/njh/bin:/sbin
PERL5LIB = /home/njh/.cpan/build/Log-Log4perl-1.42-lVZ5oV/blib/arch:/home/njh/.cpan/build/Log-Log4perl-1.42-lVZ5oV/blib/lib
PERL5OPT =
PERL5_CPANPLUS_IS_RUNNING = 4948
PERL5_CPAN_IS_RUNNING = 4948
PERL5_MINISMOKEBOX = 0.56
PERLBREW_BASHRC_VERSION = 0.58
PERLBREW_HOME = /home/njh/.perlbrew
PERLBREW_MANPATH = /home/njh/perl5/perlbrew/perls/perl-5.8.8/man
PERLBREW_PATH = /home/njh/perl5/perlbrew/bin:/home/njh/perl5/perlbrew/perls/perl-5.8.8/bin
PERLBREW_PERL = perl-5.8.8
PERLBREW_ROOT = /home/njh/perl5/perlbrew
PERLBREW_VERSION = 0.66
PERL_EXTUTILS_AUTOINSTALL = --defaultdeps
PERL_MM_USE_DEFAULT = 1
SHELL = /bin/bash
TERM = linux
Perl special variables (and OS-specific diagnostics, for MSWin32):
$^X = /home/njh/perl5/perlbrew/perls/perl-5.8.8/bin/perl
$UID/$EUID = 1000 / 1000
$GID = 1000 1000 112 108 46 44 30 29 25 24
$EGID = 1000 1000 112 108 46 44 30 29 25 24
Perl module toolchain versions installed:
Module Have
------------------- --------
CPAN 1.9800
CPAN::Meta 2.132140
Cwd 3.40
ExtUtils::CBuilder 0.280205
ExtUtils::Command 1.16
ExtUtils::Install 1.54
ExtUtils::MakeMaker 6.72
ExtUtils::Manifest 1.60
ExtUtils::ParseXS 3.18
File::Spec 3.40
JSON 2.53
JSON::PP 2.27200
Module::Build 0.4003
Module::Signature 0.70
Parse::CPAN::Meta 1.4404
Test::Harness 3.26
Test::More 0.98
YAML 0.84
YAML::Syck 1.27
version 0.88
--
Summary of my perl5 (revision 5 version 8 subversion 8) configuration:
Platform:
osname=linux, osvers=3.2.0-4-amd64, archname=x86_64-linux-thread-multi
uname='linux nigelhorne.force9.co.uk 3.2.0-4-amd64 #1 smp debian 3.2.32-1 x86_64 gnulinux '
config_args='-de -Dprefix=/home/njh/perl5/perlbrew/perls/perl-5.8.8 -Duseithreads -Dusemultiplicity -Accflags=-O2 -W -Wformat=2 -Wswitch -Wshadow -Wwrite-strings -Wuninitialized -Wall -pipe -mtune=native -march=native -fomit-frame-pointer -mfpmath=sse -pedantic -D_FORTIFY_SOURCE=2 -Wpointer-arith -Wstrict-prototypes -fstack-protector -Wstack-protector -Wextra -Wbad-function-cast -Wcast-align -Wcast-qual -Wdisabled-optimization -Wendif-labels -Wfloat-equal -Wformat-nonliteral -Winline -Wmissing-declarations -Wmissing-prototypes -Wnested-externs -Wpointer-arith -Wundef -Wformat-security -Aeval:scriptdir=/home/njh/perl5/perlbrew/perls/perl-5.8.8/bin'
hint=recommended, useposix=true, d_sigaction=define
usethreads=define use5005threads=undef useithreads=define usemultiplicity=define
useperlio=define d_sfio=undef uselargefiles=define usesocks=undef
use64bitint=define use64bitall=define uselongdouble=undef
usemymalloc=n, bincompat5005=undef
Compiler:
cc='cc', ccflags ='-D_REENTRANT -D_GNU_SOURCE -O2 -W -Wformat=2 -Wswitch -Wshadow -Wwrite-strings -Wuninitialized -Wall -pipe -mtune=native -march=native -fomit-frame-pointer -mfpmath=sse -pedantic -D_FORTIFY_SOURCE=2 -Wpointer-arith -Wstrict-prototypes -fstack-protector -Wstack-protector -Wextra -Wbad-function-cast -Wcast-align -Wcast-qual -Wdisabled-optimization -Wendif-labels -Wfloat-equal -Wformat-nonliteral -Winline -Wmissing-declarations -Wmissing-prototypes -Wnested-externs -Wpointer-arith -Wundef -Wformat-security -fno-strict-aliasing -Wdeclaration-after-statement -I/usr/local/include -D_LARGEFILE_SOURCE -D_FILE_OFFSET_BITS=64',
optimize='-O2',
cppflags='-D_REENTRANT -D_GNU_SOURCE -O2 -W -Wformat=2 -Wswitch -Wshadow -Wwrite-strings -Wuninitialized -Wall -pipe -mtune=native -march=native -fomit-frame-pointer -mfpmath=sse -pedantic -D_FORTIFY_SOURCE=2 -Wpointer-arith -Wstrict-prototypes -fstack-protector -Wstack-protector -Wextra -Wbad-function-cast -Wcast-align -Wcast-qual -Wdisabled-optimization -Wendif-labels -Wfloat-equal -Wformat-nonliteral -Winline -Wmissing-declarations -Wmissing-prototypes -Wnested-externs -Wpointer-arith -Wundef -Wformat-security -fno-strict-aliasing -Wdeclaration-after-statement -I/usr/local/include'
ccversion='', gccversion='4.7.2', gccosandvers=''
intsize=4, longsize=8, ptrsize=8, doublesize=8, byteorder=12345678
d_longlong=define, longlongsize=8, d_longdbl=define, longdblsize=16
ivtype='long', ivsize=8, nvtype='double', nvsize=8, Off_t='off_t', lseeksize=8
alignbytes=8, prototype=define
Linker and Libraries:
ld='cc', ldflags =' -L/usr/local/lib'
libpth=/usr/local/lib /lib/x86_64-linux-gnu /lib/../lib /usr/lib/x86_64-linux-gnu /usr/lib/../lib /lib /usr/lib
libs=-lnsl -lgdbm -ldb -ldl -lm -lcrypt -lutil -lpthread -lc -lgdbm_compat
perllibs=-lnsl -ldl -lm -lcrypt -lutil -lpthread -lc -lgdbm_compat
libc=, so=so, useshrplib=false, libperl=libperl.a
gnulibc_version='2.13'
Dynamic Linking:
dlsrc=dl_dlopen.xs, dlext=so, d_dlsymun=undef, ccdlflags='-Wl,-E'
cccdlflags='-fpic', lddlflags='-shared -L/usr/local/lib'
Characteristics of this binary (from libperl):
Compile-time options: MULTIPLICITY PERL_IMPLICIT_CONTEXT
PERL_MALLOC_WRAP USE_64_BIT_ALL USE_64_BIT_INT
USE_ITHREADS USE_LARGE_FILES USE_PERLIO
USE_REENTRANT_API
Built under linux
Compiled at Mar 5 2013 01:22:32
%ENV:
PERL5LIB="/home/njh/.cpan/build/Log-Log4perl-1.42-lVZ5oV/blib/arch:/home/njh/.cpan/build/Log-Log4perl-1.42-lVZ5oV/blib/lib"
PERL5OPT=""
PERL5_CPANPLUS_IS_RUNNING="4948"
PERL5_CPAN_IS_RUNNING="4948"
PERL5_MINISMOKEBOX="0.56"
PERLBREW_BASHRC_VERSION="0.58"
PERLBREW_HOME="/home/njh/.perlbrew"
PERLBREW_MANPATH="/home/njh/perl5/perlbrew/perls/perl-5.8.8/man"
PERLBREW_PATH="/home/njh/perl5/perlbrew/bin:/home/njh/perl5/perlbrew/perls/perl-5.8.8/bin"
PERLBREW_PERL="perl-5.8.8"
PERLBREW_ROOT="/home/njh/perl5/perlbrew"
PERLBREW_VERSION="0.66"
PERL_EXTUTILS_AUTOINSTALL="--defaultdeps"
PERL_MM_USE_DEFAULT="1"
@INC:
/home/njh/.cpan/build/Log-Log4perl-1.42-lVZ5oV/blib/arch
/home/njh/.cpan/build/Log-Log4perl-1.42-lVZ5oV/blib/lib
/home/njh/perl5/perlbrew/perls/perl-5.8.8/lib/5.8.8/x86_64-linux-thread-multi
/home/njh/perl5/perlbrew/perls/perl-5.8.8/lib/5.8.8
/home/njh/perl5/perlbrew/perls/perl-5.8.8/lib/site_perl/5.8.8/x86_64-linux-thread-multi
/home/njh/perl5/perlbrew/perls/perl-5.8.8/lib/site_perl/5.8.8
/home/njh/perl5/perlbrew/perls/perl-5.8.8/lib/site_perl
.