Report for MooseX-Types-Structured-0.34

Back
From: metabase:user:bf998058-baeb-11e4-99c3-b01b75490a75
Subject: PASS MooseX-Types-Structured-0.34 v5.23.6 Mac OS X
Date: 2015-12-25T07:46:21Z

This distribution has been tested as part of the CPAN Testers
project, supporting the Perl programming language.  See
http://wiki.cpantesters.org/ for more information or email
questions to cpan-testers-discuss@perl.org


--
Dear ETHER,

This is a computer-generated report for MooseX-Types-Structured-0.34
on perl 5.23.6, created by App::cpanminus::reporter 0.12 (1.7039).

Thank you for uploading your work to CPAN.  Congratulations!
All tests were successful.

Sections of this report:

    * Tester comments
    * Program output
    * Prerequisites
    * Environment and other context

------------------------------
TESTER COMMENTS
------------------------------

Additional comments from tester:

none provided

------------------------------
PROGRAM OUTPUT
------------------------------

Output from '':

Building and testing MooseX-Types-Structured-0.34
# 
# Versions for all modules listed in MYMETA.json (including optional ones):
# 
# === Configure Requires ===
# 
#     Module               Want  Have
#     ------------------- ----- -----
#     Module::Build::Tiny 0.007 0.039
# 
# === Test Requires ===
# 
#     Module                  Want     Have
#     ----------------------- ---- --------
#     Data::Dumper             any    2.159
#     DateTime                 any     1.21
#     ExtUtils::MakeMaker      any  7.11_03
#     File::Spec               any     3.60
#     MooseX::Types::DateTime  any     0.13
#     MooseX::Types::Moose     any     0.46
#     Test::Fatal              any    0.014
#     Test::More              0.88 1.001014
#     Test::Requires           any     0.10
#     strict                   any     1.10
#     warnings                 any     1.35
# 
# === Test Recommends ===
# 
#     Module         Want     Have
#     ---------- -------- --------
#     CPAN::Meta 2.120900 2.150005
# 
# === Runtime Requires ===
# 
#     Module                                        Want    Have
#     -------------------------------------------- ----- -------
#     Devel::PartialDump                            0.13    0.18
#     Moose                                          any  2.1604
#     Moose::Meta::TypeCoercion                      any  2.1604
#     Moose::Meta::TypeConstraint                    any  2.1604
#     Moose::Meta::TypeConstraint::Parameterizable   any  2.1604
#     Moose::Util::TypeConstraints                  1.06  2.1604
#     MooseX::Types                                 0.22    0.46
#     Scalar::Util                                   any 1.42_01
#     Sub::Exporter                                0.982   0.987
#     if                                             any  0.0606
#     namespace::clean                              0.19    0.26
#     overload                                       any    1.26
# 
t/00-report-prereqs.t .......... ok
t/01-basic.t ................... ok
t/00-load.t .................... ok
t/03-dict.t .................... ok
t/02-tuple.t ................... ok
t/04-map.t ..................... ok
t/04-combined.t ................ ok
t/05-advanced.t ................ ok
t/07-coerce.t .................. ok
t/06-api.t ..................... ok
t/09-optional.t ................ ok
t/08-examples.t ................ ok
t/11-overflow.t ................ ok
t/10-recursion.t ............... ok
t/12-error.t ................... ok
t/13-deeper_error.t ............ ok
t/14-fully-qualified.t ......... ok
t/bug-incorrect-message.t ...... ok
t/bug-is-subtype.t ............. ok
t/bug-mixed-stringy.t .......... ok
t/bug-optional.t ............... ok
t/regressions/01-is_type_of.t .. ok
t/zzz-check-breaks.t ........... ok
All tests successful.
Files=23, Tests=359,  3 wallclock secs ( 0.12 usr  0.06 sys +  8.70 cusr  0.64 csys =  9.52 CPU)
Result: PASS

------------------------------
PREREQUISITES
------------------------------

Prerequisite modules loaded:

    No requirements found

------------------------------
ENVIRONMENT AND OTHER CONTEXT
------------------------------

Environment variables:

    LANG = en_CA.UTF-8
    PATH = /Volumes/amaretto/Users/ether/.perlbrew/libs/23.6@std/bin:/Volumes/amaretto/Users/ether/perl5/perlbrew/bin:/Volumes/amaretto/Users/ether/perl5/perlbrew/perls/23.6/bin:/Volumes/amaretto/Users/ether/bin:/Volumes/amaretto/Users/ether/git/misc/install/jaeger/bin:/Volumes/amaretto/Users/ether/git/misc/install/generic/bin:/opt/local/bin:/opt/local/sbin:/Volumes/amaretto/Users/ether/git/git-hub/lib:/usr/local/bin:/usr/bin:/bin:/usr/sbin:/sbin:/opt/local/share/git-core/contrib/workdir
    PERL5LIB = /Volumes/amaretto/Users/ether/.perlbrew/libs/23.6@std/lib/perl5
    PERLBREW_BASHRC_VERSION = 0.74
    PERLBREW_HOME = /Volumes/amaretto/Users/ether/.perlbrew
    PERLBREW_LIB = std
    PERLBREW_MANPATH = /Volumes/amaretto/Users/ether/.perlbrew/libs/23.6@std/man:/Volumes/amaretto/Users/ether/perl5/perlbrew/perls/23.6/man
    PERLBREW_PATH = /Volumes/amaretto/Users/ether/.perlbrew/libs/23.6@std/bin:/Volumes/amaretto/Users/ether/perl5/perlbrew/bin:/Volumes/amaretto/Users/ether/perl5/perlbrew/perls/23.6/bin
    PERLBREW_PERL = 23.6
    PERLBREW_ROOT = /Volumes/amaretto/Users/ether/perl5/perlbrew
    PERLBREW_VERSION = 0.74
    PERLDOC_PAGER = less -sicMr
    PERL_AUTOINSTALL_PREFER_CPAN = 1
    PERL_INSTALL_QUIET = 1
    PERL_LOCAL_LIB_ROOT = /Volumes/amaretto/Users/ether/.perlbrew/libs/23.6@std
    PERL_MB_OPT = --install_base /Volumes/amaretto/Users/ether/.perlbrew/libs/23.6@std
    PERL_MM_OPT = INSTALL_BASE=/Volumes/amaretto/Users/ether/.perlbrew/libs/23.6@std
    SHELL = /bin/bash
    TERM = xterm-color

Perl special variables (and OS-specific diagnostics, for MSWin32):

    EGID = 20 20 12 61 79 80 81 98 701 33 100 204 395 398 399
    EUID = 502
    EXECUTABLE_NAME = /Volumes/amaretto/Users/ether/perl5/perlbrew/perls/23.6/bin/perl5.23.6
    GID = 20 20 12 61 79 80 81 98 701 33 100 204 395 398 399
    UID = 502

Perl module toolchain versions installed:

    Module              Have    
    ------------------- --------
    CPAN                2.11    
    CPAN::Meta          2.150005
    Cwd                 3.60    
    ExtUtils::CBuilder  0.280224
    ExtUtils::Command   7.11_03 
    ExtUtils::Install   2.04    
    ExtUtils::MakeMaker 7.11_03 
    ExtUtils::Manifest  1.70    
    ExtUtils::ParseXS   3.30    
    File::Spec          3.60    
    JSON                2.90    
    JSON::PP            2.27300 
    Module::Build       0.4214  
    Module::Signature   n/a     
    Parse::CPAN::Meta   1.4417  
    Test::Harness       3.35    
    Test::More          1.001014
    YAML                1.15    
    YAML::Syck          1.29    
    version             0.9912  


--

Summary of my perl5 (revision 5 version 23 subversion 6) configuration:
   
  Platform:
    osname=darwin, osvers=14.5.0, archname=darwin-2level
    uname='darwin jaeger 14.5.0 darwin kernel version 14.5.0: tue sep 1 21:23:09 pdt 2015; root:xnu-2782.50.1~1release_x86_64 x86_64 '
    config_args='-de -Dprefix=/Volumes/amaretto/Users/ether/perl5/perlbrew/perls/23.6 -Dman1dir=none -Dman3dir=none -Dusedevel -Aeval:scriptdir=/Volumes/amaretto/Users/ether/perl5/perlbrew/perls/23.6/bin'
    hint=recommended, useposix=true, d_sigaction=define
    useithreads=undef, usemultiplicity=undef
    use64bitint=define, use64bitall=define, uselongdouble=undef
    usemymalloc=n, bincompat5005=undef
  Compiler:
    cc='cc', ccflags ='-fno-common -DPERL_DARWIN -fno-strict-aliasing -pipe -fstack-protector-strong -I/opt/local/include',
    optimize='-O3',
    cppflags='-fno-common -DPERL_DARWIN -fno-strict-aliasing -pipe -fstack-protector-strong -I/opt/local/include'
    ccversion='', gccversion='4.2.1 Compatible Apple LLVM 7.0.2 (clang-700.1.81)', gccosandvers=''
    intsize=4, longsize=8, ptrsize=8, doublesize=8, byteorder=12345678, doublekind=3
    d_longlong=define, longlongsize=8, d_longdbl=define, longdblsize=16, longdblkind=3
    ivtype='long', ivsize=8, nvtype='double', nvsize=8, Off_t='off_t', lseeksize=8
    alignbytes=8, prototype=define
  Linker and Libraries:
    ld='env MACOSX_DEPLOYMENT_TARGET=10.3 cc', ldflags =' -fstack-protector-strong -L/opt/local/lib'
    libpth=/Applications/Xcode.app/Contents/Developer/Toolchains/XcodeDefault.xctoolchain/usr/bin/../lib/clang/7.0.2/lib /Applications/Xcode.app/Contents/Developer/Toolchains/XcodeDefault.xctoolchain/usr/lib /usr/lib /opt/local/lib
    libs=-lpthread -lgdbm -ldbm -ldl -lm -lutil -lc
    perllibs=-lpthread -ldl -lm -lutil -lc
    libc=, so=dylib, useshrplib=false, libperl=libperl.a
    gnulibc_version=''
  Dynamic Linking:
    dlsrc=dl_dlopen.xs, dlext=bundle, d_dlsymun=undef, ccdlflags=' '
    cccdlflags=' ', lddlflags=' -bundle -undefined dynamic_lookup -L/opt/local/lib -fstack-protector-strong'


Characteristics of this binary (from libperl): 
  Compile-time options: HAS_TIMES PERLIO_LAYERS PERL_COPY_ON_WRITE
                        PERL_DONT_CREATE_GVSV
                        PERL_HASH_FUNC_ONE_AT_A_TIME_HARD PERL_MALLOC_WRAP
                        PERL_PRESERVE_IVUV PERL_USE_DEVEL USE_64_BIT_ALL
                        USE_64_BIT_INT USE_LARGE_FILES USE_LOCALE
                        USE_LOCALE_COLLATE USE_LOCALE_CTYPE
                        USE_LOCALE_NUMERIC USE_LOCALE_TIME USE_PERLIO
                        USE_PERL_ATOF
  Locally applied patches:
	Devel::PatchPerl 1.34
  Built under darwin
  Compiled at Dec 21 2015 16:22:06
  %ENV:
    PERL5LIB="/Volumes/amaretto/Users/ether/.perlbrew/libs/23.6@std/lib/perl5"
    PERLBREW_BASHRC_VERSION="0.74"
    PERLBREW_HOME="/Volumes/amaretto/Users/ether/.perlbrew"
    PERLBREW_LIB="std"
    PERLBREW_MANPATH="/Volumes/amaretto/Users/ether/.perlbrew/libs/23.6@std/man:/Volumes/amaretto/Users/ether/perl5/perlbrew/perls/23.6/man"
    PERLBREW_PATH="/Volumes/amaretto/Users/ether/.perlbrew/libs/23.6@std/bin:/Volumes/amaretto/Users/ether/perl5/perlbrew/bin:/Volumes/amaretto/Users/ether/perl5/perlbrew/perls/23.6/bin"
    PERLBREW_PERL="23.6"
    PERLBREW_ROOT="/Volumes/amaretto/Users/ether/perl5/perlbrew"
    PERLBREW_VERSION="0.74"
    PERLDOC_PAGER="less -sicMr"
    PERL_AUTOINSTALL_PREFER_CPAN="1"
    PERL_INSTALL_QUIET="1"
    PERL_LOCAL_LIB_ROOT="/Volumes/amaretto/Users/ether/.perlbrew/libs/23.6@std"
    PERL_MB_OPT="--install_base /Volumes/amaretto/Users/ether/.perlbrew/libs/23.6@std"
    PERL_MM_OPT="INSTALL_BASE=/Volumes/amaretto/Users/ether/.perlbrew/libs/23.6@std"
  @INC:
    /Volumes/amaretto/Users/ether/.perlbrew/libs/23.6@std/lib/perl5/darwin-2level
    /Volumes/amaretto/Users/ether/.perlbrew/libs/23.6@std/lib/perl5
    /Volumes/amaretto/Users/ether/perl5/perlbrew/perls/23.6/lib/site_perl/5.23.6/darwin-2level
    /Volumes/amaretto/Users/ether/perl5/perlbrew/perls/23.6/lib/site_perl/5.23.6
    /Volumes/amaretto/Users/ether/perl5/perlbrew/perls/23.6/lib/5.23.6/darwin-2level
    /Volumes/amaretto/Users/ether/perl5/perlbrew/perls/23.6/lib/5.23.6
    .