Report for Catalyst-Devel-1.36

Back
From: metabase:user:66989cb2-5934-11e1-b442-33db7f290205
Subject: PASS Catalyst-Devel-1.36 v5.14.2 Mac OS X
Date: 2012-02-17T07:18:28Z

This distribution has been tested as part of the CPAN Testers
project, supporting the Perl programming language.  See
http://wiki.cpantesters.org/ for more information or email
questions to cpan-testers-discuss@perl.org


--
Dear Tomas Doran,

This is a computer-generated report for Catalyst-Devel-1.36
on perl 5.14.2, created by CPAN-Reporter-1.2004.

Thank you for uploading your work to CPAN.  Congratulations!
All tests were successful.

Sections of this report:

    * Tester comments
    * Program output
    * Prerequisites
    * Environment and other context

------------------------------
TESTER COMMENTS
------------------------------

Additional comments from tester:

none provided

------------------------------
PROGRAM OUTPUT
------------------------------

Output from '/usr/bin/make test':

PERL_DL_NONLAZY=1 /Users/wesley/perl5/perlbrew/perls/perl-5.14.2/bin/perl "-MExtUtils::Command::MM" "-e" "test_harness(0, 'inc', 'blib/lib', 'blib/arch')" t/01use.t t/back_compat.t t/generated_app.t t/get_sharedir_file.t t/optional_http-server-restart.t t/render_file_contents.t t/render_share_dir_file.t
t/01use.t ......................... ok
t/back_compat.t ................... ok
# Generated app is in /var/folders/aF/aFa2zV6hF6qxE7oHQAkckE+++TI/-Tmp-/Ac7SVWmwXy
# Installed app is in /var/folders/aF/aFa2zV6hF6qxE7oHQAkckE+++TI/-Tmp-/O524jhxoTD
t/generated_app.t ................. ok
t/get_sharedir_file.t ............. ok
t/optional_http-server-restart.t .. skipped: set TEST_HTTP to enable this test
t/render_file_contents.t .......... ok
t/render_share_dir_file.t ......... ok
All tests successful.
Files=7, Tests=91, 14 wallclock secs ( 0.06 usr  0.02 sys + 11.42 cusr  2.07 csys = 13.57 CPU)
Result: PASS

------------------------------
PREREQUISITES
------------------------------

Prerequisite modules loaded:

requires:

    Module                                 Need    Have   
    -------------------------------------- ------- -------
    Catalyst                               5.90001 5.90009
    Catalyst::Action::RenderView           0.10    0.16   
    Catalyst::Plugin::ConfigLoader         0.30    0.30   
    Catalyst::Plugin::Static::Simple       0.28    0.29   
    Config::General                        2.42    2.50   
    ExtUtils::MakeMaker                    6.11    6.62   
    File::ChangeNotify                     0.07    0.21   
    File::Copy::Recursive                  0       0.38   
    File::ShareDir                         0       1.03   
    Module::Install                        1.02    1.04   
    Moose                                  0       2.0402 
    MooseX::Daemonize                      0       0.13   
    MooseX::Emulate::Class::Accessor::Fast 0       0.00903
    namespace::autoclean                   0       0.13   
    namespace::clean                       0       0.22   
    Path::Class                            0.09    0.25   
    Starman                                0       0.2014 
    Template                               2.14    2.24   
    Test::Fatal                            0.003   0.010  
    Test::More                             0.94    0.98   

build_requires:

    Module                                 Need    Have   
    -------------------------------------- ------- -------
    ExtUtils::MakeMaker                    6.42    6.62   
    Test::Fatal                            0.003   0.010  
    Test::More                             0.94    0.98   

configure_requires:

    Module                                 Need    Have   
    -------------------------------------- ------- -------
    ExtUtils::MakeMaker                    6.42    6.62   


------------------------------
ENVIRONMENT AND OTHER CONTEXT
------------------------------

Environment variables:

    LANG = en_US.UTF-8
    PATH = /Users/wesley/perl5/perlbrew/bin:/Users/wesley/perl5/perlbrew/perls/perl-5.14.2/bin:/Users/wesley/.rvm/gems/ruby-1.9.2-p290/bin:/Users/wesley/.rvm/gems/ruby-1.9.2-p290@global/bin:/Users/wesley/.rvm/rubies/ruby-1.9.2-p290/bin:/Users/wesley/.rvm/bin:/Users/wesley/bin:/opt/local/bin:/opt/local/sbin:/usr/bin:/bin:/usr/sbin:/sbin:/usr/local/bin:/usr/X11/bin:/opt/local/lib/postgresql91/bin
    PATH_WITHOUT_PERLBREW = /Users/wesley/.rvm/gems/ruby-1.9.2-p290/bin:/Users/wesley/.rvm/gems/ruby-1.9.2-p290@global/bin:/Users/wesley/.rvm/rubies/ruby-1.9.2-p290/bin:/Users/wesley/.rvm/bin:/Users/wesley/bin:/opt/local/bin:/opt/local/sbin:/usr/bin:/bin:/usr/sbin:/sbin:/usr/local/bin:/usr/X11/bin:/opt/local/lib/postgresql91/bin
    PERL5LIB = 
    PERL5OPT = 
    PERL5_CPANPLUS_IS_RUNNING = 48954
    PERL5_CPAN_IS_RUNNING = 48954
    PERLBREW_HOME = /Users/wesley/.perlbrew
    PERLBREW_PATH = /Users/wesley/perl5/perlbrew/bin:/Users/wesley/perl5/perlbrew/perls/perl-5.14.2/bin
    PERLBREW_PERL = perl-5.14.2
    PERLBREW_ROOT = /Users/wesley/perl5/perlbrew
    PERLBREW_VERSION = 0.28
    SHELL = /bin/bash
    TERM = xterm
    TMPDIR = /var/folders/aF/aFa2zV6hF6qxE7oHQAkckE+++TI/-Tmp-/

Perl special variables (and OS-specific diagnostics, for MSWin32):

    $^X = /Users/wesley/perl5/perlbrew/perls/perl-5.14.2/bin/perl
    $UID/$EUID = 501 / 501
    $GID = 20 20 404 402 408 403 406 204 100 98 81 80 79 61 12 407 401
    $EGID = 20 20 404 402 408 403 406 204 100 98 81 80 79 61 12 407 401

Perl module toolchain versions installed:

    Module              Have    
    ------------------- --------
    CPAN                1.9800  
    CPAN::Meta          2.112150
    Cwd                 3.36    
    ExtUtils::CBuilder  0.280203
    ExtUtils::Command   1.17    
    ExtUtils::Install   1.56    
    ExtUtils::MakeMaker 6.62    
    ExtUtils::Manifest  1.58    
    ExtUtils::ParseXS   2.2210  
    File::Spec          3.33    
    JSON                2.53    
    JSON::PP            2.27105 
    Module::Build       0.3800  
    Module::Signature   n/a     
    Parse::CPAN::Meta   1.4402  
    Test::Harness       3.23    
    Test::More          0.98    
    YAML                0.80    
    YAML::Syck          n/a     
    version             0.88    


--

Summary of my perl5 (revision 5 version 14 subversion 2) configuration:
   
  Platform:
    osname=darwin, osvers=10.8.0, archname=darwin-2level
    uname='darwin wesley-sheldahls-macbook-3.local 10.8.0 darwin kernel version 10.8.0: tue jun 7 16:33:36 pdt 2011; root:xnu-1504.15.3~1release_i386 i386 '
    config_args='-de -Dprefix=/Users/wesley/perl5/perlbrew/perls/perl-5.14.2'
    hint=recommended, useposix=true, d_sigaction=define
    useithreads=undef, usemultiplicity=undef
    useperlio=define, d_sfio=undef, uselargefiles=define, usesocks=undef
    use64bitint=define, use64bitall=define, uselongdouble=undef
    usemymalloc=n, bincompat5005=undef
  Compiler:
    cc='cc', ccflags ='-fno-common -DPERL_DARWIN -fno-strict-aliasing -pipe -fstack-protector -I/opt/local/include',
    optimize='-O3',
    cppflags='-fno-common -DPERL_DARWIN -fno-strict-aliasing -pipe -fstack-protector -I/opt/local/include'
    ccversion='', gccversion='4.2.1 (Apple Inc. build 5666) (dot 3)', gccosandvers=''
    intsize=4, longsize=8, ptrsize=8, doublesize=8, byteorder=12345678
    d_longlong=define, longlongsize=8, d_longdbl=define, longdblsize=16
    ivtype='long', ivsize=8, nvtype='double', nvsize=8, Off_t='off_t', lseeksize=8
    alignbytes=8, prototype=define
  Linker and Libraries:
    ld='env MACOSX_DEPLOYMENT_TARGET=10.3 cc', ldflags =' -fstack-protector -L/opt/local/lib'
    libpth=/opt/local/lib /usr/lib
    libs=-lgdbm -ldbm -ldl -lm -lutil -lc
    perllibs=-ldl -lm -lutil -lc
    libc=, so=dylib, useshrplib=false, libperl=libperl.a
    gnulibc_version=''
  Dynamic Linking:
    dlsrc=dl_dlopen.xs, dlext=bundle, d_dlsymun=undef, ccdlflags=' '
    cccdlflags=' ', lddlflags=' -bundle -undefined dynamic_lookup -L/opt/local/lib -fstack-protector'


Characteristics of this binary (from libperl): 
  Compile-time options: PERL_DONT_CREATE_GVSV PERL_MALLOC_WRAP
                        PERL_PRESERVE_IVUV USE_64_BIT_ALL USE_64_BIT_INT
                        USE_LARGE_FILES USE_PERLIO USE_PERL_ATOF
  Built under darwin
  Compiled at Feb 17 2012 00:07:42
  %ENV:
    PERL5LIB=""
    PERL5OPT=""
    PERL5_CPANPLUS_IS_RUNNING="48954"
    PERL5_CPAN_IS_RUNNING="48954"
    PERLBREW_HOME="/Users/wesley/.perlbrew"
    PERLBREW_PATH="/Users/wesley/perl5/perlbrew/bin:/Users/wesley/perl5/perlbrew/perls/perl-5.14.2/bin"
    PERLBREW_PERL="perl-5.14.2"
    PERLBREW_ROOT="/Users/wesley/perl5/perlbrew"
    PERLBREW_VERSION="0.28"
  @INC:
    /Users/wesley/perl5/perlbrew/perls/perl-5.14.2/lib/site_perl/5.14.2/darwin-2level
    /Users/wesley/perl5/perlbrew/perls/perl-5.14.2/lib/site_perl/5.14.2
    /Users/wesley/perl5/perlbrew/perls/perl-5.14.2/lib/5.14.2/darwin-2level
    /Users/wesley/perl5/perlbrew/perls/perl-5.14.2/lib/5.14.2
    .