IPC-Run v20231003.0 Perl 5 v5.18.4 darwin-thread-multi-2level
- Status
- Pass
- From
- Roland van Ipenburg (IPENBURG)
- Dist
-
IPC-Run v20231003.0
- Platform
- Perl 5 v5.18.4 darwin-thread-multi-2level
- Date
- 2023-10-03 10:21:17
- ID
- 96ad48fa-61d6-11ee-901c-32b7d600c49c
This distribution has been tested as part of the CPAN Testers
project, supporting the Perl programming language. See
http://wiki.cpantesters.org/ for more information or email
questions to cpan-testers-discuss@perl.org
--
Dear Todd Rinaldo,
This is a computer-generated report for IPC-Run-20231003.0
on perl 5.18.4, created by CPAN-Reporter-1.2019.
Thank you for uploading your work to CPAN. Congratulations!
All tests were successful.
Sections of this report:
* Tester comments
* Program output
* Prerequisites
* Environment and other context
------------------------------
TESTER COMMENTS
------------------------------
Additional comments from tester:
none provided
------------------------------
PROGRAM OUTPUT
------------------------------
Output from '/usr/bin/make test':
PERL_DL_NONLAZY=1 "/usr/bin/perl" "-MExtUtils::Command::MM" "-MTest::Harness" "-e" "undef *Test::Harness::Switches; test_harness(0, 'blib/lib', 'blib/arch')" t/*.t
t/adopt.t ............................ skipped: adopt not implemented yet
t/autoflush.t ........................ ok
t/autovivifyfh.t ..................... ok
t/binmode.t .......................... ok
t/bogus.t ............................ ok
t/child_fd_inadvertently_closed.t .... ok
t/eintr.t ............................ ok
t/filter.t ........................... ok
t/harness.t .......................... ok
t/io.t ............................... ok
t/kill_kill.t ........................ ok
t/parallel.t ......................... ok
t/parent_and_child_fds_match.t ....... ok
# IO::Tty 1.17, IO::Pty 1.17
t/pty.t .............................. ok
t/pump.t ............................. ok
t/readonly.t ......................... ok
t/result.t ........................... ok
t/run.t .............................. ok
t/run_stdin-callback-return-array.t .. ok
t/signal.t ........................... ok
t/timeout.t .......................... ok
t/timer.t ............................ ok
t/utf8.t ............................. ok
t/win32_compile.t .................... ok
t/win32_newlines.t ................... skipped: Skipping when not on Win32
t/windows_search_path.t .............. ok
All tests successful.
Files=26, Tests=761, 18 wallclock secs ( 0.21 usr 0.07 sys + 3.83 cusr 1.34 csys = 5.45 CPU)
Result: PASS
------------------------------
PREREQUISITES
------------------------------
Prerequisite modules loaded:
requires:
Module Need Have
------------------- ---- --------
IO::Pty 1.08 1.17
Test::More 0.47 1.302195
build_requires:
Module Need Have
------------------- ---- --------
ExtUtils::MakeMaker 0 7.70
configure_requires:
Module Need Have
------------------- ---- --------
ExtUtils::MakeMaker 0 7.70
opt_requires:
Module Need Have
------------------- ---- --------
IO::Pty 1.08 1.17
Readonly 0 2.05
------------------------------
ENVIRONMENT AND OTHER CONTEXT
------------------------------
Environment variables:
LANG = en_US.UTF-8
LC_ALL = en_US.UTF-8
LC_CTYPE = UTF-8
LDFLAGS = -L/usr/local/lib
PATH = /usr/bin:/opt/local/bin:/opt/local/sbin:/Users/roland/pebble-dev/PebbleSDK-current/bin:/Applications/Rakudo/bin:/Users/roland/.npm-packages/bin:/Users/roland/pebble-dev3/pebble-sdk-4.2-mac/bin:/Applications/Xcode.app/Contents/Developer/usr/bin/:/Applications/android-sdk-macosx/platform-tools:/Applications/android-sdk-macosx/tools:/usr/local/bin:/opt/local/bin:/usr/local/bin:/usr/bin:/bin:/usr/sbin:/sbin:/usr/local/MacGPG2/bin:/usr/local/share/dotnet:/opt/X11/bin:~/.dotnet/tools:/Library/Apple/usr/bin:/Applications/Rakudo/bin:/Applications/Rakudo/share/perl6/site/bin
PERL5LIB =
PERL5OPT =
PERL5_CPANPLUS_IS_RUNNING = 83491
PERL5_CPAN_IS_RUNNING = 83491
PERL_USE_UNSAFE_INC = 1
SHELL = /bin/bash
TEMP = /var/tmp/
TERM = xterm-256color
TMPDIR = /var/folders/7l/g84992vx2mv_vz02s8yt60sc0000gn/T/
VERSIONER_PERL_VERSION = 5.18
Perl special variables (and OS-specific diagnostics, for MSWin32):
$^X = /usr/bin/perl
$UID/$EUID = 501 / 501
$GID = 20 20 504 12 61 79 80 81 98 702 701 33 100 204 250 395 398 399 400
$EGID = 20 20 504 12 61 79 80 81 98 702 701 33 100 204 250 395 398 399 400
Perl module toolchain versions installed:
Module Have
------------------- --------
CPAN 2.36
CPAN::Meta 2.150010
Cwd 3.75
ExtUtils::CBuilder 0.280236
ExtUtils::Command 7.70
ExtUtils::Install 2.22
ExtUtils::MakeMaker 7.70
ExtUtils::Manifest 1.75
ExtUtils::ParseXS 3.35
File::Spec 3.75
JSON 4.10
JSON::PP 4.16
Module::Build 0.4224
Module::Signature 0.88
Parse::CPAN::Meta 2.150010
Test2 1.302195
Test::Harness 3.47
Test::More 1.302195
YAML 1.30
YAML::Syck 1.29
version 0.9930
--
Summary of my perl5 (revision 5 version 18 subversion 4) configuration:
Platform:
osname=darwin, osvers=19.0, archname=darwin-thread-multi-2level
uname='darwin osx397.sd.apple.com 19.0 darwin kernel version 18.0.0: tue jul 9 11:12:08 pdt 2019; root:xnu-4903.201.2.100.7~1release_x86_64 x86_64 '
config_args='-ds -e -Dprefix=/usr -Dccflags=-g -pipe -Dldflags= -Dman3ext=3pm -Duseithreads -Duseshrplib -Dinc_version_list=none -Dcc=cc'
hint=recommended, useposix=true, d_sigaction=define
useithreads=define, usemultiplicity=define
useperlio=define, d_sfio=undef, uselargefiles=define, usesocks=undef
use64bitint=define, use64bitall=define, uselongdouble=undef
usemymalloc=n, bincompat5005=undef
Compiler:
cc='cc', ccflags =' -g -pipe -fno-common -DPERL_DARWIN -fno-strict-aliasing -fstack-protector',
optimize='-Os',
cppflags='-g -pipe -fno-common -DPERL_DARWIN -fno-strict-aliasing -fstack-protector'
ccversion='', gccversion='4.2.1 Compatible Apple LLVM 11.0.3 (clang-1103.0.29.20) (-macos10.15-objc-selector-opts)', gccosandvers=''
intsize=4, longsize=8, ptrsize=8, doublesize=8, byteorder=12345678
d_longlong=define, longlongsize=8, d_longdbl=define, longdblsize=16
ivtype='long', ivsize=8, nvtype='double', nvsize=8, Off_t='off_t', lseeksize=8
alignbytes=8, prototype=define
Linker and Libraries:
ld='cc', ldflags =' -fstack-protector'
libpth=/usr/lib /usr/local/lib
libs=
perllibs=
libc=, so=dylib, useshrplib=true, libperl=libperl.dylib
gnulibc_version=''
Dynamic Linking:
dlsrc=dl_dlopen.xs, dlext=bundle, d_dlsymun=undef, ccdlflags=' '
cccdlflags=' ', lddlflags=' -bundle -undefined dynamic_lookup -fstack-protector'
Characteristics of this binary (from libperl):
Compile-time options: HAS_TIMES MULTIPLICITY PERLIO_LAYERS
PERL_DONT_CREATE_GVSV
PERL_HASH_FUNC_ONE_AT_A_TIME_HARD
PERL_IMPLICIT_CONTEXT PERL_MALLOC_WRAP
PERL_PRESERVE_IVUV PERL_SAWAMPERSAND USE_64_BIT_ALL
USE_64_BIT_INT USE_ITHREADS USE_LARGE_FILES
USE_LOCALE USE_LOCALE_COLLATE USE_LOCALE_CTYPE
USE_LOCALE_NUMERIC USE_PERLIO USE_PERL_ATOF
USE_REENTRANT_API
Locally applied patches:
/Library/Perl/Updates/<version> comes before system perl directories
installprivlib and installarchlib points to the Updates directory
Built under darwin
Compiled at Jun 5 2020 17:34:07
%ENV:
PERL5LIB=""
PERL5OPT=""
PERL5_CPANPLUS_IS_RUNNING="83491"
PERL5_CPAN_IS_RUNNING="83491"
PERL_USE_UNSAFE_INC="1"
@INC:
/Library/Perl/5.18/darwin-thread-multi-2level
/Library/Perl/5.18
/Network/Library/Perl/5.18/darwin-thread-multi-2level
/Network/Library/Perl/5.18
/Library/Perl/Updates/5.18.4/darwin-thread-multi-2level
/Library/Perl/Updates/5.18.4
/System/Library/Perl/5.18/darwin-thread-multi-2level
/System/Library/Perl/5.18
/System/Library/Perl/Extras/5.18/darwin-thread-multi-2level
/System/Library/Perl/Extras/5.18
.