Report for Thread-Queue-3.04

Back
From: metabase:user:322078bc-2aae-11df-837a-5e0a49663a4f
Subject: PASS Thread-Queue-3.04 v5.16.3 SunOS/Solaris
Date: 2014-03-17T13:39:39Z

This distribution has been tested as part of the CPAN Testers
project, supporting the Perl programming language.  See
http://wiki.cpantesters.org/ for more information or email
questions to cpan-testers-discuss@perl.org


--

Dear Jerry D. Hedden,

This is a computer-generated error report created automatically by
CPANPLUS, version 0.9148. Testers personal comments may appear
at the end of this report.


Thank you for uploading your work to CPAN.  Congratulations!
All tests were successful.

TEST RESULTS:

Below is the error stack from stage 'make test':

PERL_DL_NONLAZY=1 /opt/perl-5.16.3/bin/perl "-MExtUtils::Command::MM" "-MTest::Harness" "-e" "undef *Test::Harness::Switches; test_harness(0, 'blib/lib', 'blib/arch')" t/*.t
# Testing Thread::Queue 3.04
t/00_load.t ....... ok
t/01_basic.t ...... skipped: Perl not compiled with 'useithreads'
t/02_refs.t ....... skipped: Perl not compiled with 'useithreads'
t/03_peek.t ....... skipped: Perl not compiled with 'useithreads'
Use of uninitialized value $class_name:: in regexp compilation at /opt/perl-5.16.3/.cpanplus/5.16.3/build/Thread-Queue-3.04/blib/lib/Thread/Queue.pm line 256.
Use of uninitialized value $class_name:: in regexp compilation at /opt/perl-5.16.3/.cpanplus/5.16.3/build/Thread-Queue-3.04/blib/lib/Thread/Queue.pm line 234.
t/04_errs.t ....... ok
t/05_extract.t .... skipped: Perl not compiled with 'useithreads'
t/06_insert.t ..... skipped: Perl not compiled with 'useithreads'
t/07_lock.t ....... skipped: Perl not compiled with 'useithreads'
t/08_nothreads.t .. ok
t/09_ended.t ...... skipped: Perl not compiled with 'useithreads'
t/10_timed.t ...... skipped: Perl not compiled with 'useithreads'
t/99_pod.t ........ skipped: Module maintainer tests
All tests successful.
Files=12, Tests=59,  0 wallclock secs ( 0.08 usr  0.07 sys +  0.13 cusr  0.05 csys =  0.33 CPU)
Result: PASS


PREREQUISITES:

Here is a list of prerequisites you specified and versions we
managed to load:

	  Module Name                        Have     Want
	  ExtUtils::MakeMaker                6.92        0
	  Scalar::Util                       1.38      1.1
	  Test::More                     1.001002      0.5
	  Thread::Semaphore                  2.12        0
	  threads::shared                    1.46     1.21

Perl module toolchain versions installed:
	Module Name                        Have
	CPANPLUS                         0.9148
	CPANPLUS::Dist::Build              0.76
	Cwd                                3.40
	ExtUtils::CBuilder             0.280216
	ExtUtils::Command                  1.18
	ExtUtils::Install                  1.63
	ExtUtils::MakeMaker                6.92
	ExtUtils::Manifest                 1.63
	ExtUtils::ParseXS                  3.24
	File::Spec                         3.40
	Module::Build                    0.4205
	Pod::Parser                        1.62
	Pod::Simple                        3.28
	Test::Harness                      3.30
	Test::More                     1.001002
	version                          0.9908

******************************** NOTE ********************************
The comments above are created mechanically, possibly without manual
checking by the sender.  As there are many people performing automatic
tests on each upload to CPAN, it is likely that you will receive
identical messages about the same problem.

If you believe that the message is mistaken, please reply to the first
one with correction and/or additional informations, and do not take
it personally.  We appreciate your patience. :)
**********************************************************************

Additional comments:


This report was machine-generated by CPANPLUS::Dist::YACSmoke 0.90.

------------------------------
ENVIRONMENT AND OTHER CONTEXT
------------------------------

Environment variables:

    AUTOMATED_TESTING = 1
    PATH = /opt/gcc-4.6.3/bin:/usr/gnu/bin:/usr/bin:/usr/sbin:/sbin
    PERL5LIB = :/opt/perl-5.16.3/.cpanplus/5.16.3/build/Test-Warnings-0.014/blib/lib:/opt/perl-5.16.3/.cpanplus/5.16.3/build/Test-Warnings-0.014/blib/arch:/opt/perl-5.16.3/.cpanplus/5.16.3/build/Thread-Queue-3.04/blib/lib:/opt/perl-5.16.3/.cpanplus/5.16.3/build/Thread-Queue-3.04/blib/arch
    PERL5_CPANIDX_URL = http://cpan.mirror.local/cpanidx/
    PERL5_CPANPLUS_HOME = /opt/perl-5.16.3
    PERL5_CPANPLUS_IS_RUNNING = 8149
    PERL5_CPANPLUS_IS_VERSION = 0.9148
    PERL_EXTUTILS_AUTOINSTALL = --defaultdeps
    PERL_MM_USE_DEFAULT = 1
    SHELL = /usr/bin/bash
    TERM = sun-color

Perl special variables (and OS-specific diagnostics, for MSWin32):

    Perl: $^X = /opt/perl-5.16.3/bin/perl
    UID:  $<  = 0
    EUID: $>  = 0
    GID:  $(  = 0 0 1 2 3 4 5 6 7 8 9 12
    EGID: $)  = 0 0 1 2 3 4 5 6 7 8 9 12


-------------------------------


--

Summary of my perl5 (revision 5 version 16 subversion 3) configuration:
   
  Platform:
    osname=solaris, osvers=2.11, archname=i86pc-solaris-64
    uname='sunos oink 5.11 omnios-33fdde4 i86pc i386 i86pc solaris '
    config_args='-es -Dprefix=/opt/perl-5.16.3'
    hint=recommended, useposix=true, d_sigaction=define
    useithreads=undef, usemultiplicity=undef
    useperlio=define, d_sfio=undef, uselargefiles=define, usesocks=undef
    use64bitint=define, use64bitall=define, uselongdouble=undef
    usemymalloc=n, bincompat5005=undef
  Compiler:
    cc='gcc', ccflags ='-fno-strict-aliasing -pipe -fstack-protector -m64 -fPIC -m64 -D_LARGEFILE_SOURCE -D_FILE_OFFSET_BITS=64 -DPERL_USE_SAFE_PUTENV',
    optimize='-O',
    cppflags='-fno-strict-aliasing -pipe -fstack-protector -m64 -fPIC'
    ccversion='', gccversion='4.6.3', gccosandvers=''
    intsize=4, longsize=8, ptrsize=8, doublesize=8, byteorder=12345678
    d_longlong=define, longlongsize=8, d_longdbl=define, longdblsize=16
    ivtype='long', ivsize=8, nvtype='double', nvsize=8, Off_t='off_t', lseeksize=8
    alignbytes=8, prototype=define
  Linker and Libraries:
    ld='gcc', ldflags =' -fstack-protector -L/usr/gnu/lib -m64 '
    libpth=/usr/gnu/lib /usr/lib /usr/ccs/lib
    libs=-lsocket -lnsl -ldl -lm -lc
    perllibs=-lsocket -lnsl -ldl -lm -lc
    libc=/lib/libc.so, so=so, useshrplib=false, libperl=libperl.a
    gnulibc_version=''
  Dynamic Linking:
    dlsrc=dl_dlopen.xs, dlext=so, d_dlsymun=undef, ccdlflags=' '
    cccdlflags='-fPIC', lddlflags='-shared -m64 -L/usr/gnu/lib -fstack-protector'


Characteristics of this binary (from libperl): 
  Compile-time options: HAS_TIMES PERLIO_LAYERS PERL_DONT_CREATE_GVSV
                        PERL_MALLOC_WRAP PERL_PRESERVE_IVUV
                        PERL_USE_SAFE_PUTENV USE_64_BIT_ALL USE_64_BIT_INT
                        USE_LARGE_FILES USE_LOCALE USE_LOCALE_COLLATE
                        USE_LOCALE_CTYPE USE_LOCALE_NUMERIC USE_PERLIO
                        USE_PERL_ATOF
  Built under solaris
  Compiled at May  7 2013 21:22:43
  %ENV:
    PERL5LIB=":/opt/perl-5.16.3/.cpanplus/5.16.3/build/Test-Warnings-0.014/blib/lib:/opt/perl-5.16.3/.cpanplus/5.16.3/build/Test-Warnings-0.014/blib/arch:/opt/perl-5.16.3/.cpanplus/5.16.3/build/Thread-Queue-3.04/blib/lib:/opt/perl-5.16.3/.cpanplus/5.16.3/build/Thread-Queue-3.04/blib/arch"
    PERL5_CPANIDX_URL="http://cpan.mirror.local/cpanidx/"
    PERL5_CPANPLUS_HOME="/opt/perl-5.16.3"
    PERL5_CPANPLUS_IS_RUNNING="8149"
    PERL5_CPANPLUS_IS_VERSION="0.9148"
    PERL_EXTUTILS_AUTOINSTALL="--defaultdeps"
    PERL_MM_USE_DEFAULT="1"
  @INC:
    /opt/perl-5.16.3/.cpanplus/5.16.3/build/Test-Warnings-0.014/blib/lib
    /opt/perl-5.16.3/.cpanplus/5.16.3/build/Test-Warnings-0.014/blib/arch
    /opt/perl-5.16.3/.cpanplus/5.16.3/build/Thread-Queue-3.04/blib/lib
    /opt/perl-5.16.3/.cpanplus/5.16.3/build/Thread-Queue-3.04/blib/arch
    /opt/perl-5.16.3/lib/site_perl/5.16.3/i86pc-solaris-64
    /opt/perl-5.16.3/lib/site_perl/5.16.3
    /opt/perl-5.16.3/lib/5.16.3/i86pc-solaris-64
    /opt/perl-5.16.3/lib/5.16.3
    .