Report for Module-PrintUsed-0.06

Back
From: metabase:user:30ae4450-2aae-11df-837a-5e0a49663a4f
Subject: PASS Module-PrintUsed-0.06 v5.24.0 
Date: 2017-01-16T16:31:15Z

This distribution has been tested as part of the CPAN Testers
project, supporting the Perl programming language.  See
http://wiki.cpantesters.org/ for more information or email
questions to cpan-testers-discuss@perl.org


--
Dear Christian Renz,

This is a computer-generated report for Module-PrintUsed-0.06
on perl 5.24.0, created by CPAN-Reporter-1.2018.

Thank you for uploading your work to CPAN.  Congratulations!
All tests were successful.

Sections of this report:

    * Tester comments
    * Program output
    * Prerequisites
    * Environment and other context

------------------------------
TESTER COMMENTS
------------------------------

Additional comments from tester:

this report is from an automated smoke testing program
and was not reviewed by a human for accuracy

------------------------------
PROGRAM OUTPUT
------------------------------

Output from 'C:\STRAWB~1\c\bin\dmake.exe test':

"C:\Strawberry240\perl\bin\perl.exe" "-MExtUtils::Command::MM" "-MTest::Harness" "-e" "undef *Test::Harness::Switches; test_harness(0, 'blib\lib', 'blib\arch')" t/*.t

Modules used by t/1-use.t:
 - Carp                      1.40     C:/Strawberry240/perl/lib/Carp.pm
 - Exporter                  5.72     C:/Strawberry240/perl/lib/Exporter.pm
 - Exporter::Heavy           5.72     C:/Strawberry240/perl/lib/Exporter/Heavy.pm
 - Module::PrintUsed         0.06     C:\STRAWB~1\cpan\build\Module-PrintUsed-0.06-0\blib\lib/Module/PrintUsed.pm
 - Test                      1.28     C:/Strawberry240/perl/lib/Test.pm
 - strict                    1.11     C:/Strawberry240/perl/lib/strict.pm
 - vars                      1.03     C:/Strawberry240/perl/lib/vars.pm
 - warnings                  1.36     C:/Strawberry240/perl/lib/warnings.pm
 - warnings::register        1.04     C:/Strawberry240/perl/lib/warnings/register.pm

t/1-use.t ......... ok

Modules used by t/2-modules.t:
 - Carp                      1.40     C:/Strawberry240/perl/lib/Carp.pm
 - Exporter                  5.72     C:/Strawberry240/perl/lib/Exporter.pm
 - Exporter::Heavy           5.72     C:/Strawberry240/perl/lib/Exporter/Heavy.pm
 - Module::PrintUsed         0.06     C:\STRAWB~1\cpan\build\Module-PrintUsed-0.06-0\blib\lib/Module/PrintUsed.pm
 - Test                      1.28     C:/Strawberry240/perl/lib/Test.pm
 - strict                    1.11     C:/Strawberry240/perl/lib/strict.pm
 - vars                      1.03     C:/Strawberry240/perl/lib/vars.pm
 - warnings                  1.36     C:/Strawberry240/perl/lib/warnings.pm
 - warnings::register        1.04     C:/Strawberry240/perl/lib/warnings/register.pm

t/2-modules.t ..... ok
t/meta.t .......... ok

Modules used by t/pod-coverage.t:
 - B                         1.62     C:/Strawberry240/perl/lib/B.pm
 - Carp                      1.40     C:/Strawberry240/perl/lib/Carp.pm
 - Config                    5.024000 C:/Strawberry240/perl/lib/Config.pm
 - Config_git.pl                      C:/Strawberry240/perl/lib/Config_git.pl
 - Config_heavy.pl                    C:/Strawberry240/perl/lib/Config_heavy.pl
 - Cwd                       3.63     C:/Strawberry240/perl/lib/Cwd.pm
 - Devel::Symdump            2.17     C:/Strawberry240/perl/site/lib/Devel/Symdump.pm
 - DynaLoader                1.38     C:/Strawberry240/perl/lib/DynaLoader.pm
 - Exporter                  5.72     C:/Strawberry240/perl/lib/Exporter.pm
 - Fcntl                     1.13     C:/Strawberry240/perl/lib/Fcntl.pm
 - File::Basename            2.85     C:/Strawberry240/perl/lib/File/Basename.pm
 - File::Find                1.34     C:/Strawberry240/perl/lib/File/Find.pm
 - File::Spec                3.63     C:/Strawberry240/perl/lib/File/Spec.pm
 - File::Spec::Unix          3.63     C:/Strawberry240/perl/lib/File/Spec/Unix.pm
 - File::Spec::Win32         3.63     C:/Strawberry240/perl/lib/File/Spec/Win32.pm
 - IO                        1.36     C:/Strawberry240/perl/lib/IO.pm
 - IO::File                  1.16     C:/Strawberry240/perl/lib/IO/File.pm
 - IO::Handle                1.36     C:/Strawberry240/perl/lib/IO/Handle.pm
 - IO::Seekable              1.1      C:/Strawberry240/perl/lib/IO/Seekable.pm
 - List::Util                1.47     C:/Strawberry240/perl/lib/List/Util.pm
 - Math::BigInt              1.999807 C:/Strawberry240/perl/lib/Math/BigInt.pm
 - Math::BigInt::Calc        1.999807 C:/Strawberry240/perl/lib/Math/BigInt/Calc.pm
 - Math::BigInt::Lib         1.999807 C:/Strawberry240/perl/lib/Math/BigInt/Lib.pm
 - Module::PrintUsed         0.06     C:\STRAWB~1\cpan\build\Module-PrintUsed-0.06-0\blib\lib/Module/PrintUsed.pm
 - PerlIO                    1.09     C:/Strawberry240/perl/lib/PerlIO.pm
 - Pod::Coverage             0.23     C:/Strawberry240/perl/site/lib/Pod/Coverage.pm
 - Pod::Find                 1.63     C:/Strawberry240/perl/lib/Pod/Find.pm
 - Pod::InputObjects         1.63     C:/Strawberry240/perl/lib/Pod/InputObjects.pm
 - Pod::Parser               1.63     C:/Strawberry240/perl/lib/Pod/Parser.pm
 - Scalar::Util              1.47     C:/Strawberry240/perl/lib/Scalar/Util.pm
 - SelectSaver               1.02     C:/Strawberry240/perl/lib/SelectSaver.pm
 - Symbol                    1.07     C:/Strawberry240/perl/lib/Symbol.pm
 - Test::Builder             1.302073 C:/Strawberry240/perl/lib/Test/Builder.pm
 - Test::Builder::Formatter  1.302073 C:/Strawberry240/perl/lib/Test/Builder/Formatter.pm
 - Test::Builder::Module     1.302073 C:/Strawberry240/perl/lib/Test/Builder/Module.pm
 - Test::Builder::TodoDiag   1.302073 C:/Strawberry240/perl/lib/Test/Builder/TodoDiag.pm
 - Test::More                1.302073 C:/Strawberry240/perl/lib/Test/More.pm
 - Test::Pod::Coverage       1.10     C:/Strawberry240/perl/site/lib/Test/Pod/Coverage.pm
 - Test2::API                1.302073 C:/Strawberry240/perl/lib/Test2/API.pm
 - Test2::API::Context       1.302073 C:/Strawberry240/perl/lib/Test2/API/Context.pm
 - Test2::API::Instance      1.302073 C:/Strawberry240/perl/lib/Test2/API/Instance.pm
 - Test2::API::Stack         1.302073 C:/Strawberry240/perl/lib/Test2/API/Stack.pm
 - Test2::Event              1.302073 C:/Strawberry240/perl/lib/Test2/Event.pm
 - Test2::Event::Bail        1.302073 C:/Strawberry240/perl/lib/Test2/Event/Bail.pm
 - Test2::Event::Diag        1.302073 C:/Strawberry240/perl/lib/Test2/Event/Diag.pm
 - Test2::Event::Exception   1.302073 C:/Strawberry240/perl/lib/Test2/Event/Exception.pm
 - Test2::Event::Info        1.302073 C:/Strawberry240/perl/lib/Test2/Event/Info.pm
 - Test2::Event::Note        1.302073 C:/Strawberry240/perl/lib/Test2/Event/Note.pm
 - Test2::Event::Ok          1.302073 C:/Strawberry240/perl/lib/Test2/Event/Ok.pm
 - Test2::Event::Plan        1.302073 C:/Strawberry240/perl/lib/Test2/Event/Plan.pm
 - Test2::Event::Skip        1.302073 C:/Strawberry240/perl/lib/Test2/Event/Skip.pm
 - Test2::Event::Subtest     1.302073 C:/Strawberry240/perl/lib/Test2/Event/Subtest.pm
 - Test2::Event::Waiting     1.302073 C:/Strawberry240/perl/lib/Test2/Event/Waiting.pm
 - Test2::Formatter          1.302073 C:/Strawberry240/perl/lib/Test2/Formatter.pm
 - Test2::Formatter::TAP     1.302073 C:/Strawberry240/perl/lib/Test2/Formatter/TAP.pm
 - Test2::Hub                1.302073 C:/Strawberry240/perl/lib/Test2/Hub.pm
 - Test2::Hub::Interceptor   1.302073 C:/Strawberry240/perl/lib/Test2/Hub/Interceptor.pm
 - Test2::Hub::Interceptor::Terminator 1.302073 C:/Strawberry240/perl/lib/Test2/Hub/Interceptor/Terminator.pm
 - Test2::Hub::Subtest       1.302073 C:/Strawberry240/perl/lib/Test2/Hub/Subtest.pm
 - Test2::Util               1.302073 C:/Strawberry240/perl/lib/Test2/Util.pm
 - Test2::Util::ExternalMeta 1.302073 C:/Strawberry240/perl/lib/Test2/Util/ExternalMeta.pm
 - Test2::Util::HashBase     0.002    C:/Strawberry240/perl/lib/Test2/Util/HashBase.pm
 - Test2::Util::Trace        1.302073 C:/Strawberry240/perl/lib/Test2/Util/Trace.pm
 - Tie::Handle               4.2      C:/Strawberry240/perl/lib/Tie/Handle.pm
 - Tie::StdHandle            4.4      C:/Strawberry240/perl/lib/Tie/StdHandle.pm
 - Win32API::File            0.1203   C:/Strawberry240/perl/lib/Win32API/File.pm
 - Win32API::File::cFile.pc           C:/Strawberry240/perl/lib/Win32API/File/cFile.pc
 - XSLoader                  0.24     C:/Strawberry240/perl/lib/XSLoader.pm
 - base                      2.23     C:/Strawberry240/perl/lib/base.pm
 - constant                  1.33     C:/Strawberry240/perl/lib/constant.pm
 - integer                   1.01     C:/Strawberry240/perl/lib/integer.pm
 - mro                       1.18     C:/Strawberry240/perl/lib/mro.pm
 - overload                  1.26     C:/Strawberry240/perl/lib/overload.pm
 - overloading               0.02     C:/Strawberry240/perl/lib/overloading.pm
 - re                        0.32     C:/Strawberry240/perl/lib/re.pm
 - strict                    1.11     C:/Strawberry240/perl/lib/strict.pm
 - vars                      1.03     C:/Strawberry240/perl/lib/vars.pm
 - warnings                  1.36     C:/Strawberry240/perl/lib/warnings.pm
 - warnings::register        1.04     C:/Strawberry240/perl/lib/warnings/register.pm

t/pod-coverage.t .. ok
t/pod.t ........... ok
All tests successful.
Files=5, Tests=8,  2 wallclock secs ( 0.03 usr +  0.04 sys =  0.07 CPU)
Result: PASS

------------------------------
PREREQUISITES
------------------------------

Prerequisite modules loaded:

requires:

    Module              Need  Have    
    ------------------- ----- --------
    perl                5.006 5.024000

build_requires:

    Module              Need  Have    
    ------------------- ----- --------
    ExtUtils::MakeMaker 0     7.24    

configure_requires:

    Module              Need  Have    
    ------------------- ----- --------
    ExtUtils::MakeMaker 0     7.24    


------------------------------
ENVIRONMENT AND OTHER CONTEXT
------------------------------

Environment variables:

    AUTOMATED_TESTING = 1
    COMSPEC = C:\WINDOWS\system32\cmd.exe
    NUMBER_OF_PROCESSORS = 1
    PATH = C:\WINDOWS\system32;C:\WINDOWS;C:\WINDOWS\System32\Wbem;C:\Git\cmd;C:\Strawberry240\c\bin;C:\Strawberry240\perl\site\bin;C:\Strawberry240\perl\bin
    PERL5LIB = 
    PERL5OPT = 
    PERL5_CPANPLUS_IS_RUNNING = 1732
    PERL5_CPAN_IS_RUNNING = 1732
    PERL5_CPAN_IS_RUNNING_IN_RECURSION = 1344,1732
    PERL_CR_SMOKER_CURRENT = Module-PrintUsed-0.06
    PERL_CR_SMOKER_RUNONCE = 1
    PERL_EXTUTILS_AUTOINSTALL = --defaultdeps
    PERL_HASH_SEED = 0x11111111
    PERL_MM_USE_DEFAULT = 1
    PROCESSOR_IDENTIFIER = x86 Family 16 Model 5 Stepping 3, AuthenticAMD
    TEMP = C:\DOCUME~1\a\LOCALS~1\Temp

Perl special variables (and OS-specific diagnostics, for MSWin32):

    $^X = C:\Strawberry240\perl\bin\perl.exe
    $UID/$EUID = 0 / 0
    $GID = 0
    $EGID = 0
    Win32::GetOSName = WinXP/.Net
    Win32::GetOSVersion = Service Pack 3, 5, 1, 2600, 2, 3, 0, 256, 1
    Win32::FsType = NTFS
    Win32::IsAdminUser = 1

Perl module toolchain versions installed:

    Module              Have    
    ------------------- --------
    CPAN                2.14    
    CPAN::Meta          2.150010
    Cwd                 3.63    
    ExtUtils::CBuilder  0.280225
    ExtUtils::Command   7.24    
    ExtUtils::Install   2.04    
    ExtUtils::MakeMaker 7.24    
    ExtUtils::Manifest  1.70    
    ExtUtils::ParseXS   3.31    
    File::Spec          3.63    
    JSON                2.90    
    JSON::PP            2.27400 
    Module::Build       0.4220  
    Module::Signature   0.81    
    Parse::CPAN::Meta   2.150010
    Test::Harness       3.36    
    Test::More          1.302073
    YAML                1.21    
    YAML::Syck          1.29    
    version             0.9917  


--

Summary of my perl5 (revision 5 version 24 subversion 0) configuration:
   
  Platform:
    osname=MSWin32, osvers=4.0, archname=MSWin32-x86-multi-thread
    uname='Win32 strawberry-perl 5.24.0.1-beta1 #1 Thu Dec 29 16:46:05 2016 i386'
    config_args='undef'
    hint=recommended, useposix=true, d_sigaction=undef
    useithreads=define, usemultiplicity=define
    use64bitint=undef, use64bitall=undef, uselongdouble=undef
    usemymalloc=n, bincompat5005=undef
  Compiler:
    cc='gcc', ccflags =' -s -O2 -DWIN32  -DPERL_TEXTMODE_SCRIPTS -DPERL_IMPLICIT_CONTEXT -DPERL_IMPLICIT_SYS -fwrapv -fno-strict-aliasing -mms-bitfields',
    optimize='-s -O2',
    cppflags='-DWIN32'
    ccversion='', gccversion='4.9.2', gccosandvers=''
    intsize=4, longsize=4, ptrsize=4, doublesize=8, byteorder=1234, doublekind=3
    d_longlong=define, longlongsize=8, d_longdbl=define, longdblsize=12, longdblkind=3
    ivtype='long', ivsize=4, nvtype='double', nvsize=8, Off_t='long long', lseeksize=8
    alignbytes=8, prototype=define
  Linker and Libraries:
    ld='g++', ldflags ='-s -L"C:\STRAWB~1\perl\lib\CORE" -L"C:\STRAWB~1\c\lib"'
    libpth=C:\STRAWB~1\c\lib C:\STRAWB~1\c\i686-w64-mingw32\lib C:\STRAWB~1\c\lib\gcc\i686-w64-mingw32\4.9.2
    libs=-lmoldname -lkernel32 -luser32 -lgdi32 -lwinspool -lcomdlg32 -ladvapi32 -lshell32 -lole32 -loleaut32 -lnetapi32 -luuid -lws2_32 -lmpr -lwinmm -lversion -lodbc32 -lodbccp32 -lcomctl32
    perllibs=-lmoldname -lkernel32 -luser32 -lgdi32 -lwinspool -lcomdlg32 -ladvapi32 -lshell32 -lole32 -loleaut32 -lnetapi32 -luuid -lws2_32 -lmpr -lwinmm -lversion -lodbc32 -lodbccp32 -lcomctl32
    libc=, so=dll, useshrplib=true, libperl=libperl524.a
    gnulibc_version=''
  Dynamic Linking:
    dlsrc=dl_win32.xs, dlext=xs.dll, d_dlsymun=undef, ccdlflags=' '
    cccdlflags=' ', lddlflags='-mdll -s -L"C:\STRAWB~1\perl\lib\CORE" -L"C:\STRAWB~1\c\lib"'


Characteristics of this binary (from libperl): 
  Compile-time options: HAS_TIMES HAVE_INTERP_INTERN MULTIPLICITY
                        PERLIO_LAYERS PERL_COPY_ON_WRITE
                        PERL_DONT_CREATE_GVSV
                        PERL_HASH_FUNC_ONE_AT_A_TIME_HARD
                        PERL_IMPLICIT_CONTEXT PERL_IMPLICIT_SYS
                        PERL_MALLOC_WRAP PERL_PRESERVE_IVUV USE_ITHREADS
                        USE_LARGE_FILES USE_LOCALE USE_LOCALE_COLLATE
                        USE_LOCALE_CTYPE USE_LOCALE_NUMERIC USE_LOCALE_TIME
                        USE_PERLIO USE_PERL_ATOF
  Built under MSWin32
  Compiled at Dec 29 2016 16:55:33
  %ENV:
    PERL5_CPANPLUS_IS_RUNNING="1732"
    PERL5_CPAN_IS_RUNNING="1732"
    PERL5_CPAN_IS_RUNNING_IN_RECURSION="1344,1732"
    PERL_CR_SMOKER_CURRENT="Module-PrintUsed-0.06"
    PERL_CR_SMOKER_RUNONCE="1"
    PERL_EXTUTILS_AUTOINSTALL="--defaultdeps"
    PERL_HASH_SEED="0x11111111"
    PERL_MM_USE_DEFAULT="1"
  @INC:
    C:/Strawberry240/perl/site/lib
    C:/Strawberry240/perl/vendor/lib
    C:/Strawberry240/perl/lib
    .