Back
From: metabase:user:1eed3a18-483e-11e2-a87b-a3931c712682
Subject: PASS Crypt-SSLeay-0.72 v5.10.1 Mac OS X
Date: 2014-04-25T08:57:09Z
This distribution has been tested as part of the CPAN Testers
project, supporting the Perl programming language. See
http://wiki.cpantesters.org/ for more information or email
questions to cpan-testers-discuss@perl.org
--
Dear NANIS,
This is a computer-generated report for Crypt-SSLeay-0.72
on perl 5.10.1, created by App::cpanminus::reporter 0.10 (1.7000).
Thank you for uploading your work to CPAN. Congratulations!
All tests were successful.
Sections of this report:
* Tester comments
* Program output
* Prerequisites
* Environment and other context
------------------------------
TESTER COMMENTS
------------------------------
Additional comments from tester:
none provided
------------------------------
PROGRAM OUTPUT
------------------------------
Output from '':
Building and testing Crypt-SSLeay-0.72
cp lib/Crypt/SSLeay/Version.pm blib/lib/Crypt/SSLeay/Version.pm
cp lib/Crypt/SSLeay/X509.pm blib/lib/Crypt/SSLeay/X509.pm
cp lib/Net/SSL.pm blib/lib/Net/SSL.pm
cp lib/Crypt/SSLeay/MainContext.pm blib/lib/Crypt/SSLeay/MainContext.pm
cp lib/Crypt/SSLeay/Conn.pm blib/lib/Crypt/SSLeay/Conn.pm
cp lib/Crypt/SSLeay/CTX.pm blib/lib/Crypt/SSLeay/CTX.pm
cp SSLeay.pm blib/lib/Crypt/SSLeay.pm
cp lib/Crypt/SSLeay/Err.pm blib/lib/Crypt/SSLeay/Err.pm
Running Mkbootstrap for Crypt::SSLeay ()
chmod 644 SSLeay.bs
/Users/stas/perl5/perlbrew/perls/perl-5.10.1/bin/perl /Users/stas/perl5/perlbrew/perls/perl-5.10.1/lib/5.10.1/ExtUtils/xsubpp -typemap /Users/stas/perl5/perlbrew/perls/perl-5.10.1/lib/5.10.1/ExtUtils/typemap -typemap typemap SSLeay.xs > SSLeay.xsc && mv SSLeay.xsc SSLeay.c
cc -c -fno-common -DPERL_DARWIN -fno-strict-aliasing -pipe -fstack-protector -I/opt/local/include -O3 -DVERSION=\"0.72\" -DXS_VERSION=\"0.72\" "-I/Users/stas/perl5/perlbrew/perls/perl-5.10.1/lib/5.10.1/darwin-2level/CORE" SSLeay.c
rm -f blib/arch/auto/Crypt/SSLeay/SSLeay.bundle
LD_RUN_PATH="/opt/local/lib" env MACOSX_DEPLOYMENT_TARGET=10.3 cc -bundle -undefined dynamic_lookup -L/usr/local/lib -L/opt/local/lib -fstack-protector SSLeay.o -o blib/arch/auto/Crypt/SSLeay/SSLeay.bundle \
-lssl -lcrypto -lz \
chmod 755 blib/arch/auto/Crypt/SSLeay/SSLeay.bundle
/Users/stas/perl5/perlbrew/perls/perl-5.10.1/bin/perl -MExtUtils::Command::MM -e 'cp_nonempty' -- SSLeay.bs blib/arch/auto/Crypt/SSLeay/SSLeay.bs 644
Manifying blib/man3/Crypt::SSLeay.3
Manifying blib/man3/Crypt::SSLeay::Version.3
Manifying blib/man3/Net::SSL.3
Running Mkbootstrap for Crypt::SSLeay ()
chmod 644 SSLeay.bs
PERL_DL_NONLAZY=1 /Users/stas/perl5/perlbrew/perls/perl-5.10.1/bin/perl "-MExtUtils::Command::MM" "-MTest::Harness" "-e" "undef *Test::Harness::Switches; test_harness(0, 'blib/lib', 'blib/arch')" t/*.t
t/00-basic.t ..... ok
t/01-connect.t ... ok
# Reading configuration from 'test.config' on darwin
# network_tests : 0
t/02-live.t ...... skipped: Network tests disabled
t/03-version.t ... ok
t/boilerplate.t .. ok
t/manifest.t ..... skipped: Author tests not required for installation
All tests successful.
Files=6, Tests=43, 0 wallclock secs ( 0.04 usr 0.02 sys + 0.44 cusr 0.05 csys = 0.55 CPU)
Result: PASS
------------------------------
PREREQUISITES
------------------------------
Prerequisite modules loaded:
No requirements found
------------------------------
ENVIRONMENT AND OTHER CONTEXT
------------------------------
Environment variables:
LANG = en_US.UTF-8
LC_ALL = en_US.UTF-8
LC_CTYPE = en_US.UTF-8
PATH = /Users/stas/perl5/perlbrew/bin:/Users/stas/perl5/perlbrew/perls/perl-5.10.1/bin:/Users/stas/.vim/bin:/Users/stas/bin:/Users/stas/node_modules/.bin:/opt/local/Library/Frameworks/Python.framework/Versions/2.7/bin:/opt/local/lib/postgresql92/bin:/opt/local/bin:/opt/local/sbin:/usr/bin:/bin:/usr/sbin:/sbin:/usr/local/bin:/opt/X11/bin:/Users/stas/.vim/bin:/Users/stas/bin:/Users/stas/node_modules/.bin:/opt/local/Library/Frameworks/Python.framework/Versions/2.7/bin:/opt/local/lib/postgresql92/bin:/opt/local/bin:/opt/local/sbin
PERLBREW_BASHRC_VERSION = 0.67
PERLBREW_HOME = /Users/stas/.perlbrew
PERLBREW_MANPATH = /Users/stas/perl5/perlbrew/perls/perl-5.10.1/man
PERLBREW_PATH = /Users/stas/perl5/perlbrew/bin:/Users/stas/perl5/perlbrew/perls/perl-5.10.1/bin
PERLBREW_PERL = perl-5.10.1
PERLBREW_ROOT = /Users/stas/perl5/perlbrew
PERLBREW_VERSION = 0.67
PERL_MM_USE_DEFAULT = 1
SHELL = /opt/local/bin/zsh
TERM = screen
TMPDIR = /var/folders/k7/cj2hxbn162362g2150r7t9480000gn/T/
Perl special variables (and OS-specific diagnostics, for MSWin32):
EGID = 20 20 508 12 61 79 80 81 98 398 399 33 100 204
EUID = 501
EXECUTABLE_NAME = /Users/stas/perl5/perlbrew/perls/perl-5.10.1/bin/perl
GID = 20 20 508 12 61 79 80 81 98 398 399 33 100 204
UID = 501
Perl module toolchain versions installed:
Module Have
------------------- --------
CPAN 2.05
CPAN::Meta 2.140640
Cwd 3.40
ExtUtils::CBuilder 0.280216
ExtUtils::Command 1.18
ExtUtils::Install 1.67
ExtUtils::MakeMaker 6.96
ExtUtils::Manifest 1.63
ExtUtils::ParseXS 3.24
File::Spec 3.40
JSON 2.90
JSON::PP 2.27203
Module::Build 0.4205
Module::Signature 0.73
Parse::CPAN::Meta 1.4414
Test::Harness 3.30
Test::More 1.001003
YAML 0.90
YAML::Syck 1.27
version 0.9908
--
Summary of my perl5 (revision 5 version 10 subversion 1) configuration:
Platform:
osname=darwin, osvers=13.0.0, archname=darwin-2level
uname='darwin stas-macbook 13.0.0 darwin kernel version 13.0.0: thu sep 19 22:22:27 pdt 2013; root:xnu-2422.1.72~6release_x86_64 x86_64 '
config_args='-de -Dprefix=/Users/stas/perl5/perlbrew/perls/perl-5.10.1 -Aeval:scriptdir=/Users/stas/perl5/perlbrew/perls/perl-5.10.1/bin'
hint=recommended, useposix=true, d_sigaction=define
useithreads=undef, usemultiplicity=undef
useperlio=define, d_sfio=undef, uselargefiles=define, usesocks=undef
use64bitint=define, use64bitall=define, uselongdouble=undef
usemymalloc=n, bincompat5005=undef
Compiler:
cc='cc', ccflags ='-fno-common -DPERL_DARWIN -fno-strict-aliasing -pipe -fstack-protector -I/opt/local/include',
optimize='-O3',
cppflags='-fno-common -DPERL_DARWIN -fno-strict-aliasing -pipe -fstack-protector -I/opt/local/include'
ccversion='', gccversion='4.2.1 Compatible Apple LLVM 5.0 (clang-500.2.79)', gccosandvers=''
intsize=4, longsize=8, ptrsize=8, doublesize=8, byteorder=12345678
d_longlong=define, longlongsize=8, d_longdbl=define, longdblsize=16
ivtype='long', ivsize=8, nvtype='double', nvsize=8, Off_t='off_t', lseeksize=8
alignbytes=8, prototype=define
Linker and Libraries:
ld='env MACOSX_DEPLOYMENT_TARGET=10.3 cc', ldflags =' -fstack-protector -L/usr/local/lib -L/opt/local/lib'
libpth=/usr/local/lib /opt/local/lib /usr/lib
libs=-lgdbm -ldbm -ldl -lm -lutil -lc
perllibs=-ldl -lm -lutil -lc
libc=, so=dylib, useshrplib=false, libperl=libperl.a
gnulibc_version=''
Dynamic Linking:
dlsrc=dl_dlopen.xs, dlext=bundle, d_dlsymun=undef, ccdlflags=' '
cccdlflags=' ', lddlflags=' -bundle -undefined dynamic_lookup -L/usr/local/lib -L/opt/local/lib -fstack-protector'
Characteristics of this binary (from libperl):
Compile-time options: PERL_DONT_CREATE_GVSV PERL_MALLOC_WRAP USE_64_BIT_ALL
USE_64_BIT_INT USE_LARGE_FILES USE_PERLIO
Built under darwin
Compiled at Dec 25 2013 17:21:28
%ENV:
PERLBREW_BASHRC_VERSION="0.67"
PERLBREW_HOME="/Users/stas/.perlbrew"
PERLBREW_MANPATH="/Users/stas/perl5/perlbrew/perls/perl-5.10.1/man"
PERLBREW_PATH="/Users/stas/perl5/perlbrew/bin:/Users/stas/perl5/perlbrew/perls/perl-5.10.1/bin"
PERLBREW_PERL="perl-5.10.1"
PERLBREW_ROOT="/Users/stas/perl5/perlbrew"
PERLBREW_VERSION="0.67"
PERL_MM_USE_DEFAULT="1"
@INC:
/Users/stas/perl5/perlbrew/perls/perl-5.10.1/lib/5.10.1/darwin-2level
/Users/stas/perl5/perlbrew/perls/perl-5.10.1/lib/5.10.1
/Users/stas/perl5/perlbrew/perls/perl-5.10.1/lib/site_perl/5.10.1/darwin-2level
/Users/stas/perl5/perlbrew/perls/perl-5.10.1/lib/site_perl/5.10.1
.