PDF-ReportWriter v1.5 Perl 5 v5.41.12 x86_64-linux-thread-multi
- Status
- Pass
- From
- Andreas J. König (ANDK)
- Dist
-
PDF-ReportWriter v1.5
- Platform
- Perl 5 v5.41.12 x86_64-linux-thread-multi
- Date
- 2025-05-09 15:45:08
- ID
- 95c7b244-2cec-11f0-94e6-df3d4d938a14
This distribution has been tested as part of the CPAN Testers
project, supporting the Perl programming language. See
http://wiki.cpantesters.org/ for more information or email
questions to cpan-testers-discuss@perl.org
--
Dear Daniel Kasak,
This is a computer-generated report for PDF-ReportWriter-1.5
on perl 5.41.12, created by CPAN-Reporter-1.2020.
Thank you for uploading your work to CPAN. Congratulations!
All tests were successful.
Sections of this report:
* Tester comments
* Program output
* Prerequisites
* Environment and other context
------------------------------
TESTER COMMENTS
------------------------------
Additional comments from tester:
this report is from an automated smoke testing program
and was not reviewed by a human for accuracy
------------------------------
PROGRAM OUTPUT
------------------------------
Output from '/usr/bin/make test':
PERL_DL_NONLAZY=1 "/tmp/basesmoker-reloperl-w77x/bin/perl" "-MExtUtils::Command::MM" "-MTest::Harness" "-e" "undef *Test::Harness::Switches; test_harness(0, 'blib/lib', 'blib/arch')" t/*.t
t/000_load.t ......... ok
# $rp=undef
# $rp=PDF::ReportWriter::Report=HASH(0x563fe5c88118)
# $VAR1 = {
# 'data' => {
# 'page' => {
# 'footer' => [
# {
# 'percent' => '20',
# 'text' => 'My Cell 1',
# 'background' => {
# 'shape' => 'box',
# 'colour' => 'grey'
# },
# 'x' => '500',
# 'y' => '200',
# 'index' => '0',
# 'colour' => 'red'
# },
# {
# 'x' => '200',
# 'y' => '100',
# 'percent' => '20',
# 'background' => {
# 'shape' => 'box',
# 'colour' => 'green'
# },
# 'text' => 'My Cell 2',
# 'colour' => 'yellow',
# 'index' => '1'
# }
# ],
# 'header' => [
# {}
# ]
# },
# 'fields' => [
# {
# 'header_colour' => 'white',
# 'font_size' => '12',
# 'label' => 'item',
# 'percent' => '20',
# 'align' => 'left',
# 'index' => '0'
# },
# {
# 'percent' => '20',
# 'label' => 'date',
# 'font_size' => '12',
# 'header_colour' => 'white',
# 'align' => 'left',
# 'index' => '1'
# }
# ],
# 'max_font_size' => '12',
# 'cell_borders' => '1',
# 'groups' => [
# {
# 'data_column' => '1',
# 'aggregate_source' => '0',
# 'name' => 'GrandTotals'
# },
# {
# 'data_column' => '1',
# 'aggregate_source' => '0',
# 'name' => 'ItemTotals'
# }
# ]
# },
# 'definition' => {
# 'template' => 'mytemplate.pdf',
# 'file' => 'basic.xml',
# 'destination' => 'myreport.pdf',
# 'default_font' => 'Helvetica',
# 'orientation' => 'landscape',
# 'paper' => 'A4',
# 'font' => [
# 'Helvetica',
# 'Courier'
# ],
# 'name' => 'basic',
# 'default_font_size' => '10',
# 'x_margin' => '20',
# 'debug' => '0',
# 'y_margin' => '20'
# }
# };
# $VAR1 = {
# 'data' => {
# 'cell_borders' => '1',
# 'groups' => [
# {
# 'name' => 'GrandTotals',
# 'data_column' => '1',
# 'aggregate_source' => '0'
# },
# {
# 'aggregate_source' => '0',
# 'data_column' => '1',
# 'name' => 'SubTotals'
# }
# ],
# 'page' => {
# 'footer' => [
# {
# 'percent' => '20',
# 'text' => 'My Cell 1',
# 'background' => {
# 'shape' => 'box',
# 'colour' => 'grey'
# },
# 'x' => '500',
# 'y' => '200',
# 'index' => '0',
# 'colour' => 'red'
# },
# {
# 'text' => 'My Cell 2',
# 'background' => {
# 'shape' => 'box',
# 'colour' => 'green'
# },
# 'percent' => '20',
# 'y' => '100',
# 'x' => '200',
# 'index' => '1',
# 'colour' => 'yellow'
# }
# ],
# 'header' => [
# {}
# ]
# },
# 'max_font_size' => '12',
# 'fields' => [
# {
# 'align' => 'left',
# 'index' => '0',
# 'label' => 'item',
# 'header_colour' => 'white',
# 'font_size' => '12',
# 'percent' => '20'
# },
# {
# 'index' => '1',
# 'align' => 'left',
# 'percent' => '20',
# 'header_colour' => 'white',
# 'font_size' => '12',
# 'label' => 'date'
# }
# ]
# },
# 'definition' => {
# 'font' => [
# 'Helvetica',
# 'Courier'
# ],
# 'name' => 'sample',
# 'default_font_size' => '10',
# 'info' => {
# 'Subject' => 'A sample report',
# 'Creator' => 'PDF::ReportWriter',
# 'Author' => 'Cosimo Streppone',
# 'CreationDate' => '2006-03-13',
# 'ModDate' => '2006-03-13',
# 'Keywords' => 'Bla Bla Bla',
# 'Title' => 'The sample report title'
# },
# 'x_margin' => '20',
# 'debug' => '0',
# 'y_margin' => '20',
# 'template' => 'mytemplate.pdf',
# 'destination' => 'myreport.pdf',
# 'default_font' => 'Helvetica',
# 'orientation' => 'landscape',
# 'url' => 'sample.xml',
# 'paper' => 'A4'
# }
# };
# $VAR1 = {
# 'data' => {
# 'cell_borders' => '1',
# 'groups' => [
# {
# 'name' => 'GrandTotals',
# 'aggregate_source' => '0',
# 'data_column' => '1'
# },
# {
# 'name' => 'SubTotals',
# 'data_column' => '1',
# 'aggregate_source' => '0'
# }
# ],
# 'page' => {
# 'header' => [
# {}
# ],
# 'footer' => [
# {
# 'index' => '0',
# 'colour' => 'red',
# 'text' => 'My Cell 1',
# 'background' => {
# 'shape' => 'box',
# 'colour' => 'grey'
# },
# 'percent' => '20',
# 'y' => '200',
# 'x' => '500'
# },
# {
# 'index' => '1',
# 'colour' => 'yellow',
# 'percent' => '20',
# 'text' => 'My Cell 2',
# 'background' => {
# 'colour' => 'green',
# 'shape' => 'box'
# },
# 'x' => '200',
# 'y' => '100'
# }
# ]
# },
# 'max_font_size' => '12',
# 'fields' => [
# {
# 'align' => 'left',
# 'percent' => '20',
# 'label' => 'item',
# 'index' => '0',
# 'font_size' => '12',
# 'header_colour' => 'white'
# },
# {
# 'align' => 'left',
# 'label' => 'date',
# 'font_size' => '12',
# 'index' => '1',
# 'header_colour' => 'white',
# 'percent' => '20'
# }
# ]
# },
# 'definition' => {
# 'url' => 'sample.xml',
# 'orientation' => 'landscape',
# 'default_font' => 'Helvetica',
# 'default_font_size' => '10',
# 'debug' => '0',
# 'info' => {
# 'ModDate' => '2006-03-13',
# 'Keywords' => 'Bla Bla Bla',
# 'Title' => 'The sample report title',
# 'Subject' => 'A sample report',
# 'Creator' => 'PDF::ReportWriter',
# 'CreationDate' => '2006-03-13',
# 'Author' => 'Cosimo Streppone'
# },
# 'template' => 'mytemplate.pdf',
# 'paper' => 'A4',
# 'destination' => 'myreport.pdf',
# 'name' => 'sample',
# 'font' => [
# 'Helvetica',
# 'Courier'
# ],
# 'y_margin' => '20',
# 'x_margin' => '20'
# }
# };
# $VAR1 = {
# 'data' => {
# 'groups' => []
# },
# 'definition' => {
# 'name' => 'empty',
# 'file' => 'empty.xml',
# 'font' => [
# undef
# ]
# }
# };
t/010_report.t ....... ok
# $rp=PDF::ReportWriter::Report=HASH(0x564a5e2934b8)
# $VAR1 = bless( {
# 'report' => './t/reports/datasources.xml',
# '_config' => {
# 'definition' => {
# 'destination' => 'myreport.pdf',
# 'font' => [
# undef
# ],
# 'name' => 'datasources',
# 'paper' => 'A4',
# 'file' => 'datasources.xml'
# },
# 'data' => {
# 'fields' => [
# {
# 'percent' => '20',
# 'index' => '0',
# 'label' => 'item',
# 'header_colour' => 'white',
# 'align' => 'left',
# 'font_size' => '12'
# }
# ],
# 'datasource' => [
# {
# 'name' => 'master',
# 'sql' => 'SELECT docnum,docdate,docstate FROM documents WHERE docnum = ? LIMIT 1',
# 'type' => 'DBI'
# },
# {
# 'name' => 'detail',
# 'type' => 'DBI',
# 'sql' => 'SELECT * FROM documents WHERE docnum = ?'
# }
# ],
# 'page' => {
# 'header' => [
# {}
# ],
# 'footer' => [
# {}
# ]
# },
# 'groups' => [
# {}
# ]
# }
# }
# }, 'PDF::ReportWriter::Report' );
t/011_datasources.t .. ok
t/020_cell.t ......... ok
All tests successful.
Files=4, Tests=30, 1 wallclock secs ( 0.03 usr 0.01 sys + 0.87 cusr 0.15 csys = 1.06 CPU)
Result: PASS
------------------------------
PREREQUISITES
------------------------------
Prerequisite modules loaded:
requires:
Module Need Have
------------------- ---- -----
Image::Size 2 3.300
PDF::API2 0.3 2.047
XML::Simple 0 2.25
build_requires:
Module Need Have
------------------- ---- -----
ExtUtils::MakeMaker 0 7.74
------------------------------
ENVIRONMENT AND OTHER CONTEXT
------------------------------
Environment variables:
AUTOMATED_TESTING = 1
LANG = en_US.UTF-8
PATH = /home/sand/bin:/usr/local/bin:/usr/local/sbin:/usr/sbin:/usr/bin:/sbin:/bin:/usr/games:/usr/local/games:/snap/bin:/usr/local/perl/bin:/usr/X11/bin
PERL = /tmp/basesmoker-reloperl-w77x/bin/perl
PERL5LIB = /tmp/loop_over_bdir-98215-lOufUo/App-oo_modulino_zsh_completion_helper-0.06-0/blib/arch:/tmp/loop_over_bdir-98215-lOufUo/App-oo_modulino_zsh_completion_helper-0.06-0/blib/lib:/tmp/loop_over_bdir-98215-lOufUo/Debian-Packages-0.03-0/blib/arch:/tmp/loop_over_bdir-98215-lOufUo/Debian-Packages-0.03-0/blib/lib:/tmp/loop_over_bdir-98215-lOufUo/App-nrun-v1.1.2-0/blib/arch:/tmp/loop_over_bdir-98215-lOufUo/App-nrun-v1.1.2-0/blib/lib:/tmp/loop_over_bdir-98215-lOufUo/Net-OpenVPN-DDNS-0.1-0/blib/arch:/tmp/loop_over_bdir-98215-lOufUo/Net-OpenVPN-DDNS-0.1-0/blib/lib:/tmp/loop_over_bdir-98215-lOufUo/EJBCA-CrlPublish-0.60-0/blib/arch:/tmp/loop_over_bdir-98215-lOufUo/EJBCA-CrlPublish-0.60-0/blib/lib:/tmp/loop_over_bdir-98215-lOufUo/triceps-2.1.0-0/blib/arch:/tmp/loop_over_bdir-98215-lOufUo/triceps-2.1.0-0/blib/lib:/tmp/loop_over_bdir-98215-lOufUo/Simulation-Automate-1.0.1-0/blib/arch:/tmp/loop_over_bdir-98215-lOufUo/Simulation-Automate-1.0.1-0/blib/lib:/tmp/loop_over_bdir-98215-lOufUo/Captive-Portal-4.10-0/blib/arch:/tmp/loop_over_bdir-98215-lOufUo/Captive-Portal-4.10-0/blib/lib:/tmp/loop_over_bdir-98215-lOufUo/Devel-Required-0.17-0/blib/arch:/tmp/loop_over_bdir-98215-lOufUo/Devel-Required-0.17-0/blib/lib:/tmp/loop_over_bdir-98215-lOufUo/Linux-InitFS-0.2-0/blib/arch:/tmp/loop_over_bdir-98215-lOufUo/Linux-InitFS-0.2-0/blib/lib
PERL5OPT =
PERL5_CPANPLUS_IS_RUNNING = 98224
PERL5_CPAN_IS_RUNNING = 98224
PERL_CANARY_STABILITY_NOPROMPT = 1
PERL_MM_USE_DEFAULT = 1
PERL_USE_UNSAFE_INC = 1
SHELL = /usr/bin/zsh
TERM = screen
Perl special variables (and OS-specific diagnostics, for MSWin32):
$^X = /tmp/basesmoker-reloperl-w77x/bin/perl
$UID/$EUID = 1005 / 1005
$GID = 1005 1005
$EGID = 1005 1005
Perl module toolchain versions installed:
Module Have
------------------- --------
CPAN 2.38
CPAN::Meta 2.150010
Cwd 3.94
ExtUtils::CBuilder 0.280240
ExtUtils::Command 7.74
ExtUtils::Install 2.22
ExtUtils::MakeMaker 7.74
ExtUtils::Manifest 1.75
ExtUtils::ParseXS 3.57
File::Spec 3.94
JSON 4.10
JSON::PP 4.16
Module::Build 0.4234
Module::Signature 0.89
Parse::CPAN::Meta 2.150010
Test2 1.302210
Test::Harness 3.50
Test::More 1.302210
YAML 1.31
YAML::Syck 1.34
version 0.9933
--
Summary of my perl5 (revision 5 version 41 subversion 12) configuration:
Commit id: bc4cd0b708bd15e68ef7f85105f7edb5be1f0f58
Platform:
osname=linux
osvers=5.4.0-208-generic
archname=x86_64-linux-thread-multi
uname='linux k93focal 5.4.0-208-generic #228-ubuntu smp fri feb 7 19:41:33 utc 2025 x86_64 x86_64 x86_64 gnulinux '
config_args='-Dprefix=/home/sand/src/perl/repoperls/installed-perls/host/k93focal/v5.41.12/d119 -Dmyhostname=k93focal -Dinstallusrbinperl=n -Uversiononly -Dusedevel -des -Ui_db -Dlibswanted=cl pthread socket inet nsl gdbm dbm malloc dl ld sun m crypt sec util c cposix posix ucb BSD gdbm_compat -Duseithreads -Uuselongdouble -DEBUGGING=both'
hint=recommended
useposix=true
d_sigaction=define
useithreads=define
usemultiplicity=define
use64bitint=define
use64bitall=define
uselongdouble=undef
usemymalloc=n
default_inc_excludes_dot=define
Compiler:
cc='cc'
ccflags ='-D_REENTRANT -D_GNU_SOURCE -fwrapv -DDEBUGGING -fno-strict-aliasing -pipe -fstack-protector-strong -I/usr/local/include -D_LARGEFILE_SOURCE -D_FILE_OFFSET_BITS=64'
optimize='-O2 -g'
cppflags='-D_REENTRANT -D_GNU_SOURCE -fwrapv -DDEBUGGING -fno-strict-aliasing -pipe -fstack-protector-strong -I/usr/local/include'
ccversion=''
gccversion='9.4.0'
gccosandvers=''
intsize=4
longsize=8
ptrsize=8
doublesize=8
byteorder=12345678
doublekind=3
d_longlong=define
longlongsize=8
d_longdbl=define
longdblsize=16
longdblkind=3
ivtype='long'
ivsize=8
nvtype='double'
nvsize=8
Off_t='off_t'
lseeksize=8
alignbytes=8
prototype=define
Linker and Libraries:
ld='cc'
ldflags =' -fstack-protector-strong -L/usr/local/lib'
libpth=/usr/local/lib /usr/lib/x86_64-linux-gnu /usr/lib /usr/lib64
libs=-lpthread -lnsl -ldl -lm -lcrypt -lutil -lc
perllibs=-lpthread -lnsl -ldl -lm -lcrypt -lutil -lc
libc=libc-2.31.so
so=so
useshrplib=false
libperl=libperl.a
gnulibc_version='2.31'
Dynamic Linking:
dlsrc=dl_dlopen.xs
dlext=so
d_dlsymun=undef
ccdlflags='-Wl,-E'
cccdlflags='-fPIC'
lddlflags='-shared -O2 -g -L/usr/local/lib -fstack-protector-strong'
Characteristics of this binary (from libperl):
Compile-time options:
DEBUGGING
HAS_LONG_DOUBLE
HAS_STRTOLD
HAS_TIMES
MULTIPLICITY
PERLIO_LAYERS
PERL_COPY_ON_WRITE
PERL_DONT_CREATE_GVSV
PERL_HASH_FUNC_SIPHASH13
PERL_HASH_USE_SBOX32
PERL_MALLOC_WRAP
PERL_OP_PARENT
PERL_PRESERVE_IVUV
PERL_TRACK_MEMPOOL
PERL_USE_DEVEL
PERL_USE_SAFE_PUTENV
USE_64_BIT_ALL
USE_64_BIT_INT
USE_ITHREADS
USE_LARGE_FILES
USE_LOCALE
USE_LOCALE_COLLATE
USE_LOCALE_CTYPE
USE_LOCALE_NUMERIC
USE_LOCALE_TIME
USE_PERLIO
USE_PERL_ATOF
USE_REENTRANT_API
USE_THREAD_SAFE_LOCALE
Built under linux
Compiled at Apr 22 2025 00:22:08
%ENV:
PERL="/tmp/basesmoker-reloperl-w77x/bin/perl"
PERL5LIB="/tmp/loop_over_bdir-98215-lOufUo/App-oo_modulino_zsh_completion_helper-0.06-0/blib/arch:/tmp/loop_over_bdir-98215-lOufUo/App-oo_modulino_zsh_completion_helper-0.06-0/blib/lib:/tmp/loop_over_bdir-98215-lOufUo/Debian-Packages-0.03-0/blib/arch:/tmp/loop_over_bdir-98215-lOufUo/Debian-Packages-0.03-0/blib/lib:/tmp/loop_over_bdir-98215-lOufUo/App-nrun-v1.1.2-0/blib/arch:/tmp/loop_over_bdir-98215-lOufUo/App-nrun-v1.1.2-0/blib/lib:/tmp/loop_over_bdir-98215-lOufUo/Net-OpenVPN-DDNS-0.1-0/blib/arch:/tmp/loop_over_bdir-98215-lOufUo/Net-OpenVPN-DDNS-0.1-0/blib/lib:/tmp/loop_over_bdir-98215-lOufUo/EJBCA-CrlPublish-0.60-0/blib/arch:/tmp/loop_over_bdir-98215-lOufUo/EJBCA-CrlPublish-0.60-0/blib/lib:/tmp/loop_over_bdir-98215-lOufUo/triceps-2.1.0-0/blib/arch:/tmp/loop_over_bdir-98215-lOufUo/triceps-2.1.0-0/blib/lib:/tmp/loop_over_bdir-98215-lOufUo/Simulation-Automate-1.0.1-0/blib/arch:/tmp/loop_over_bdir-98215-lOufUo/Simulation-Automate-1.0.1-0/blib/lib:/tmp/loop_over_bdir-98215-lOufUo/Captive-Portal-4.10-0/blib/arch:/tmp/loop_over_bdir-98215-lOufUo/Captive-Portal-4.10-0/blib/lib:/tmp/loop_over_bdir-98215-lOufUo/Devel-Required-0.17-0/blib/arch:/tmp/loop_over_bdir-98215-lOufUo/Devel-Required-0.17-0/blib/lib:/tmp/loop_over_bdir-98215-lOufUo/Linux-InitFS-0.2-0/blib/arch:/tmp/loop_over_bdir-98215-lOufUo/Linux-InitFS-0.2-0/blib/lib"
PERL5OPT=""
PERL5_CPANPLUS_IS_RUNNING="98224"
PERL5_CPAN_IS_RUNNING="98224"
PERL_CANARY_STABILITY_NOPROMPT="1"
PERL_MM_USE_DEFAULT="1"
PERL_USE_UNSAFE_INC="1"
@INC:
/tmp/loop_over_bdir-98215-lOufUo/App-oo_modulino_zsh_completion_helper-0.06-0/blib/arch
/tmp/loop_over_bdir-98215-lOufUo/App-oo_modulino_zsh_completion_helper-0.06-0/blib/lib
/tmp/loop_over_bdir-98215-lOufUo/Debian-Packages-0.03-0/blib/arch
/tmp/loop_over_bdir-98215-lOufUo/Debian-Packages-0.03-0/blib/lib
/tmp/loop_over_bdir-98215-lOufUo/App-nrun-v1.1.2-0/blib/arch
/tmp/loop_over_bdir-98215-lOufUo/App-nrun-v1.1.2-0/blib/lib
/tmp/loop_over_bdir-98215-lOufUo/Net-OpenVPN-DDNS-0.1-0/blib/arch
/tmp/loop_over_bdir-98215-lOufUo/Net-OpenVPN-DDNS-0.1-0/blib/lib
/tmp/loop_over_bdir-98215-lOufUo/EJBCA-CrlPublish-0.60-0/blib/arch
/tmp/loop_over_bdir-98215-lOufUo/EJBCA-CrlPublish-0.60-0/blib/lib
/tmp/loop_over_bdir-98215-lOufUo/triceps-2.1.0-0/blib/arch
/tmp/loop_over_bdir-98215-lOufUo/triceps-2.1.0-0/blib/lib
/tmp/loop_over_bdir-98215-lOufUo/Simulation-Automate-1.0.1-0/blib/arch
/tmp/loop_over_bdir-98215-lOufUo/Simulation-Automate-1.0.1-0/blib/lib
/tmp/loop_over_bdir-98215-lOufUo/Captive-Portal-4.10-0/blib/arch
/tmp/loop_over_bdir-98215-lOufUo/Captive-Portal-4.10-0/blib/lib
/tmp/loop_over_bdir-98215-lOufUo/Devel-Required-0.17-0/blib/arch
/tmp/loop_over_bdir-98215-lOufUo/Devel-Required-0.17-0/blib/lib
/tmp/loop_over_bdir-98215-lOufUo/Linux-InitFS-0.2-0/blib/arch
/tmp/loop_over_bdir-98215-lOufUo/Linux-InitFS-0.2-0/blib/lib
/home/sand/src/perl/repoperls/installed-perls/host/k93focal/v5.41.12/d119/lib/site_perl/5.41.12/x86_64-linux-thread-multi
/home/sand/src/perl/repoperls/installed-perls/host/k93focal/v5.41.12/d119/lib/site_perl/5.41.12
/home/sand/src/perl/repoperls/installed-perls/host/k93focal/v5.41.12/d119/lib/5.41.12/x86_64-linux-thread-multi
/home/sand/src/perl/repoperls/installed-perls/host/k93focal/v5.41.12/d119/lib/5.41.12
.