HTML-Formatter v2.16 Perl 5 v5.41.11 x86_64-linux-multi-ld
- Status
- Pass
- From
- Andreas J. König (ANDK)
- Dist
-
HTML-Formatter v2.16
- Platform
- Perl 5 v5.41.11 x86_64-linux-multi-ld
- Date
- 2025-05-08 05:02:04
- ID
- 95c0564e-2bc9-11f0-98b3-e1ebece55dea
This distribution has been tested as part of the CPAN Testers
project, supporting the Perl programming language. See
http://wiki.cpantesters.org/ for more information or email
questions to cpan-testers-discuss@perl.org
--
Dear Nigel Metheringham,
This is a computer-generated report for HTML-Formatter-2.16
on perl 5.41.11, created by CPAN-Reporter-1.2020.
Thank you for uploading your work to CPAN. Congratulations!
All tests were successful.
Sections of this report:
* Tester comments
* Program output
* Prerequisites
* Environment and other context
------------------------------
TESTER COMMENTS
------------------------------
Additional comments from tester:
this report is from an automated smoke testing program
and was not reviewed by a human for accuracy
------------------------------
PROGRAM OUTPUT
------------------------------
Output from '/usr/bin/make test':
PERL_DL_NONLAZY=1 "/home/sand/src/perl/repoperls/installed-perls/host/k93msid/v5.41.11/1d53/bin/perl" "-MExtUtils::Command::MM" "-MTest::Harness" "-e" "undef *Test::Harness::Switches; test_harness(0, 'blib/lib', 'blib/arch')" t/*.t
t/00-compile.t ............... ok
#
# Versions for all modules listed in MYMETA.json (including optional ones):
#
# === Configure Requires ===
#
# Module Want Have
# ------------------- ---- ----
# ExtUtils::MakeMaker any 7.74
#
# === Build Requires ===
#
# Module Want Have
# ------------------- ---- ----
# ExtUtils::MakeMaker any 7.74
#
# === Test Requires ===
#
# Module Want Have
# ------------------- ---- --------
# ExtUtils::MakeMaker any 7.74
# File::Slurper any 0.014
# File::Spec any 3.94
# FindBin any 1.54
# IO::Handle any 1.55
# IPC::Open3 any 1.24
# Test::More 0.96 1.302210
# Test::Warnings any 0.038
# blib 1.01 1.07
# bytes any 1.09
# lib any 0.65
#
# === Test Recommends ===
#
# Module Want Have
# ---------- -------- --------
# CPAN::Meta 2.120900 2.150010
#
# === Runtime Requires ===
#
# Module Want Have
# ----------------------------------- ---- -----
# Carp any 1.54
# Data::Dumper any 2.192
# Encode any 3.21
# Font::Metrics::Courier any undef
# Font::Metrics::CourierBold any undef
# Font::Metrics::CourierBoldOblique any undef
# Font::Metrics::CourierOblique any undef
# Font::Metrics::Helvetica any undef
# Font::Metrics::HelveticaBold any undef
# Font::Metrics::HelveticaBoldOblique any undef
# Font::Metrics::HelveticaOblique any undef
# Font::Metrics::TimesBold any undef
# Font::Metrics::TimesBoldItalic any undef
# Font::Metrics::TimesItalic any undef
# Font::Metrics::TimesRoman any undef
# HTML::Element 3.15 5.07
# HTML::TreeBuilder any 5.07
# IO::File any 1.55
# base any 2.27
# integer any 1.01
# parent any 0.244
# strict any 1.13
# utf8 any 1.27
# warnings any 1.74
#
t/00-report-prereqs.t ........ ok
t/01_ps.t .................... ok
t/02_rtf.t ................... ok
t/03_text.t .................. ok
t/04_md.t .................... ok
t/author-critic.t ............ skipped: these tests are for testing by the author
t/author-eol.t ............... skipped: these tests are for testing by the author
t/author-no-tabs.t ........... skipped: these tests are for testing by the author
t/author-pod-spell.t ......... skipped: these tests are for testing by the author
t/author-pod-syntax.t ........ skipped: these tests are for testing by the author
t/author-portability.t ....... skipped: these tests are for testing by the author
t/author-synopsis.t .......... skipped: these tests are for testing by the author
t/release-dist-manifest.t .... skipped: these tests are for release candidate testing
t/release-distmeta.t ......... skipped: these tests are for release candidate testing
t/release-has-version.t ...... skipped: these tests are for release candidate testing
t/release-minimum-version.t .. skipped: these tests are for release candidate testing
t/release-unused-vars.t ...... skipped: these tests are for release candidate testing
t/rt111783.t ................. ok
t/rt69426.t .................. ok
All tests successful.
Files=20, Tests=94, 2 wallclock secs ( 0.06 usr 0.02 sys + 1.12 cusr 0.26 csys = 1.46 CPU)
Result: PASS
------------------------------
PREREQUISITES
------------------------------
Prerequisite modules loaded:
requires:
Module Need Have
----------------------------------- ----- --------
base 0 2.27
Carp 0 1.54
Data::Dumper 0 2.192
Encode 0 3.21
Font::Metrics::Courier 0 0
Font::Metrics::CourierBold 0 0
Font::Metrics::CourierBoldOblique 0 0
Font::Metrics::CourierOblique 0 0
Font::Metrics::Helvetica 0 0
Font::Metrics::HelveticaBold 0 0
Font::Metrics::HelveticaBoldOblique 0 0
Font::Metrics::HelveticaOblique 0 0
Font::Metrics::TimesBold 0 0
Font::Metrics::TimesBoldItalic 0 0
Font::Metrics::TimesItalic 0 0
Font::Metrics::TimesRoman 0 0
HTML::Element 3.15 5.07
HTML::TreeBuilder 0 5.07
integer 0 1.01
IO::File 0 1.55
parent 0 0.244
perl 5.008 5.041011
strict 0 1.13
utf8 0 1.27
warnings 0 1.74
build_requires:
Module Need Have
----------------------------------- ----- --------
blib 1.01 1.07
bytes 0 1.09
ExtUtils::MakeMaker 0 7.74
File::Slurper 0 0.014
File::Spec 0 3.94
FindBin 0 1.54
IO::Handle 0 1.55
IPC::Open3 0 1.24
lib 0 0.65
Test::More 0.96 1.302210
Test::Warnings 0 0.038
configure_requires:
Module Need Have
----------------------------------- ----- --------
ExtUtils::MakeMaker 0 7.74
------------------------------
ENVIRONMENT AND OTHER CONTEXT
------------------------------
Environment variables:
AUTOMATED_TESTING = 1
LANG = en_US.UTF-8
LANGUAGE = en_US:en
PATH = /home/sand/bin:/usr/local/bin:/usr/bin:/bin:/usr/games:/usr/local/perl/bin:/usr/X11/bin:/sbin:/usr/sbin
PERL5LIB =
PERL5OPT =
PERL5_CPANPLUS_IS_RUNNING = 1969280
PERL5_CPAN_IS_RUNNING = 1969280
PERL_CANARY_STABILITY_NOPROMPT = 1
PERL_MM_USE_DEFAULT = 1
PERL_USE_UNSAFE_INC = 1
SHELL = /usr/bin/zsh
TERM = screen
Perl special variables (and OS-specific diagnostics, for MSWin32):
$^X = /home/sand/src/perl/repoperls/installed-perls/host/k93msid/v5.41.11/1d53/bin/perl
$UID/$EUID = 1005 / 1005
$GID = 1005 1005
$EGID = 1005 1005
Perl module toolchain versions installed:
Module Have
------------------- --------
CPAN 2.38
CPAN::Meta 2.150010
Cwd 3.94
ExtUtils::CBuilder 0.280240
ExtUtils::Command 7.74
ExtUtils::Install 2.22
ExtUtils::MakeMaker 7.74
ExtUtils::Manifest 1.75
ExtUtils::ParseXS 3.57
File::Spec 3.94
JSON 4.10
JSON::PP 4.16
Module::Build 0.4234
Module::Signature 0.89
Parse::CPAN::Meta 2.150010
Test2 1.302210
Test::Harness 3.50
Test::More 1.302210
YAML 1.31
YAML::Syck 1.34
version 0.9933
--
Summary of my perl5 (revision 5 version 41 subversion 11) configuration:
Commit id: 03bd7c85936e0621bc1660147d789465ef163c6f
Platform:
osname=linux
osvers=6.8.12-amd64
archname=x86_64-linux-multi-ld
uname='linux k93msid 6.8.12-amd64 #1 smp preempt_dynamic debian 6.8.12-1 (2024-05-31) x86_64 gnulinux '
config_args='-Dprefix=/home/sand/src/perl/repoperls/installed-perls/host/k93msid/v5.41.11/1d53 -Dmyhostname=k93msid -Dinstallusrbinperl=n -Uversiononly -Dusedevel -des -Ui_db -Dlibswanted=cl pthread socket inet nsl gdbm dbm malloc dl ld sun m crypt sec util c cposix posix ucb BSD gdbm_compat -Uuseithreads -Duselongdouble -DEBUGGING=both -Dusemultiplicity'
hint=recommended
useposix=true
d_sigaction=define
useithreads=undef
usemultiplicity=define
use64bitint=define
use64bitall=define
uselongdouble=define
usemymalloc=n
default_inc_excludes_dot=define
Compiler:
cc='cc'
ccflags ='-fwrapv -DDEBUGGING -fno-strict-aliasing -pipe -fstack-protector-strong -I/usr/local/include -D_LARGEFILE_SOURCE -D_FILE_OFFSET_BITS=64 -D_FORTIFY_SOURCE=2'
optimize='-O2 -g'
cppflags='-fwrapv -DDEBUGGING -fno-strict-aliasing -pipe -fstack-protector-strong -I/usr/local/include'
ccversion=''
gccversion='13.3.0'
gccosandvers=''
intsize=4
longsize=8
ptrsize=8
doublesize=8
byteorder=12345678
doublekind=3
d_longlong=define
longlongsize=8
d_longdbl=define
longdblsize=16
longdblkind=3
ivtype='long'
ivsize=8
nvtype='long double'
nvsize=16
Off_t='off_t'
lseeksize=8
alignbytes=16
prototype=define
Linker and Libraries:
ld='cc'
ldflags =' -fstack-protector-strong -L/usr/local/lib'
libpth=/usr/local/lib /usr/lib/x86_64-linux-gnu /usr/lib /usr/lib64
libs=-lpthread -ldl -lm -lcrypt -lutil -lc
perllibs=-lpthread -ldl -lm -lcrypt -lutil -lc
libc=/lib/x86_64-linux-gnu/libc.so.6
so=so
useshrplib=false
libperl=libperl.a
gnulibc_version='2.38'
Dynamic Linking:
dlsrc=dl_dlopen.xs
dlext=so
d_dlsymun=undef
ccdlflags='-Wl,-E'
cccdlflags='-fPIC'
lddlflags='-shared -O2 -g -L/usr/local/lib -fstack-protector-strong'
Characteristics of this binary (from libperl):
Compile-time options:
DEBUGGING
HAS_LONG_DOUBLE
HAS_STRTOLD
HAS_TIMES
MULTIPLICITY
PERLIO_LAYERS
PERL_COPY_ON_WRITE
PERL_DONT_CREATE_GVSV
PERL_HASH_FUNC_SIPHASH13
PERL_HASH_USE_SBOX32
PERL_MALLOC_WRAP
PERL_OP_PARENT
PERL_PRESERVE_IVUV
PERL_TRACK_MEMPOOL
PERL_USE_DEVEL
PERL_USE_SAFE_PUTENV
USE_64_BIT_ALL
USE_64_BIT_INT
USE_LARGE_FILES
USE_LOCALE
USE_LOCALE_COLLATE
USE_LOCALE_CTYPE
USE_LOCALE_NUMERIC
USE_LOCALE_TIME
USE_LONG_DOUBLE
USE_PERLIO
USE_PERL_ATOF
USE_REENTRANT_API
Built under linux
Compiled at Apr 21 2025 11:08:40
%ENV:
PERL5LIB=""
PERL5OPT=""
PERL5_CPANPLUS_IS_RUNNING="1969280"
PERL5_CPAN_IS_RUNNING="1969280"
PERL_CANARY_STABILITY_NOPROMPT="1"
PERL_MM_USE_DEFAULT="1"
PERL_USE_UNSAFE_INC="1"
@INC:
/home/sand/src/perl/repoperls/installed-perls/host/k93msid/v5.41.11/1d53/lib/site_perl/5.41.11/x86_64-linux-multi-ld
/home/sand/src/perl/repoperls/installed-perls/host/k93msid/v5.41.11/1d53/lib/site_perl/5.41.11
/home/sand/src/perl/repoperls/installed-perls/host/k93msid/v5.41.11/1d53/lib/5.41.11/x86_64-linux-multi-ld
/home/sand/src/perl/repoperls/installed-perls/host/k93msid/v5.41.11/1d53/lib/5.41.11
.