Back
From: metabase:user:47925a3a-b8af-11e6-9e5a-34f079882221
Subject: PASS Catalyst-Plugin-Session-Store-FastMmap-0.16 v5.16.3 GNU/Linux
Date: 2016-12-20T11:00:57Z
This distribution has been tested as part of the CPAN Testers
project, supporting the Perl programming language. See
http://wiki.cpantesters.org/ for more information or email
questions to cpan-testers-discuss@perl.org
--
Dear BOBTFISH,
This is a computer-generated report for Catalyst-Plugin-Session-Store-FastMmap-0.16
on perl 5.16.3, created by App::cpanminus::reporter 0.17 (1.7042).
Thank you for uploading your work to CPAN. Congratulations!
All tests were successful.
Sections of this report:
* Tester comments
* Program output
* Prerequisites
* Environment and other context
------------------------------
TESTER COMMENTS
------------------------------
Additional comments from tester:
none provided
------------------------------
PROGRAM OUTPUT
------------------------------
Output from '':
Building and testing Catalyst-Plugin-Session-Store-FastMmap-0.16
cp lib/Catalyst/Plugin/Session/Store/FastMmap.pm blib/lib/Catalyst/Plugin/Session/Store/FastMmap.pm
Manifying 1 pod document
PERL_DL_NONLAZY=1 "/home/mari0/perl5/perlbrew/perls/perl-5.16.3/bin/perl" "-MExtUtils::Command::MM" "-MTest::Harness" "-e" "undef *Test::Harness::Switches; test_harness(0, 'blib/lib', 'blib/arch')" t/*.t
# testing Catalyst::Plugin::Session::Store::FastMmap version 0.16
t/01use.t .......... ok
t/02pod.t .......... skipped: set TEST_POD to enable this test
t/03podcoverage.t .. skipped: Test::Pod::Coverage 1.04 required
[warn] Action methods (create_session, recover_session, after_session) found defined in your application class, SessionStoreTest. This is deprecated, please move them into a Root controller.
[warn] Action methods (create_session, recover_session) found defined in your application class, SessionStoreTest2. This is deprecated, please move them into a Root controller.
t/basic.t .......... ok
All tests successful.
Files=4, Tests=21, 2 wallclock secs ( 0.02 usr 0.00 sys + 0.68 cusr 0.02 csys = 0.72 CPU)
Result: PASS
------------------------------
PREREQUISITES
------------------------------
Prerequisite modules loaded:
No requirements found
------------------------------
ENVIRONMENT AND OTHER CONTEXT
------------------------------
Environment variables:
LANG = en_US.UTF-8
LANGUAGE = en_US
LC_ADDRESS = de_DE.UTF-8
LC_IDENTIFICATION = de_DE.UTF-8
LC_MEASUREMENT = de_DE.UTF-8
LC_MONETARY = de_DE.UTF-8
LC_NAME = de_DE.UTF-8
LC_NUMERIC = de_DE.UTF-8
LC_PAPER = de_DE.UTF-8
LC_TELEPHONE = de_DE.UTF-8
LC_TIME = de_DE.UTF-8
PATH = /home/mari0/perl5/perlbrew/bin:/home/mari0/perl5/perlbrew/perls/perl-5.16.3/bin:/usr/sbin:/usr/bin:/sbin:/bin:/usr/local/bin:/usr/local/sbin:/usr/games:/usr/local/games:/snap/bin:/home/mari0/bin:.
PERLBREW_BASHRC_VERSION = 0.78
PERLBREW_HOME = /home/mari0/.perlbrew
PERLBREW_MANPATH = /home/mari0/perl5/perlbrew/perls/perl-5.16.3/man
PERLBREW_PATH = /home/mari0/perl5/perlbrew/bin:/home/mari0/perl5/perlbrew/perls/perl-5.16.3/bin
PERLBREW_PERL = perl-5.16.3
PERLBREW_ROOT = /home/mari0/perl5/perlbrew
PERLBREW_VERSION = 0.78
SHELL = /bin/bash
TERM = xterm
Perl special variables (and OS-specific diagnostics, for MSWin32):
EGID = 1000 4 24 27 30 46 113 128 1000
EUID = 1000
EXECUTABLE_NAME = /home/mari0/perl5/perlbrew/perls/perl-5.16.3/bin/perl
GID = 1000 4 24 27 30 46 113 128 1000
UID = 1000
Perl module toolchain versions installed:
Module Have
------------------- --------
CPAN 1.9800
CPAN::Meta 2.143240
Cwd 3.39_02
ExtUtils::CBuilder 0.280206
ExtUtils::Command 7.24
ExtUtils::Install 1.58
ExtUtils::MakeMaker 7.24
ExtUtils::Manifest 1.70
ExtUtils::ParseXS 3.30
File::Spec 3.39_02
JSON 2.90
JSON::PP 2.27400
Module::Build 0.4220
Module::Signature n/a
Parse::CPAN::Meta 1.4414
Test::Harness 3.36
Test::More 1.302067
YAML 1.19
YAML::Syck n/a
version 0.99
--
Summary of my perl5 (revision 5 version 16 subversion 3) configuration:
Platform:
osname=linux, osvers=4.4.0-51-generic, archname=x86_64-linux
uname='linux h001062119 4.4.0-51-generic #72-ubuntu smp thu nov 24 18:29:54 utc 2016 x86_64 x86_64 x86_64 gnulinux '
config_args='-de -Dprefix=/home/mari0/perl5/perlbrew/perls/perl-5.16.3 -Aeval:scriptdir=/home/mari0/perl5/perlbrew/perls/perl-5.16.3/bin'
hint=recommended, useposix=true, d_sigaction=define
useithreads=undef, usemultiplicity=undef
useperlio=define, d_sfio=undef, uselargefiles=define, usesocks=undef
use64bitint=define, use64bitall=define, uselongdouble=undef
usemymalloc=n, bincompat5005=undef
Compiler:
cc='cc', ccflags ='-fno-strict-aliasing -pipe -fstack-protector -I/usr/local/include -D_LARGEFILE_SOURCE -D_FILE_OFFSET_BITS=64',
optimize='-O2',
cppflags='-fno-strict-aliasing -pipe -fstack-protector -I/usr/local/include'
ccversion='', gccversion='5.4.0 20160609', gccosandvers=''
intsize=4, longsize=8, ptrsize=8, doublesize=8, byteorder=12345678
d_longlong=define, longlongsize=8, d_longdbl=define, longdblsize=16
ivtype='long', ivsize=8, nvtype='double', nvsize=8, Off_t='off_t', lseeksize=8
alignbytes=8, prototype=define
Linker and Libraries:
ld='cc', ldflags =' -fstack-protector -L/usr/local/lib'
libpth=/usr/local/lib /lib/x86_64-linux-gnu /lib/../lib /usr/lib/x86_64-linux-gnu /usr/lib/../lib /lib /usr/lib
libs=-lnsl -ldl -lm -lcrypt -lutil -lc
perllibs=-lnsl -ldl -lm -lcrypt -lutil -lc
libc=libc-2.23.so, so=so, useshrplib=false, libperl=libperl.a
gnulibc_version='2.23'
Dynamic Linking:
dlsrc=dl_dlopen.xs, dlext=so, d_dlsymun=undef, ccdlflags='-Wl,-E'
cccdlflags='-fPIC', lddlflags='-shared -O2 -L/usr/local/lib -fstack-protector'
Characteristics of this binary (from libperl):
Compile-time options: HAS_TIMES PERLIO_LAYERS PERL_DONT_CREATE_GVSV
PERL_MALLOC_WRAP PERL_PRESERVE_IVUV USE_64_BIT_ALL
USE_64_BIT_INT USE_LARGE_FILES USE_LOCALE
USE_LOCALE_COLLATE USE_LOCALE_CTYPE
USE_LOCALE_NUMERIC USE_PERLIO USE_PERL_ATOF
Locally applied patches:
Devel::PatchPerl 1.38
Built under linux
Compiled at Dec 1 2016 13:25:39
%ENV:
PERLBREW_BASHRC_VERSION="0.78"
PERLBREW_HOME="/home/mari0/.perlbrew"
PERLBREW_MANPATH="/home/mari0/perl5/perlbrew/perls/perl-5.16.3/man"
PERLBREW_PATH="/home/mari0/perl5/perlbrew/bin:/home/mari0/perl5/perlbrew/perls/perl-5.16.3/bin"
PERLBREW_PERL="perl-5.16.3"
PERLBREW_ROOT="/home/mari0/perl5/perlbrew"
PERLBREW_VERSION="0.78"
@INC:
/home/mari0/perl5/perlbrew/perls/perl-5.16.3/lib/site_perl/5.16.3/x86_64-linux
/home/mari0/perl5/perlbrew/perls/perl-5.16.3/lib/site_perl/5.16.3
/home/mari0/perl5/perlbrew/perls/perl-5.16.3/lib/5.16.3/x86_64-linux
/home/mari0/perl5/perlbrew/perls/perl-5.16.3/lib/5.16.3
.