Shell-Cmd v3.03 Perl 5 v5.33.1 cygwin-thread-multi

Status
Pass
From
Carlos Guevara
Dist
Shell-Cmd v3.03
Platform
Perl 5 v5.33.1 cygwin-thread-multi
Date
2020-08-20 19:45:13
ID
9597c93e-6d92-1014-bbfb-0efae281af51
This distribution has been tested as part of the CPAN Testers
project, supporting the Perl programming language.  See
http://wiki.cpantesters.org/ for more information or email
questions to cpan-testers-discuss@perl.org


--
Dear Sullivan Beck,

This is a computer-generated report for Shell-Cmd-3.03
on perl 5.33.1, created by CPAN-Reporter-1.2018.

Thank you for uploading your work to CPAN.  Congratulations!
All tests were successful.

Sections of this report:

    * Tester comments
    * Program output
    * Prerequisites
    * Environment and other context

------------------------------
TESTER COMMENTS
------------------------------

Additional comments from tester:

this report is from an automated smoke testing program
and was not reviewed by a human for accuracy

------------------------------
PROGRAM OUTPUT
------------------------------

Output from '/usr/bin/make test':

PERL_DL_NONLAZY=1 "/home/cpan/bin/perl-blead/bin/perl5.33.1.exe" "-MExtUtils::Command::MM" "-MTest::Harness" "-e" "undef *Test::Harness::Switches; test_harness(0, 'blib/lib', 'blib/arch')" t/*.t
t/00-errflow_check-run.t ............... skipped: Invalid command or option: if [ -d /home/cpan/.cpan/build/Shell-Cmd-3.03-0/t/bin ]; then
t/00-errflow_dire-run.t ................ skipped: Invalid command or option: if [ -d /home/cpan/.cpan/build/Shell-Cmd-3.03-0/t/bin ]; then
t/00-errflow_mix1-run.t ................ skipped: Invalid command or option: fi
t/00-errflow_mix2-run.t ................ skipped: Invalid command or option: elif [ -d /home/cpan/.cpan/build/Shell-Cmd-3.03-0/t/bin ]; then
t/00-errflow_redir-run.t ............... skipped: Invalid command or option: if [ -d /home/cpan/.cpan/build/Shell-Cmd-3.03-0/t/bin ]; then
t/00-errflow_retry-run.t ............... skipped: Invalid command or option: if [ -d /home/cpan/.cpan/build/Shell-Cmd-3.03-0/t/bin ]; then
t/00-errflow_unclosed-run.t ............ ok
# ERROR: Invalid cmd option: foo
t/00-error-run.t ....................... skipped: Invalid command or option: /home/cpan/.cpan/build/Shell-Cmd-3.03-0/t/bin/succ 1 warn
t/00-obj.t ............................. ok
t/00-simple-dire.t ..................... ok
t/00s-errflow_mix1-run.t ............... skipped: SSH testing disabled.  Set SSH_TESTING to a list of hosts to enable.
t/00s-errflow_mix2-run.t ............... skipped: SSH testing disabled.  Set SSH_TESTING to a list of hosts to enable.
t/00s-errflow_unclosed-run.t ........... skipped: SSH testing disabled.  Set SSH_TESTING to a list of hosts to enable.
t/01-simple-fail1.t .................... ok
t/01-simple-fail2.t .................... ok
t/01-simple-fail3.t .................... ok
t/01-simple-run-echo.t ................. ok
t/01-simple-run-merge.t ................ ok
t/01-simple-run-opts.t ................. ok
t/01-simple-run-quiet.t ................ ok
t/01-simple-run-stderr.t ............... ok
t/01-simple-run-stdout.t ............... ok
t/01-simple-run.t ...................... ok
t/01-simple-script=run-quiet.t ......... ok
t/01-simple-script=run.t ............... ok
t/01-simple-script=script.t ............ ok
t/01-simple-script=simple-quiet.t ...... ok
t/01-simple-script=simple.t ............ ok
t/01s-simple-fail3.t ................... skipped: SSH testing disabled.  Set SSH_TESTING to a list of hosts to enable.
t/01s-simple-script=run.t .............. skipped: SSH testing disabled.  Set SSH_TESTING to a list of hosts to enable.
t/01s-simplessh-fail2.t ................ skipped: SSH testing disabled.  Set SSH_TESTING to a list of hosts to enable.
t/01s-simplessh-nohosts.t .............. skipped: SSH testing disabled.  Set SSH_TESTING to a list of hosts to enable.
t/01s-simplessh-run-opts.t ............. skipped: SSH testing disabled.  Set SSH_TESTING to a list of hosts to enable.
t/01s-simplessh-run.t .................. skipped: SSH testing disabled.  Set SSH_TESTING to a list of hosts to enable.
t/01s-simplessh2-quiet.t ............... skipped: SSH testing disabled.  Set SSH_TESTING to a list of hosts to enable.
t/01s-simplessh2-run.t ................. skipped: SSH testing disabled.  Set SSH_TESTING to a list of hosts to enable.
t/01s-simplessh2-run2.t ................ skipped: SSH testing disabled.  Set SSH_TESTING to a list of hosts to enable.
t/01s-simplessh2-stderr.t .............. skipped: SSH testing disabled.  Set SSH_TESTING to a list of hosts to enable.
t/01s-simplessh2-stdout.t .............. skipped: SSH testing disabled.  Set SSH_TESTING to a list of hosts to enable.
t/02-special_characters-run.t .......... ok
t/02-special_characters-script=run.t ... ok
t/10-fail-run-continue.t ............... ok
t/10-fail-run-display.t ................ ok
t/10-fail-run.t ........................ ok
t/10-fail-script=run-continue.t ........ ok
t/10-fail-script=run-display.t ......... ok
t/10-fail-script=run.t ................. ok
t/20-check-run.t ....................... ok
t/20-check-script=run.t ................ ok
t/30-retry-run.t ....................... ok
t/30-retry-script=run.t ................ ok
t/30-retry-script=script.t ............. ok
t/30-retry_sleep-run.t ................. ok
t/31-retry_fail-run-continue.t ......... ok
t/31-retry_fail-run-display.t .......... ok
t/31-retry_fail-run.t .................. ok
t/31-retry_fail-script=run-continue.t .. ok
t/31-retry_fail-script=run-display.t ... ok
t/31-retry_fail-script=run.t ........... ok
t/40-if-run.t .......................... ok
t/40-if-script=run.t ................... ok
t/41-for-run.t ......................... ok
t/41-for-script=run.t .................. ok
t/42-until-run.t ....................... ok
t/42-until-script=run.t ................ ok
t/43-while-run.t ....................... ok
t/43-while-script=run.t ................ ok
t/50-for_fail-run-continue.t ........... ok
t/50-for_fail-run.t .................... ok
t/50-for_fail-script=run.t ............. ok
t/50-for_fail-script=script.t .......... ok
t/60-check_retry-run.t ................. ok
t/60-check_retry-script=run.t .......... ok
t/60-check_retry-script=script.t ....... ok
t/61-check_fail-run.t .................. ok
t/62-check_succ-run-continue.t ......... ok
t/62-check_succ-run.t .................. ok
t/70-alt-run.t ......................... ok
t/70-alt-script=run.t .................. ok
t/70-alt2-run.t ........................ ok
t/71-alt_retry-run.t ................... ok
t/71-alt_retry-script=run.t ............ ok
t/71-alt_retry-script=script.t ......... ok
t/72-alt_retry-script.t ................ ok
t/90-alt_retry-script.t ................ ok
t/90-fail-script.t ..................... ok
t/90-for_fail-script.t ................. ok
t/90-simple-script-quiet.t ............. ok
t/90-simple-script-stderr.t ............ ok
t/90-simple-script-stdout.t ............ ok
t/90-simple-script.t ................... ok
t/91-long-run.t ........................ ok
t/_pod.t ............................... skipped: Author tests not required for installation (set RELEASE_TESTING to test)
t/_pod_coverage.t ...................... skipped: Author tests not required for installation (set RELEASE_TESTING to test)
t/_version.t ........................... skipped: Author tests not required for installation (set RELEASE_TESTING to test)
t/ZZ-cleanup-run.t ..................... ok
All tests successful.
Files=96, Tests=3450, 93 wallclock secs ( 0.16 usr  0.44 sys + 22.39 cusr 43.16 csys = 66.15 CPU)
Result: PASS

------------------------------
PREREQUISITES
------------------------------

Prerequisite modules loaded:

requires:

    Module                Need  Have    
    --------------------- ----- --------
    Capture::Tiny         0     0.48    
    Cwd                   0     3.78    
    IO::File              0     1.41    
    Net::OpenSSH          0     0.79    
    Parallel::ForkManager 0     2.02    
    perl                  5.008 5.033001

build_requires:

    Module                Need  Have    
    --------------------- ----- --------
    ExtUtils::MakeMaker   0     7.44    
    Test::Inter           1.09  1.09    
    Test::More            0     1.302177

configure_requires:

    Module                Need  Have    
    --------------------- ----- --------
    ExtUtils::MakeMaker   6.30  7.44    


------------------------------
ENVIRONMENT AND OTHER CONTEXT
------------------------------

Environment variables:

    AUTOMATED_TESTING = 1
    COMSPEC = C:\Windows\system32\cmd.exe
    DATE_MANIP_TEST_DM5 = 1
    LANG = en_US.UTF-8
    LC_ALL = C
    NONINTERACTIVE_TESTING = 1
    NUMBER_OF_PROCESSORS = 1
    PATH = /home/cpan/bin/perl-blead/bin:/home/cpan/bin:/usr/local/bin:/usr/bin:/cygdrive/c/Windows/system32:/cygdrive/c/Windows:/cygdrive/c/Windows/System32/Wbem:/cygdrive/c/Windows/System32/WindowsPowerShell/v1.0:/cygdrive/c/Users/cpan/AppData/Local/Microsoft/WindowsApps
    PERL5LIB = 
    PERL5OPT = 
    PERL5_CPANPLUS_IS_RUNNING = 22783
    PERL5_CPAN_IS_RUNNING = 22783
    PERL_MM_USE_DEFAULT = 1
    PERL_USE_UNSAFE_INC = 1
    PERL_VERSION = blead
    PROCESSOR_IDENTIFIER = Intel64 Family 6 Model 61 Stepping 2, GenuineIntel
    SHELL = /bin/bash
    TEMP = /tmp
    TERM = xterm
    TMPDIR = /home/cpan/tmp

Perl special variables (and OS-specific diagnostics, for MSWin32):

    $^X = /home/cpan/bin/perl-blead/bin/perl5.33.1
    $UID/$EUID = 197609 / 197609
    $GID = 197121 197121 555 545 14 4 11 15 113 4095 66048 262154 401408
    $EGID = 197121 197121 555 545 14 4 11 15 113 4095 66048 262154 401408

Perl module toolchain versions installed:

    Module              Have    
    ------------------- --------
    CPAN                2.27    
    CPAN::Meta          2.150010
    Cwd                 3.78    
    ExtUtils::CBuilder  0.280234
    ExtUtils::Command   7.44    
    ExtUtils::Install   2.16    
    ExtUtils::MakeMaker 7.44    
    ExtUtils::Manifest  1.72    
    ExtUtils::ParseXS   3.41    
    File::Spec          3.78    
    JSON                4.02    
    JSON::PP            4.05    
    Module::Build       0.4231  
    Module::Signature   n/a     
    Parse::CPAN::Meta   2.150010
    Test::Harness       3.42    
    Test::More          1.302177
    YAML                1.30    
    YAML::Syck          1.32    
    version             0.9924  


--

Summary of my perl5 (revision 5 version 33 subversion 1) configuration:
  Commit id: b9ab2ffe309876b1749351c4276565e2289c82ac
  Platform:
    osname=cygwin
    osvers=3.1.6(0.34053)
    archname=cygwin-thread-multi
    uname='cygwin_nt-10.0 cjg-cygwin 3.1.6(0.34053) 2020-07-09 08:20 x86_64 cygwin '
    config_args='-des -Dprefix=~/bin/perl-blead -Dscriptdir=~/bin/perl-blead/bin -Dusedevel -Duse64bitall'
    hint=recommended
    useposix=true
    d_sigaction=define
    useithreads=define
    usemultiplicity=define
    use64bitint=define
    use64bitall=define
    uselongdouble=undef
    usemymalloc=n
    default_inc_excludes_dot=define
  Compiler:
    cc='gcc'
    ccflags ='-DPERL_USE_SAFE_PUTENV -U__STRICT_ANSI__ -D_GNU_SOURCE -fwrapv -fno-strict-aliasing -pipe -fstack-protector-strong -D_FORTIFY_SOURCE=2'
    optimize='-O3'
    cppflags='-DPERL_USE_SAFE_PUTENV -U__STRICT_ANSI__ -D_GNU_SOURCE -fwrapv -fno-strict-aliasing -pipe -fstack-protector-strong'
    ccversion=''
    gccversion='9.3.0'
    gccosandvers=''
    intsize=4
    longsize=8
    ptrsize=8
    doublesize=8
    byteorder=12345678
    doublekind=3
    d_longlong=define
    longlongsize=8
    d_longdbl=define
    longdblsize=16
    longdblkind=3
    ivtype='long'
    ivsize=8
    nvtype='double'
    nvsize=8
    Off_t='off_t'
    lseeksize=8
    alignbytes=8
    prototype=define
  Linker and Libraries:
    ld='g++'
    ldflags =' -Wl,--enable-auto-import -Wl,--export-all-symbols -Wl,--enable-auto-image-base -fstack-protector-strong -L/usr/local/lib'
    libpth=/usr/lib /usr/lib/gcc/x86_64-pc-cygwin/9.3.0/../../../../lib/../include/w32api /usr/local/lib /lib
    libs=-lpthread -ldl
    perllibs=-lpthread -ldl
    libc=/usr/lib/libc.a
    so=dll
    useshrplib=true
    libperl=cygperl5_33_1.dll
    gnulibc_version=''
  Dynamic Linking:
    dlsrc=dl_dlopen.xs
    dlext=dll
    d_dlsymun=undef
    ccdlflags=' '
    cccdlflags=' '
    lddlflags=' --shared  -Wl,--enable-auto-import -Wl,--export-all-symbols -Wl,--enable-auto-image-base -L/usr/local/lib -fstack-protector-strong'


Characteristics of this binary (from libperl): 
  Compile-time options:
    HAS_TIMES
    MULTIPLICITY
    PERLIO_LAYERS
    PERL_COPY_ON_WRITE
    PERL_DONT_CREATE_GVSV
    PERL_IMPLICIT_CONTEXT
    PERL_MALLOC_WRAP
    PERL_OP_PARENT
    PERL_PRESERVE_IVUV
    PERL_USE_DEVEL
    PERL_USE_SAFE_PUTENV
    USE_64_BIT_ALL
    USE_64_BIT_INT
    USE_ITHREADS
    USE_LARGE_FILES
    USE_LOCALE
    USE_LOCALE_COLLATE
    USE_LOCALE_CTYPE
    USE_LOCALE_NUMERIC
    USE_LOCALE_TIME
    USE_PERLIO
    USE_PERL_ATOF
    USE_REENTRANT_API
    USE_THREAD_SAFE_LOCALE
  Built under cygwin
  Compiled at Aug 18 2020 14:48:12
  %ENV:
    PERL5LIB=""
    PERL5OPT=""
    PERL5_CPANPLUS_IS_RUNNING="22783"
    PERL5_CPAN_IS_RUNNING="22783"
    PERL_MM_USE_DEFAULT="1"
    PERL_USE_UNSAFE_INC="1"
    PERL_VERSION="blead"
  @INC:
    /home/cpan/bin/perl-blead/lib/site_perl/5.33.1/cygwin-thread-multi
    /home/cpan/bin/perl-blead/lib/site_perl/5.33.1
    /home/cpan/bin/perl-blead/lib/5.33.1/cygwin-thread-multi
    /home/cpan/bin/perl-blead/lib/5.33.1
    .