Parallel-Queue v3.6 Perl 5 v5.33.1 x86_64-linux-ld
- Status
- Pass
- From
- Andreas J. König (ANDK)
- Dist
-
Parallel-Queue v3.6
- Platform
- Perl 5 v5.33.1 x86_64-linux-ld
- Date
- 2020-08-10 12:11:13
- ID
- 956961d0-db02-11ea-a931-a12e88361bee
This distribution has been tested as part of the CPAN Testers
project, supporting the Perl programming language. See
http://wiki.cpantesters.org/ for more information or email
questions to cpan-testers-discuss@perl.org
--
Dear Steven Lembark,
This is a computer-generated report for Parallel-Queue-3.6
on perl 5.33.1, created by CPAN-Reporter-1.2018.
Thank you for uploading your work to CPAN. Congratulations!
All tests were successful.
Sections of this report:
* Tester comments
* Program output
* Prerequisites
* Environment and other context
------------------------------
TESTER COMMENTS
------------------------------
Additional comments from tester:
this report is from an automated smoke testing program
and was not reviewed by a human for accuracy
------------------------------
PROGRAM OUTPUT
------------------------------
Output from '/usr/bin/make test':
PERL_DL_NONLAZY=1 "/tmp/basesmoker-reloperl-Npp3/bin/perl" "-MExtUtils::Command::MM" "-MTest::Harness" "-e" "undef *Test::Harness::Switches; test_harness(0, 'blib/lib', 'blib/arch')" t/*.t
t/00-usable.t ................... ok
t/01-export-name.t .............. ok
Smartmatch is experimental at t/02-debug-mode.t line 70.
Non-forking queue
Next job: 'CODE(0x564ca0c20d60)'
Complete: '0' ()
Next job: 'CODE(0x564ca12d0b48)'
Complete: '0' ()
Next job: 'CODE(0x564ca12d0ae8)'
Complete: '0' ()
Next job: 'CODE(0x564ca12d0a40)'
Complete: '0' ()
Next job: 'CODE(0x564ca12decb0)'
Complete: '0' ()
Next job: 'CODE(0x564ca12f0ce0)'
Complete: '0' ()
Next job: 'CODE(0x564ca12f0fb0)'
Complete: '0' ()
Next job: 'CODE(0x564ca12f0f68)'
Complete: '0' ()
Next job: 'CODE(0x564ca12f0c98)'
Complete: '0' ()
Next job: 'CODE(0x564ca12ac518)'
Complete: '0' ()
Next job: 'CODE(0x564ca0c3e520)'
Complete: '0' ()
Next job: 'CODE(0x564ca12f1118)'
Complete: '0' ()
Next job: 'CODE(0x564ca12f1208)'
Complete: '0' ()
Next job: 'CODE(0x564ca13039a8)'
Complete: '0' ()
Next job: 'CODE(0x564ca1303930)'
Complete: '0' ()
Next job: 'CODE(0x564ca1303888)'
Complete: '0' ()
Next job: 'CODE(0x564ca13037b0)'
Complete: '0' ()
Next job: 'CODE(0x564ca12fe0c8)'
Complete: '0' ()
Next job: 'CODE(0x564ca1304500)'
Complete: '0' ()
Next job: 'CODE(0x564ca12fe4b8)'
Complete: '0' ()
Next job: ''
Non-forking queue
Next job: 'CODE(0x564ca12fe560)'
Complete: '0' ()
Next job: 'CODE(0x564ca12fe650)'
Complete: '0' ()
Next job: 'CODE(0x564ca12fe740)'
Complete: '0' ()
Next job: 'CODE(0x564ca12fe830)'
Complete: '0' ()
Next job: 'CODE(0x564ca12fe920)'
Complete: '0' ()
Next job: 'CODE(0x564ca12fea10)'
Complete: '0' ()
Next job: 'CODE(0x564ca12feb00)'
Complete: '0' ()
Next job: 'CODE(0x564ca12febf0)'
Complete: '0' ()
Next job: 'CODE(0x564ca12fece0)'
Complete: '0' ()
Next job: 'CODE(0x564ca12fedd0)'
Complete: '0' ()
Next job: 'CODE(0x564ca12feec0)'
Complete: '0' ()
Next job: 'CODE(0x564ca12fefb0)'
Complete: '0' ()
Next job: 'CODE(0x564ca0c2f7c8)'
Complete: '0' ()
Next job: 'CODE(0x564ca0c2f8b8)'
Complete: '0' ()
Next job: 'CODE(0x564ca0c2f9a8)'
Complete: '0' ()
Next job: 'CODE(0x564ca0c2fa98)'
Complete: '0' ()
Next job: 'CODE(0x564ca0c2fb88)'
Complete: '0' ()
Next job: 'CODE(0x564ca0c2fc78)'
Complete: '0' ()
Next job: 'CODE(0x564ca0c2fd68)'
Complete: '0' ()
Next job: 'CODE(0x564ca0c2fe58)'
Complete: '0' ()
Next job: ''
Non-forking queue
Next job: 'CODE(0x564ca0c20d60)'
Complete: '0' ()
Next job: 'CODE(0x564ca12d0b48)'
Complete: '0' ()
Next job: 'CODE(0x564ca12d0ae8)'
Complete: '0' ()
Next job: 'CODE(0x564ca12d0a40)'
Complete: '0' ()
Next job: 'CODE(0x564ca12decb0)'
Complete: '0' ()
Next job: 'CODE(0x564ca12f0ce0)'
Complete: '0' ()
Next job: 'CODE(0x564ca12f0fb0)'
Complete: '0' ()
Next job: 'CODE(0x564ca12f0f68)'
Complete: '0' ()
Next job: 'CODE(0x564ca12f0c98)'
Complete: '0' ()
Next job: 'CODE(0x564ca12ac518)'
Complete: '0' ()
Next job: 'CODE(0x564ca0c3e520)'
Complete: '0' ()
Next job: 'CODE(0x564ca12f1118)'
Complete: '0' ()
Next job: 'CODE(0x564ca12f1208)'
Complete: '0' ()
Next job: 'CODE(0x564ca13039a8)'
Complete: '0' ()
Next job: 'CODE(0x564ca1303930)'
Complete: '0' ()
Next job: 'CODE(0x564ca1303888)'
Complete: '0' ()
Next job: 'CODE(0x564ca13037b0)'
Complete: '0' ()
Next job: 'CODE(0x564ca12fe0c8)'
Complete: '0' ()
Next job: 'CODE(0x564ca1304500)'
Complete: '0' ()
Next job: 'CODE(0x564ca12fe4b8)'
Complete: '0' ()
Next job: ''
Non-forking queue
Next job: 'CODE(0x564ca12fe560)'
Complete: '0' ()
Next job: 'CODE(0x564ca12fe650)'
Complete: '0' ()
Next job: 'CODE(0x564ca12fe740)'
Complete: '0' ()
Next job: 'CODE(0x564ca12fe830)'
Complete: '0' ()
Next job: 'CODE(0x564ca12fe920)'
Complete: '0' ()
Next job: 'CODE(0x564ca12fea10)'
Complete: '0' ()
Next job: 'CODE(0x564ca12feb00)'
Complete: '0' ()
Next job: 'CODE(0x564ca12febf0)'
Complete: '0' ()
Next job: 'CODE(0x564ca12fece0)'
Complete: '0' ()
Next job: 'CODE(0x564ca12fedd0)'
Complete: '0' ()
Next job: 'CODE(0x564ca12feec0)'
Complete: '0' ()
Next job: 'CODE(0x564ca12fefb0)'
Complete: '0' ()
Next job: 'CODE(0x564ca0c2f7c8)'
Complete: '0' ()
Next job: 'CODE(0x564ca0c2f8b8)'
Complete: '0' ()
Next job: 'CODE(0x564ca0c2f9a8)'
Complete: '0' ()
Next job: 'CODE(0x564ca0c2fa98)'
Complete: '0' ()
Next job: 'CODE(0x564ca0c2fb88)'
Complete: '0' ()
Next job: 'CODE(0x564ca0c2fc78)'
Complete: '0' ()
Next job: 'CODE(0x564ca0c2fd68)'
Complete: '0' ()
Next job: 'CODE(0x564ca0c2fe58)'
Complete: '0' ()
Next job: ''
Non-forking queue
Next job: 'CODE(0x564ca0c20d60)'
Complete: '0' ()
Next job: 'CODE(0x564ca12d0b48)'
Complete: '0' ()
Next job: 'CODE(0x564ca12d0ae8)'
Complete: '0' ()
Next job: 'CODE(0x564ca12d0a40)'
Complete: '0' ()
Next job: 'CODE(0x564ca12decb0)'
Complete: '0' ()
Next job: 'CODE(0x564ca12f0ce0)'
Complete: '0' ()
Next job: 'CODE(0x564ca12f0fb0)'
Complete: '0' ()
Next job: 'CODE(0x564ca12f0f68)'
Complete: '0' ()
Next job: 'CODE(0x564ca12f0c98)'
Complete: '0' ()
Next job: 'CODE(0x564ca12ac518)'
Complete: '0' ()
Next job: 'CODE(0x564ca0c3e520)'
Complete: '0' ()
Next job: 'CODE(0x564ca12f1118)'
Complete: '0' ()
Next job: 'CODE(0x564ca12f1208)'
Complete: '0' ()
Next job: 'CODE(0x564ca13039a8)'
Complete: '0' ()
Next job: 'CODE(0x564ca1303930)'
Complete: '0' ()
Next job: 'CODE(0x564ca1303888)'
Complete: '0' ()
Next job: 'CODE(0x564ca13037b0)'
Complete: '0' ()
Next job: 'CODE(0x564ca12fe0c8)'
Complete: '0' ()
Next job: 'CODE(0x564ca1304500)'
Complete: '0' ()
Next job: 'CODE(0x564ca12fe4b8)'
Complete: '0' ()
Next job: ''
Non-forking queue
Next job: 'CODE(0x564ca12fe560)'
Complete: '0' ()
Next job: 'CODE(0x564ca12fe650)'
Complete: '0' ()
Next job: 'CODE(0x564ca12fe740)'
Complete: '0' ()
Next job: 'CODE(0x564ca12fe830)'
Complete: '0' ()
Next job: 'CODE(0x564ca12fe920)'
Complete: '0' ()
Next job: 'CODE(0x564ca12fea10)'
Complete: '0' ()
Next job: 'CODE(0x564ca12feb00)'
Complete: '0' ()
Next job: 'CODE(0x564ca12febf0)'
Complete: '0' ()
Next job: 'CODE(0x564ca12fece0)'
Complete: '0' ()
Next job: 'CODE(0x564ca12fedd0)'
Complete: '0' ()
Next job: 'CODE(0x564ca12feec0)'
Complete: '0' ()
Next job: 'CODE(0x564ca12fefb0)'
Complete: '0' ()
Next job: 'CODE(0x564ca0c2f7c8)'
Complete: '0' ()
Next job: 'CODE(0x564ca0c2f8b8)'
Complete: '0' ()
Next job: 'CODE(0x564ca0c2f9a8)'
Complete: '0' ()
Next job: 'CODE(0x564ca0c2fa98)'
Complete: '0' ()
Next job: 'CODE(0x564ca0c2fb88)'
Complete: '0' ()
Next job: 'CODE(0x564ca0c2fc78)'
Complete: '0' ()
Next job: 'CODE(0x564ca0c2fd68)'
Complete: '0' ()
Next job: 'CODE(0x564ca0c2fe58)'
Complete: '0' ()
Next job: ''
t/02-debug-mode.t ............... ok
Smartmatch is experimental at t/03-fork.t line 83.
t/03-fork.t ..................... ok
t/04-nonzero-exit.t ............. ok
exit( 1 ) by 2687538 at /tmp/loop_over_bdir-1644221-1tGpG6/Parallel-Queue-3.6-0/blib/lib/Parallel/Queue.pm line 227.
t/05-nonzero-with-finish.t ...... ok
Discarding non-queue 'PQ::Iterator::a'
Discarding non-queue 'PQ::Iterator::b'
Discarding non-queue 'PQ::Iterator::c'
t/06-iterator-package-nofork.t .. ok
Discarding non-queue 'PQ::Iterator::a'
Discarding non-queue 'PQ::Iterator::b'
Discarding non-queue 'PQ::Iterator::c'
t/07-iterator-package-fork.t .... ok
t/08-iterator-objects-nofork.t .. ok
t/09-iterator-objects-fork.t .... ok
All tests successful.
Files=10, Tests=87, 1 wallclock secs ( 0.03 usr 0.03 sys + 0.58 cusr 0.38 csys = 1.02 CPU)
Result: PASS
------------------------------
PREREQUISITES
------------------------------
Prerequisite modules loaded:
requires:
Module Need Have
------------------- ---- ----
Carp 0 1.50
Scalar::Util 0 1.55
strict 0 1.12
Symbol 0 1.08
build_requires:
Module Need Have
------------------- ---- ----
ExtUtils::MakeMaker 0 7.46
configure_requires:
Module Need Have
------------------- ---- ----
ExtUtils::MakeMaker 0 7.46
------------------------------
ENVIRONMENT AND OTHER CONTEXT
------------------------------
Environment variables:
AUTOMATED_TESTING = 1
LANG = en_US.UTF-8
PATH = /home/sand/bin:/usr/local/bin:/usr/bin:/bin:/usr/games:/usr/local/perl/bin:/usr/X11/bin:/sbin:/usr/sbin
PERL5LIB =
PERL5OPT =
PERL5_CPANPLUS_IS_RUNNING = 2618126
PERL5_CPAN_IS_RUNNING = 2618126
PERL_CANARY_STABILITY_NOPROMPT = 1
PERL_MM_USE_DEFAULT = 1
PERL_USE_UNSAFE_INC = 1
SHELL = /usr/bin/zsh
TERM = screen
Perl special variables (and OS-specific diagnostics, for MSWin32):
$^X = /tmp/basesmoker-reloperl-Npp3/bin/perl
$UID/$EUID = 1005 / 1005
$GID = 1005 1005
$EGID = 1005 1005
Perl module toolchain versions installed:
Module Have
------------------- --------
CPAN 2.28
CPAN::Meta 2.150010
Cwd 3.78
ExtUtils::CBuilder 0.280234
ExtUtils::Command 7.46
ExtUtils::Install 2.14
ExtUtils::MakeMaker 7.46
ExtUtils::Manifest 1.72
ExtUtils::ParseXS 3.40
File::Spec 3.78
JSON 4.02
JSON::PP 4.05
Module::Build 0.4231
Module::Signature 0.87
Parse::CPAN::Meta 2.150010
Test::Harness 3.42
Test::More 1.302177
YAML 1.30
YAML::Syck 1.32
version 0.9924
--
Summary of my perl5 (revision 5 version 33 subversion 1) configuration:
Commit id: 55507ac1d99efa7f407df8ebcf9f6683532679f8
Platform:
osname=linux
osvers=5.3.0-2-amd64
archname=x86_64-linux-ld
uname='linux k93msid 5.3.0-2-amd64 #1 smp debian 5.3.9-3 (2019-11-19) x86_64 gnulinux '
config_args='-Dprefix=/home/sand/src/perl/repoperls/installed-perls/host/k93msid/v5.33.0-217-g55507ac1d9/af11 -Dmyhostname=k93msid -Dinstallusrbinperl=n -Uversiononly -Dusedevel -des -Ui_db -Dlibswanted=cl pthread socket inet nsl gdbm dbm malloc dl ld sun m crypt sec util c cposix posix ucb BSD gdbm_compat -Uuseithreads -Duselongdouble -DEBUGGING=-g'
hint=recommended
useposix=true
d_sigaction=define
useithreads=undef
usemultiplicity=undef
use64bitint=define
use64bitall=define
uselongdouble=define
usemymalloc=n
default_inc_excludes_dot=define
bincompat5005=undef
Compiler:
cc='cc'
ccflags ='-fwrapv -fno-strict-aliasing -pipe -fstack-protector-strong -I/usr/local/include -D_LARGEFILE_SOURCE -D_FILE_OFFSET_BITS=64 -D_FORTIFY_SOURCE=2'
optimize='-O2 -g'
cppflags='-fwrapv -fno-strict-aliasing -pipe -fstack-protector-strong -I/usr/local/include'
ccversion=''
gccversion='9.2.1 20191109'
gccosandvers=''
intsize=4
longsize=8
ptrsize=8
doublesize=8
byteorder=12345678
doublekind=3
d_longlong=define
longlongsize=8
d_longdbl=define
longdblsize=16
longdblkind=3
ivtype='long'
ivsize=8
nvtype='long double'
nvsize=16
Off_t='off_t'
lseeksize=8
alignbytes=16
prototype=define
Linker and Libraries:
ld='cc'
ldflags =' -fstack-protector-strong -L/usr/local/lib'
libpth=/usr/local/lib /usr/lib/gcc/x86_64-linux-gnu/9/include-fixed /usr/include/x86_64-linux-gnu /usr/lib /lib/x86_64-linux-gnu /lib/../lib /usr/lib/x86_64-linux-gnu /usr/lib/../lib /lib
libs=-lpthread -lnsl -ldl -lm -lcrypt -lutil -lc
perllibs=-lpthread -lnsl -ldl -lm -lcrypt -lutil -lc
libc=libc-2.29.so
so=so
useshrplib=false
libperl=libperl.a
gnulibc_version='2.29'
Dynamic Linking:
dlsrc=dl_dlopen.xs
dlext=so
d_dlsymun=undef
ccdlflags='-Wl,-E'
cccdlflags='-fPIC'
lddlflags='-shared -O2 -g -L/usr/local/lib -fstack-protector-strong'
Characteristics of this binary (from libperl):
Compile-time options:
HAS_TIMES
PERLIO_LAYERS
PERL_COPY_ON_WRITE
PERL_DONT_CREATE_GVSV
PERL_MALLOC_WRAP
PERL_OP_PARENT
PERL_PRESERVE_IVUV
PERL_USE_DEVEL
USE_64_BIT_ALL
USE_64_BIT_INT
USE_LARGE_FILES
USE_LOCALE
USE_LOCALE_COLLATE
USE_LOCALE_CTYPE
USE_LOCALE_NUMERIC
USE_LOCALE_TIME
USE_LONG_DOUBLE
USE_PERLIO
USE_PERL_ATOF
Built under linux
Compiled at Aug 9 2020 04:46:42
%ENV:
PERL5LIB=""
PERL5OPT=""
PERL5_CPANPLUS_IS_RUNNING="2618126"
PERL5_CPAN_IS_RUNNING="2618126"
PERL_CANARY_STABILITY_NOPROMPT="1"
PERL_MM_USE_DEFAULT="1"
PERL_USE_UNSAFE_INC="1"
@INC:
/home/sand/src/perl/repoperls/installed-perls/host/k93msid/v5.33.0-217-g55507ac1d9/af11/lib/site_perl/5.33.1/x86_64-linux-ld
/home/sand/src/perl/repoperls/installed-perls/host/k93msid/v5.33.0-217-g55507ac1d9/af11/lib/site_perl/5.33.1
/home/sand/src/perl/repoperls/installed-perls/host/k93msid/v5.33.0-217-g55507ac1d9/af11/lib/5.33.1/x86_64-linux-ld
/home/sand/src/perl/repoperls/installed-perls/host/k93msid/v5.33.0-217-g55507ac1d9/af11/lib/5.33.1
.