Test-CleanNamespaces v0.24 Perl 5 v5.37.0 darwin-2level

Status
Pass
From
Nigel Horne
Dist
Test-CleanNamespaces v0.24
Platform
Perl 5 v5.37.0 darwin-2level
Date
2022-06-14 19:02:49
ID
9568fac2-ec14-11ec-91e6-1bb3b6413ad0
This distribution has been tested as part of the CPAN Testers
project, supporting the Perl programming language.  See
http://wiki.cpantesters.org/ for more information or email
questions to cpan-testers-discuss@perl.org


--
Dear Karen Etheridge,

This is a computer-generated report for Test-CleanNamespaces-0.24
on perl 5.37.0, created by CPAN-Reporter-1.2018.

Thank you for uploading your work to CPAN.  Congratulations!
All tests were successful.

Sections of this report:

    * Tester comments
    * Program output
    * Prerequisites
    * Environment and other context

------------------------------
TESTER COMMENTS
------------------------------

Additional comments from tester:

this report is from an automated smoke testing program
and was not reviewed by a human for accuracy

------------------------------
PROGRAM OUTPUT
------------------------------

Output from '/usr/bin/make test':

PERL_DL_NONLAZY=1 "/Users/nhorne/perl5/perlbrew/perls/perl-5.37.0/bin/perl5.37.0" "-MExtUtils::Command::MM" "-MTest::Harness" "-e" "undef *Test::Harness::Switches; test_harness(0, 'blib/lib', 'blib/arch')" t/*.t
t/class_mop.t ................. skipped: Need Class::MOP
t/clean-namespaces.t .......... ok
t/find_modules.t .............. ok
t/basic.t ..................... ok
t/moose-parameterized-role.t .. skipped: Need Moose, MooseX::Role::Parameterized
t/moo.t ....................... ok
t/moose.t ..................... skipped: Need Moose
t/mouse.t ..................... skipped: Need Mouse
# 
# Versions for all modules listed in MYMETA.json (including optional ones):
# 
# === Configure Requires ===
# 
#     Module                       Want     Have
#     ------------------------ -------- --------
#     CPAN::Meta::Requirements 2.120620    2.140
#     ExtUtils::MakeMaker           any     7.64
#     Module::Metadata              any 1.000037
# 
# === Build Requires ===
# 
#     Module              Want Have
#     ------------------- ---- ----
#     ExtUtils::MakeMaker  any 7.64
# 
# === Test Requires ===
# 
#     Module                 Want     Have
#     --------------------- ----- --------
#     ExtUtils::MakeMaker     any     7.64
#     File::Spec              any     3.84
#     File::Spec::Functions   any     3.84
#     File::pushd             any    1.016
#     Scalar::Util            any     1.62
#     Sub::Exporter           any    0.988
#     Test::Deep              any    1.130
#     Test::More             0.96 1.302190
#     Test::Needs             any 0.002009
#     Test::Tester            any 1.302190
#     Test::Warnings        0.009    0.031
#     constant                any     1.33
#     if                      any   0.0610
#     lib                     any     0.65
#     namespace::clean        any     0.27
#     overload                any     1.35
#     parent                  any    0.238
# 
# === Test Recommends ===
# 
#     Module         Want     Have
#     ---------- -------- --------
#     CPAN::Meta 2.120900 2.150010
# 
# === Test Suggests ===
# 
#     Module                          Want     Have
#     --------------------------- -------- --------
#     Class::MOP::Class                any  missing
#     Moo                              any 2.005004
#     Moo::Role                        any 2.005004
#     Moose                            any  missing
#     Moose::Exporter                  any  missing
#     Moose::Role                      any  missing
#     MooseX::Role::Parameterized      any  missing
#     Mouse                            any  missing
#     Mouse::Role                      any  missing
#     Role::Tiny                  1.003000 2.002004
#     metaclass                        any  missing
# 
# === Runtime Requires ===
# 
#     Module              Want     Have
#     --------------- -------- --------
#     Exporter            5.57     5.77
#     File::Find           any     1.40
#     File::Spec           any     3.84
#     Module::Runtime      any    0.016
#     Package::Stash      0.14     0.40
#     Role::Tiny      1.003000 2.002004
#     Sub::Identify        any     0.14
#     Test::Builder        any 1.302190
#     strict               any     1.12
#     warnings             any     1.58
# 
# === Runtime Recommends ===
# 
#     Module             Want Have
#     ------------------ ---- ----
#     Package::Stash::XS  any 0.30
# 
# === Runtime Suggests ===
# 
#     Module     Want     Have
#     ---------- ---- --------
#     Role::Tiny  any 2.002004
# 
# === Other Modules ===
# 
#     Module            Have
#     --------------- ------
#     Encode            3.17
#     File::Temp      0.2311
#     JSON::PP          4.09
#     Module::Runtime  0.016
#     Pod::Coverage     0.23
#     Sub::Name         0.26
#     YAML              1.30
#     autodie           2.34
# 
t/overload.t .................. ok
t/00-report-prereqs.t ......... ok
t/self.t ...................... ok
t/role_tiny.t ................. ok
t/zzz-check-breaks.t .......... ok
All tests successful.
Files=13, Tests=134,  0 wallclock secs ( 0.04 usr  0.03 sys +  1.10 cusr  0.33 csys =  1.50 CPU)
Result: PASS

------------------------------
PREREQUISITES
------------------------------

Prerequisite modules loaded:

requires:

    Module                   Need     Have    
    ------------------------ -------- --------
    Exporter                 5.57     5.77    
    File::Find               0        1.40    
    File::Spec               0        3.84    
    Module::Runtime          0        0.016   
    Package::Stash           0.14     0.40    
    perl                     5.006    5.037000
    Role::Tiny               1.003000 2.002004
    strict                   0        1.12    
    Sub::Identify            0        0.14    
    Test::Builder            0        1.302190
    warnings                 0        1.58    

build_requires:

    Module                   Need     Have    
    ------------------------ -------- --------
    constant                 0        1.33    
    ExtUtils::MakeMaker      0        7.64    
    File::pushd              0        1.016   
    File::Spec               0        3.84    
    File::Spec::Functions    0        3.84    
    if                       0        0.0610  
    lib                      0        0.65    
    namespace::clean         0        0.27    
    overload                 0        1.35    
    parent                   0        0.238   
    Scalar::Util             0        1.62    
    Sub::Exporter            0        0.988   
    Test::Deep               0        1.130   
    Test::More               0.96     1.302190
    Test::Needs              0        0.002009
    Test::Tester             0        1.302190
    Test::Warnings           0.009    0.031   

configure_requires:

    Module                   Need     Have    
    ------------------------ -------- --------
    CPAN::Meta::Requirements 2.120620 2.140   
    ExtUtils::MakeMaker      0        7.64    
    Module::Metadata         0        1.000037
    perl                     5.006    5.037000

opt_requires:

    Module                   Need     Have    
    ------------------------ -------- --------
    Package::Stash::XS       0        0.30    

opt_build_requires:

    Module                   Need     Have    
    ------------------------ -------- --------
    CPAN::Meta               2.120900 2.150010


------------------------------
ENVIRONMENT AND OTHER CONTEXT
------------------------------

Environment variables:

    AUTOMATED_TESTING = 1
    HARNESS_OPTIONS = j6:c
    LANG = en_US.UTF-8
    LC_TERMINAL = iTerm2
    LC_TERMINAL_VERSION = 3.4.15
    LDFLAGS = -L/usr/local/opt/openssl@1.1/lib:/usr/local/opt/python@3.8/lib
    NONINTERACTIVE_TESTING = 1
    PATH = /Users/nhorne/perl5/perlbrew/bin:/Users/nhorne/perl5/perlbrew/perls/perl-5.37.0/bin:/Users/nhorne/perl5/perlbrew/bin:/Users/nhorne/perl5/perlbrew/perls/perl-5.36.0/bin:/Users/nhorne/bin:/usr/local/opt/openssl@1.1/bin:/usr/local/opt/python@3.8/bin:/usr/local/bin:/usr/bin:/bin:/usr/sbin:/sbin:/Library/Apple/usr/bin
    PERL5LIB = 
    PERL5OPT = 
    PERL5_CPANPLUS_IS_RUNNING = 42117
    PERL5_CPAN_IS_RUNNING = 42117
    PERLBREW_HOME = /Users/nhorne/.perlbrew
    PERLBREW_LIB = 
    PERLBREW_MANPATH = /Users/nhorne/perl5/perlbrew/perls/perl-5.37.0/man
    PERLBREW_PATH = /Users/nhorne/perl5/perlbrew/bin:/Users/nhorne/perl5/perlbrew/perls/perl-5.37.0/bin
    PERLBREW_PERL = perl-5.37.0
    PERLBREW_ROOT = /Users/nhorne/perl5/perlbrew
    PERLBREW_SHELLRC_VERSION = 0.95
    PERLBREW_VERSION = 0.95
    PERL_LOCAL_LIB_ROOT = 
    PERL_MM_USE_DEFAULT = 1
    PERL_USE_UNSAFE_INC = 1
    SHELL = /bin/bash
    TERM = xterm-256color
    TMPDIR = /var/folders/rb/cnysxwf16zq1n94dyy56v2q00000gp/T/

Perl special variables (and OS-specific diagnostics, for MSWin32):

    $^X = /Users/nhorne/perl5/perlbrew/perls/perl-5.37.0/bin/perl5.37.0
    $UID/$EUID = 502 / 502
    $GID = 20 20 12 61 79 80 81 98 702 701 33 100 204 250 395 398 399
    $EGID = 20 20 12 61 79 80 81 98 702 701 33 100 204 250 395 398 399

Perl module toolchain versions installed:

    Module              Have    
    ------------------- --------
    CPAN                2.34    
    CPAN::Meta          2.150010
    Cwd                 3.84    
    ExtUtils::CBuilder  0.280236
    ExtUtils::Command   7.64    
    ExtUtils::Install   2.20    
    ExtUtils::MakeMaker 7.64    
    ExtUtils::Manifest  1.73    
    ExtUtils::ParseXS   3.45    
    File::Spec          3.84    
    JSON                4.06    
    JSON::PP            4.09    
    Module::Build       0.4231  
    Module::Signature   n/a     
    Parse::CPAN::Meta   2.150010
    Test::Harness       3.44    
    Test::More          1.302190
    YAML                1.30    
    YAML::Syck          1.34    
    version             0.9929  


--

Summary of my perl5 (revision 5 version 37 subversion 0) configuration:
   
  Platform:
    osname=darwin
    osvers=20.6.0
    archname=darwin-2level
    uname='darwin gslal0320030003 20.6.0 darwin kernel version 20.6.0: tue apr 19 21:04:45 pdt 2022; root:xnu-7195.141.29~1release_x86_64 x86_64 '
    config_args='-de -Dprefix=/Users/nhorne/perl5/perlbrew/perls/perl-5.37.0 -Dusedevel -Aeval:scriptdir=/Users/nhorne/perl5/perlbrew/perls/perl-5.37.0/bin'
    hint=recommended
    useposix=true
    d_sigaction=define
    useithreads=undef
    usemultiplicity=undef
    use64bitint=define
    use64bitall=define
    uselongdouble=undef
    usemymalloc=n
    default_inc_excludes_dot=define
  Compiler:
    cc='cc'
    ccflags ='-fno-common -DPERL_DARWIN -mmacosx-version-min=11.6 -fno-strict-aliasing -pipe -fstack-protector-strong -I/usr/local/include -DPERL_USE_SAFE_PUTENV'
    optimize='-O3'
    cppflags='-fno-common -DPERL_DARWIN -mmacosx-version-min=11.6 -fno-strict-aliasing -pipe -fstack-protector-strong -I/usr/local/include'
    ccversion=''
    gccversion='Apple LLVM 12.0.0 (clang-1200.0.32.27)'
    gccosandvers=''
    intsize=4
    longsize=8
    ptrsize=8
    doublesize=8
    byteorder=12345678
    doublekind=3
    d_longlong=define
    longlongsize=8
    d_longdbl=define
    longdblsize=16
    longdblkind=3
    ivtype='long'
    ivsize=8
    nvtype='double'
    nvsize=8
    Off_t='off_t'
    lseeksize=8
    alignbytes=8
    prototype=define
  Linker and Libraries:
    ld='cc'
    ldflags =' -mmacosx-version-min=11.6 -fstack-protector-strong -L/usr/local/lib'
    libpth=/usr/local/lib /Library/Developer/CommandLineTools/usr/lib/clang/12.0.0/lib /Library/Developer/CommandLineTools/SDKs/MacOSX.sdk/usr/lib /Library/Developer/CommandLineTools/usr/lib /usr/lib
    libs=-lgdbm
    perllibs=
    libc=
    so=dylib
    useshrplib=false
    libperl=libperl.a
    gnulibc_version=''
  Dynamic Linking:
    dlsrc=dl_dlopen.xs
    dlext=bundle
    d_dlsymun=undef
    ccdlflags=' '
    cccdlflags=' '
    lddlflags=' -mmacosx-version-min=11.6 -bundle -undefined dynamic_lookup -L/usr/local/lib -fstack-protector-strong'


Characteristics of this binary (from libperl): 
  Compile-time options:
    HAS_TIMES
    PERLIO_LAYERS
    PERL_COPY_ON_WRITE
    PERL_DONT_CREATE_GVSV
    PERL_MALLOC_WRAP
    PERL_OP_PARENT
    PERL_PRESERVE_IVUV
    PERL_USE_DEVEL
    PERL_USE_SAFE_PUTENV
    USE_64_BIT_ALL
    USE_64_BIT_INT
    USE_LARGE_FILES
    USE_LOCALE
    USE_LOCALE_COLLATE
    USE_LOCALE_CTYPE
    USE_LOCALE_NUMERIC
    USE_LOCALE_TIME
    USE_PERLIO
    USE_PERL_ATOF
  Built under darwin
  Compiled at May 31 2022 09:32:31
  %ENV:
    PERL5LIB=""
    PERL5OPT=""
    PERL5_CPANPLUS_IS_RUNNING="42117"
    PERL5_CPAN_IS_RUNNING="42117"
    PERLBREW_HOME="/Users/nhorne/.perlbrew"
    PERLBREW_LIB=""
    PERLBREW_MANPATH="/Users/nhorne/perl5/perlbrew/perls/perl-5.37.0/man"
    PERLBREW_PATH="/Users/nhorne/perl5/perlbrew/bin:/Users/nhorne/perl5/perlbrew/perls/perl-5.37.0/bin"
    PERLBREW_PERL="perl-5.37.0"
    PERLBREW_ROOT="/Users/nhorne/perl5/perlbrew"
    PERLBREW_SHELLRC_VERSION="0.95"
    PERLBREW_VERSION="0.95"
    PERL_LOCAL_LIB_ROOT=""
    PERL_MM_USE_DEFAULT="1"
    PERL_USE_UNSAFE_INC="1"
  @INC:
    /Users/nhorne/perl5/perlbrew/perls/perl-5.37.0/lib/site_perl/5.37.0/darwin-2level
    /Users/nhorne/perl5/perlbrew/perls/perl-5.37.0/lib/site_perl/5.37.0
    /Users/nhorne/perl5/perlbrew/perls/perl-5.37.0/lib/5.37.0/darwin-2level
    /Users/nhorne/perl5/perlbrew/perls/perl-5.37.0/lib/5.37.0
    .