CPAN-Mini-Visit-Filtered v0.01_06 Perl 5 v5.10.1 i386-freebsd

Status
Pass
From
Slaven Rezić (SREZIC)
Dist
CPAN-Mini-Visit-Filtered v0.01_06
Platform
Perl 5 v5.10.1 i386-freebsd
Date
2010-08-17 19:56:53
ID
95515536-aa39-11df-b4ea-629c5b4ccdc3
This distribution has been tested as part of the CPAN Testers
project, supporting the Perl programming language.  See
http://wiki.cpantesters.org/ for more information or email
questions to cpan-testers-discuss@perl.org


--
Dear brian greenfield,
    
This is a computer-generated report for CPAN-Mini-Visit-Filtered-0.01_06
on perl 5.10.1, created by CPAN-Reporter-1.171. 

Thank you for uploading your work to CPAN.  Congratulations!
All tests were successful.

Sections of this report:

    * Tester comments
    * Program output
    * Prerequisites
    * Environment and other context

------------------------------
TESTER COMMENTS
------------------------------

Additional comments from tester: 

none provided

------------------------------
PROGRAM OUTPUT
------------------------------

Output from '/usr/bin/make test':

PERL_DL_NONLAZY=1 /usr/perl5.10.1/bin/perl "-MExtUtils::Command::MM" "-e" "test_harness(0, 'blib/lib', 'blib/arch')" t/*.t
The old Moose::Util::MetaRole API (before version 0.94) has been deprecated at /usr/perl5.10.1/lib/site_perl/5.10.1/i386-freebsd/Moose/Util/MetaRole.pm line 16
	Moose::Util::MetaRole::apply_metaclass_roles('for_class', 'MooseX::Method::Signatures', 'attribute_metaclass_roles', 'ARRAY(0x28299890)') called at /usr/perl5.10.1/lib/site_perl/5.10.1/MooseX/LazyRequire.pm line 15
	MooseX::LazyRequire::init_meta('MooseX::LazyRequire', 'for_class', 'MooseX::Method::Signatures', 'metaclass', undef) called at /usr/perl5.10.1/lib/site_perl/5.10.1/i386-freebsd/Moose/Exporter.pm line 355
	Moose::Exporter::__ANON__('MooseX::LazyRequire') called at /usr/perl5.10.1/lib/site_perl/5.10.1/MooseX/Method/Signatures.pm line 10
	MooseX::Method::Signatures::BEGIN() called at /usr/perl5.10.1/lib/site_perl/5.10.1/MooseX/LazyRequire.pm line 10
	eval {...} called at /usr/perl5.10.1/lib/site_perl/5.10.1/MooseX/LazyRequire.pm line 10
	require MooseX/Method/Signatures.pm called at /usr/perl5.10.1/lib/site_perl/5.10.1/MooseX/Declare/Syntax/MethodDeclaration.pm line 5
	MooseX::Declare::Syntax::MethodDeclaration::BEGIN() called at /usr/perl5.10.1/lib/site_perl/5.10.1/MooseX/LazyRequire.pm line 10
	eval {...} called at /usr/perl5.10.1/lib/site_perl/5.10.1/MooseX/LazyRequire.pm line 10
	require MooseX/Declare/Syntax/MethodDeclaration.pm called at /usr/perl5.10.1/lib/site_perl/5.10.1/i386-freebsd/Class/MOP.pm line 114
	Class::MOP::__ANON__() called at /usr/perl5.10.1/lib/site_perl/5.10.1/Try/Tiny.pm line 71
	eval {...} called at /usr/perl5.10.1/lib/site_perl/5.10.1/Try/Tiny.pm line 67
	Try::Tiny::try('CODE(0x27e81810)', 'Try::Tiny::Catch=REF(0x27e59140)') called at /usr/perl5.10.1/lib/site_perl/5.10.1/i386-freebsd/Class/MOP.pm line 125
	Class::MOP::load_first_existing_class('MooseX::Declare::Syntax::MethodDeclaration') called at /usr/perl5.10.1/lib/site_perl/5.10.1/i386-freebsd/Class/MOP.pm line 137
	Class::MOP::load_class('MooseX::Declare::Syntax::MethodDeclaration', undef) called at /usr/perl5.10.1/lib/site_perl/5.10.1/i386-freebsd/Moose/Util.pm line 109
	Moose::Util::_apply_all_roles('Moose::Meta::Class=HASH(0x27e7c390)', undef, 'MooseX::Declare::Syntax::MethodDeclaration') called at /usr/perl5.10.1/lib/site_perl/5.10.1/i386-freebsd/Moose/Util.pm line 87
	Moose::Util::apply_all_roles('Moose::Meta::Class=HASH(0x27e7c390)', 'MooseX::Declare::Syntax::MethodDeclaration') called at /usr/perl5.10.1/lib/site_perl/5.10.1/i386-freebsd/Moose.pm line 58
	Moose::with('Moose::Meta::Class=HASH(0x27e7c390)', 'MooseX::Declare::Syntax::MethodDeclaration') called at /usr/perl5.10.1/lib/site_perl/5.10.1/i386-freebsd/Moose/Exporter.pm line 294
	Moose::with('MooseX::Declare::Syntax::MethodDeclaration') called at /usr/perl5.10.1/lib/site_perl/5.10.1/MooseX/Declare/Syntax/Keyword/MethodModifier.pm line 9
	require MooseX/Declare/Syntax/Keyword/MethodModifier.pm called at (eval 213) line 1
	MooseX::Declare::Syntax::MooseSetup::BEGIN() called at /usr/perl5.10.1/lib/site_perl/5.10.1/MooseX/LazyRequire.pm line 10
	eval {...} called at /usr/perl5.10.1/lib/site_perl/5.10.1/MooseX/LazyRequire.pm line 10
	eval 'package MooseX::Declare::Syntax::MooseSetup; use MooseX::Declare::Syntax::Keyword::MethodModifier;' called at /usr/perl5.10.1/lib/site_perl/5.10.1/aliased.pm line 50
	aliased::_load_alias('MooseX::Declare::Syntax::Keyword::MethodModifier', 'MooseX::Declare::Syntax::MooseSetup') called at /usr/perl5.10.1/lib/site_perl/5.10.1/aliased.pm line 20
	aliased::import('aliased', 'MooseX::Declare::Syntax::Keyword::MethodModifier') called at /usr/perl5.10.1/lib/site_perl/5.10.1/MooseX/Declare/Syntax/MooseSetup.pm line 8
	MooseX::Declare::Syntax::MooseSetup::BEGIN() called at /usr/perl5.10.1/lib/site_perl/5.10.1/MooseX/LazyRequire.pm line 10
	eval {...} called at /usr/perl5.10.1/lib/site_perl/5.10.1/MooseX/LazyRequire.pm line 10
	require MooseX/Declare/Syntax/MooseSetup.pm called at /usr/perl5.10.1/lib/site_perl/5.10.1/i386-freebsd/Class/MOP.pm line 114
	Class::MOP::__ANON__() called at /usr/perl5.10.1/lib/site_perl/5.10.1/Try/Tiny.pm line 71
	eval {...} called at /usr/perl5.10.1/lib/site_perl/5.10.1/Try/Tiny.pm line 67
	Try::Tiny::try('CODE(0x27e6e090)', 'Try::Tiny::Catch=REF(0x27e544f0)') called at /usr/perl5.10.1/lib/site_perl/5.10.1/i386-freebsd/Class/MOP.pm line 125
	Class::MOP::load_first_existing_class('MooseX::Declare::Syntax::MooseSetup') called at /usr/perl5.10.1/lib/site_perl/5.10.1/i386-freebsd/Class/MOP.pm line 137
	Class::MOP::load_class('MooseX::Declare::Syntax::MooseSetup', undef) called at /usr/perl5.10.1/lib/site_perl/5.10.1/i386-freebsd/Moose/Util.pm line 109
	Moose::Util::_apply_all_roles('Moose::Meta::Class=HASH(0x27ddc980)', undef, 'MooseX::Declare::Syntax::MooseSetup', 'MooseX::Declare::Syntax::RoleApplication', 'MooseX::Declare::Syntax::Extending') called at /usr/perl5.10.1/lib/site_perl/5.10.1/i386-freebsd/Moose/Util.pm line 87
	Moose::Util::apply_all_roles('Moose::Meta::Class=HASH(0x27ddc980)', 'MooseX::Declare::Syntax::MooseSetup', 'MooseX::Declare::Syntax::RoleApplication', 'MooseX::Declare::Syntax::Extending') called at /usr/perl5.10.1/lib/site_perl/5.10.1/i386-freebsd/Moose.pm line 58
	Moose::with('Moose::Meta::Class=HASH(0x27ddc980)', 'MooseX::Declare::Syntax::MooseSetup', 'MooseX::Declare::Syntax::RoleApplication', 'MooseX::Declare::Syntax::Extending') called at /usr/perl5.10.1/lib/site_perl/5.10.1/i386-freebsd/Moose/Exporter.pm line 294
	Moose::with('MooseX::Declare::Syntax::MooseSetup', 'MooseX::Declare::Syntax::RoleApplication', 'MooseX::Declare::Syntax::Extending') called at /usr/perl5.10.1/lib/site_perl/5.10.1/MooseX/Declare/Syntax/Keyword/Class.pm line 7
	require MooseX/Declare/Syntax/Keyword/Class.pm called at (eval 9) line 1
	MooseX::Declare::BEGIN() called at /usr/perl5.10.1/lib/site_perl/5.10.1/MooseX/LazyRequire.pm line 10
	eval {...} called at /usr/perl5.10.1/lib/site_perl/5.10.1/MooseX/LazyRequire.pm line 10
	eval 'package MooseX::Declare; use MooseX::Declare::Syntax::Keyword::Class;' called at /usr/perl5.10.1/lib/site_perl/5.10.1/aliased.pm line 50
	aliased::_load_alias('MooseX::Declare::Syntax::Keyword::Class', 'MooseX::Declare') called at /usr/perl5.10.1/lib/site_perl/5.10.1/aliased.pm line 20
	aliased::import('aliased', 'MooseX::Declare::Syntax::Keyword::Class', 'ClassKeyword') called at /usr/perl5.10.1/lib/site_perl/5.10.1/MooseX/Declare.pm line 6
	MooseX::Declare::BEGIN() called at /usr/perl5.10.1/lib/site_perl/5.10.1/MooseX/LazyRequire.pm line 10
	eval {...} called at /usr/perl5.10.1/lib/site_perl/5.10.1/MooseX/LazyRequire.pm line 10
	require MooseX/Declare.pm called at /var/tmp/CPAN-build/CPAN-Mini-Visit-Filtered-0.01_06-8JqoBO/t/../lib/CPAN/Mini/Visit/Filtered.pm line 5
	CPAN::Mini::Visit::Filtered::BEGIN() called at /usr/perl5.10.1/lib/site_perl/5.10.1/MooseX/LazyRequire.pm line 10
	eval {...} called at /usr/perl5.10.1/lib/site_perl/5.10.1/MooseX/LazyRequire.pm line 10
	require CPAN/Mini/Visit/Filtered.pm called at (eval 8) line 2
	main::BEGIN() called at /usr/perl5.10.1/lib/site_perl/5.10.1/MooseX/LazyRequire.pm line 10
	eval {...} called at /usr/perl5.10.1/lib/site_perl/5.10.1/MooseX/LazyRequire.pm line 10
	eval 'package main;
use CPAN::Mini::Visit::Filtered @{$args[0]};
1;

;' called at /usr/perl5.10.1/lib/5.10.1/Test/More.pm line 858
	Test::More::_eval('package main;\x{a}use CPAN::Mini::Visit::Filtered @{$args[0]};\x{a}1;\x{a}', 'ARRAY(0x27849c10)') called at /usr/perl5.10.1/lib/5.10.1/Test/More.pm line 833
	Test::More::use_ok('CPAN::Mini::Visit::Filtered') called at t/010-load.t line 14
# testing CPAN::Mini::Visit::Filtered 0.01_06 on perl 5.010001
t/010-load.t ....... ok
The old Moose::Util::MetaRole API (before version 0.94) has been deprecated at /usr/perl5.10.1/lib/site_perl/5.10.1/i386-freebsd/Moose/Util/MetaRole.pm line 16
	Moose::Util::MetaRole::apply_metaclass_roles('for_class', 'MooseX::Method::Signatures', 'attribute_metaclass_roles', 'ARRAY(0x282aca70)') called at /usr/perl5.10.1/lib/site_perl/5.10.1/MooseX/LazyRequire.pm line 15
	MooseX::LazyRequire::init_meta('MooseX::LazyRequire', 'for_class', 'MooseX::Method::Signatures', 'metaclass', undef) called at /usr/perl5.10.1/lib/site_perl/5.10.1/i386-freebsd/Moose/Exporter.pm line 355
	Moose::Exporter::__ANON__('MooseX::LazyRequire') called at /usr/perl5.10.1/lib/site_perl/5.10.1/MooseX/Method/Signatures.pm line 10
	MooseX::Method::Signatures::BEGIN() called at /usr/perl5.10.1/lib/site_perl/5.10.1/MooseX/LazyRequire.pm line 10
	eval {...} called at /usr/perl5.10.1/lib/site_perl/5.10.1/MooseX/LazyRequire.pm line 10
	require MooseX/Method/Signatures.pm called at /usr/perl5.10.1/lib/site_perl/5.10.1/MooseX/Declare/Syntax/MethodDeclaration.pm line 5
	MooseX::Declare::Syntax::MethodDeclaration::BEGIN() called at /usr/perl5.10.1/lib/site_perl/5.10.1/MooseX/LazyRequire.pm line 10
	eval {...} called at /usr/perl5.10.1/lib/site_perl/5.10.1/MooseX/LazyRequire.pm line 10
	require MooseX/Declare/Syntax/MethodDeclaration.pm called at /usr/perl5.10.1/lib/site_perl/5.10.1/i386-freebsd/Class/MOP.pm line 114
	Class::MOP::__ANON__() called at /usr/perl5.10.1/lib/site_perl/5.10.1/Try/Tiny.pm line 71
	eval {...} called at /usr/perl5.10.1/lib/site_perl/5.10.1/Try/Tiny.pm line 67
	Try::Tiny::try('CODE(0x27e92b20)', 'Try::Tiny::Catch=REF(0x27e6b450)') called at /usr/perl5.10.1/lib/site_perl/5.10.1/i386-freebsd/Class/MOP.pm line 125
	Class::MOP::load_first_existing_class('MooseX::Declare::Syntax::MethodDeclaration') called at /usr/perl5.10.1/lib/site_perl/5.10.1/i386-freebsd/Class/MOP.pm line 137
	Class::MOP::load_class('MooseX::Declare::Syntax::MethodDeclaration', undef) called at /usr/perl5.10.1/lib/site_perl/5.10.1/i386-freebsd/Moose/Util.pm line 109
	Moose::Util::_apply_all_roles('Moose::Meta::Class=HASH(0x27e836a0)', undef, 'MooseX::Declare::Syntax::MethodDeclaration') called at /usr/perl5.10.1/lib/site_perl/5.10.1/i386-freebsd/Moose/Util.pm line 87
	Moose::Util::apply_all_roles('Moose::Meta::Class=HASH(0x27e836a0)', 'MooseX::Declare::Syntax::MethodDeclaration') called at /usr/perl5.10.1/lib/site_perl/5.10.1/i386-freebsd/Moose.pm line 58
	Moose::with('Moose::Meta::Class=HASH(0x27e836a0)', 'MooseX::Declare::Syntax::MethodDeclaration') called at /usr/perl5.10.1/lib/site_perl/5.10.1/i386-freebsd/Moose/Exporter.pm line 294
	Moose::with('MooseX::Declare::Syntax::MethodDeclaration') called at /usr/perl5.10.1/lib/site_perl/5.10.1/MooseX/Declare/Syntax/Keyword/MethodModifier.pm line 9
	require MooseX/Declare/Syntax/Keyword/MethodModifier.pm called at (eval 214) line 1
	MooseX::Declare::Syntax::MooseSetup::BEGIN() called at /usr/perl5.10.1/lib/site_perl/5.10.1/MooseX/LazyRequire.pm line 10
	eval {...} called at /usr/perl5.10.1/lib/site_perl/5.10.1/MooseX/LazyRequire.pm line 10
	eval 'package MooseX::Declare::Syntax::MooseSetup; use MooseX::Declare::Syntax::Keyword::MethodModifier;' called at /usr/perl5.10.1/lib/site_perl/5.10.1/aliased.pm line 50
	aliased::_load_alias('MooseX::Declare::Syntax::Keyword::MethodModifier', 'MooseX::Declare::Syntax::MooseSetup') called at /usr/perl5.10.1/lib/site_perl/5.10.1/aliased.pm line 20
	aliased::import('aliased', 'MooseX::Declare::Syntax::Keyword::MethodModifier') called at /usr/perl5.10.1/lib/site_perl/5.10.1/MooseX/Declare/Syntax/MooseSetup.pm line 8
	MooseX::Declare::Syntax::MooseSetup::BEGIN() called at /usr/perl5.10.1/lib/site_perl/5.10.1/MooseX/LazyRequire.pm line 10
	eval {...} called at /usr/perl5.10.1/lib/site_perl/5.10.1/MooseX/LazyRequire.pm line 10
	require MooseX/Declare/Syntax/MooseSetup.pm called at /usr/perl5.10.1/lib/site_perl/5.10.1/i386-freebsd/Class/MOP.pm line 114
	Class::MOP::__ANON__() called at /usr/perl5.10.1/lib/site_perl/5.10.1/Try/Tiny.pm line 71
	eval {...} called at /usr/perl5.10.1/lib/site_perl/5.10.1/Try/Tiny.pm line 67
	Try::Tiny::try('CODE(0x27e7b3a0)', 'Try::Tiny::Catch=REF(0x27e65800)') called at /usr/perl5.10.1/lib/site_perl/5.10.1/i386-freebsd/Class/MOP.pm line 125
	Class::MOP::load_first_existing_class('MooseX::Declare::Syntax::MooseSetup') called at /usr/perl5.10.1/lib/site_perl/5.10.1/i386-freebsd/Class/MOP.pm line 137
	Class::MOP::load_class('MooseX::Declare::Syntax::MooseSetup', undef) called at /usr/perl5.10.1/lib/site_perl/5.10.1/i386-freebsd/Moose/Util.pm line 109
	Moose::Util::_apply_all_roles('Moose::Meta::Class=HASH(0x27decc90)', undef, 'MooseX::Declare::Syntax::MooseSetup', 'MooseX::Declare::Syntax::RoleApplication', 'MooseX::Declare::Syntax::Extending') called at /usr/perl5.10.1/lib/site_perl/5.10.1/i386-freebsd/Moose/Util.pm line 87
	Moose::Util::apply_all_roles('Moose::Meta::Class=HASH(0x27decc90)', 'MooseX::Declare::Syntax::MooseSetup', 'MooseX::Declare::Syntax::RoleApplication', 'MooseX::Declare::Syntax::Extending') called at /usr/perl5.10.1/lib/site_perl/5.10.1/i386-freebsd/Moose.pm line 58
	Moose::with('Moose::Meta::Class=HASH(0x27decc90)', 'MooseX::Declare::Syntax::MooseSetup', 'MooseX::Declare::Syntax::RoleApplication', 'MooseX::Declare::Syntax::Extending') called at /usr/perl5.10.1/lib/site_perl/5.10.1/i386-freebsd/Moose/Exporter.pm line 294
	Moose::with('MooseX::Declare::Syntax::MooseSetup', 'MooseX::Declare::Syntax::RoleApplication', 'MooseX::Declare::Syntax::Extending') called at /usr/perl5.10.1/lib/site_perl/5.10.1/MooseX/Declare/Syntax/Keyword/Class.pm line 7
	require MooseX/Declare/Syntax/Keyword/Class.pm called at (eval 11) line 1
	MooseX::Declare::BEGIN() called at /usr/perl5.10.1/lib/site_perl/5.10.1/MooseX/LazyRequire.pm line 10
	eval {...} called at /usr/perl5.10.1/lib/site_perl/5.10.1/MooseX/LazyRequire.pm line 10
	eval 'package MooseX::Declare; use MooseX::Declare::Syntax::Keyword::Class;' called at /usr/perl5.10.1/lib/site_perl/5.10.1/aliased.pm line 50
	aliased::_load_alias('MooseX::Declare::Syntax::Keyword::Class', 'MooseX::Declare') called at /usr/perl5.10.1/lib/site_perl/5.10.1/aliased.pm line 20
	aliased::import('aliased', 'MooseX::Declare::Syntax::Keyword::Class', 'ClassKeyword') called at /usr/perl5.10.1/lib/site_perl/5.10.1/MooseX/Declare.pm line 6
	MooseX::Declare::BEGIN() called at /usr/perl5.10.1/lib/site_perl/5.10.1/MooseX/LazyRequire.pm line 10
	eval {...} called at /usr/perl5.10.1/lib/site_perl/5.10.1/MooseX/LazyRequire.pm line 10
	require MooseX/Declare.pm called at /var/tmp/CPAN-build/CPAN-Mini-Visit-Filtered-0.01_06-8JqoBO/t/../lib/CPAN/Mini/Visit/Filtered.pm line 5
	CPAN::Mini::Visit::Filtered::BEGIN() called at /usr/perl5.10.1/lib/site_perl/5.10.1/MooseX/LazyRequire.pm line 10
	eval {...} called at /usr/perl5.10.1/lib/site_perl/5.10.1/MooseX/LazyRequire.pm line 10
	require CPAN/Mini/Visit/Filtered.pm called at (eval 10) line 1
	main::BEGIN() called at /usr/perl5.10.1/lib/site_perl/5.10.1/MooseX/LazyRequire.pm line 10
	eval {...} called at /usr/perl5.10.1/lib/site_perl/5.10.1/MooseX/LazyRequire.pm line 10
	eval 'use CPAN::Mini::Visit::Filtered; 1
;' called at t/015-cpan-mini.t line 16
t/015-cpan-mini.t .. ok
The old Moose::Util::MetaRole API (before version 0.94) has been deprecated at /usr/perl5.10.1/lib/site_perl/5.10.1/i386-freebsd/Moose/Util/MetaRole.pm line 16
	Moose::Util::MetaRole::apply_metaclass_roles('for_class', 'MooseX::Method::Signatures', 'attribute_metaclass_roles', 'ARRAY(0x28120330)') called at /usr/perl5.10.1/lib/site_perl/5.10.1/MooseX/LazyRequire.pm line 15
	MooseX::LazyRequire::init_meta('MooseX::LazyRequire', 'for_class', 'MooseX::Method::Signatures', 'metaclass', undef) called at /usr/perl5.10.1/lib/site_perl/5.10.1/i386-freebsd/Moose/Exporter.pm line 355
	Moose::Exporter::__ANON__('MooseX::LazyRequire') called at /usr/perl5.10.1/lib/site_perl/5.10.1/MooseX/Method/Signatures.pm line 10
	MooseX::Method::Signatures::BEGIN() called at /usr/perl5.10.1/lib/site_perl/5.10.1/MooseX/LazyRequire.pm line 10
	eval {...} called at /usr/perl5.10.1/lib/site_perl/5.10.1/MooseX/LazyRequire.pm line 10
	require MooseX/Method/Signatures.pm called at /usr/perl5.10.1/lib/site_perl/5.10.1/MooseX/Declare/Syntax/MethodDeclaration.pm line 5
	MooseX::Declare::Syntax::MethodDeclaration::BEGIN() called at /usr/perl5.10.1/lib/site_perl/5.10.1/MooseX/LazyRequire.pm line 10
	eval {...} called at /usr/perl5.10.1/lib/site_perl/5.10.1/MooseX/LazyRequire.pm line 10
	require MooseX/Declare/Syntax/MethodDeclaration.pm called at /usr/perl5.10.1/lib/site_perl/5.10.1/i386-freebsd/Class/MOP.pm line 114
	Class::MOP::__ANON__() called at /usr/perl5.10.1/lib/site_perl/5.10.1/Try/Tiny.pm line 71
	eval {...} called at /usr/perl5.10.1/lib/site_perl/5.10.1/Try/Tiny.pm line 67
	Try::Tiny::try('CODE(0x27e964d0)', 'Try::Tiny::Catch=REF(0x27e6ede0)') called at /usr/perl5.10.1/lib/site_perl/5.10.1/i386-freebsd/Class/MOP.pm line 125
	Class::MOP::load_first_existing_class('MooseX::Declare::Syntax::MethodDeclaration') called at /usr/perl5.10.1/lib/site_perl/5.10.1/i386-freebsd/Class/MOP.pm line 137
	Class::MOP::load_class('MooseX::Declare::Syntax::MethodDeclaration', undef) called at /usr/perl5.10.1/lib/site_perl/5.10.1/i386-freebsd/Moose/Util.pm line 109
	Moose::Util::_apply_all_roles('Moose::Meta::Class=HASH(0x27e92050)', undef, 'MooseX::Declare::Syntax::MethodDeclaration') called at /usr/perl5.10.1/lib/site_perl/5.10.1/i386-freebsd/Moose/Util.pm line 87
	Moose::Util::apply_all_roles('Moose::Meta::Class=HASH(0x27e92050)', 'MooseX::Declare::Syntax::MethodDeclaration') called at /usr/perl5.10.1/lib/site_perl/5.10.1/i386-freebsd/Moose.pm line 58
	Moose::with('Moose::Meta::Class=HASH(0x27e92050)', 'MooseX::Declare::Syntax::MethodDeclaration') called at /usr/perl5.10.1/lib/site_perl/5.10.1/i386-freebsd/Moose/Exporter.pm line 294
	Moose::with('MooseX::Declare::Syntax::MethodDeclaration') called at /usr/perl5.10.1/lib/site_perl/5.10.1/MooseX/Declare/Syntax/Keyword/MethodModifier.pm line 9
	require MooseX/Declare/Syntax/Keyword/MethodModifier.pm called at (eval 214) line 1
	MooseX::Declare::Syntax::MooseSetup::BEGIN() called at /usr/perl5.10.1/lib/site_perl/5.10.1/MooseX/LazyRequire.pm line 10
	eval {...} called at /usr/perl5.10.1/lib/site_perl/5.10.1/MooseX/LazyRequire.pm line 10
	eval 'package MooseX::Declare::Syntax::MooseSetup; use MooseX::Declare::Syntax::Keyword::MethodModifier;' called at /usr/perl5.10.1/lib/site_perl/5.10.1/aliased.pm line 50
	aliased::_load_alias('MooseX::Declare::Syntax::Keyword::MethodModifier', 'MooseX::Declare::Syntax::MooseSetup') called at /usr/perl5.10.1/lib/site_perl/5.10.1/aliased.pm line 20
	aliased::import('aliased', 'MooseX::Declare::Syntax::Keyword::MethodModifier') called at /usr/perl5.10.1/lib/site_perl/5.10.1/MooseX/Declare/Syntax/MooseSetup.pm line 8
	MooseX::Declare::Syntax::MooseSetup::BEGIN() called at /usr/perl5.10.1/lib/site_perl/5.10.1/MooseX/LazyRequire.pm line 10
	eval {...} called at /usr/perl5.10.1/lib/site_perl/5.10.1/MooseX/LazyRequire.pm line 10
	require MooseX/Declare/Syntax/MooseSetup.pm called at /usr/perl5.10.1/lib/site_perl/5.10.1/i386-freebsd/Class/MOP.pm line 114
	Class::MOP::__ANON__() called at /usr/perl5.10.1/lib/site_perl/5.10.1/Try/Tiny.pm line 71
	eval {...} called at /usr/perl5.10.1/lib/site_perl/5.10.1/Try/Tiny.pm line 67
	Try::Tiny::try('CODE(0x27e75d30)', 'Try::Tiny::Catch=REF(0x27e6a1b0)') called at /usr/perl5.10.1/lib/site_perl/5.10.1/i386-freebsd/Class/MOP.pm line 125
	Class::MOP::load_first_existing_class('MooseX::Declare::Syntax::MooseSetup') called at /usr/perl5.10.1/lib/site_perl/5.10.1/i386-freebsd/Class/MOP.pm line 137
	Class::MOP::load_class('MooseX::Declare::Syntax::MooseSetup', undef) called at /usr/perl5.10.1/lib/site_perl/5.10.1/i386-freebsd/Moose/Util.pm line 109
	Moose::Util::_apply_all_roles('Moose::Meta::Class=HASH(0x27dec640)', undef, 'MooseX::Declare::Syntax::MooseSetup', 'MooseX::Declare::Syntax::RoleApplication', 'MooseX::Declare::Syntax::Extending') called at /usr/perl5.10.1/lib/site_perl/5.10.1/i386-freebsd/Moose/Util.pm line 87
	Moose::Util::apply_all_roles('Moose::Meta::Class=HASH(0x27dec640)', 'MooseX::Declare::Syntax::MooseSetup', 'MooseX::Declare::Syntax::RoleApplication', 'MooseX::Declare::Syntax::Extending') called at /usr/perl5.10.1/lib/site_perl/5.10.1/i386-freebsd/Moose.pm line 58
	Moose::with('Moose::Meta::Class=HASH(0x27dec640)', 'MooseX::Declare::Syntax::MooseSetup', 'MooseX::Declare::Syntax::RoleApplication', 'MooseX::Declare::Syntax::Extending') called at /usr/perl5.10.1/lib/site_perl/5.10.1/i386-freebsd/Moose/Exporter.pm line 294
	Moose::with('MooseX::Declare::Syntax::MooseSetup', 'MooseX::Declare::Syntax::RoleApplication', 'MooseX::Declare::Syntax::Extending') called at /usr/perl5.10.1/lib/site_perl/5.10.1/MooseX/Declare/Syntax/Keyword/Class.pm line 7
	require MooseX/Declare/Syntax/Keyword/Class.pm called at (eval 11) line 1
	MooseX::Declare::BEGIN() called at /usr/perl5.10.1/lib/site_perl/5.10.1/MooseX/LazyRequire.pm line 10
	eval {...} called at /usr/perl5.10.1/lib/site_perl/5.10.1/MooseX/LazyRequire.pm line 10
	eval 'package MooseX::Declare; use MooseX::Declare::Syntax::Keyword::Class;' called at /usr/perl5.10.1/lib/site_perl/5.10.1/aliased.pm line 50
	aliased::_load_alias('MooseX::Declare::Syntax::Keyword::Class', 'MooseX::Declare') called at /usr/perl5.10.1/lib/site_perl/5.10.1/aliased.pm line 20
	aliased::import('aliased', 'MooseX::Declare::Syntax::Keyword::Class', 'ClassKeyword') called at /usr/perl5.10.1/lib/site_perl/5.10.1/MooseX/Declare.pm line 6
	MooseX::Declare::BEGIN() called at /usr/perl5.10.1/lib/site_perl/5.10.1/MooseX/LazyRequire.pm line 10
	eval {...} called at /usr/perl5.10.1/lib/site_perl/5.10.1/MooseX/LazyRequire.pm line 10
	require MooseX/Declare.pm called at /var/tmp/CPAN-build/CPAN-Mini-Visit-Filtered-0.01_06-8JqoBO/t/../lib/CPAN/Mini/Visit/Filtered.pm line 5
	CPAN::Mini::Visit::Filtered::BEGIN() called at /usr/perl5.10.1/lib/site_perl/5.10.1/MooseX/LazyRequire.pm line 10
	eval {...} called at /usr/perl5.10.1/lib/site_perl/5.10.1/MooseX/LazyRequire.pm line 10
	require CPAN/Mini/Visit/Filtered.pm called at (eval 10) line 1
	main::BEGIN() called at /usr/perl5.10.1/lib/site_perl/5.10.1/MooseX/LazyRequire.pm line 10
	eval {...} called at /usr/perl5.10.1/lib/site_perl/5.10.1/MooseX/LazyRequire.pm line 10
	eval 'use CPAN::Mini::Visit::Filtered; 1
;' called at t/020-main.t line 15
t/020-main.t ....... ok
All tests successful.
Files=3, Tests=17,  7 wallclock secs ( 0.02 usr  0.05 sys +  3.53 cusr  1.04 csys =  4.64 CPU)
Result: PASS

------------------------------
PREREQUISITES
------------------------------

Prerequisite modules loaded:

requires:

    Module                       Need Have  
    ---------------------------- ---- ------
    Archive::Extract             0    0.42  
    Carp                         0    1.11  
    CPAN::DistnameInfo           0    0.09  
    Cwd                          0    3.31  
    File::Find::Rule             0    0.32  
    File::Spec                   0    3.31  
    File::Temp                   0    0.22  
    Moose                        0    1.09  
    Moose::Util::TypeConstraints 0    1.09  
    MooseX::Declare              0    0.33  
    MooseX::StrictConstructor    0    0.10  
    Test::More                   0    0.94  

configure_requires:

    Module                       Need Have  
    ---------------------------- ---- ------
    Module::Build                0    0.3607


------------------------------
ENVIRONMENT AND OTHER CONTEXT
------------------------------

Environment variables:

    DBIC_NO_WARN_BAD_PERL = 1
    PATH = /usr/local/bin:/usr/X11R6/bin:/usr/X11/bin:/usr/perl5.8.0/bin:/usr/bin:/bin:/usr/local/sbin:/usr/sbin:/sbin:/usr/local/pilot/bin:/home/cpansand/bin/freebsd8.0:/home/cpansand/bin/sh:/home/cpansand/bin:/usr/X386/bin:/usr/games:/home/cpansand/devel:/usr/home/e/eserte/work/srezic-misc/scripts
    PERL5LIB = /usr/local/src/CPAN/build/Dancer-1.1806_02-2uNhix/blib/arch:/usr/local/src/CPAN/build/Dancer-1.1806_02-2uNhix/blib/lib:/usr/local/src/CPAN/build/Alien-Packages-0.001-7g7Iyh/blib/arch:/usr/local/src/CPAN/build/Alien-Packages-0.001-7g7Iyh/blib/lib:/usr/local/src/CPAN/build/App-OpenVZ-BCWatch-0.02_02-qWyacE/blib/arch:/usr/local/src/CPAN/build/App-OpenVZ-BCWatch-0.02_02-qWyacE/blib/lib:/usr/local/src/CPAN/build/Config-File-1.50-DYPkzy/blib/arch:/usr/local/src/CPAN/build/Config-File-1.50-DYPkzy/blib/lib:/usr/local/src/CPAN/build/DBIx-Class-Tree-Mobius-0.00002_01-sOmQBO/blib/arch:/usr/local/src/CPAN/build/DBIx-Class-Tree-Mobius-0.00002_01-sOmQBO/blib/lib:/usr/local/src/CPAN/build/Marpa-0.105_006-Cy8f7i/blib/arch:/usr/local/src/CPAN/build/Marpa-0.105_006-Cy8f7i/blib/lib:/usr/local/src/CPAN/build/App-CLI-Plugin-Daemonize-1.0-fwpqOu/blib/arch:/usr/local/src/CPAN/build/App-CLI-Plugin-Daemonize-1.0-fwpqOu/blib/lib:/usr/local/src/CPAN/build/DBIx-Class-Fixtures-1.001010-obAfQe/blib/arch:/usr/local/src/CPAN/build/DBIx-Class-Fixtures-1.001010-obAfQe/blib/lib:/usr/local/src/CPAN/build/XML-Compile-SOAP-2.16-ADlrOs/blib/arch:/usr/local/src/CPAN/build/XML-Compile-SOAP-2.16-ADlrOs/blib/lib:/usr/local/src/CPAN/build/Geo-Parse-OSM-0.40-KMbxvu/blib/arch:/usr/local/src/CPAN/build/Geo-Parse-OSM-0.40-KMbxvu/blib/lib:/usr/local/src/CPAN/build/Git-PurePerl-0.47-CmOIVF/blib/arch:/usr/local/src/CPAN/build/Git-PurePerl-0.47-CmOIVF/blib/lib:/usr/local/src/CPAN/build/XML-Feed-Aggregator-0.03-xlUHyp/blib/arch:/usr/local/src/CPAN/build/XML-Feed-Aggregator-0.03-xlUHyp/blib/lib:/usr/local/src/CPAN/build/XML-Feed-Deduper-0.03-124JiH/blib/arch:/usr/local/src/CPAN/build/XML-Feed-Deduper-0.03-124JiH/blib/lib:/usr/local/src/CPAN/build/MIME-Base2-zsQkPy/blib/arch:/usr/local/src/CPAN/build/MIME-Base2-zsQkPy/blib/lib
    PERL5OPT = 
    PERL5_CPANPLUS_IS_RUNNING = 24219
    PERL5_CPAN_IS_RUNNING = 24219
    PERL5_CPAN_IS_RUNNING_IN_RECURSION = 55189,24219
    PERL_BATCH = yes
    PERL_EXTUTILS_AUTOINSTALL = --defaultdeps
    PERL_HTML_DISPLAY_CLASS = HTML::Display::Mozilla
    SHELL = /usr/local/bin/zsh
    TERM = screen
    TMPDIR = /tmp/cpansmoker-1023

Perl special variables (and OS-specific diagnostics, for MSWin32):

    $^X = /usr/perl5.10.1/bin/perl
    $UID/$EUID = 1023 / 1023
    $GID = 1023 1023
    $EGID = 1023 1023

Perl module toolchain versions installed:

    Module              Have  
    ------------------- ------
    CPAN                1.9402
    Cwd                 3.31  
    ExtUtils::CBuilder  0.2703
    ExtUtils::Command   1.16  
    ExtUtils::Install   1.54  
    ExtUtils::MakeMaker 6.56  
    ExtUtils::Manifest  1.56  
    ExtUtils::ParseXS   2.2206
    File::Spec          3.31  
    Module::Build       0.3607
    Module::Signature   0.64  
    Test::Harness       3.22  
    Test::More          0.94  
    YAML                0.71  
    YAML::Syck          1.10  
    version             0.82  


--

Summary of my perl5 (revision 5 version 10 subversion 1) configuration:
   
  Platform:
    osname=freebsd, osvers=8.0-release, archname=i386-freebsd
    uname='freebsd biokovo.herceg.de 8.0-release freebsd 8.0-release #0: sat nov 21 15:48:17 utc 2009 root@almeida.cse.buffalo.edu:usrobjusrsrcsysgeneric i386 '
    config_args='-Dprefix=/usr/perl5.10.1 -Dusemymalloc=n -D cc=ccache cc -Dgccansipedantic -Duse64bit -de -D hintfile=myfreebsd'
    hint=recommended, useposix=true, d_sigaction=define
    useithreads=undef, usemultiplicity=undef
    useperlio=define, d_sfio=undef, uselargefiles=define, usesocks=undef
    use64bitint=undef, use64bitall=undef, uselongdouble=undef
    usemymalloc=n, bincompat5005=undef
  Compiler:
    cc='ccache cc', ccflags ='-DHAS_FPSETMASK -DHAS_FLOATINGPOINT_H -fno-strict-aliasing -pipe -fstack-protector -I/usr/local/include',
    optimize='-O2 -mtune=athlon64 -pipe',
    cppflags='-DHAS_FPSETMASK -DHAS_FLOATINGPOINT_H -fno-strict-aliasing -pipe -fstack-protector -I/usr/local/include'
    ccversion='', gccversion='4.2.1 20070719  [FreeBSD]', gccosandvers=''
    intsize=4, longsize=4, ptrsize=4, doublesize=8, byteorder=1234
    d_longlong=define, longlongsize=8, d_longdbl=define, longdblsize=12
    ivtype='long', ivsize=4, nvtype='double', nvsize=8, Off_t='off_t', lseeksize=8
    alignbytes=4, prototype=define
  Linker and Libraries:
    ld='ccache cc', ldflags ='-Wl,-E  -fstack-protector -L/usr/local/lib'
    libpth=/usr/lib /usr/local/lib
    libs=-lgdbm -lm -lcrypt -lutil -lc
    perllibs=-lm -lcrypt -lutil -lc
    libc=, so=so, useshrplib=false, libperl=libperl.a
    gnulibc_version=''
  Dynamic Linking:
    dlsrc=dl_dlopen.xs, dlext=so, d_dlsymun=undef, ccdlflags=' '
    cccdlflags='-DPIC -fPIC', lddlflags='-shared  -L/usr/local/lib -fstack-protector'


Characteristics of this binary (from libperl): 
  Compile-time options: PERL_DONT_CREATE_GVSV PERL_MALLOC_WRAP PERL_USE_DEVEL
                        USE_LARGE_FILES USE_PERLIO
  Built under freebsd
  Compiled at Feb  6 2010 13:47:51
  %ENV:
    PERL5LIB="/usr/local/src/CPAN/build/Dancer-1.1806_02-2uNhix/blib/arch:/usr/local/src/CPAN/build/Dancer-1.1806_02-2uNhix/blib/lib:/usr/local/src/CPAN/build/Alien-Packages-0.001-7g7Iyh/blib/arch:/usr/local/src/CPAN/build/Alien-Packages-0.001-7g7Iyh/blib/lib:/usr/local/src/CPAN/build/App-OpenVZ-BCWatch-0.02_02-qWyacE/blib/arch:/usr/local/src/CPAN/build/App-OpenVZ-BCWatch-0.02_02-qWyacE/blib/lib:/usr/local/src/CPAN/build/Config-File-1.50-DYPkzy/blib/arch:/usr/local/src/CPAN/build/Config-File-1.50-DYPkzy/blib/lib:/usr/local/src/CPAN/build/DBIx-Class-Tree-Mobius-0.00002_01-sOmQBO/blib/arch:/usr/local/src/CPAN/build/DBIx-Class-Tree-Mobius-0.00002_01-sOmQBO/blib/lib:/usr/local/src/CPAN/build/Marpa-0.105_006-Cy8f7i/blib/arch:/usr/local/src/CPAN/build/Marpa-0.105_006-Cy8f7i/blib/lib:/usr/local/src/CPAN/build/App-CLI-Plugin-Daemonize-1.0-fwpqOu/blib/arch:/usr/local/src/CPAN/build/App-CLI-Plugin-Daemonize-1.0-fwpqOu/blib/lib:/usr/local/src/CPAN/build/DBIx-Class-Fixtures-1.001010-obAfQe/blib/arch:/usr/local/src/CPAN/build/DBIx-Class-Fixtures-1.001010-obAfQe/blib/lib:/usr/local/src/CPAN/build/XML-Compile-SOAP-2.16-ADlrOs/blib/arch:/usr/local/src/CPAN/build/XML-Compile-SOAP-2.16-ADlrOs/blib/lib:/usr/local/src/CPAN/build/Geo-Parse-OSM-0.40-KMbxvu/blib/arch:/usr/local/src/CPAN/build/Geo-Parse-OSM-0.40-KMbxvu/blib/lib:/usr/local/src/CPAN/build/Git-PurePerl-0.47-CmOIVF/blib/arch:/usr/local/src/CPAN/build/Git-PurePerl-0.47-CmOIVF/blib/lib:/usr/local/src/CPAN/build/XML-Feed-Aggregator-0.03-xlUHyp/blib/arch:/usr/local/src/CPAN/build/XML-Feed-Aggregator-0.03-xlUHyp/blib/lib:/usr/local/src/CPAN/build/XML-Feed-Deduper-0.03-124JiH/blib/arch:/usr/local/src/CPAN/build/XML-Feed-Deduper-0.03-124JiH/blib/lib:/usr/local/src/CPAN/build/MIME-Base2-zsQkPy/blib/arch:/usr/local/src/CPAN/build/MIME-Base2-zsQkPy/blib/lib"
    PERL5OPT=""
    PERL5_CPANPLUS_IS_RUNNING="24219"
    PERL5_CPAN_IS_RUNNING="24219"
    PERL5_CPAN_IS_RUNNING_IN_RECURSION="55189,24219"
    PERL_BATCH="yes"
    PERL_EXTUTILS_AUTOINSTALL="--defaultdeps"
    PERL_HTML_DISPLAY_CLASS="HTML::Display::Mozilla"
  @INC:
    /usr/local/src/CPAN/build/Dancer-1.1806_02-2uNhix/blib/arch
    /usr/local/src/CPAN/build/Dancer-1.1806_02-2uNhix/blib/lib
    /usr/local/src/CPAN/build/Alien-Packages-0.001-7g7Iyh/blib/arch
    /usr/local/src/CPAN/build/Alien-Packages-0.001-7g7Iyh/blib/lib
    /usr/local/src/CPAN/build/App-OpenVZ-BCWatch-0.02_02-qWyacE/blib/arch
    /usr/local/src/CPAN/build/App-OpenVZ-BCWatch-0.02_02-qWyacE/blib/lib
    /usr/local/src/CPAN/build/Config-File-1.50-DYPkzy/blib/arch
    /usr/local/src/CPAN/build/Config-File-1.50-DYPkzy/blib/lib
    /usr/local/src/CPAN/build/DBIx-Class-Tree-Mobius-0.00002_01-sOmQBO/blib/arch
    /usr/local/src/CPAN/build/DBIx-Class-Tree-Mobius-0.00002_01-sOmQBO/blib/lib
    /usr/local/src/CPAN/build/Marpa-0.105_006-Cy8f7i/blib/arch
    /usr/local/src/CPAN/build/Marpa-0.105_006-Cy8f7i/blib/lib
    /usr/local/src/CPAN/build/App-CLI-Plugin-Daemonize-1.0-fwpqOu/blib/arch
    /usr/local/src/CPAN/build/App-CLI-Plugin-Daemonize-1.0-fwpqOu/blib/lib
    /usr/local/src/CPAN/build/DBIx-Class-Fixtures-1.001010-obAfQe/blib/arch
    /usr/local/src/CPAN/build/DBIx-Class-Fixtures-1.001010-obAfQe/blib/lib
    /usr/local/src/CPAN/build/XML-Compile-SOAP-2.16-ADlrOs/blib/arch
    /usr/local/src/CPAN/build/XML-Compile-SOAP-2.16-ADlrOs/blib/lib
    /usr/local/src/CPAN/build/Geo-Parse-OSM-0.40-KMbxvu/blib/arch
    /usr/local/src/CPAN/build/Geo-Parse-OSM-0.40-KMbxvu/blib/lib
    /usr/local/src/CPAN/build/Git-PurePerl-0.47-CmOIVF/blib/arch
    /usr/local/src/CPAN/build/Git-PurePerl-0.47-CmOIVF/blib/lib
    /usr/local/src/CPAN/build/XML-Feed-Aggregator-0.03-xlUHyp/blib/arch
    /usr/local/src/CPAN/build/XML-Feed-Aggregator-0.03-xlUHyp/blib/lib
    /usr/local/src/CPAN/build/XML-Feed-Deduper-0.03-124JiH/blib/arch
    /usr/local/src/CPAN/build/XML-Feed-Deduper-0.03-124JiH/blib/lib
    /usr/local/src/CPAN/build/MIME-Base2-zsQkPy/blib/arch
    /usr/local/src/CPAN/build/MIME-Base2-zsQkPy/blib/lib
    /usr/perl5.10.1/lib/5.10.1/i386-freebsd
    /usr/perl5.10.1/lib/5.10.1
    /usr/perl5.10.1/lib/site_perl/5.10.1/i386-freebsd
    /usr/perl5.10.1/lib/site_perl/5.10.1
    .