Report for Text-Table-1.132

Back
From: metabase:user:b8a9e342-69cf-11e7-adca-3fbd147838bf
Subject: PASS Text-Table-1.132 v5.24.1 AIX
Date: 2017-07-31T03:51:50Z

This distribution has been tested as part of the CPAN Testers
project, supporting the Perl programming language.  See
http://wiki.cpantesters.org/ for more information or email
questions to cpan-testers-discuss@perl.org


--
Dear Shlomi Fish,

This is a computer-generated report for Text-Table-1.132
on perl 5.24.1, created by CPAN-Reporter-1.2018.

Thank you for uploading your work to CPAN.  Congratulations!
All tests were successful.

Sections of this report:

    * Tester comments
    * Program output
    * Prerequisites
    * Environment and other context

------------------------------
TESTER COMMENTS
------------------------------

Additional comments from tester:

none provided

------------------------------
PROGRAM OUTPUT
------------------------------

Output from './Build test':

t/00-compile.t ......................... ok
t/01_ini.t ............................. ok
# Version: 1.132
t/10_Table.t ........................... ok
t/11_Variable_Rule.t ................... ok
t/12_column_seps_as_hashes.t ........... ok
t/13_callback_rules_with_whitespace.t .. ok
t/14_overload.t ........................ ok
t/author-pod-coverage.t ................ skipped: these tests are for testing by the author
t/author-pod-syntax.t .................. skipped: these tests are for testing by the author
t/release-cpan-changes.t ............... skipped: these tests are for release candidate testing
t/release-kwalitee.t ................... skipped: these tests are for release candidate testing
t/style-trailing-space.t ............... skipped: Test::TrailingSpace required for trailing space test.
All tests successful.
Files=12, Tests=175,  1 wallclock secs ( 0.14 usr  0.04 sys +  1.39 cusr  0.26 csys =  1.83 CPU)
Result: PASS

------------------------------
PREREQUISITES
------------------------------

Prerequisite modules loaded:

requires:

    Module              Need  Have    
    ------------------- ----- --------
    Carp                0     1.40    
    List::Util          0     1.48    
    overload            0     1.26    
    perl                5.008 5.024001
    strict              0     1.11    
    Text::Aligner       0     0.13    
    warnings            0     1.36    

build_requires:

    Module              Need  Have    
    ------------------- ----- --------
    blib                1.01  1.06    
    constant            0     1.33    
    File::Spec          0     3.63_01 
    File::Temp          0     0.2304  
    IO::Handle          0     1.36    
    IPC::Open3          0     1.20    
    Module::Build       0.28  0.4224  
    Test::More          0     1.302086
    vars                0     1.03    

configure_requires:

    Module              Need  Have    
    ------------------- ----- --------
    ExtUtils::MakeMaker 0     7.10_02 
    Module::Build       0.28  0.4224  


------------------------------
ENVIRONMENT AND OTHER CONTEXT
------------------------------

Environment variables:

    LANG = C
    LC_ALL = C
    LC__FASTMSG = true
    NONINTERACTIVE_TESTING = 1
    PATH = /home/cpan/bin:/home/cpan/bin/perl-5.24.1/bin:/home/cpan/bin:/usr/bin:/etc:/usr/sbin:/usr/ucb:/home/cpan/bin:/usr/bin/X11:/sbin:.
    PERL5LIB = 
    PERL5OPT = 
    PERL5_CPANPLUS_IS_RUNNING = 7602358
    PERL5_CPAN_IS_RUNNING = 7602358
    PERL_MM_USE_DEFAULT = 1
    SHELL = /usr/bin/bash
    TERM = vt100
    TMPDIR = /home/cpan/tmp

Perl special variables (and OS-specific diagnostics, for MSWin32):

    $^X = /home/cpan/bin/perl-5.24.1/bin/perl5.24.1
    $UID/$EUID = 209 / 209
    $GID = 1 1
    $EGID = 1 1

Perl module toolchain versions installed:

    Module              Have      
    ------------------- ----------
    CPAN                2.11_01   
    CPAN::Meta          2.150005  
    Cwd                 3.63_01   
    ExtUtils::CBuilder  0.280225  
    ExtUtils::Command   7.10_02   
    ExtUtils::Install   2.04      
    ExtUtils::MakeMaker 7.10_02   
    ExtUtils::Manifest  1.70      
    ExtUtils::ParseXS   3.31      
    File::Spec          3.63_01   
    JSON                2.94      
    JSON::PP            2.27300_01
    Module::Build       0.4224    
    Module::Signature   n/a       
    Parse::CPAN::Meta   1.4417_001
    Test::Harness       3.36_01   
    Test::More          1.302086  
    YAML                1.23      
    YAML::Syck          n/a       
    version             0.9916    


--

Summary of my perl5 (revision 5 version 24 subversion 1) configuration:
  Snapshot of: 443bd156a6baaf7a8fe6b6b05fcf6c4178140ed2
  Platform:
    osname=aix, osvers=7.1.0.0, archname=aix-64int
    uname='aix sovma206 1 7 00c3c6f54c00 '
    config_args='-des -Dprefix=~/bin/perl-5.24.1 -Dscriptdir=~/bin/perl-5.24.1/bin -Duse64bitint -Dcc=gcc -Dusedevel'
    hint=recommended, useposix=true, d_sigaction=define
    useithreads=undef, usemultiplicity=undef
    use64bitint=define, use64bitall=undef, uselongdouble=undef
    usemymalloc=n, bincompat5005=undef
  Compiler:
    cc='gcc -maix32', ccflags ='-D_ALL_SOURCE -D_ANSI_C_SOURCE -D_POSIX_SOURCE -DUSE_NATIVE_DLOPEN -fwrapv -fno-strict-aliasing -pipe -D_LARGE_FILES -D_FORTIFY_SOURCE=2',
    optimize='-O',
    cppflags='-D_ALL_SOURCE -D_ANSI_C_SOURCE -D_POSIX_SOURCE -DUSE_NATIVE_DLOPEN -fwrapv -fno-strict-aliasing -pipe'
    ccversion='', gccversion='4.8.5', gccosandvers=''
    intsize=4, longsize=4, ptrsize=4, doublesize=8, byteorder=87654321, doublekind=4
    d_longlong=define, longlongsize=8, d_longdbl=define, longdblsize=8, longdblkind=0
    ivtype='long long', ivsize=8, nvtype='double', nvsize=8, Off_t='off_t', lseeksize=8
    alignbytes=8, prototype=define
  Linker and Libraries:
    ld='gcc -maix32', ldflags =' -Wl,-brtl -Wl,-bdynamic -Wl,-b32 -Wl,-bmaxdata:0x80000000'
    libpth=/opt/freeware/lib /opt/freeware/lib/gcc/powerpc-ibm-aix7.1.0.0/4.8.5/include-fixed /usr/lib /lib /usr/ccs/lib /usr/lib64
    libs=-lpthread -lbind -lnsl -lgdbm -ldbm -ldb -ldl -lld -lm -lcrypt -lc
    perllibs=-lpthread -lbind -lnsl -ldl -lld -lm -lcrypt -lc
    libc=/lib/libc.a, so=a, useshrplib=false, libperl=libperl.a
    gnulibc_version=''
  Dynamic Linking:
    dlsrc=dl_aix.xs, dlext=so, d_dlsymun=undef, ccdlflags='-Xlinker -bE:/home/cpan/bin/perl-5.24.1/lib/5.24.1/aix-64int/CORE/perl.exp'
    cccdlflags=' ', lddlflags='  -Wl,-bhalt:4 -Wl,-G -Wl,-bI:$(PERL_INC)/perl.exp -Wl,-bE:$(BASEEXT).exp -Wl,-bnoentry -lc -lm'


Characteristics of this binary (from libperl): 
  Compile-time options: HAS_TIMES PERLIO_LAYERS PERL_COPY_ON_WRITE
                        PERL_DONT_CREATE_GVSV
                        PERL_HASH_FUNC_ONE_AT_A_TIME_HARD PERL_MALLOC_WRAP
                        PERL_PRESERVE_IVUV PERL_USE_DEVEL USE_64_BIT_INT
                        USE_LARGE_FILES USE_LOCALE USE_LOCALE_COLLATE
                        USE_LOCALE_CTYPE USE_LOCALE_NUMERIC USE_LOCALE_TIME
                        USE_PERLIO USE_PERL_ATOF
  Built under aix
  Compiled at Jul 29 2017 23:24:56
  %ENV:
    PERL5LIB=""
    PERL5OPT=""
    PERL5_CPANPLUS_IS_RUNNING="7602358"
    PERL5_CPAN_IS_RUNNING="7602358"
    PERL_MM_USE_DEFAULT="1"
  @INC:
    /home/cpan/bin/perl-5.24.1/lib/site_perl/5.24.1/aix-64int
    /home/cpan/bin/perl-5.24.1/lib/site_perl/5.24.1
    /home/cpan/bin/perl-5.24.1/lib/5.24.1/aix-64int
    /home/cpan/bin/perl-5.24.1/lib/5.24.1
    .