Back
From: metabase:user:1bfc8a80-fa26-11e2-bbe1-4cd82f39436f
Subject: PASS Crypt-SSLeay-0.72 v5.18.2 GNU/Linux
Date: 2014-05-15T18:27:34Z
This distribution has been tested as part of the CPAN Testers
project, supporting the Perl programming language. See
http://wiki.cpantesters.org/ for more information or email
questions to cpan-testers-discuss@perl.org
--
Dear A. Sinan Unur,
This is a computer-generated report for Crypt-SSLeay-0.72
on perl 5.18.2, created by CPAN-Reporter-1.2010.
Thank you for uploading your work to CPAN. Congratulations!
All tests were successful.
Sections of this report:
* Tester comments
* Program output
* Prerequisites
* Environment and other context
------------------------------
TESTER COMMENTS
------------------------------
Additional comments from tester:
none provided
------------------------------
PROGRAM OUTPUT
------------------------------
Output from '/usr/bin/make test':
Running Mkbootstrap for Crypt::SSLeay ()
chmod 644 SSLeay.bs
PERL_DL_NONLAZY=1 /home/florian/perl5/perlbrew/perls/perl-5.18.2/bin/perl "-MExtUtils::Command::MM" "-MTest::Harness" "-e" "undef *Test::Harness::Switches; test_harness(0, 'blib/lib', 'blib/arch')" t/*.t
t/00-basic.t ..... ok
t/01-connect.t ... ok
# Reading configuration from 'test.config' on linux
# network_tests : 0
t/02-live.t ...... skipped: Network tests disabled
# You have 'OpenSSL 1.0.1f 6 Jan 2014'
# built on 'built on: Fri May 2 20:24:40 UTC 2014'
# and SSL Heartbeats are not disabled.
#
# That means your client may be vulnerable to a server exploiting the
# Heartbleed bug unless the vulnerability was patched without changing
# version. The vulnerability was disclosed on or about 2014/04/07. A
# build date after that may indicate that the library you are using
# may have been patched. You should check this.
#
# The risk is compounded by the fact that Crypt::SSLeay does not
# verify hosts. You can still force install Crypt::SSLeay, but you
# need to be aware of this issue, and strongly consider upgrading to a
# safer version of OpenSSL.
#
# See also:
#
# - https://cve.mitre.org/cgi-bin/cvename.cgi?name=CVE-2014-0160
# - http://isc.sans.edu/diary/17945
# - http://seclists.org/fulldisclosure/2014/Apr/91
t/03-version.t ... ok
t/boilerplate.t .. ok
t/manifest.t ..... skipped: Author tests not required for installation
All tests successful.
Files=6, Tests=43, 1 wallclock secs ( 0.05 usr 0.01 sys + 0.36 cusr 0.04 csys = 0.46 CPU)
Result: PASS
------------------------------
PREREQUISITES
------------------------------
Prerequisite modules loaded:
requires:
Module Need Have
-------------------- -------- --------
LWP::Protocol::https 6.02 6.04
MIME::Base64 0 3.14
perl 5.006 5.018002
build_requires:
Module Need Have
-------------------- -------- --------
ExtUtils::MakeMaker 0 6.88
Test::More 0.19 1.001002
Try::Tiny 0.19 0.19
configure_requires:
Module Need Have
-------------------- -------- --------
ExtUtils::CBuilder 0.280205 0.280212
Getopt::Long 0 2.42
Path::Class 0.26 0.33
Try::Tiny 0.19 0.19
------------------------------
ENVIRONMENT AND OTHER CONTEXT
------------------------------
Environment variables:
LANG = de_DE.UTF-8
LANGUAGE = de_DE:en
PATH = /home/florian/perl5/perlbrew/bin:/home/florian/perl5/perlbrew/perls/perl-5.18.2/bin:/usr/local/sbin:/usr/local/bin:/usr/sbin:/usr/bin:/sbin:/bin:/usr/games:/usr/local/games:/home/florian/Downloads/tools/android/android-sdk-linux/platform-tools/:/home/florian/projects/cyanogenmod-source/bin/:/home/florian/.local/bin:/home/florian/.gem/ruby/1.9.1/bin
PERL5LIB =
PERL5OPT =
PERL5_CPANPLUS_IS_RUNNING = 7237
PERL5_CPAN_IS_RUNNING = 7237
PERLBREW_BASHRC_VERSION = 0.67
PERLBREW_HOME = /home/florian/.perlbrew
PERLBREW_MANPATH = /home/florian/perl5/perlbrew/perls/perl-5.18.2/man
PERLBREW_PATH = /home/florian/perl5/perlbrew/bin:/home/florian/perl5/perlbrew/perls/perl-5.18.2/bin
PERLBREW_PERL = perl-5.18.2
PERLBREW_ROOT = /home/florian/perl5/perlbrew
PERLBREW_VERSION = 0.67
SHELL = /bin/bash
TERM = xterm
Perl special variables (and OS-specific diagnostics, for MSWin32):
$^X = /home/florian/perl5/perlbrew/perls/perl-5.18.2/bin/perl
$UID/$EUID = 1000 / 1000
$GID = 1000 4 20 24 27 30 46 108 125 129 1000
$EGID = 1000 4 20 24 27 30 46 108 125 129 1000
Perl module toolchain versions installed:
Module Have
------------------- --------
CPAN 2.05
CPAN::Meta 2.141170
Cwd 3.40
ExtUtils::CBuilder 0.280212
ExtUtils::Command 1.18
ExtUtils::Install 1.59
ExtUtils::MakeMaker 6.88
ExtUtils::Manifest 1.63
ExtUtils::ParseXS 3.22
File::Spec 3.40
JSON 2.61
JSON::PP 2.27203
Module::Build 0.4005
Module::Signature n/a
Parse::CPAN::Meta 1.4414
Test::Harness 3.28
Test::More 1.001002
YAML 0.90
YAML::Syck n/a
version 0.9908
--
Summary of my perl5 (revision 5 version 18 subversion 2) configuration:
Platform:
osname=linux, osvers=3.11.0-15-generic, archname=x86_64-linux-thread-multi
uname='linux moon 3.11.0-15-generic #23-ubuntu smp mon dec 9 18:17:04 utc 2013 x86_64 x86_64 x86_64 gnulinux '
config_args='-de -Dprefix=/home/florian/perl5/perlbrew/perls/perl-5.18.2 -Duse64bitall -Dusethreads -Aeval:scriptdir=/home/florian/perl5/perlbrew/perls/perl-5.18.2/bin'
hint=recommended, useposix=true, d_sigaction=define
useithreads=define, usemultiplicity=define
useperlio=define, d_sfio=undef, uselargefiles=define, usesocks=undef
use64bitint=define, use64bitall=define, uselongdouble=undef
usemymalloc=n, bincompat5005=undef
Compiler:
cc='cc', ccflags ='-D_REENTRANT -D_GNU_SOURCE -fno-strict-aliasing -pipe -fstack-protector -I/usr/local/include -D_LARGEFILE_SOURCE -D_FILE_OFFSET_BITS=64',
optimize='-O2',
cppflags='-D_REENTRANT -D_GNU_SOURCE -fno-strict-aliasing -pipe -fstack-protector -I/usr/local/include'
ccversion='', gccversion='4.8.1', gccosandvers=''
intsize=4, longsize=8, ptrsize=8, doublesize=8, byteorder=12345678
d_longlong=define, longlongsize=8, d_longdbl=define, longdblsize=16
ivtype='long', ivsize=8, nvtype='double', nvsize=8, Off_t='off_t', lseeksize=8
alignbytes=8, prototype=define
Linker and Libraries:
ld='cc', ldflags =' -fstack-protector -L/usr/local/lib'
libpth=/usr/local/lib /lib/x86_64-linux-gnu /lib/../lib /usr/lib/x86_64-linux-gnu /usr/lib/../lib /lib /usr/lib /lib64 /usr/lib64
libs=-lnsl -ldl -lm -lcrypt -lutil -lpthread -lc
perllibs=-lnsl -ldl -lm -lcrypt -lutil -lpthread -lc
libc=, so=so, useshrplib=false, libperl=libperl.a
gnulibc_version='2.17'
Dynamic Linking:
dlsrc=dl_dlopen.xs, dlext=so, d_dlsymun=undef, ccdlflags='-Wl,-E'
cccdlflags='-fPIC', lddlflags='-shared -O2 -L/usr/local/lib -fstack-protector'
Characteristics of this binary (from libperl):
Compile-time options: HAS_TIMES MULTIPLICITY PERLIO_LAYERS
PERL_DONT_CREATE_GVSV
PERL_HASH_FUNC_ONE_AT_A_TIME_HARD
PERL_IMPLICIT_CONTEXT PERL_MALLOC_WRAP
PERL_PRESERVE_IVUV PERL_SAWAMPERSAND USE_64_BIT_ALL
USE_64_BIT_INT USE_ITHREADS USE_LARGE_FILES
USE_LOCALE USE_LOCALE_COLLATE USE_LOCALE_CTYPE
USE_LOCALE_NUMERIC USE_PERLIO USE_PERL_ATOF
USE_REENTRANT_API
Built under linux
Compiled at Jan 13 2014 21:41:45
%ENV:
PERL5LIB=""
PERL5OPT=""
PERL5_CPANPLUS_IS_RUNNING="7237"
PERL5_CPAN_IS_RUNNING="7237"
PERLBREW_BASHRC_VERSION="0.67"
PERLBREW_HOME="/home/florian/.perlbrew"
PERLBREW_MANPATH="/home/florian/perl5/perlbrew/perls/perl-5.18.2/man"
PERLBREW_PATH="/home/florian/perl5/perlbrew/bin:/home/florian/perl5/perlbrew/perls/perl-5.18.2/bin"
PERLBREW_PERL="perl-5.18.2"
PERLBREW_ROOT="/home/florian/perl5/perlbrew"
PERLBREW_VERSION="0.67"
@INC:
/home/florian/perl5/perlbrew/perls/perl-5.18.2/lib/site_perl/5.18.2/x86_64-linux-thread-multi
/home/florian/perl5/perlbrew/perls/perl-5.18.2/lib/site_perl/5.18.2
/home/florian/perl5/perlbrew/perls/perl-5.18.2/lib/5.18.2/x86_64-linux-thread-multi
/home/florian/perl5/perlbrew/perls/perl-5.18.2/lib/5.18.2
.