libwww-perl v6.78 Perl 5 v5.34.3 x86_64-linux
- Status
- Pass
- From
- Dist
-
libwww-perl v6.78
- Platform
- Perl 5 v5.34.3 x86_64-linux
- Date
- 2025-02-28 15:42:14
- ID
- 94f61b14-f5ea-11ef-b043-dc5c19e5f33a
This distribution has been tested as part of the CPAN Testers
project, supporting the Perl programming language. See
http://wiki.cpantesters.org/ for more information or email
questions to cpan-testers-discuss@perl.org
--
Dear OALDERS,
This is a computer-generated report for libwww-perl-6.78
on perl 5.34.3, created by App::cpanminus::reporter 0.22 (1.7045).
Thank you for uploading your work to CPAN. Congratulations!
All tests were successful.
Sections of this report:
* Tester comments
* Program output
* Prerequisites
* Environment and other context
------------------------------
TESTER COMMENTS
------------------------------
Additional comments from tester:
none provided
------------------------------
PROGRAM OUTPUT
------------------------------
Output from '':
Building and testing libwww-perl-6.78
cp lib/LWP/Authen/Ntlm.pm blib/lib/LWP/Authen/Ntlm.pm
cp lib/LWP/Authen/Digest.pm blib/lib/LWP/Authen/Digest.pm
cp lib/LWP/Debug.pm blib/lib/LWP/Debug.pm
cp lib/LWP/Protocol/data.pm blib/lib/LWP/Protocol/data.pm
cp lib/LWP/Protocol.pm blib/lib/LWP/Protocol.pm
cp lib/LWP/Protocol/file.pm blib/lib/LWP/Protocol/file.pm
cp lib/LWP/Protocol/cpan.pm blib/lib/LWP/Protocol/cpan.pm
cp lib/LWP/Debug/TraceHTTP.pm blib/lib/LWP/Debug/TraceHTTP.pm
cp lib/LWP/Protocol/nntp.pm blib/lib/LWP/Protocol/nntp.pm
cp lib/LWP/DebugFile.pm blib/lib/LWP/DebugFile.pm
cp lib/LWP/Protocol/mailto.pm blib/lib/LWP/Protocol/mailto.pm
cp lib/LWP/Authen/Basic.pm blib/lib/LWP/Authen/Basic.pm
cp lib/LWP/Protocol/loopback.pm blib/lib/LWP/Protocol/loopback.pm
cp lwpcook.pod blib/lib/lwpcook.pod
cp lib/LWP/Protocol/gopher.pm blib/lib/LWP/Protocol/gopher.pm
cp lib/LWP/Simple.pm blib/lib/LWP/Simple.pm
cp lib/LWP/ConnCache.pm blib/lib/LWP/ConnCache.pm
cp lib/LWP/Protocol/ftp.pm blib/lib/LWP/Protocol/ftp.pm
cp lwptut.pod blib/lib/lwptut.pod
cp lib/LWP/RobotUA.pm blib/lib/LWP/RobotUA.pm
cp lib/LWP/Protocol/nogo.pm blib/lib/LWP/Protocol/nogo.pm
cp lib/LWP/Protocol/http.pm blib/lib/LWP/Protocol/http.pm
cp lib/LWP/UserAgent.pm blib/lib/LWP/UserAgent.pm
cp lib/LWP/MemberMixin.pm blib/lib/LWP/MemberMixin.pm
cp lib/LWP.pm blib/lib/LWP.pm
cp bin/lwp-download blib/script/lwp-download
"/home/rr/perl5/perlbrew/perls/perl-5.34.3/bin/perl" -MExtUtils::MY -e 'MY->fixin(shift)' -- blib/script/lwp-download
cp bin/lwp-dump blib/script/lwp-dump
"/home/rr/perl5/perlbrew/perls/perl-5.34.3/bin/perl" -MExtUtils::MY -e 'MY->fixin(shift)' -- blib/script/lwp-dump
cp bin/lwp-mirror blib/script/lwp-mirror
"/home/rr/perl5/perlbrew/perls/perl-5.34.3/bin/perl" -MExtUtils::MY -e 'MY->fixin(shift)' -- blib/script/lwp-mirror
cp bin/lwp-request blib/script/lwp-request
"/home/rr/perl5/perlbrew/perls/perl-5.34.3/bin/perl" -MExtUtils::MY -e 'MY->fixin(shift)' -- blib/script/lwp-request
Manifying 4 pod documents
Manifying 11 pod documents
PERL_DL_NONLAZY=1 "/home/rr/perl5/perlbrew/perls/perl-5.34.3/bin/perl" "-MExtUtils::Command::MM" "-MTest::Harness" "-e" "undef *Test::Harness::Switches; test_harness(0, 'blib/lib', 'blib/arch')" t/*.t t/base/*.t t/base/protocols/*.t t/leak/*.t t/local/*.t t/robot/*.t
#
# Versions for all modules listed in MYMETA.json (including optional ones):
#
# === Configure Requires ===
#
# Module Want Have
# ------------------- ---- ----
# ExtUtils::MakeMaker any 7.62
# File::Copy any 2.35
# Getopt::Long any 2.57
#
# === Configure Suggests ===
#
# Module Want Have
# -------- ------- ----
# JSON::PP 2.27300 4.06
#
# === Build Requires ===
#
# Module Want Have
# ------------------- ---- ----
# ExtUtils::MakeMaker any 7.62
#
# === Test Requires ===
#
# Module Want Have
# ---------------------- ---- --------
# ExtUtils::MakeMaker any 7.62
# File::Spec any 3.80
# FindBin any 1.54
# HTTP::CookieJar::LWP any 0.014
# HTTP::Daemon 6.12 6.16
# Test::Fatal any 0.017
# Test::More 0.96 1.302206
# Test::Needs any 0.002010
# Test::RequiresInternet any 0.05
#
# === Test Recommends ===
#
# Module Want Have
# --------------- -------- --------
# CPAN::Meta 2.120900 2.150010
# Test::LeakTrace any 0.17
#
# === Runtime Requires ===
#
# Module Want Have
# --------------------- -------- --------
# Digest::MD5 any 2.59
# Encode 2.12 3.20
# Encode::Locale any 1.05
# File::Copy any 2.35
# File::Listing 6 6.16
# File::Temp any 0.2311
# Getopt::Long any 2.57
# HTML::Entities any 3.81
# HTML::HeadParser 3.71 3.81
# HTTP::Cookies 6 6.10
# HTTP::Date 6 6.06
# HTTP::Negotiate 6 6.01
# HTTP::Request 6.18 7.00
# HTTP::Request::Common 6.18 7.00
# HTTP::Response 6.18 7.00
# HTTP::Status 6.18 7.00
# IO::Select any 1.55_01
# IO::Socket any 1.55_01
# LWP::MediaTypes 6 6.04
# MIME::Base64 2.1 3.16
# Module::Load any 0.36
# Net::FTP 2.58 3.13
# Net::HTTP 6.18 6.23
# Scalar::Util any 1.64
# Try::Tiny any 0.32
# URI 1.10 5.30
# URI::Escape any 5.30
# WWW::RobotRules 6 6.02
# parent 0.217 0.244
# perl 5.008001 5.034003
# strict any 1.12
# warnings any 1.51
#
# === Runtime Suggests ===
#
# Module Want Have
# -------------------- ---- -------
# Authen::NTLM 1.02 missing
# Data::Dump 1.13 1.25
# IO::Socket::INET any 1.55_01
# LWP::Protocol::https 6.02 6.13
#
t/00-report-prereqs.t .......... ok
t/10-attrs.t ................... ok
t/base/default_content_type.t .. ok
t/base/protocols.t ............. ok
t/base/protocols/nntp.t ........ skipped: nntp.perl.org is unstable and Test::RequiresInternet is not catching it
t/base/proxy.t ................. ok
t/base/proxy_request.t ......... ok
t/base/simple.t ................ ok
t/base/ua.t .................... ok
t/base/ua_handlers.t ........... ok
t/leak/no_leak.t ............... ok
t/local/autoload-get.t ......... ok
t/local/autoload.t ............. ok
t/local/cookie_jar.t ........... ok
t/local/download_to_fh.t ....... ok
t/local/get.t .................. ok
t/local/http.t ................. ok
t/local/httpsub.t .............. ok
t/local/protosub.t ............. ok
t/redirect.t ................... ok
t/robot/ua-get.t ............... ok
t/robot/ua.t ................... ok
All tests successful.
Files=22, Tests=317, 27 wallclock secs ( 0.08 usr 0.03 sys + 3.57 cusr 0.55 csys = 4.23 CPU)
Result: PASS
------------------------------
PREREQUISITES
------------------------------
Prerequisite modules loaded:
runtime:
Module Need Have
--------------------- -------- --------
Digest::MD5 0 2.59
Encode 2.12 3.20
Encode::Locale 0 1.05
File::Copy 0 2.35
File::Listing 6 6.16
File::Temp 0 0.2311
Getopt::Long 0 2.57
HTML::Entities 0 3.81
HTML::HeadParser 3.71 3.81
HTTP::Cookies 6 6.10
HTTP::Date 6 6.06
HTTP::Negotiate 6 6.01
HTTP::Request 6.18 7.00
HTTP::Request::Common 6.18 7.00
HTTP::Response 6.18 7.00
HTTP::Status 6.18 7.00
IO::Select 0 1.55_01
IO::Socket 0 1.55_01
LWP::MediaTypes 6 6.04
MIME::Base64 2.1 3.16
Module::Load 0 0.36
Net::FTP 2.58 3.13
Net::HTTP 6.18 6.23
parent 0.217 0.244
perl 5.008001 5.034003
Scalar::Util 0 1.64
strict 0 1.12
Try::Tiny 0 0.32
URI 1.10 5.30
URI::Escape 0 5.30
warnings 0 1.51
WWW::RobotRules 6 6.02
build:
Module Need Have
--------------------- -------- --------
ExtUtils::MakeMaker 0 7.62
configure:
Module Need Have
--------------------- -------- --------
ExtUtils::MakeMaker 0 7.62
File::Copy 0 2.35
Getopt::Long 0 2.57
------------------------------
ENVIRONMENT AND OTHER CONTEXT
------------------------------
Environment variables:
LANG = en_GB.UTF-8
LANGUAGE = en_GB:en
PATH = /home/rr/perl5/perlbrew/bin:/home/rr/perl5/perlbrew/perls/perl-5.34.3/bin:/home/rr/bin:/usr/local/sbin:/usr/local/bin:/usr/sbin:/usr/bin:/sbin:/bin:/usr/games:/usr/local/games:/snap/bin
PERLBREW_HOME = /home/rr/.perlbrew
PERLBREW_MANPATH = /home/rr/perl5/perlbrew/perls/perl-5.34.3/man
PERLBREW_PATH = /home/rr/perl5/perlbrew/bin:/home/rr/perl5/perlbrew/perls/perl-5.34.3/bin
PERLBREW_PERL = perl-5.34.3
PERLBREW_ROOT = /home/rr/perl5/perlbrew
PERLBREW_SHELLRC_VERSION = 0.82
PERLBREW_VERSION = 0.94
PERL_CPANM_OPT = --from https://www.cpan.org --verify
PERL_CPAN_MIRROR_TINY_BASE = /home/rr/perl5/perlbrew
SHELL = /bin/bash
TERM = xterm-256color
Perl special variables (and OS-specific diagnostics, for MSWin32):
EGID = 1000 4 7 24 27 30 46 118 126 131 1000
EUID = 1000
EXECUTABLE_NAME = /home/rr/perl5/perlbrew/perls/perl-5.34.3/bin/perl
GID = 1000 4 7 24 27 30 46 118 126 131 1000
UID = 1000
Perl module toolchain versions installed:
Module Have
------------------- --------
CPAN 2.37
CPAN::Meta 2.150010
Cwd 3.80
ExtUtils::CBuilder 0.280236
ExtUtils::Command 7.62
ExtUtils::Install 2.22
ExtUtils::MakeMaker 7.62
ExtUtils::Manifest 1.73
ExtUtils::ParseXS 3.51
File::Spec 3.80
JSON 4.10
JSON::PP 4.06
Module::Build 0.4234
Module::Signature 0.89
Parse::CPAN::Meta 2.150010
Test::Harness 3.50
Test::More 1.302206
YAML 1.30
YAML::Syck 1.34
version 0.9932
--
Summary of my perl5 (revision 5 version 34 subversion 3) configuration:
Platform:
osname=linux
osvers=5.15.0-89-generic
archname=x86_64-linux
uname='linux plasmo 5.15.0-89-generic #99-ubuntu smp mon oct 30 20:42:41 utc 2023 x86_64 x86_64 x86_64 gnulinux '
config_args='-de -Dprefix=/home/rr/perl5/perlbrew/perls/perl-5.34.3 -Aeval:scriptdir=/home/rr/perl5/perlbrew/perls/perl-5.34.3/bin'
hint=recommended
useposix=true
d_sigaction=define
useithreads=undef
usemultiplicity=undef
use64bitint=define
use64bitall=define
uselongdouble=undef
usemymalloc=n
default_inc_excludes_dot=define
Compiler:
cc='cc'
ccflags ='-fwrapv -fno-strict-aliasing -pipe -fstack-protector-strong -I/usr/local/include -D_LARGEFILE_SOURCE -D_FILE_OFFSET_BITS=64'
optimize='-O2'
cppflags='-fwrapv -fno-strict-aliasing -pipe -fstack-protector-strong -I/usr/local/include'
ccversion=''
gccversion='11.4.0'
gccosandvers=''
intsize=4
longsize=8
ptrsize=8
doublesize=8
byteorder=12345678
doublekind=3
d_longlong=define
longlongsize=8
d_longdbl=define
longdblsize=16
longdblkind=3
ivtype='long'
ivsize=8
nvtype='double'
nvsize=8
Off_t='off_t'
lseeksize=8
alignbytes=8
prototype=define
Linker and Libraries:
ld='cc'
ldflags =' -fstack-protector-strong -L/usr/local/lib'
libpth=/usr/local/lib /usr/lib/x86_64-linux-gnu /usr/lib /usr/lib64
libs=-lpthread -lnsl -ldl -lm -lcrypt -lutil -lc
perllibs=-lpthread -lnsl -ldl -lm -lcrypt -lutil -lc
libc=/lib/x86_64-linux-gnu/libc.so.6
so=so
useshrplib=false
libperl=libperl.a
gnulibc_version='2.35'
Dynamic Linking:
dlsrc=dl_dlopen.xs
dlext=so
d_dlsymun=undef
ccdlflags='-Wl,-E'
cccdlflags='-fPIC'
lddlflags='-shared -O2 -L/usr/local/lib -fstack-protector-strong'
Characteristics of this binary (from libperl):
Compile-time options:
HAS_TIMES
PERLIO_LAYERS
PERL_COPY_ON_WRITE
PERL_DONT_CREATE_GVSV
PERL_MALLOC_WRAP
PERL_OP_PARENT
PERL_PRESERVE_IVUV
USE_64_BIT_ALL
USE_64_BIT_INT
USE_LARGE_FILES
USE_LOCALE
USE_LOCALE_COLLATE
USE_LOCALE_CTYPE
USE_LOCALE_NUMERIC
USE_LOCALE_TIME
USE_PERLIO
USE_PERL_ATOF
Built under linux
Compiled at Nov 29 2023 14:57:23
%ENV:
PERLBREW_HOME="/home/rr/.perlbrew"
PERLBREW_MANPATH="/home/rr/perl5/perlbrew/perls/perl-5.34.3/man"
PERLBREW_PATH="/home/rr/perl5/perlbrew/bin:/home/rr/perl5/perlbrew/perls/perl-5.34.3/bin"
PERLBREW_PERL="perl-5.34.3"
PERLBREW_ROOT="/home/rr/perl5/perlbrew"
PERLBREW_SHELLRC_VERSION="0.82"
PERLBREW_VERSION="0.94"
PERL_CPANM_OPT="--from https://www.cpan.org --verify"
PERL_CPAN_MIRROR_TINY_BASE="/home/rr/perl5/perlbrew"
@INC:
/home/rr/perl5/perlbrew/perls/perl-5.34.3/lib/site_perl/5.34.3/x86_64-linux
/home/rr/perl5/perlbrew/perls/perl-5.34.3/lib/site_perl/5.34.3
/home/rr/perl5/perlbrew/perls/perl-5.34.3/lib/5.34.3/x86_64-linux
/home/rr/perl5/perlbrew/perls/perl-5.34.3/lib/5.34.3