Back
From: metabase:user:0f13baa8-6c26-1014-a8ff-70f9d801d268
Subject: PASS Crypt-SSLeay-0.73_06 v5.14.4
Date: 2017-05-16T20:07:56Z
This distribution has been tested as part of the CPAN Testers
project, supporting the Perl programming language. See
http://wiki.cpantesters.org/ for more information or email
questions to cpan-testers-discuss@perl.org
--
Dear A. Sinan Unur,
This is a computer-generated report for Crypt-SSLeay-0.73_06
on perl 5.14.4, created by CPAN-Reporter-1.2018.
Thank you for uploading your work to CPAN. Congratulations!
All tests were successful.
Sections of this report:
* Tester comments
* Program output
* Prerequisites
* Environment and other context
------------------------------
TESTER COMMENTS
------------------------------
Additional comments from tester:
none provided
------------------------------
PROGRAM OUTPUT
------------------------------
Output from 'C:\Strawberry\c\bin\dmake.exe test':
"C:\Strawberry\perl\bin\perl.exe" -MExtUtils::Command::MM -e cp_nonempty -- SSLeay.bs blib\arch\auto\Crypt\SSLeay\SSLeay.bs 644
"C:\Strawberry\perl\bin\perl.exe" "-MExtUtils::Command::MM" "-MTest::Harness" "-e" "undef *Test::Harness::Switches; test_harness(0, 'blib\lib', 'blib\arch')" t/*.t
t/00-basic.t .... ok
t/01-connect.t .. ok
# Reading configuration from 'test.config' on MSWin32
t/02-live.t ..... skipped: Network tests disabled
# You have 'OpenSSL 1.0.1e 11 Feb 2013'
# built on 'built on: Sun Feb 17 22:50:46 GMT 2013'
# and SSL Heartbeats are not disabled.
#
# That means your client may be vulnerable to a server exploiting the
# Heartbleed bug unless the vulnerability was patched without changing
# version. The vulnerability was disclosed on or about 2014/04/07. A
# build date after that may indicate that the library you are using
# may have been patched. You should check this.
#
# The risk is compounded by the fact that Crypt::SSLeay does not
# verify hosts. You can still force install Crypt::SSLeay, but you
# need to be aware of this issue, and strongly consider upgrading to a
# safer version of OpenSSL.
#
# See also:
#
# - https://cve.mitre.org/cgi-bin/cvename.cgi?name=CVE-2014-0160
# - http://isc.sans.edu/diary/17945
# - http://seclists.org/fulldisclosure/2014/Apr/91
t/03-version.t .. ok
t/manifest.t .... skipped: Author tests not required for installation
All tests successful.
Files=5, Tests=33, 7 wallclock secs ( 0.08 usr + 0.11 sys = 0.19 CPU)
Result: PASS
------------------------------
PREREQUISITES
------------------------------
Prerequisite modules loaded:
requires:
Module Need Have
--------------------- -------- --------
Bytes::Random::Secure 0.28 0.29
LWP::Protocol::https 6.02 6.03
MIME::Base64 0 3.13
perl 5.006 5.014004
build_requires:
Module Need Have
--------------------- -------- --------
ExtUtils::MakeMaker 0 7.18
Test::More 0.19 1.302085
Try::Tiny 0.19 0.28
configure_requires:
Module Need Have
--------------------- -------- --------
Devel::CheckLib 1.09 1.10
ExtUtils::CBuilder 0.280205 0.280205
Getopt::Long 0 2.38
------------------------------
ENVIRONMENT AND OTHER CONTEXT
------------------------------
Environment variables:
COMSPEC = C:\windows\system32\cmd.exe
NUMBER_OF_PROCESSORS = 4
PATH = C:\home\heaven\perl5\bin;C:\windows\system32;C:\windows;C:\windows\System32\Wbem;C:\windows\System32\WindowsPowerShell\v1.0\;C:\Strawberry\c\bin;C:\Strawberry\perl\site\bin;C:\Strawberry\perl\bin
PERL5LIB = C:\home\heaven\perl5\lib\perl5
PERL5OPT =
PERL5_CPANPLUS_IS_RUNNING = 5920
PERL5_CPAN_IS_RUNNING = 5920
PERL_LOCAL_LIB_ROOT = C:\home\heaven\perl5
PERL_MB_OPT = --install_base "C:\\home\\heaven\\perl5"
PERL_MM_OPT = INSTALL_BASE=C:\\home\\heaven\\perl5
PROCESSOR_IDENTIFIER = x86 Family 6 Model 37 Stepping 5, GenuineIntel
TEMP = C:\Users\user\AppData\Local\Temp
TERM = dumb
Perl special variables (and OS-specific diagnostics, for MSWin32):
$^X = C:\Strawberry\perl\bin\perl.exe
$UID/$EUID = 0 / 0
$GID = 0
$EGID = 0
Win32::GetOSName = Win7
Win32::GetOSVersion = Service Pack 1, 6, 1, 7601, 2, 1, 0, 256, 1
Win32::FsType = NTFS
Win32::IsAdminUser = 0
Perl module toolchain versions installed:
Module Have
------------------- --------
CPAN 1.9800
CPAN::Meta 2.143240
Cwd 3.40
ExtUtils::CBuilder 0.280205
ExtUtils::Command 7.18
ExtUtils::Install 2.06
ExtUtils::MakeMaker 7.18
ExtUtils::Manifest 1.70
ExtUtils::ParseXS 3.30
File::Spec 3.40
JSON 2.92
JSON::PP 2.93
Module::Build 0.4220
Module::Signature 0.70
Parse::CPAN::Meta 1.4414
Test::Harness 3.36
Test::More 1.302085
YAML 0.84
YAML::Syck 1.29
version 0.9918
--
Summary of my perl5 (revision 5 version 14 subversion 4) configuration:
Platform:
osname=MSWin32, osvers=4.0, archname=MSWin32-x86-multi-thread
uname='Win32 strawberry-perl 5.14.4.1 #1 Mon Mar 11 19:56:31 2013 i386'
config_args='undef'
hint=recommended, useposix=true, d_sigaction=undef
useithreads=define, usemultiplicity=define
useperlio=define, d_sfio=undef, uselargefiles=define, usesocks=undef
use64bitint=undef, use64bitall=undef, uselongdouble=undef
usemymalloc=n, bincompat5005=undef
Compiler:
cc='gcc', ccflags =' -s -O2 -DWIN32 -DPERL_TEXTMODE_SCRIPTS -DPERL_IMPLICIT_CONTEXT -DPERL_IMPLICIT_SYS -fno-strict-aliasing -mms-bitfields',
optimize='-s -O2',
cppflags='-DWIN32'
ccversion='', gccversion='4.6.3', gccosandvers=''
intsize=4, longsize=4, ptrsize=4, doublesize=8, byteorder=1234
d_longlong=undef, longlongsize=8, d_longdbl=define, longdblsize=12
ivtype='long', ivsize=4, nvtype='double', nvsize=8, Off_t='long long', lseeksize=8
alignbytes=8, prototype=define
Linker and Libraries:
ld='g++', ldflags ='-s -L"C:\Strawberry\perl\lib\CORE" -L"C:\Strawberry\c\lib"'
libpth=C:\Strawberry\c\lib C:\Strawberry\c\i686-w64-mingw32\lib
libs=-lmoldname -lkernel32 -luser32 -lgdi32 -lwinspool -lcomdlg32 -ladvapi32 -lshell32 -lole32 -loleaut32 -lnetapi32 -luuid -lws2_32 -lmpr -lwinmm -lversion -lodbc32 -lodbccp32 -lcomctl32
perllibs=-lmoldname -lkernel32 -luser32 -lgdi32 -lwinspool -lcomdlg32 -ladvapi32 -lshell32 -lole32 -loleaut32 -lnetapi32 -luuid -lws2_32 -lmpr -lwinmm -lversion -lodbc32 -lodbccp32 -lcomctl32
libc=, so=dll, useshrplib=true, libperl=libperl514.a
gnulibc_version=''
Dynamic Linking:
dlsrc=dl_win32.xs, dlext=dll, d_dlsymun=undef, ccdlflags=' '
cccdlflags=' ', lddlflags='-mdll -s -L"C:\Strawberry\perl\lib\CORE" -L"C:\Strawberry\c\lib"'
Characteristics of this binary (from libperl):
Compile-time options: MULTIPLICITY PERL_DONT_CREATE_GVSV
PERL_IMPLICIT_CONTEXT PERL_IMPLICIT_SYS
PERL_MALLOC_WRAP PERL_PRESERVE_IVUV PL_OP_SLAB_ALLOC
USE_ITHREADS USE_LARGE_FILES USE_PERLIO
USE_PERL_ATOF
Built under MSWin32
Compiled at Mar 11 2013 20:02:09
%ENV:
PERL5LIB="C:\home\heaven\perl5\lib\perl5"
PERL5_CPANPLUS_IS_RUNNING="5920"
PERL5_CPAN_IS_RUNNING="5920"
PERL_LOCAL_LIB_ROOT="C:\home\heaven\perl5"
PERL_MB_OPT="--install_base "C:\\home\\heaven\\perl5""
PERL_MM_OPT="INSTALL_BASE=C:\\home\\heaven\\perl5"
@INC:
C:\home\heaven\perl5\lib\perl5/MSWin32-x86-multi-thread
C:\home\heaven\perl5\lib\perl5
C:/Strawberry/perl/site/lib
C:/Strawberry/perl/vendor/lib
C:/Strawberry/perl/lib
.