MooseX-RelClassTypes v0.03 Perl 5 v5.22.3 x86_64-linux

Status
Pass
From
Slaven Rezić (SREZIC)
Dist
MooseX-RelClassTypes v0.03
Platform
Perl 5 v5.22.3 x86_64-linux
Date
2018-05-02 19:11:13
ID
94e114ba-4e3c-11e8-a38a-ca22b399e03c
This distribution has been tested as part of the CPAN Testers
project, supporting the Perl programming language.  See
http://wiki.cpantesters.org/ for more information or email
questions to cpan-testers-discuss@perl.org


--
Dear Tom Gracey,

This is a computer-generated report for MooseX-RelClassTypes-0.03
on perl 5.22.3, created by CPAN-Reporter-1.2018.

Thank you for uploading your work to CPAN.  Congratulations!
All tests were successful.

Sections of this report:

    * Tester comments
    * Program output
    * Prerequisites
    * Environment and other context

------------------------------
TESTER COMMENTS
------------------------------

Additional comments from tester:

none provided

------------------------------
PROGRAM OUTPUT
------------------------------

Output from '/usr/bin/make test':

PERL_DL_NONLAZY=1 "/bbbike/perl-5.22.3/bin/perl" "-MExtUtils::Command::MM" "-MTest::Harness" "-e" "undef *Test::Harness::Switches; test_harness(0, 'blib/lib', 'blib/arch')" t/*.t
You are overwriting a accessor (child_rel_pack) for the child_rel_pack attribute (defined at t/00_set_isa.t line 45) with a new accessor method for the child_rel_pack attribute (defined at t/00_set_isa.t line 45) at /opt/perl-5.22.3/lib/site_perl/5.22.3/x86_64-linux/Moose/Meta/Attribute.pm line 1094.
	Moose::Meta::Attribute::_process_accessors(Moose::Meta::Attribute=HASH(0x2898360), "accessor", "child_rel_pack", undef) called at /opt/perl-5.22.3/lib/site_perl/5.22.3/x86_64-linux/Class/MOP/Attribute.pm line 446
	Class::MOP::Attribute::install_accessors(Moose::Meta::Attribute=HASH(0x2898360)) called at /opt/perl-5.22.3/lib/site_perl/5.22.3/x86_64-linux/Moose/Meta/Attribute.pm line 1014
	Moose::Meta::Attribute::install_accessors(Moose::Meta::Attribute=HASH(0x2898360)) called at /tmpfs/.cpan-build-cpansand/2018050218/MooseX-RelClassTypes-0.03-1/blib/lib/MooseX/RelClassTypes.pm line 76
	Class::MOP::Class:::before("Child") called at /opt/perl-5.22.3/lib/site_perl/5.22.3/x86_64-linux/Class/MOP/Method/Wrapped.pm line 43
	Child::_wrapped_BUILDARGS("Child") called at /opt/perl-5.22.3/lib/site_perl/5.22.3/x86_64-linux/Class/MOP/Method/Wrapped.pm line 95
	Child::BUILDARGS("Child") called at /opt/perl-5.22.3/lib/site_perl/5.22.3/x86_64-linux/Moose/Object.pm line 22
	Moose::Object::new("Child") called at t/00_set_isa.t line 99
You are overwriting a accessor (parent_rel_pack) for the parent_rel_pack attribute (defined at t/00_set_isa.t line 23) with a new accessor method for the parent_rel_pack attribute (defined at t/00_set_isa.t line 23) at /opt/perl-5.22.3/lib/site_perl/5.22.3/x86_64-linux/Moose/Meta/Attribute.pm line 1094.
	Moose::Meta::Attribute::_process_accessors(Moose::Meta::Attribute=HASH(0x2885f98), "accessor", "parent_rel_pack", undef) called at /opt/perl-5.22.3/lib/site_perl/5.22.3/x86_64-linux/Class/MOP/Attribute.pm line 446
	Class::MOP::Attribute::install_accessors(Moose::Meta::Attribute=HASH(0x2885f98)) called at /opt/perl-5.22.3/lib/site_perl/5.22.3/x86_64-linux/Moose/Meta/Attribute.pm line 1014
	Moose::Meta::Attribute::install_accessors(Moose::Meta::Attribute=HASH(0x2885f98)) called at /tmpfs/.cpan-build-cpansand/2018050218/MooseX-RelClassTypes-0.03-1/blib/lib/MooseX/RelClassTypes.pm line 76
	Class::MOP::Class:::before("Child") called at /opt/perl-5.22.3/lib/site_perl/5.22.3/x86_64-linux/Class/MOP/Method/Wrapped.pm line 43
	Child::_wrapped_BUILDARGS("Child") called at /opt/perl-5.22.3/lib/site_perl/5.22.3/x86_64-linux/Class/MOP/Method/Wrapped.pm line 95
	Child::BUILDARGS("Child") called at /opt/perl-5.22.3/lib/site_perl/5.22.3/x86_64-linux/Moose/Object.pm line 22
	Moose::Object::new("Child") called at t/00_set_isa.t line 99
You are overwriting a accessor (child_rel_pack) for the child_rel_pack attribute (defined at t/00_set_isa.t line 45) with a new accessor method for the child_rel_pack attribute (defined at t/00_set_isa.t line 45) at /opt/perl-5.22.3/lib/site_perl/5.22.3/x86_64-linux/Moose/Meta/Attribute.pm line 1094.
	Moose::Meta::Attribute::_process_accessors(Moose::Meta::Attribute=HASH(0x2898360), "accessor", "child_rel_pack", undef) called at /opt/perl-5.22.3/lib/site_perl/5.22.3/x86_64-linux/Class/MOP/Attribute.pm line 446
	Class::MOP::Attribute::install_accessors(Moose::Meta::Attribute=HASH(0x2898360)) called at /opt/perl-5.22.3/lib/site_perl/5.22.3/x86_64-linux/Moose/Meta/Attribute.pm line 1014
	Moose::Meta::Attribute::install_accessors(Moose::Meta::Attribute=HASH(0x2898360)) called at /tmpfs/.cpan-build-cpansand/2018050218/MooseX-RelClassTypes-0.03-1/blib/lib/MooseX/RelClassTypes.pm line 76
	Class::MOP::Class:::before("Child") called at /opt/perl-5.22.3/lib/site_perl/5.22.3/x86_64-linux/Class/MOP/Method/Wrapped.pm line 43
	Parent::_wrapped_BUILDARGS("Child") called at /opt/perl-5.22.3/lib/site_perl/5.22.3/x86_64-linux/Class/MOP/Method/Wrapped.pm line 95
	Parent::BUILDARGS("Child") called at /opt/perl-5.22.3/lib/site_perl/5.22.3/x86_64-linux/Class/MOP/Method/Wrapped.pm line 44
	Child::_wrapped_BUILDARGS("Child") called at /opt/perl-5.22.3/lib/site_perl/5.22.3/x86_64-linux/Class/MOP/Method/Wrapped.pm line 95
	Child::BUILDARGS("Child") called at /opt/perl-5.22.3/lib/site_perl/5.22.3/x86_64-linux/Moose/Object.pm line 22
	Moose::Object::new("Child") called at t/00_set_isa.t line 99
You are overwriting a accessor (parent_rel_pack) for the parent_rel_pack attribute (defined at t/00_set_isa.t line 23) with a new accessor method for the parent_rel_pack attribute (defined at t/00_set_isa.t line 23) at /opt/perl-5.22.3/lib/site_perl/5.22.3/x86_64-linux/Moose/Meta/Attribute.pm line 1094.
	Moose::Meta::Attribute::_process_accessors(Moose::Meta::Attribute=HASH(0x2885f98), "accessor", "parent_rel_pack", undef) called at /opt/perl-5.22.3/lib/site_perl/5.22.3/x86_64-linux/Class/MOP/Attribute.pm line 446
	Class::MOP::Attribute::install_accessors(Moose::Meta::Attribute=HASH(0x2885f98)) called at /opt/perl-5.22.3/lib/site_perl/5.22.3/x86_64-linux/Moose/Meta/Attribute.pm line 1014
	Moose::Meta::Attribute::install_accessors(Moose::Meta::Attribute=HASH(0x2885f98)) called at /tmpfs/.cpan-build-cpansand/2018050218/MooseX-RelClassTypes-0.03-1/blib/lib/MooseX/RelClassTypes.pm line 76
	Class::MOP::Class:::before("Child") called at /opt/perl-5.22.3/lib/site_perl/5.22.3/x86_64-linux/Class/MOP/Method/Wrapped.pm line 43
	Parent::_wrapped_BUILDARGS("Child") called at /opt/perl-5.22.3/lib/site_perl/5.22.3/x86_64-linux/Class/MOP/Method/Wrapped.pm line 95
	Parent::BUILDARGS("Child") called at /opt/perl-5.22.3/lib/site_perl/5.22.3/x86_64-linux/Class/MOP/Method/Wrapped.pm line 44
	Child::_wrapped_BUILDARGS("Child") called at /opt/perl-5.22.3/lib/site_perl/5.22.3/x86_64-linux/Class/MOP/Method/Wrapped.pm line 95
	Child::BUILDARGS("Child") called at /opt/perl-5.22.3/lib/site_perl/5.22.3/x86_64-linux/Moose/Object.pm line 22
	Moose::Object::new("Child") called at t/00_set_isa.t line 99
t/00_set_isa.t ....... ok
You are overwriting a reader (rel_pack) for the rel_pack attribute (defined at t/01_auto_default.t line 54) with a new reader method for the rel_pack attribute (defined at t/01_auto_default.t line 54) at /opt/perl-5.22.3/lib/site_perl/5.22.3/x86_64-linux/Moose/Meta/Attribute.pm line 1094.
	Moose::Meta::Attribute::_process_accessors(Moose::Meta::Attribute=HASH(0x37f3648), "reader", "rel_pack", undef) called at /opt/perl-5.22.3/lib/site_perl/5.22.3/x86_64-linux/Class/MOP/Attribute.pm line 450
	Class::MOP::Attribute::install_accessors(Moose::Meta::Attribute=HASH(0x37f3648)) called at /opt/perl-5.22.3/lib/site_perl/5.22.3/x86_64-linux/Moose/Meta/Attribute.pm line 1014
	Moose::Meta::Attribute::install_accessors(Moose::Meta::Attribute=HASH(0x37f3648)) called at /tmpfs/.cpan-build-cpansand/2018050218/MooseX-RelClassTypes-0.03-1/blib/lib/MooseX/RelClassTypes.pm line 76
	Class::MOP::Class:::before("TestAD::WithAuto_NoDefault_WithBuilder") called at /opt/perl-5.22.3/lib/site_perl/5.22.3/x86_64-linux/Class/MOP/Method/Wrapped.pm line 43
	TestAD::WithAuto_NoDefault_WithBuilder::_wrapped_BUILDARGS("TestAD::WithAuto_NoDefault_WithBuilder") called at /opt/perl-5.22.3/lib/site_perl/5.22.3/x86_64-linux/Class/MOP/Method/Wrapped.pm line 95
	TestAD::WithAuto_NoDefault_WithBuilder::BUILDARGS("TestAD::WithAuto_NoDefault_WithBuilder") called at /opt/perl-5.22.3/lib/site_perl/5.22.3/x86_64-linux/Moose/Object.pm line 22
	Moose::Object::new("TestAD::WithAuto_NoDefault_WithBuilder") called at t/01_auto_default.t line 143
You are overwriting a reader (rel_pack) for the rel_pack attribute (defined at t/01_auto_default.t line 11) with a new reader method for the rel_pack attribute (defined at t/01_auto_default.t line 11) at /opt/perl-5.22.3/lib/site_perl/5.22.3/x86_64-linux/Moose/Meta/Attribute.pm line 1094.
	Moose::Meta::Attribute::_process_accessors(Moose::Meta::Attribute=HASH(0x37d42d0), "reader", "rel_pack", undef) called at /opt/perl-5.22.3/lib/site_perl/5.22.3/x86_64-linux/Class/MOP/Attribute.pm line 450
	Class::MOP::Attribute::install_accessors(Moose::Meta::Attribute=HASH(0x37d42d0)) called at /opt/perl-5.22.3/lib/site_perl/5.22.3/x86_64-linux/Moose/Meta/Attribute.pm line 1014
	Moose::Meta::Attribute::install_accessors(Moose::Meta::Attribute=HASH(0x37d42d0)) called at /tmpfs/.cpan-build-cpansand/2018050218/MooseX-RelClassTypes-0.03-1/blib/lib/MooseX/RelClassTypes.pm line 76
	Class::MOP::Class:::before("TestAD::NoAuto_NoDefault_NoBuilder") called at /opt/perl-5.22.3/lib/site_perl/5.22.3/x86_64-linux/Class/MOP/Method/Wrapped.pm line 43
	TestAD::NoAuto_NoDefault_NoBuilder::_wrapped_BUILDARGS("TestAD::NoAuto_NoDefault_NoBuilder") called at /opt/perl-5.22.3/lib/site_perl/5.22.3/x86_64-linux/Class/MOP/Method/Wrapped.pm line 95
	TestAD::NoAuto_NoDefault_NoBuilder::BUILDARGS("TestAD::NoAuto_NoDefault_NoBuilder") called at /opt/perl-5.22.3/lib/site_perl/5.22.3/x86_64-linux/Moose/Object.pm line 22
	Moose::Object::new("TestAD::NoAuto_NoDefault_NoBuilder") called at t/01_auto_default.t line 143
You are overwriting a reader (rel_pack) for the rel_pack attribute (defined at t/01_auto_default.t line 45) with a new reader method for the rel_pack attribute (defined at t/01_auto_default.t line 45) at /opt/perl-5.22.3/lib/site_perl/5.22.3/x86_64-linux/Moose/Meta/Attribute.pm line 1094.
	Moose::Meta::Attribute::_process_accessors(Moose::Meta::Attribute=HASH(0x37e74c0), "reader", "rel_pack", undef) called at /opt/perl-5.22.3/lib/site_perl/5.22.3/x86_64-linux/Class/MOP/Attribute.pm line 450
	Class::MOP::Attribute::install_accessors(Moose::Meta::Attribute=HASH(0x37e74c0)) called at /opt/perl-5.22.3/lib/site_perl/5.22.3/x86_64-linux/Moose/Meta/Attribute.pm line 1014
	Moose::Meta::Attribute::install_accessors(Moose::Meta::Attribute=HASH(0x37e74c0)) called at /tmpfs/.cpan-build-cpansand/2018050218/MooseX-RelClassTypes-0.03-1/blib/lib/MooseX/RelClassTypes.pm line 76
	Class::MOP::Class:::before("TestAD::WithAuto_NoDefault_NoBuilder") called at /opt/perl-5.22.3/lib/site_perl/5.22.3/x86_64-linux/Class/MOP/Method/Wrapped.pm line 43
	TestAD::WithAuto_NoDefault_NoBuilder::_wrapped_BUILDARGS("TestAD::WithAuto_NoDefault_NoBuilder") called at /opt/perl-5.22.3/lib/site_perl/5.22.3/x86_64-linux/Class/MOP/Method/Wrapped.pm line 95
	TestAD::WithAuto_NoDefault_NoBuilder::BUILDARGS("TestAD::WithAuto_NoDefault_NoBuilder") called at /opt/perl-5.22.3/lib/site_perl/5.22.3/x86_64-linux/Moose/Object.pm line 22
	Moose::Object::new("TestAD::WithAuto_NoDefault_NoBuilder") called at t/01_auto_default.t line 143
You are overwriting a reader (rel_pack) for the rel_pack attribute (defined at t/01_auto_default.t line 20) with a new reader method for the rel_pack attribute (defined at t/01_auto_default.t line 20) at /opt/perl-5.22.3/lib/site_perl/5.22.3/x86_64-linux/Moose/Meta/Attribute.pm line 1094.
	Moose::Meta::Attribute::_process_accessors(Moose::Meta::Attribute=HASH(0x37d87f8), "reader", "rel_pack", undef) called at /opt/perl-5.22.3/lib/site_perl/5.22.3/x86_64-linux/Class/MOP/Attribute.pm line 450
	Class::MOP::Attribute::install_accessors(Moose::Meta::Attribute=HASH(0x37d87f8)) called at /opt/perl-5.22.3/lib/site_perl/5.22.3/x86_64-linux/Moose/Meta/Attribute.pm line 1014
	Moose::Meta::Attribute::install_accessors(Moose::Meta::Attribute=HASH(0x37d87f8)) called at /tmpfs/.cpan-build-cpansand/2018050218/MooseX-RelClassTypes-0.03-1/blib/lib/MooseX/RelClassTypes.pm line 76
	Class::MOP::Class:::before("TestAD::NoAuto_NoDefault_WithBuilder") called at /opt/perl-5.22.3/lib/site_perl/5.22.3/x86_64-linux/Class/MOP/Method/Wrapped.pm line 43
	TestAD::NoAuto_NoDefault_WithBuilder::_wrapped_BUILDARGS("TestAD::NoAuto_NoDefault_WithBuilder") called at /opt/perl-5.22.3/lib/site_perl/5.22.3/x86_64-linux/Class/MOP/Method/Wrapped.pm line 95
	TestAD::NoAuto_NoDefault_WithBuilder::BUILDARGS("TestAD::NoAuto_NoDefault_WithBuilder") called at /opt/perl-5.22.3/lib/site_perl/5.22.3/x86_64-linux/Moose/Object.pm line 22
	Moose::Object::new("TestAD::NoAuto_NoDefault_WithBuilder") called at t/01_auto_default.t line 143
You are overwriting a reader (rel_pack) for the rel_pack attribute (defined at t/01_auto_default.t line 37) with a new reader method for the rel_pack attribute (defined at t/01_auto_default.t line 37) at /opt/perl-5.22.3/lib/site_perl/5.22.3/x86_64-linux/Moose/Meta/Attribute.pm line 1094.
	Moose::Meta::Attribute::_process_accessors(Moose::Meta::Attribute=HASH(0x37dd138), "reader", "rel_pack", undef) called at /opt/perl-5.22.3/lib/site_perl/5.22.3/x86_64-linux/Class/MOP/Attribute.pm line 450
	Class::MOP::Attribute::install_accessors(Moose::Meta::Attribute=HASH(0x37dd138)) called at /opt/perl-5.22.3/lib/site_perl/5.22.3/x86_64-linux/Moose/Meta/Attribute.pm line 1014
	Moose::Meta::Attribute::install_accessors(Moose::Meta::Attribute=HASH(0x37dd138)) called at /tmpfs/.cpan-build-cpansand/2018050218/MooseX-RelClassTypes-0.03-1/blib/lib/MooseX/RelClassTypes.pm line 76
	Class::MOP::Class:::before("TestAD::NoAuto_WithDefault_NoBuilder") called at /opt/perl-5.22.3/lib/site_perl/5.22.3/x86_64-linux/Class/MOP/Method/Wrapped.pm line 43
	TestAD::NoAuto_WithDefault_NoBuilder::_wrapped_BUILDARGS("TestAD::NoAuto_WithDefault_NoBuilder") called at /opt/perl-5.22.3/lib/site_perl/5.22.3/x86_64-linux/Class/MOP/Method/Wrapped.pm line 95
	TestAD::NoAuto_WithDefault_NoBuilder::BUILDARGS("TestAD::NoAuto_WithDefault_NoBuilder") called at /opt/perl-5.22.3/lib/site_perl/5.22.3/x86_64-linux/Moose/Object.pm line 22
	Moose::Object::new("TestAD::NoAuto_WithDefault_NoBuilder") called at t/01_auto_default.t line 143
You are overwriting a reader (rel_pack) for the rel_pack attribute (defined at t/01_auto_default.t line 71) with a new reader method for the rel_pack attribute (defined at t/01_auto_default.t line 71) at /opt/perl-5.22.3/lib/site_perl/5.22.3/x86_64-linux/Moose/Meta/Attribute.pm line 1094.
	Moose::Meta::Attribute::_process_accessors(Moose::Meta::Attribute=HASH(0x37f6af8), "reader", "rel_pack", undef) called at /opt/perl-5.22.3/lib/site_perl/5.22.3/x86_64-linux/Class/MOP/Attribute.pm line 450
	Class::MOP::Attribute::install_accessors(Moose::Meta::Attribute=HASH(0x37f6af8)) called at /opt/perl-5.22.3/lib/site_perl/5.22.3/x86_64-linux/Moose/Meta/Attribute.pm line 1014
	Moose::Meta::Attribute::install_accessors(Moose::Meta::Attribute=HASH(0x37f6af8)) called at /tmpfs/.cpan-build-cpansand/2018050218/MooseX-RelClassTypes-0.03-1/blib/lib/MooseX/RelClassTypes.pm line 76
	Class::MOP::Class:::before("TestAD::WithAuto_WithDefault_NoBuilder") called at /opt/perl-5.22.3/lib/site_perl/5.22.3/x86_64-linux/Class/MOP/Method/Wrapped.pm line 43
	TestAD::WithAuto_WithDefault_NoBuilder::_wrapped_BUILDARGS("TestAD::WithAuto_WithDefault_NoBuilder") called at /opt/perl-5.22.3/lib/site_perl/5.22.3/x86_64-linux/Class/MOP/Method/Wrapped.pm line 95
	TestAD::WithAuto_WithDefault_NoBuilder::BUILDARGS("TestAD::WithAuto_WithDefault_NoBuilder") called at /opt/perl-5.22.3/lib/site_perl/5.22.3/x86_64-linux/Moose/Object.pm line 22
	Moose::Object::new("TestAD::WithAuto_WithDefault_NoBuilder") called at t/01_auto_default.t line 143
t/01_auto_default.t .. ok
You are overwriting a reader (rel_pack) for the rel_pack attribute (defined at t/02_parser.t line 19) with a new reader method for the rel_pack attribute (defined at t/02_parser.t line 19) at /opt/perl-5.22.3/lib/site_perl/5.22.3/x86_64-linux/Moose/Meta/Attribute.pm line 1094.
	Moose::Meta::Attribute::_process_accessors(Moose::Meta::Attribute=HASH(0x1d99ac0), "reader", "rel_pack", undef) called at /opt/perl-5.22.3/lib/site_perl/5.22.3/x86_64-linux/Class/MOP/Attribute.pm line 450
	Class::MOP::Attribute::install_accessors(Moose::Meta::Attribute=HASH(0x1d99ac0)) called at /opt/perl-5.22.3/lib/site_perl/5.22.3/x86_64-linux/Moose/Meta/Attribute.pm line 1014
	Moose::Meta::Attribute::install_accessors(Moose::Meta::Attribute=HASH(0x1d99ac0)) called at /tmpfs/.cpan-build-cpansand/2018050218/MooseX-RelClassTypes-0.03-1/blib/lib/MooseX/RelClassTypes.pm line 76
	Class::MOP::Class:::before("TestParser::AngleBK") called at /opt/perl-5.22.3/lib/site_perl/5.22.3/x86_64-linux/Class/MOP/Method/Wrapped.pm line 43
	TestParser::AngleBK::_wrapped_BUILDARGS("TestParser::AngleBK") called at /opt/perl-5.22.3/lib/site_perl/5.22.3/x86_64-linux/Class/MOP/Method/Wrapped.pm line 95
	TestParser::AngleBK::BUILDARGS("TestParser::AngleBK") called at /opt/perl-5.22.3/lib/site_perl/5.22.3/x86_64-linux/Moose/Object.pm line 22
	Moose::Object::new("TestParser::AngleBK") called at t/02_parser.t line 87
You are overwriting a reader (alt_pack) for the alt_pack attribute (defined at t/02_parser.t line 24) with a new reader method for the alt_pack attribute (defined at t/02_parser.t line 24) at /opt/perl-5.22.3/lib/site_perl/5.22.3/x86_64-linux/Moose/Meta/Attribute.pm line 1094.
	Moose::Meta::Attribute::_process_accessors(Moose::Meta::Attribute=HASH(0x1d9a180), "reader", "alt_pack", undef) called at /opt/perl-5.22.3/lib/site_perl/5.22.3/x86_64-linux/Class/MOP/Attribute.pm line 450
	Class::MOP::Attribute::install_accessors(Moose::Meta::Attribute=HASH(0x1d9a180)) called at /opt/perl-5.22.3/lib/site_perl/5.22.3/x86_64-linux/Moose/Meta/Attribute.pm line 1014
	Moose::Meta::Attribute::install_accessors(Moose::Meta::Attribute=HASH(0x1d9a180)) called at /tmpfs/.cpan-build-cpansand/2018050218/MooseX-RelClassTypes-0.03-1/blib/lib/MooseX/RelClassTypes.pm line 76
	Class::MOP::Class:::before("TestParser::AngleBK") called at /opt/perl-5.22.3/lib/site_perl/5.22.3/x86_64-linux/Class/MOP/Method/Wrapped.pm line 43
	TestParser::AngleBK::_wrapped_BUILDARGS("TestParser::AngleBK") called at /opt/perl-5.22.3/lib/site_perl/5.22.3/x86_64-linux/Class/MOP/Method/Wrapped.pm line 95
	TestParser::AngleBK::BUILDARGS("TestParser::AngleBK") called at /opt/perl-5.22.3/lib/site_perl/5.22.3/x86_64-linux/Moose/Object.pm line 22
	Moose::Object::new("TestParser::AngleBK") called at t/02_parser.t line 87
You are overwriting a reader (rel_pack) for the rel_pack attribute (defined at t/02_parser.t line 42) with a new reader method for the rel_pack attribute (defined at t/02_parser.t line 42) at /opt/perl-5.22.3/lib/site_perl/5.22.3/x86_64-linux/Moose/Meta/Attribute.pm line 1094.
	Moose::Meta::Attribute::_process_accessors(Moose::Meta::Attribute=HASH(0x1daa7a0), "reader", "rel_pack", undef) called at /opt/perl-5.22.3/lib/site_perl/5.22.3/x86_64-linux/Class/MOP/Attribute.pm line 450
	Class::MOP::Attribute::install_accessors(Moose::Meta::Attribute=HASH(0x1daa7a0)) called at /opt/perl-5.22.3/lib/site_perl/5.22.3/x86_64-linux/Moose/Meta/Attribute.pm line 1014
	Moose::Meta::Attribute::install_accessors(Moose::Meta::Attribute=HASH(0x1daa7a0)) called at /tmpfs/.cpan-build-cpansand/2018050218/MooseX-RelClassTypes-0.03-1/blib/lib/MooseX/RelClassTypes.pm line 76
	Class::MOP::Class:::before("TestParser::RoundBK") called at /opt/perl-5.22.3/lib/site_perl/5.22.3/x86_64-linux/Class/MOP/Method/Wrapped.pm line 43
	TestParser::RoundBK::_wrapped_BUILDARGS("TestParser::RoundBK") called at /opt/perl-5.22.3/lib/site_perl/5.22.3/x86_64-linux/Class/MOP/Method/Wrapped.pm line 95
	TestParser::RoundBK::BUILDARGS("TestParser::RoundBK") called at /opt/perl-5.22.3/lib/site_perl/5.22.3/x86_64-linux/Moose/Object.pm line 22
	Moose::Object::new("TestParser::RoundBK") called at t/02_parser.t line 87
You are overwriting a reader (alt_pack) for the alt_pack attribute (defined at t/02_parser.t line 47) with a new reader method for the alt_pack attribute (defined at t/02_parser.t line 47) at /opt/perl-5.22.3/lib/site_perl/5.22.3/x86_64-linux/Moose/Meta/Attribute.pm line 1094.
	Moose::Meta::Attribute::_process_accessors(Moose::Meta::Attribute=HASH(0x1daaf20), "reader", "alt_pack", undef) called at /opt/perl-5.22.3/lib/site_perl/5.22.3/x86_64-linux/Class/MOP/Attribute.pm line 450
	Class::MOP::Attribute::install_accessors(Moose::Meta::Attribute=HASH(0x1daaf20)) called at /opt/perl-5.22.3/lib/site_perl/5.22.3/x86_64-linux/Moose/Meta/Attribute.pm line 1014
	Moose::Meta::Attribute::install_accessors(Moose::Meta::Attribute=HASH(0x1daaf20)) called at /tmpfs/.cpan-build-cpansand/2018050218/MooseX-RelClassTypes-0.03-1/blib/lib/MooseX/RelClassTypes.pm line 76
	Class::MOP::Class:::before("TestParser::RoundBK") called at /opt/perl-5.22.3/lib/site_perl/5.22.3/x86_64-linux/Class/MOP/Method/Wrapped.pm line 43
	TestParser::RoundBK::_wrapped_BUILDARGS("TestParser::RoundBK") called at /opt/perl-5.22.3/lib/site_perl/5.22.3/x86_64-linux/Class/MOP/Method/Wrapped.pm line 95
	TestParser::RoundBK::BUILDARGS("TestParser::RoundBK") called at /opt/perl-5.22.3/lib/site_perl/5.22.3/x86_64-linux/Moose/Object.pm line 22
	Moose::Object::new("TestParser::RoundBK") called at t/02_parser.t line 87
t/02_parser.t ........ ok
You are overwriting a accessor (parent_rel_pack) for the parent_rel_pack attribute (defined at t/03_lazy.t line 22) with a new accessor method for the parent_rel_pack attribute (defined at t/03_lazy.t line 22) at /opt/perl-5.22.3/lib/site_perl/5.22.3/x86_64-linux/Moose/Meta/Attribute.pm line 1094.
	Moose::Meta::Attribute::_process_accessors(Moose::Meta::Attribute=HASH(0x288fce0), "accessor", "parent_rel_pack", undef) called at /opt/perl-5.22.3/lib/site_perl/5.22.3/x86_64-linux/Class/MOP/Attribute.pm line 446
	Class::MOP::Attribute::install_accessors(Moose::Meta::Attribute=HASH(0x288fce0)) called at /opt/perl-5.22.3/lib/site_perl/5.22.3/x86_64-linux/Moose/Meta/Attribute.pm line 1014
	Moose::Meta::Attribute::install_accessors(Moose::Meta::Attribute=HASH(0x288fce0)) called at /tmpfs/.cpan-build-cpansand/2018050218/MooseX-RelClassTypes-0.03-1/blib/lib/MooseX/RelClassTypes.pm line 76
	Class::MOP::Class:::before("LazyParent::Child") called at /opt/perl-5.22.3/lib/site_perl/5.22.3/x86_64-linux/Class/MOP/Method/Wrapped.pm line 43
	LazyParent::Child::_wrapped_BUILDARGS("LazyParent::Child") called at /opt/perl-5.22.3/lib/site_perl/5.22.3/x86_64-linux/Class/MOP/Method/Wrapped.pm line 95
	LazyParent::Child::BUILDARGS("LazyParent::Child") called at /opt/perl-5.22.3/lib/site_perl/5.22.3/x86_64-linux/Moose/Object.pm line 22
	Moose::Object::new("LazyParent::Child") called at t/03_lazy.t line 248
You are overwriting a accessor (child_rel_pack) for the child_rel_pack attribute (defined at t/03_lazy.t line 32) with a new accessor method for the child_rel_pack attribute (defined at t/03_lazy.t line 32) at /opt/perl-5.22.3/lib/site_perl/5.22.3/x86_64-linux/Moose/Meta/Attribute.pm line 1094.
	Moose::Meta::Attribute::_process_accessors(Moose::Meta::Attribute=HASH(0x289d268), "accessor", "child_rel_pack", undef) called at /opt/perl-5.22.3/lib/site_perl/5.22.3/x86_64-linux/Class/MOP/Attribute.pm line 446
	Class::MOP::Attribute::install_accessors(Moose::Meta::Attribute=HASH(0x289d268)) called at /opt/perl-5.22.3/lib/site_perl/5.22.3/x86_64-linux/Moose/Meta/Attribute.pm line 1014
	Moose::Meta::Attribute::install_accessors(Moose::Meta::Attribute=HASH(0x289d268)) called at /tmpfs/.cpan-build-cpansand/2018050218/MooseX-RelClassTypes-0.03-1/blib/lib/MooseX/RelClassTypes.pm line 76
	Class::MOP::Class:::before("LazyParent::Child") called at /opt/perl-5.22.3/lib/site_perl/5.22.3/x86_64-linux/Class/MOP/Method/Wrapped.pm line 43
	LazyParent::Child::_wrapped_BUILDARGS("LazyParent::Child") called at /opt/perl-5.22.3/lib/site_perl/5.22.3/x86_64-linux/Class/MOP/Method/Wrapped.pm line 95
	LazyParent::Child::BUILDARGS("LazyParent::Child") called at /opt/perl-5.22.3/lib/site_perl/5.22.3/x86_64-linux/Moose/Object.pm line 22
	Moose::Object::new("LazyParent::Child") called at t/03_lazy.t line 248
You are overwriting a accessor (child_rel_pack) for the child_rel_pack attribute (defined at t/03_lazy.t line 32) with a new accessor method for the child_rel_pack attribute (defined at t/03_lazy.t line 32) at /opt/perl-5.22.3/lib/site_perl/5.22.3/x86_64-linux/Moose/Meta/Attribute.pm line 1094.
	Moose::Meta::Attribute::_process_accessors(Moose::Meta::Attribute=HASH(0x289d268), "accessor", "child_rel_pack", undef) called at /opt/perl-5.22.3/lib/site_perl/5.22.3/x86_64-linux/Class/MOP/Attribute.pm line 446
	Class::MOP::Attribute::install_accessors(Moose::Meta::Attribute=HASH(0x289d268)) called at /opt/perl-5.22.3/lib/site_perl/5.22.3/x86_64-linux/Moose/Meta/Attribute.pm line 1014
	Moose::Meta::Attribute::install_accessors(Moose::Meta::Attribute=HASH(0x289d268)) called at /tmpfs/.cpan-build-cpansand/2018050218/MooseX-RelClassTypes-0.03-1/blib/lib/MooseX/RelClassTypes.pm line 76
	Class::MOP::Class:::before("LazyParent::Child") called at /opt/perl-5.22.3/lib/site_perl/5.22.3/x86_64-linux/Class/MOP/Method/Wrapped.pm line 43
	LazyParent::Parent::_wrapped_BUILDARGS("LazyParent::Child") called at /opt/perl-5.22.3/lib/site_perl/5.22.3/x86_64-linux/Class/MOP/Method/Wrapped.pm line 95
	LazyParent::Parent::BUILDARGS("LazyParent::Child") called at /opt/perl-5.22.3/lib/site_perl/5.22.3/x86_64-linux/Class/MOP/Method/Wrapped.pm line 44
	LazyParent::Child::_wrapped_BUILDARGS("LazyParent::Child") called at /opt/perl-5.22.3/lib/site_perl/5.22.3/x86_64-linux/Class/MOP/Method/Wrapped.pm line 95
	LazyParent::Child::BUILDARGS("LazyParent::Child") called at /opt/perl-5.22.3/lib/site_perl/5.22.3/x86_64-linux/Moose/Object.pm line 22
	Moose::Object::new("LazyParent::Child") called at t/03_lazy.t line 248
You are overwriting a accessor (parent_rel_pack) for the parent_rel_pack attribute (defined at t/03_lazy.t line 22) with a new accessor method for the parent_rel_pack attribute (defined at t/03_lazy.t line 22) at /opt/perl-5.22.3/lib/site_perl/5.22.3/x86_64-linux/Moose/Meta/Attribute.pm line 1094.
	Moose::Meta::Attribute::_process_accessors(Moose::Meta::Attribute=HASH(0x288fce0), "accessor", "parent_rel_pack", undef) called at /opt/perl-5.22.3/lib/site_perl/5.22.3/x86_64-linux/Class/MOP/Attribute.pm line 446
	Class::MOP::Attribute::install_accessors(Moose::Meta::Attribute=HASH(0x288fce0)) called at /opt/perl-5.22.3/lib/site_perl/5.22.3/x86_64-linux/Moose/Meta/Attribute.pm line 1014
	Moose::Meta::Attribute::install_accessors(Moose::Meta::Attribute=HASH(0x288fce0)) called at /tmpfs/.cpan-build-cpansand/2018050218/MooseX-RelClassTypes-0.03-1/blib/lib/MooseX/RelClassTypes.pm line 76
	Class::MOP::Class:::before("LazyParent::Child") called at /opt/perl-5.22.3/lib/site_perl/5.22.3/x86_64-linux/Class/MOP/Method/Wrapped.pm line 43
	LazyParent::Parent::_wrapped_BUILDARGS("LazyParent::Child") called at /opt/perl-5.22.3/lib/site_perl/5.22.3/x86_64-linux/Class/MOP/Method/Wrapped.pm line 95
	LazyParent::Parent::BUILDARGS("LazyParent::Child") called at /opt/perl-5.22.3/lib/site_perl/5.22.3/x86_64-linux/Class/MOP/Method/Wrapped.pm line 44
	LazyParent::Child::_wrapped_BUILDARGS("LazyParent::Child") called at /opt/perl-5.22.3/lib/site_perl/5.22.3/x86_64-linux/Class/MOP/Method/Wrapped.pm line 95
	LazyParent::Child::BUILDARGS("LazyParent::Child") called at /opt/perl-5.22.3/lib/site_perl/5.22.3/x86_64-linux/Moose/Object.pm line 22
	Moose::Object::new("LazyParent::Child") called at t/03_lazy.t line 248
You are overwriting a accessor (parent_rel_pack) for the parent_rel_pack attribute (defined at t/03_lazy.t line 66) with a new accessor method for the parent_rel_pack attribute (defined at t/03_lazy.t line 66) at /opt/perl-5.22.3/lib/site_perl/5.22.3/x86_64-linux/Moose/Meta/Attribute.pm line 1094.
	Moose::Meta::Attribute::_process_accessors(Moose::Meta::Attribute=HASH(0x28acb00), "accessor", "parent_rel_pack", undef) called at /opt/perl-5.22.3/lib/site_perl/5.22.3/x86_64-linux/Class/MOP/Attribute.pm line 446
	Class::MOP::Attribute::install_accessors(Moose::Meta::Attribute=HASH(0x28acb00)) called at /opt/perl-5.22.3/lib/site_perl/5.22.3/x86_64-linux/Moose/Meta/Attribute.pm line 1014
	Moose::Meta::Attribute::install_accessors(Moose::Meta::Attribute=HASH(0x28acb00)) called at /tmpfs/.cpan-build-cpansand/2018050218/MooseX-RelClassTypes-0.03-1/blib/lib/MooseX/RelClassTypes.pm line 76
	Class::MOP::Class:::before("LazyChild::Child") called at /opt/perl-5.22.3/lib/site_perl/5.22.3/x86_64-linux/Class/MOP/Method/Wrapped.pm line 43
	LazyChild::Child::_wrapped_BUILDARGS("LazyChild::Child") called at /opt/perl-5.22.3/lib/site_perl/5.22.3/x86_64-linux/Class/MOP/Method/Wrapped.pm line 95
	LazyChild::Child::BUILDARGS("LazyChild::Child") called at /opt/perl-5.22.3/lib/site_perl/5.22.3/x86_64-linux/Moose/Object.pm line 22
	Moose::Object::new("LazyChild::Child") called at t/03_lazy.t line 248
You are overwriting a accessor (child_rel_pack) for the child_rel_pack attribute (defined at t/03_lazy.t line 86) with a new accessor method for the child_rel_pack attribute (defined at t/03_lazy.t line 86) at /opt/perl-5.22.3/lib/site_perl/5.22.3/x86_64-linux/Moose/Meta/Attribute.pm line 1094.
	Moose::Meta::Attribute::_process_accessors(Moose::Meta::Attribute=HASH(0x28b7cc8), "accessor", "child_rel_pack", undef) called at /opt/perl-5.22.3/lib/site_perl/5.22.3/x86_64-linux/Class/MOP/Attribute.pm line 446
	Class::MOP::Attribute::install_accessors(Moose::Meta::Attribute=HASH(0x28b7cc8)) called at /opt/perl-5.22.3/lib/site_perl/5.22.3/x86_64-linux/Moose/Meta/Attribute.pm line 1014
	Moose::Meta::Attribute::install_accessors(Moose::Meta::Attribute=HASH(0x28b7cc8)) called at /tmpfs/.cpan-build-cpansand/2018050218/MooseX-RelClassTypes-0.03-1/blib/lib/MooseX/RelClassTypes.pm line 76
	Class::MOP::Class:::before("LazyChild::Child") called at /opt/perl-5.22.3/lib/site_perl/5.22.3/x86_64-linux/Class/MOP/Method/Wrapped.pm line 43
	LazyChild::Child::_wrapped_BUILDARGS("LazyChild::Child") called at /opt/perl-5.22.3/lib/site_perl/5.22.3/x86_64-linux/Class/MOP/Method/Wrapped.pm line 95
	LazyChild::Child::BUILDARGS("LazyChild::Child") called at /opt/perl-5.22.3/lib/site_perl/5.22.3/x86_64-linux/Moose/Object.pm line 22
	Moose::Object::new("LazyChild::Child") called at t/03_lazy.t line 248
You are overwriting a accessor (parent_rel_pack) for the parent_rel_pack attribute (defined at t/03_lazy.t line 66) with a new accessor method for the parent_rel_pack attribute (defined at t/03_lazy.t line 66) at /opt/perl-5.22.3/lib/site_perl/5.22.3/x86_64-linux/Moose/Meta/Attribute.pm line 1094.
	Moose::Meta::Attribute::_process_accessors(Moose::Meta::Attribute=HASH(0x28acb00), "accessor", "parent_rel_pack", undef) called at /opt/perl-5.22.3/lib/site_perl/5.22.3/x86_64-linux/Class/MOP/Attribute.pm line 446
	Class::MOP::Attribute::install_accessors(Moose::Meta::Attribute=HASH(0x28acb00)) called at /opt/perl-5.22.3/lib/site_perl/5.22.3/x86_64-linux/Moose/Meta/Attribute.pm line 1014
	Moose::Meta::Attribute::install_accessors(Moose::Meta::Attribute=HASH(0x28acb00)) called at /tmpfs/.cpan-build-cpansand/2018050218/MooseX-RelClassTypes-0.03-1/blib/lib/MooseX/RelClassTypes.pm line 76
	Class::MOP::Class:::before("LazyChild::Child") called at /opt/perl-5.22.3/lib/site_perl/5.22.3/x86_64-linux/Class/MOP/Method/Wrapped.pm line 43
	LazyChild::Parent::_wrapped_BUILDARGS("LazyChild::Child") called at /opt/perl-5.22.3/lib/site_perl/5.22.3/x86_64-linux/Class/MOP/Method/Wrapped.pm line 95
	LazyChild::Parent::BUILDARGS("LazyChild::Child") called at /opt/perl-5.22.3/lib/site_perl/5.22.3/x86_64-linux/Class/MOP/Method/Wrapped.pm line 44
	LazyChild::Child::_wrapped_BUILDARGS("LazyChild::Child") called at /opt/perl-5.22.3/lib/site_perl/5.22.3/x86_64-linux/Class/MOP/Method/Wrapped.pm line 95
	LazyChild::Child::BUILDARGS("LazyChild::Child") called at /opt/perl-5.22.3/lib/site_perl/5.22.3/x86_64-linux/Moose/Object.pm line 22
	Moose::Object::new("LazyChild::Child") called at t/03_lazy.t line 248
You are overwriting a accessor (child_rel_pack) for the child_rel_pack attribute (defined at t/03_lazy.t line 86) with a new accessor method for the child_rel_pack attribute (defined at t/03_lazy.t line 86) at /opt/perl-5.22.3/lib/site_perl/5.22.3/x86_64-linux/Moose/Meta/Attribute.pm line 1094.
	Moose::Meta::Attribute::_process_accessors(Moose::Meta::Attribute=HASH(0x28b7cc8), "accessor", "child_rel_pack", undef) called at /opt/perl-5.22.3/lib/site_perl/5.22.3/x86_64-linux/Class/MOP/Attribute.pm line 446
	Class::MOP::Attribute::install_accessors(Moose::Meta::Attribute=HASH(0x28b7cc8)) called at /opt/perl-5.22.3/lib/site_perl/5.22.3/x86_64-linux/Moose/Meta/Attribute.pm line 1014
	Moose::Meta::Attribute::install_accessors(Moose::Meta::Attribute=HASH(0x28b7cc8)) called at /tmpfs/.cpan-build-cpansand/2018050218/MooseX-RelClassTypes-0.03-1/blib/lib/MooseX/RelClassTypes.pm line 76
	Class::MOP::Class:::before("LazyChild::Child") called at /opt/perl-5.22.3/lib/site_perl/5.22.3/x86_64-linux/Class/MOP/Method/Wrapped.pm line 43
	LazyChild::Parent::_wrapped_BUILDARGS("LazyChild::Child") called at /opt/perl-5.22.3/lib/site_perl/5.22.3/x86_64-linux/Class/MOP/Method/Wrapped.pm line 95
	LazyChild::Parent::BUILDARGS("LazyChild::Child") called at /opt/perl-5.22.3/lib/site_perl/5.22.3/x86_64-linux/Class/MOP/Method/Wrapped.pm line 44
	LazyChild::Child::_wrapped_BUILDARGS("LazyChild::Child") called at /opt/perl-5.22.3/lib/site_perl/5.22.3/x86_64-linux/Class/MOP/Method/Wrapped.pm line 95
	LazyChild::Child::BUILDARGS("LazyChild::Child") called at /opt/perl-5.22.3/lib/site_perl/5.22.3/x86_64-linux/Moose/Object.pm line 22
	Moose::Object::new("LazyChild::Child") called at t/03_lazy.t line 248
You are overwriting a accessor (child_rel_pack) for the child_rel_pack attribute (defined at t/03_lazy.t line 129) with a new accessor method for the child_rel_pack attribute (defined at t/03_lazy.t line 129) at /opt/perl-5.22.3/lib/site_perl/5.22.3/x86_64-linux/Moose/Meta/Attribute.pm line 1094.
	Moose::Meta::Attribute::_process_accessors(Moose::Meta::Attribute=HASH(0x28cd830), "accessor", "child_rel_pack", undef) called at /opt/perl-5.22.3/lib/site_perl/5.22.3/x86_64-linux/Class/MOP/Attribute.pm line 446
	Class::MOP::Attribute::install_accessors(Moose::Meta::Attribute=HASH(0x28cd830)) called at /opt/perl-5.22.3/lib/site_perl/5.22.3/x86_64-linux/Moose/Meta/Attribute.pm line 1014
	Moose::Meta::Attribute::install_accessors(Moose::Meta::Attribute=HASH(0x28cd830)) called at /tmpfs/.cpan-build-cpansand/2018050218/MooseX-RelClassTypes-0.03-1/blib/lib/MooseX/RelClassTypes.pm line 76
	Class::MOP::Class:::before("LazyParam::Child") called at /opt/perl-5.22.3/lib/site_perl/5.22.3/x86_64-linux/Class/MOP/Method/Wrapped.pm line 43
	LazyParam::Child::_wrapped_BUILDARGS("LazyParam::Child") called at /opt/perl-5.22.3/lib/site_perl/5.22.3/x86_64-linux/Class/MOP/Method/Wrapped.pm line 95
	LazyParam::Child::BUILDARGS("LazyParam::Child") called at /opt/perl-5.22.3/lib/site_perl/5.22.3/x86_64-linux/Moose/Object.pm line 22
	Moose::Object::new("LazyParam::Child") called at t/03_lazy.t line 248
You are overwriting a accessor (parent_rel_pack) for the parent_rel_pack attribute (defined at t/03_lazy.t line 117) with a new accessor method for the parent_rel_pack attribute (defined at t/03_lazy.t line 117) at /opt/perl-5.22.3/lib/site_perl/5.22.3/x86_64-linux/Moose/Meta/Attribute.pm line 1094.
	Moose::Meta::Attribute::_process_accessors(Moose::Meta::Attribute=HASH(0x28c9238), "accessor", "parent_rel_pack", undef) called at /opt/perl-5.22.3/lib/site_perl/5.22.3/x86_64-linux/Class/MOP/Attribute.pm line 446
	Class::MOP::Attribute::install_accessors(Moose::Meta::Attribute=HASH(0x28c9238)) called at /opt/perl-5.22.3/lib/site_perl/5.22.3/x86_64-linux/Moose/Meta/Attribute.pm line 1014
	Moose::Meta::Attribute::install_accessors(Moose::Meta::Attribute=HASH(0x28c9238)) called at /tmpfs/.cpan-build-cpansand/2018050218/MooseX-RelClassTypes-0.03-1/blib/lib/MooseX/RelClassTypes.pm line 76
	Class::MOP::Class:::before("LazyParam::Child") called at /opt/perl-5.22.3/lib/site_perl/5.22.3/x86_64-linux/Class/MOP/Method/Wrapped.pm line 43
	LazyParam::Child::_wrapped_BUILDARGS("LazyParam::Child") called at /opt/perl-5.22.3/lib/site_perl/5.22.3/x86_64-linux/Class/MOP/Method/Wrapped.pm line 95
	LazyParam::Child::BUILDARGS("LazyParam::Child") called at /opt/perl-5.22.3/lib/site_perl/5.22.3/x86_64-linux/Moose/Object.pm line 22
	Moose::Object::new("LazyParam::Child") called at t/03_lazy.t line 248
You are overwriting a accessor (child_rel_pack) for the child_rel_pack attribute (defined at t/03_lazy.t line 129) with a new accessor method for the child_rel_pack attribute (defined at t/03_lazy.t line 129) at /opt/perl-5.22.3/lib/site_perl/5.22.3/x86_64-linux/Moose/Meta/Attribute.pm line 1094.
	Moose::Meta::Attribute::_process_accessors(Moose::Meta::Attribute=HASH(0x28cd830), "accessor", "child_rel_pack", undef) called at /opt/perl-5.22.3/lib/site_perl/5.22.3/x86_64-linux/Class/MOP/Attribute.pm line 446
	Class::MOP::Attribute::install_accessors(Moose::Meta::Attribute=HASH(0x28cd830)) called at /opt/perl-5.22.3/lib/site_perl/5.22.3/x86_64-linux/Moose/Meta/Attribute.pm line 1014
	Moose::Meta::Attribute::install_accessors(Moose::Meta::Attribute=HASH(0x28cd830)) called at /tmpfs/.cpan-build-cpansand/2018050218/MooseX-RelClassTypes-0.03-1/blib/lib/MooseX/RelClassTypes.pm line 76
	Class::MOP::Class:::before("LazyParam::Child") called at /opt/perl-5.22.3/lib/site_perl/5.22.3/x86_64-linux/Class/MOP/Method/Wrapped.pm line 43
	LazyParam::Parent::_wrapped_BUILDARGS("LazyParam::Child") called at /opt/perl-5.22.3/lib/site_perl/5.22.3/x86_64-linux/Class/MOP/Method/Wrapped.pm line 95
	LazyParam::Parent::BUILDARGS("LazyParam::Child") called at /opt/perl-5.22.3/lib/site_perl/5.22.3/x86_64-linux/Class/MOP/Method/Wrapped.pm line 44
	LazyParam::Child::_wrapped_BUILDARGS("LazyParam::Child") called at /opt/perl-5.22.3/lib/site_perl/5.22.3/x86_64-linux/Class/MOP/Method/Wrapped.pm line 95
	LazyParam::Child::BUILDARGS("LazyParam::Child") called at /opt/perl-5.22.3/lib/site_perl/5.22.3/x86_64-linux/Moose/Object.pm line 22
	Moose::Object::new("LazyParam::Child") called at t/03_lazy.t line 248
You are overwriting a accessor (parent_rel_pack) for the parent_rel_pack attribute (defined at t/03_lazy.t line 117) with a new accessor method for the parent_rel_pack attribute (defined at t/03_lazy.t line 117) at /opt/perl-5.22.3/lib/site_perl/5.22.3/x86_64-linux/Moose/Meta/Attribute.pm line 1094.
	Moose::Meta::Attribute::_process_accessors(Moose::Meta::Attribute=HASH(0x28c9238), "accessor", "parent_rel_pack", undef) called at /opt/perl-5.22.3/lib/site_perl/5.22.3/x86_64-linux/Class/MOP/Attribute.pm line 446
	Class::MOP::Attribute::install_accessors(Moose::Meta::Attribute=HASH(0x28c9238)) called at /opt/perl-5.22.3/lib/site_perl/5.22.3/x86_64-linux/Moose/Meta/Attribute.pm line 1014
	Moose::Meta::Attribute::install_accessors(Moose::Meta::Attribute=HASH(0x28c9238)) called at /tmpfs/.cpan-build-cpansand/2018050218/MooseX-RelClassTypes-0.03-1/blib/lib/MooseX/RelClassTypes.pm line 76
	Class::MOP::Class:::before("LazyParam::Child") called at /opt/perl-5.22.3/lib/site_perl/5.22.3/x86_64-linux/Class/MOP/Method/Wrapped.pm line 43
	LazyParam::Parent::_wrapped_BUILDARGS("LazyParam::Child") called at /opt/perl-5.22.3/lib/site_perl/5.22.3/x86_64-linux/Class/MOP/Method/Wrapped.pm line 95
	LazyParam::Parent::BUILDARGS("LazyParam::Child") called at /opt/perl-5.22.3/lib/site_perl/5.22.3/x86_64-linux/Class/MOP/Method/Wrapped.pm line 44
	LazyParam::Child::_wrapped_BUILDARGS("LazyParam::Child") called at /opt/perl-5.22.3/lib/site_perl/5.22.3/x86_64-linux/Class/MOP/Method/Wrapped.pm line 95
	LazyParam::Child::BUILDARGS("LazyParam::Child") called at /opt/perl-5.22.3/lib/site_perl/5.22.3/x86_64-linux/Moose/Object.pm line 22
	Moose::Object::new("LazyParam::Child") called at t/03_lazy.t line 248
You are overwriting a accessor (parent_rel_pack) for the parent_rel_pack attribute (defined at t/03_lazy.t line 177) with a new accessor method for the parent_rel_pack attribute (defined at t/03_lazy.t line 177) at /opt/perl-5.22.3/lib/site_perl/5.22.3/x86_64-linux/Moose/Meta/Attribute.pm line 1094.
	Moose::Meta::Attribute::_process_accessors(Moose::Meta::Attribute=HASH(0x28e8580), "accessor", "parent_rel_pack", undef) called at /opt/perl-5.22.3/lib/site_perl/5.22.3/x86_64-linux/Class/MOP/Attribute.pm line 446
	Class::MOP::Attribute::install_accessors(Moose::Meta::Attribute=HASH(0x28e8580)) called at /opt/perl-5.22.3/lib/site_perl/5.22.3/x86_64-linux/Moose/Meta/Attribute.pm line 1014
	Moose::Meta::Attribute::install_accessors(Moose::Meta::Attribute=HASH(0x28e8580)) called at /tmpfs/.cpan-build-cpansand/2018050218/MooseX-RelClassTypes-0.03-1/blib/lib/MooseX/RelClassTypes.pm line 76
	Class::MOP::Class:::before("LazyAll::Child") called at /opt/perl-5.22.3/lib/site_perl/5.22.3/x86_64-linux/Class/MOP/Method/Wrapped.pm line 43
	LazyAll::Child::_wrapped_BUILDARGS("LazyAll::Child") called at /opt/perl-5.22.3/lib/site_perl/5.22.3/x86_64-linux/Class/MOP/Method/Wrapped.pm line 95
	LazyAll::Child::BUILDARGS("LazyAll::Child") called at /opt/perl-5.22.3/lib/site_perl/5.22.3/x86_64-linux/Moose/Object.pm line 22
	Moose::Object::new("LazyAll::Child") called at t/03_lazy.t line 248
You are overwriting a accessor (child_rel_pack) for the child_rel_pack attribute (defined at t/03_lazy.t line 194) with a new accessor method for the child_rel_pack attribute (defined at t/03_lazy.t line 194) at /opt/perl-5.22.3/lib/site_perl/5.22.3/x86_64-linux/Moose/Meta/Attribute.pm line 1094.
	Moose::Meta::Attribute::_process_accessors(Moose::Meta::Attribute=HASH(0x28f47c8), "accessor", "child_rel_pack", undef) called at /opt/perl-5.22.3/lib/site_perl/5.22.3/x86_64-linux/Class/MOP/Attribute.pm line 446
	Class::MOP::Attribute::install_accessors(Moose::Meta::Attribute=HASH(0x28f47c8)) called at /opt/perl-5.22.3/lib/site_perl/5.22.3/x86_64-linux/Moose/Meta/Attribute.pm line 1014
	Moose::Meta::Attribute::install_accessors(Moose::Meta::Attribute=HASH(0x28f47c8)) called at /tmpfs/.cpan-build-cpansand/2018050218/MooseX-RelClassTypes-0.03-1/blib/lib/MooseX/RelClassTypes.pm line 76
	Class::MOP::Class:::before("LazyAll::Child") called at /opt/perl-5.22.3/lib/site_perl/5.22.3/x86_64-linux/Class/MOP/Method/Wrapped.pm line 43
	LazyAll::Child::_wrapped_BUILDARGS("LazyAll::Child") called at /opt/perl-5.22.3/lib/site_perl/5.22.3/x86_64-linux/Class/MOP/Method/Wrapped.pm line 95
	LazyAll::Child::BUILDARGS("LazyAll::Child") called at /opt/perl-5.22.3/lib/site_perl/5.22.3/x86_64-linux/Moose/Object.pm line 22
	Moose::Object::new("LazyAll::Child") called at t/03_lazy.t line 248
You are overwriting a accessor (child_rel_pack) for the child_rel_pack attribute (defined at t/03_lazy.t line 194) with a new accessor method for the child_rel_pack attribute (defined at t/03_lazy.t line 194) at /opt/perl-5.22.3/lib/site_perl/5.22.3/x86_64-linux/Moose/Meta/Attribute.pm line 1094.
	Moose::Meta::Attribute::_process_accessors(Moose::Meta::Attribute=HASH(0x28f47c8), "accessor", "child_rel_pack", undef) called at /opt/perl-5.22.3/lib/site_perl/5.22.3/x86_64-linux/Class/MOP/Attribute.pm line 446
	Class::MOP::Attribute::install_accessors(Moose::Meta::Attribute=HASH(0x28f47c8)) called at /opt/perl-5.22.3/lib/site_perl/5.22.3/x86_64-linux/Moose/Meta/Attribute.pm line 1014
	Moose::Meta::Attribute::install_accessors(Moose::Meta::Attribute=HASH(0x28f47c8)) called at /tmpfs/.cpan-build-cpansand/2018050218/MooseX-RelClassTypes-0.03-1/blib/lib/MooseX/RelClassTypes.pm line 76
	Class::MOP::Class:::before("LazyAll::Child") called at /opt/perl-5.22.3/lib/site_perl/5.22.3/x86_64-linux/Class/MOP/Method/Wrapped.pm line 43
	LazyAll::Parent::_wrapped_BUILDARGS("LazyAll::Child") called at /opt/perl-5.22.3/lib/site_perl/5.22.3/x86_64-linux/Class/MOP/Method/Wrapped.pm line 95
	LazyAll::Parent::BUILDARGS("LazyAll::Child") called at /opt/perl-5.22.3/lib/site_perl/5.22.3/x86_64-linux/Class/MOP/Method/Wrapped.pm line 44
	LazyAll::Child::_wrapped_BUILDARGS("LazyAll::Child") called at /opt/perl-5.22.3/lib/site_perl/5.22.3/x86_64-linux/Class/MOP/Method/Wrapped.pm line 95
	LazyAll::Child::BUILDARGS("LazyAll::Child") called at /opt/perl-5.22.3/lib/site_perl/5.22.3/x86_64-linux/Moose/Object.pm line 22
	Moose::Object::new("LazyAll::Child") called at t/03_lazy.t line 248
You are overwriting a accessor (parent_rel_pack) for the parent_rel_pack attribute (defined at t/03_lazy.t line 177) with a new accessor method for the parent_rel_pack attribute (defined at t/03_lazy.t line 177) at /opt/perl-5.22.3/lib/site_perl/5.22.3/x86_64-linux/Moose/Meta/Attribute.pm line 1094.
	Moose::Meta::Attribute::_process_accessors(Moose::Meta::Attribute=HASH(0x28e8580), "accessor", "parent_rel_pack", undef) called at /opt/perl-5.22.3/lib/site_perl/5.22.3/x86_64-linux/Class/MOP/Attribute.pm line 446
	Class::MOP::Attribute::install_accessors(Moose::Meta::Attribute=HASH(0x28e8580)) called at /opt/perl-5.22.3/lib/site_perl/5.22.3/x86_64-linux/Moose/Meta/Attribute.pm line 1014
	Moose::Meta::Attribute::install_accessors(Moose::Meta::Attribute=HASH(0x28e8580)) called at /tmpfs/.cpan-build-cpansand/2018050218/MooseX-RelClassTypes-0.03-1/blib/lib/MooseX/RelClassTypes.pm line 76
	Class::MOP::Class:::before("LazyAll::Child") called at /opt/perl-5.22.3/lib/site_perl/5.22.3/x86_64-linux/Class/MOP/Method/Wrapped.pm line 43
	LazyAll::Parent::_wrapped_BUILDARGS("LazyAll::Child") called at /opt/perl-5.22.3/lib/site_perl/5.22.3/x86_64-linux/Class/MOP/Method/Wrapped.pm line 95
	LazyAll::Parent::BUILDARGS("LazyAll::Child") called at /opt/perl-5.22.3/lib/site_perl/5.22.3/x86_64-linux/Class/MOP/Method/Wrapped.pm line 44
	LazyAll::Child::_wrapped_BUILDARGS("LazyAll::Child") called at /opt/perl-5.22.3/lib/site_perl/5.22.3/x86_64-linux/Class/MOP/Method/Wrapped.pm line 95
	LazyAll::Child::BUILDARGS("LazyAll::Child") called at /opt/perl-5.22.3/lib/site_perl/5.22.3/x86_64-linux/Moose/Object.pm line 22
	Moose::Object::new("LazyAll::Child") called at t/03_lazy.t line 248
t/03_lazy.t .......... ok
All tests successful.
Files=4, Tests=56,  1 wallclock secs ( 0.02 usr  0.02 sys +  0.81 cusr  0.05 csys =  0.90 CPU)
Result: PASS

------------------------------
PREREQUISITES
------------------------------

Prerequisite modules loaded:

requires:

    Module                      Need Have    
    --------------------------- ---- --------
    Carp                        0    1.38    
    Clone                       0    0.39    
    Module::Runtime             0    0.014   
    Moose                       0    2.2010  
    MooseX::Role::Parameterized 0    1.10    

build_requires:

    Module                      Need Have    
    --------------------------- ---- --------
    ExtUtils::MakeMaker         0    7.34    
    Test::More                  0    1.302136

configure_requires:

    Module                      Need Have    
    --------------------------- ---- --------
    ExtUtils::MakeMaker         0    7.34    


------------------------------
ENVIRONMENT AND OTHER CONTEXT
------------------------------

Environment variables:

    LANG = C
    LC_ALL = de_DE.UTF-8
    PATH = /usr/local/bin:/usr/bin:/bin:/usr/local/sbin:/usr/sbin:/sbin:/home/cpansand/bin/linux-gnu:/home/cpansand/bin/sh:/home/cpansand/bin:/usr/games:/home/cpansand/devel:/home/eserte/src/srezic-misc/scripts
    PERL5LIB = 
    PERL5OPT = 
    PERL5_CPANPLUS_IS_RUNNING = 4705
    PERL5_CPAN_IS_RUNNING = 4705
    PERL5_CPAN_IS_RUNNING_IN_RECURSION = 32543,4705
    PERLDOC = -MPod::Perldoc::ToTextOverstrike
    PERL_BATCH = yes
    PERL_CANARY_STABILITY_NOPROMPT = 1
    PERL_CPAN_REPORTER_CONFIG = /var/tmp/cpansmoker-1023/2018050215/cpanreporter_000_config.ini
    PERL_EXTUTILS_AUTOINSTALL = --defaultdeps
    PERL_PARALLEL_SMOKER = yes
    PERL_USE_UNSAFE_INC = 1
    SHELL = /bin/zsh
    TERM = screen
    TMPDIR = /var/tmp/cpansmoker-1023/2018050215

Perl special variables (and OS-specific diagnostics, for MSWin32):

    $^X = /bbbike/perl-5.22.3/bin/perl
    $UID/$EUID = 1023 / 1023
    $GID = 1023 1023
    $EGID = 1023 1023

Perl module toolchain versions installed:

    Module              Have    
    ------------------- --------
    CPAN                2.16    
    CPAN::Meta          2.150010
    Cwd                 3.74    
    ExtUtils::CBuilder  0.280230
    ExtUtils::Command   7.34    
    ExtUtils::Install   2.10    
    ExtUtils::MakeMaker 7.34    
    ExtUtils::Manifest  1.70    
    ExtUtils::ParseXS   3.35    
    File::Spec          3.74    
    JSON                2.97001 
    JSON::PP            2.96    
    Module::Build       0.4224  
    Module::Signature   0.81    
    Parse::CPAN::Meta   2.150010
    Test::Harness       3.42    
    Test::More          1.302136
    YAML                1.24    
    YAML::Syck          1.30    
    version             0.9918  


--

Summary of my perl5 (revision 5 version 22 subversion 3) configuration:
   
  Platform:
    osname=linux, osvers=3.16.0-4-amd64, archname=x86_64-linux
    uname='linux eserte 3.16.0-4-amd64 #1 smp debian 3.16.39-1 (2016-12-30) x86_64 gnulinux '
    config_args='-ds -e -Dprefix=/opt/perl-5.22.3 -Dcf_email=srezic@cpan.org'
    hint=recommended, useposix=true, d_sigaction=define
    useithreads=undef, usemultiplicity=undef
    use64bitint=define, use64bitall=define, uselongdouble=undef
    usemymalloc=n, bincompat5005=undef
  Compiler:
    cc='cc', ccflags ='-fwrapv -fno-strict-aliasing -pipe -fstack-protector-strong -I/usr/local/include -D_LARGEFILE_SOURCE -D_FILE_OFFSET_BITS=64 -D_FORTIFY_SOURCE=2',
    optimize='-O2',
    cppflags='-fwrapv -fno-strict-aliasing -pipe -fstack-protector-strong -I/usr/local/include'
    ccversion='', gccversion='4.9.2', gccosandvers=''
    intsize=4, longsize=8, ptrsize=8, doublesize=8, byteorder=12345678, doublekind=3
    d_longlong=define, longlongsize=8, d_longdbl=define, longdblsize=16, longdblkind=3
    ivtype='long', ivsize=8, nvtype='double', nvsize=8, Off_t='off_t', lseeksize=8
    alignbytes=8, prototype=define
  Linker and Libraries:
    ld='cc', ldflags =' -fstack-protector-strong -L/usr/local/lib'
    libpth=/usr/local/lib /usr/lib/gcc/x86_64-linux-gnu/4.9/include-fixed /usr/include/x86_64-linux-gnu /usr/lib /lib/x86_64-linux-gnu /lib/../lib /usr/lib/x86_64-linux-gnu /usr/lib/../lib /lib
    libs=-lpthread -lnsl -lgdbm -ldb -ldl -lm -lcrypt -lutil -lc -lgdbm_compat
    perllibs=-lpthread -lnsl -ldl -lm -lcrypt -lutil -lc
    libc=libc-2.19.so, so=so, useshrplib=false, libperl=libperl.a
    gnulibc_version='2.19'
  Dynamic Linking:
    dlsrc=dl_dlopen.xs, dlext=so, d_dlsymun=undef, ccdlflags='-Wl,-E'
    cccdlflags='-fPIC', lddlflags='-shared -O2 -L/usr/local/lib -fstack-protector-strong'


Characteristics of this binary (from libperl): 
  Compile-time options: HAS_TIMES PERLIO_LAYERS PERL_DONT_CREATE_GVSV
                        PERL_HASH_FUNC_ONE_AT_A_TIME_HARD PERL_MALLOC_WRAP
                        PERL_NEW_COPY_ON_WRITE PERL_PRESERVE_IVUV
                        USE_64_BIT_ALL USE_64_BIT_INT USE_LARGE_FILES
                        USE_LOCALE USE_LOCALE_COLLATE USE_LOCALE_CTYPE
                        USE_LOCALE_NUMERIC USE_LOCALE_TIME USE_PERLIO
                        USE_PERL_ATOF
  Built under linux
  Compiled at Jan 14 2017 21:21:45
  %ENV:
    PERL5LIB=""
    PERL5OPT=""
    PERL5_CPANPLUS_IS_RUNNING="4705"
    PERL5_CPAN_IS_RUNNING="4705"
    PERL5_CPAN_IS_RUNNING_IN_RECURSION="32543,4705"
    PERLDOC="-MPod::Perldoc::ToTextOverstrike"
    PERL_BATCH="yes"
    PERL_CANARY_STABILITY_NOPROMPT="1"
    PERL_CPAN_REPORTER_CONFIG="/var/tmp/cpansmoker-1023/2018050215/cpanreporter_000_config.ini"
    PERL_EXTUTILS_AUTOINSTALL="--defaultdeps"
    PERL_PARALLEL_SMOKER="yes"
    PERL_USE_UNSAFE_INC="1"
  @INC:
    /opt/perl-5.22.3/lib/site_perl/5.22.3/x86_64-linux
    /opt/perl-5.22.3/lib/site_perl/5.22.3
    /opt/perl-5.22.3/lib/5.22.3/x86_64-linux
    /opt/perl-5.22.3/lib/5.22.3
    .