Mojolicious-Plugin-OpenAPI-Modern v0.015 Perl 5 v5.20.2 amd64-freebsd

Status
Pass
From
Slaven Rezić
Dist
Mojolicious-Plugin-OpenAPI-Modern v0.015
Platform
Perl 5 v5.20.2 amd64-freebsd
Date
2025-04-17 21:11:51
ID
94c824d2-1bd0-11f0-ab5d-b51d6e8775ea
This distribution has been tested as part of the CPAN Testers
project, supporting the Perl programming language.  See
http://wiki.cpantesters.org/ for more information or email
questions to cpan-testers-discuss@perl.org


--
Dear Karen Etheridge,

This is a computer-generated report for Mojolicious-Plugin-OpenAPI-Modern-0.015
on perl 5.20.2, created by CPAN-Reporter-1.2019.

Thank you for uploading your work to CPAN.  Congratulations!
All tests were successful.

Sections of this report:

    * Tester comments
    * Program output
    * Prerequisites
    * Environment and other context

------------------------------
TESTER COMMENTS
------------------------------

Additional comments from tester:

this report is from an automated smoke testing program
and was not reviewed by a human for accuracy

------------------------------
PROGRAM OUTPUT
------------------------------

Output from './Build test':

# 
# Versions for all modules listed in MYMETA.json (including optional ones):
# 
# === Configure Requires ===
# 
#     Module               Want     Have
#     ------------------- ----- --------
#     Module::Build::Tiny 0.034    0.051
#     perl                5.020 5.020002
# 
# === Test Requires ===
# 
#     Module                           Want     Have
#     ------------------------------- ----- --------
#     File::Spec                        any     3.75
#     JSON::Schema::Modern::Utilities   any    0.606
#     Module::Metadata                  any 1.000038
#     Test::Deep                        any    1.204
#     Test::Memory::Cycle               any     1.06
#     Test::Mojo                        any    undef
#     Test::More                       0.88 1.302209
#     Test::Warnings                  0.033    0.038
#     constant                          any     1.33
#     experimental                      any    0.034
#     lib                               any     0.63
#     open                              any     1.10
#     perl                            5.020 5.020002
#     stable                          0.031    0.034
#     strict                            any     1.08
#     warnings                          any     1.23
# 
# === Test Recommends ===
# 
#     Module         Want     Have
#     ---------- -------- --------
#     CPAN::Meta 2.120900 2.150010
# 
# === Runtime Requires ===
# 
#     Module                                   Want     Have
#     --------------------------------------- ----- --------
#     Feature::Compat::Try                      any     0.04
#     JSON::Schema::Modern                    0.549    0.606
#     JSON::Schema::Modern::Document::OpenAPI 0.024    0.081
#     Mojo::Base                                any    undef
#     Mojo::JSON                                any    undef
#     OpenAPI::Modern                         0.074    0.081
#     Path::Tiny                                any    0.148
#     Safe::Isa                                 any 1.000010
#     YAML::PP                                  any  v0.39.0
#     if                                        any   0.0608
#     namespace::clean                          any     0.27
#     perl                                    5.020 5.020002
#     strictures                                  2 2.000006
# 
# === Other Modules ===
# 
#     Module                    Have
#     ----------------------- ------
#     Cpanel::JSON::XS          4.39
#     Encode                    3.21
#     File::ShareDir           1.118
#     File::ShareDir::Install   0.14
#     File::Temp              0.2311
#     JSON::PP                  4.16
#     JSON::XS                  4.03
#     Module::Runtime          0.017
#     Mojolicious               9.38
#     Sub::Name                 0.27
#     YAML                      1.30
#     autodie                   2.34
# 
t/00-report-prereqs.t .......... ok
t/initialization.t ............. ok
t/validate_request_response.t .. ok
All tests successful.
Files=3, Tests=6,  4 wallclock secs ( 0.03 usr  0.01 sys +  2.64 cusr  1.01 csys =  3.69 CPU)
Result: PASS

------------------------------
PREREQUISITES
------------------------------

Prerequisite modules loaded:

requires:

    Module                                  Need  Have    
    --------------------------------------- ----- --------
    Feature::Compat::Try                    0     0.04    
    if                                      0     0.0608  
    JSON::Schema::Modern                    0.549 0.606   
    JSON::Schema::Modern::Document::OpenAPI 0.024 0.081   
    Mojo::Base                              0     0       
    Mojo::JSON                              0     0       
    namespace::clean                        0     0.27    
    OpenAPI::Modern                         0.074 0.081   
    Path::Tiny                              0     0.148   
    perl                                    5.020 5.020002
    Safe::Isa                               0     1.000010
    strictures                              2     2.000006
    YAML::PP                                0     v0.39.0 

build_requires:

    Module                                  Need  Have    
    --------------------------------------- ----- --------
    constant                                0     1.33    
    experimental                            0     0.034   
    File::Spec                              0     3.75    
    JSON::Schema::Modern::Utilities         0     0.606   
    lib                                     0     0.63    
    Module::Metadata                        0     1.000038
    open                                    0     1.10    
    perl                                    5.020 5.020002
    stable                                  0.031 0.034   
    strict                                  0     1.08    
    Test::Deep                              0     1.204   
    Test::Memory::Cycle                     0     1.06    
    Test::Mojo                              0     0       
    Test::More                              0.88  1.302209
    Test::Warnings                          0.033 0.038   
    warnings                                0     1.23    

configure_requires:

    Module                                  Need  Have    
    --------------------------------------- ----- --------
    Module::Build::Tiny                     0.034 0.051   
    perl                                    5.020 5.020002


------------------------------
ENVIRONMENT AND OTHER CONTEXT
------------------------------

Environment variables:

    AUTOMATED_TESTING = 1
    LC_ALL = de_DE.ISO8859-1
    PATH = /usr/local/bin:/usr/bin:/bin:/usr/local/sbin:/usr/sbin:/sbin:/home/cpansand/bin/freebsd10.3:/home/cpansand/bin/sh:/home/cpansand/bin:/usr/games:/home/cpansand/devel:/home/eserte/src/srezic-misc/scripts
    PERL5LIB = 
    PERL5OPT = 
    PERL5_CPANPLUS_IS_RUNNING = 28421
    PERL5_CPAN_IS_RUNNING = 28421
    PERL5_CPAN_IS_RUNNING_IN_RECURSION = 23958,28421
    PERLDOC = -MPod::Perldoc::ToTextOverstrike
    PERL_BATCH = yes
    PERL_CANARY_STABILITY_NOPROMPT = 1
    PERL_CPAN_REPORTER_CONFIG = /var/tmp/cpansmoker-1023/2025041722/cpanreporter_000_config.ini
    PERL_EXTUTILS_AUTOINSTALL = --defaultdeps
    PERL_USE_UNSAFE_INC = 1
    SHELL = /usr/local/bin/zsh
    TERM = screen
    TMPDIR = /var/tmp/cpansmoker-1023/2025041722

Perl special variables (and OS-specific diagnostics, for MSWin32):

    $^X = /usr/perl5.20.2p/bin/perl
    $UID/$EUID = 1023 / 1023
    $GID = 1023 1023
    $EGID = 1023 1023

Perl module toolchain versions installed:

    Module              Have    
    ------------------- --------
    CPAN                2.37    
    CPAN::Meta          2.150010
    Cwd                 3.75    
    ExtUtils::CBuilder  0.280236
    ExtUtils::Command   7.74    
    ExtUtils::Install   2.20    
    ExtUtils::MakeMaker 7.74    
    ExtUtils::Manifest  1.75    
    ExtUtils::ParseXS   3.51    
    File::Spec          3.75    
    JSON                4.10    
    JSON::PP            4.16    
    Module::Build       0.4234  
    Module::Signature   0.89    
    Parse::CPAN::Meta   2.150010
    Test2               1.302209
    Test::Harness       3.50    
    Test::More          1.302209
    YAML                1.30    
    YAML::Syck          1.34    
    version             0.9933  


--

Summary of my perl5 (revision 5 version 20 subversion 2) configuration:
   
  Platform:
    osname=freebsd, osvers=10.1-release, archname=amd64-freebsd
    uname='freebsd cvrsnica-freebsd-101.herceg.de 10.1-release freebsd 10.1-release #0 r274401: tue nov 11 21:02:49 utc 2014 root@releng1.nyi.freebsd.org:usrobjusrsrcsysgeneric amd64 '
    config_args='-ds -e -Dprefix=/usr/perl5.20.2p'
    hint=recommended, useposix=true, d_sigaction=define
    useithreads=undef, usemultiplicity=undef
    use64bitint=define, use64bitall=define, uselongdouble=undef
    usemymalloc=n, bincompat5005=undef
  Compiler:
    cc='cc', ccflags ='-DHAS_FPSETMASK -DHAS_FLOATINGPOINT_H -fno-strict-aliasing -pipe -fstack-protector -I/usr/local/include',
    optimize='-O',
    cppflags='-DHAS_FPSETMASK -DHAS_FLOATINGPOINT_H -fno-strict-aliasing -pipe -fstack-protector -I/usr/local/include'
    ccversion='', gccversion='4.2.1 Compatible FreeBSD Clang 3.4.1 (tags/RELEASE_34/dot1-final 208032)', gccosandvers=''
    intsize=4, longsize=8, ptrsize=8, doublesize=8, byteorder=12345678
    d_longlong=define, longlongsize=8, d_longdbl=define, longdblsize=16
    ivtype='long', ivsize=8, nvtype='double', nvsize=8, Off_t='off_t', lseeksize=8
    alignbytes=8, prototype=define
  Linker and Libraries:
    ld='cc', ldflags ='-pthread -Wl,-E  -fstack-protector -L/usr/local/lib'
    libpth=/usr/lib /usr/local/lib /usr/include/clang/3.4.1 /usr/lib
    libs=-lgdbm -lm -lcrypt -lutil -lc
    perllibs=-lm -lcrypt -lutil -lc
    libc=, so=so, useshrplib=false, libperl=libperl.a
    gnulibc_version=''
  Dynamic Linking:
    dlsrc=dl_dlopen.xs, dlext=so, d_dlsymun=undef, ccdlflags=' '
    cccdlflags='-DPIC -fPIC', lddlflags='-shared  -L/usr/local/lib -fstack-protector'


Characteristics of this binary (from libperl): 
  Compile-time options: HAS_TIMES PERLIO_LAYERS PERL_DONT_CREATE_GVSV
                        PERL_HASH_FUNC_ONE_AT_A_TIME_HARD PERL_MALLOC_WRAP
                        PERL_NEW_COPY_ON_WRITE PERL_PRESERVE_IVUV
                        USE_64_BIT_ALL USE_64_BIT_INT USE_LARGE_FILES
                        USE_LOCALE USE_LOCALE_COLLATE USE_LOCALE_CTYPE
                        USE_LOCALE_NUMERIC USE_PERLIO USE_PERL_ATOF
  Built under freebsd
  Compiled at Feb 14 2015 20:35:40
  %ENV:
    PERL5LIB=""
    PERL5OPT=""
    PERL5_CPANPLUS_IS_RUNNING="28421"
    PERL5_CPAN_IS_RUNNING="28421"
    PERL5_CPAN_IS_RUNNING_IN_RECURSION="23958,28421"
    PERLDOC="-MPod::Perldoc::ToTextOverstrike"
    PERL_BATCH="yes"
    PERL_CANARY_STABILITY_NOPROMPT="1"
    PERL_CPAN_REPORTER_CONFIG="/var/tmp/cpansmoker-1023/2025041722/cpanreporter_000_config.ini"
    PERL_EXTUTILS_AUTOINSTALL="--defaultdeps"
    PERL_USE_UNSAFE_INC="1"
  @INC:
    /usr/perl5.20.2p/lib/site_perl/5.20.2/amd64-freebsd
    /usr/perl5.20.2p/lib/site_perl/5.20.2
    /usr/perl5.20.2p/lib/5.20.2/amd64-freebsd
    /usr/perl5.20.2p/lib/5.20.2
    .