Back
From: metabase:user:5d3557d2-3c72-11e3-a020-0dfbcd73216e
Subject: PASS Class-PObject-2.17 v5.8.9 Mac OS X
Date: 2013-10-27T02:14:59Z
This distribution has been tested as part of the CPAN Testers
project, supporting the Perl programming language. See
http://wiki.cpantesters.org/ for more information or email
questions to cpan-testers-discuss@perl.org
--
Dear Sherzod Ruzmetov,
This is a computer-generated report for Class-PObject-2.17
on perl 5.8.9, created by CPAN-Reporter-1.2010.
Thank you for uploading your work to CPAN. Congratulations!
All tests were successful.
Sections of this report:
* Tester comments
* Program output
* Prerequisites
* Environment and other context
------------------------------
TESTER COMMENTS
------------------------------
Additional comments from tester:
none provided
------------------------------
PROGRAM OUTPUT
------------------------------
Output from '/usr/bin/make test':
PERL_DL_NONLAZY=1 /Users/sno/perl5/perlbrew/perls/perl-5.8.9/bin/perl "-MExtUtils::Command::MM" "-MTest::Harness" "-e" "undef *Test::Harness::Switches; test_harness(0, 'blib/lib', 'blib/arch')" t/*.t
t/01basic_file.t ..... ok
t/06basic_csv.t ...... skipped: DBI is not installed
t/11basic_mysql.t .... skipped: DBI is not available
t/16basic_db_file.t .. ok
t/21basic_sqlite.t ... skipped: DBD::SQLite is not available
t/61types_file.t ..... ok
t/62types_csv.t ...... skipped: DBI is not installed
t/63types_db_file.t .. ok
t/64types_mysql.t .... skipped: DBI is not available
t/65types_sqlite.t ... skipped: DBD::SQLite is not available
t/70hasa_file.t ...... ok
t/71hasa_csv.t ....... skipped: DBI is not installed
t/72hasa_mysql.t ..... skipped: DBI is not available
t/73hasa_db_file.t ... ok
t/74hasa_sqlite.t .... skipped: DBD::SQLite is not available
All tests successful.
Files=15, Tests=574, 1 wallclock secs ( 0.08 usr 0.03 sys + 0.42 cusr 0.12 csys = 0.65 CPU)
Result: PASS
------------------------------
PREREQUISITES
------------------------------
Prerequisite modules loaded:
requires:
Module Need Have
------------------- ---- -----
File::Basename 0 2.77
File::Path 0 2.09
File::Spec 0 3.40
IO::Dir 0 1.07
Log::Agent 0 1.000
Storable 0 2.45
Test::More 0 0.99
build_requires:
Module Need Have
------------------- ---- -----
ExtUtils::MakeMaker 0 6.80
------------------------------
ENVIRONMENT AND OTHER CONTEXT
------------------------------
Environment variables:
LANG = de_DE.UTF-8
PATH = /Users/sno/perl5/perlbrew/bin:/Users/sno/perl5/perlbrew/perls/perl-5.8.9/bin:/Users/sno/bin:/opt/pkg/bin:/opt/pkg/sbin:/usr/bin:/bin:/usr/sbin:/sbin:/usr/local/bin:/opt/X11/bin
PERL5LIB =
PERL5OPT =
PERL5_CPANPLUS_IS_RUNNING = 25849
PERL5_CPAN_IS_RUNNING = 25849
PERLBREW_BASHRC_VERSION = 0.54
PERLBREW_HOME = /Users/sno/.perlbrew
PERLBREW_MANPATH = /Users/sno/perl5/perlbrew/perls/perl-5.8.9/man
PERLBREW_PATH = /Users/sno/perl5/perlbrew/bin:/Users/sno/perl5/perlbrew/perls/perl-5.8.9/bin
PERLBREW_PERL = perl-5.8.9
PERLBREW_ROOT = /Users/sno/perl5/perlbrew
PERLBREW_VERSION = 0.64
SHELL = /bin/bash
TERM = xterm
TMPDIR = /var/folders/5s/sk58jrwj7jj73phc9lcx9nh80000gn/T/
Perl special variables (and OS-specific diagnostics, for MSWin32):
$^X = /Users/sno/perl5/perlbrew/perls/perl-5.8.9/bin/perl
$UID/$EUID = 501 / 501
$GID = 20 20 501 12 61 79 80 81 98 33 100 204 398 399
$EGID = 20 20 501 12 61 79 80 81 98 33 100 204 398 399
Perl module toolchain versions installed:
Module Have
------------------- --------
CPAN 2.00
CPAN::Meta 2.132830
Cwd 3.40
ExtUtils::CBuilder 0.280212
ExtUtils::Command 1.16
ExtUtils::Install 1.54
ExtUtils::MakeMaker 6.80
ExtUtils::Manifest 1.60
ExtUtils::ParseXS 3.22
File::Spec 3.40
JSON 2.61
JSON::PP 2.27203
Module::Build 0.4007
Module::Signature n/a
Parse::CPAN::Meta 1.4409
Test::Harness 3.29
Test::More 0.99
YAML 0.84
YAML::Syck n/a
version 0.9904
--
Summary of my perl5 (revision 5 version 8 subversion 9) configuration:
Platform:
osname=darwin, osvers=12.5.0, archname=darwin-2level
uname='darwin ernie.muppets.liwing.de 12.5.0 darwin kernel version 12.5.0: mon jul 29 16:33:49 pdt 2013; root:xnu-2050.48.11~1release_x86_64 x86_64 '
config_args='-de -Dprefix=/Users/sno/perl5/perlbrew/perls/perl-5.8.9 -DCC=cc -Aeval:scriptdir=/Users/sno/perl5/perlbrew/perls/perl-5.8.9/bin'
hint=recommended, useposix=true, d_sigaction=define
usethreads=undef use5005threads=undef useithreads=undef usemultiplicity=undef
useperlio=define d_sfio=undef uselargefiles=define usesocks=undef
use64bitint=define use64bitall=define uselongdouble=undef
usemymalloc=n, bincompat5005=undef
Compiler:
cc='cc', ccflags ='-fno-common -DPERL_DARWIN -fno-strict-aliasing -pipe',
optimize='-O3',
cppflags='-fno-common -DPERL_DARWIN -fno-strict-aliasing -pipe'
ccversion='', gccversion='4.2.1 Compatible Apple LLVM 5.0 (clang-500.2.75)', gccosandvers=''
intsize=4, longsize=8, ptrsize=8, doublesize=8, byteorder=12345678
d_longlong=define, longlongsize=8, d_longdbl=define, longdblsize=16
ivtype='long', ivsize=8, nvtype='double', nvsize=8, Off_t='off_t', lseeksize=8
alignbytes=8, prototype=define
Linker and Libraries:
ld='env MACOSX_DEPLOYMENT_TARGET=10.3 cc', ldflags =''
libpth=/usr/lib
libs=-ldbm -ldl -lm -lutil -lc
perllibs=-ldl -lm -lutil -lc
libc=, so=dylib, useshrplib=false, libperl=libperl.a
gnulibc_version=''
Dynamic Linking:
dlsrc=dl_dlopen.xs, dlext=bundle, d_dlsymun=undef, ccdlflags=' '
cccdlflags=' ', lddlflags=' -bundle -undefined dynamic_lookup'
Characteristics of this binary (from libperl):
Compile-time options: PERL_MALLOC_WRAP USE_64_BIT_ALL USE_64_BIT_INT
USE_FAST_STDIO USE_LARGE_FILES USE_PERLIO
Built under darwin
Compiled at Sep 19 2013 23:06:55
%ENV:
PERL5LIB=""
PERL5OPT=""
PERL5_CPANPLUS_IS_RUNNING="25849"
PERL5_CPAN_IS_RUNNING="25849"
PERLBREW_BASHRC_VERSION="0.54"
PERLBREW_HOME="/Users/sno/.perlbrew"
PERLBREW_MANPATH="/Users/sno/perl5/perlbrew/perls/perl-5.8.9/man"
PERLBREW_PATH="/Users/sno/perl5/perlbrew/bin:/Users/sno/perl5/perlbrew/perls/perl-5.8.9/bin"
PERLBREW_PERL="perl-5.8.9"
PERLBREW_ROOT="/Users/sno/perl5/perlbrew"
PERLBREW_VERSION="0.64"
@INC:
/Users/sno/perl5/perlbrew/perls/perl-5.8.9/lib/5.8.9/darwin-2level
/Users/sno/perl5/perlbrew/perls/perl-5.8.9/lib/5.8.9
/Users/sno/perl5/perlbrew/perls/perl-5.8.9/lib/site_perl/5.8.9/darwin-2level
/Users/sno/perl5/perlbrew/perls/perl-5.8.9/lib/site_perl/5.8.9
.