Report for Crypt-SSLeay-0.72

Back
From: metabase:user:f97ea726-f09d-11e3-8b16-0a8ba8d6ce56
Subject: PASS Crypt-SSLeay-0.72 v5.22.0 GNU/Linux
Date: 2015-06-03T15:59:56Z

This distribution has been tested as part of the CPAN Testers
project, supporting the Perl programming language.  See
http://wiki.cpantesters.org/ for more information or email
questions to cpan-testers-discuss@perl.org


--
Dear A. Sinan Unur,

This is a computer-generated report for Crypt-SSLeay-0.72
on perl 5.22.0, created by CPAN-Reporter-1.2014.

Thank you for uploading your work to CPAN.  Congratulations!
All tests were successful.

Sections of this report:

    * Tester comments
    * Program output
    * Prerequisites
    * Environment and other context

------------------------------
TESTER COMMENTS
------------------------------

Additional comments from tester:

none provided

------------------------------
PROGRAM OUTPUT
------------------------------

Output from '/usr/bin/make test':

Running Mkbootstrap for Crypt::SSLeay ()
chmod 644 "SSLeay.bs"
PERL_DL_NONLAZY=1 "/opt/perl522/bin/perl" "-MExtUtils::Command::MM" "-MTest::Harness" "-e" "undef *Test::Harness::Switches; test_harness(0, 'blib/lib', 'blib/arch')" t/*.t
t/00-basic.t ..... ok
t/01-connect.t ... ok
# Reading configuration from 'test.config' on linux
# network_tests : 0
t/02-live.t ...... skipped: Network tests disabled
#     You have 'OpenSSL 1.0.1e 11 Feb 2013'
#     built on 'built on: Thu Mar 19 18:31:36 UTC 2015'
#     and SSL Heartbeats are not disabled.
# 
#     That means your client may be vulnerable to a server exploiting the
#     Heartbleed bug unless the vulnerability was patched without changing
#     version. The vulnerability was disclosed on or about 2014/04/07. A
#     build date after that may indicate that the library you are using
#     may have been patched. You should check this.
# 
#     The risk is compounded by the fact that Crypt::SSLeay does not
#     verify hosts.  You can still force install Crypt::SSLeay, but you
#     need to be aware of this issue, and strongly consider upgrading to a
#     safer version of OpenSSL.
# 
#     See also:
# 
#       - https://cve.mitre.org/cgi-bin/cvename.cgi?name=CVE-2014-0160
#       - http://isc.sans.edu/diary/17945
#       - http://seclists.org/fulldisclosure/2014/Apr/91
t/03-version.t ... ok
t/boilerplate.t .. ok
t/manifest.t ..... skipped: Author tests not required for installation
All tests successful.
Files=6, Tests=43,  1 wallclock secs ( 0.02 usr  0.02 sys +  0.15 cusr  0.03 csys =  0.22 CPU)
Result: PASS

------------------------------
PREREQUISITES
------------------------------

Prerequisite modules loaded:

requires:

    Module               Need     Have    
    -------------------- -------- --------
    LWP::Protocol::https 6.02     6.06    
    MIME::Base64         0        3.15    
    perl                 5.006    5.022000

build_requires:

    Module               Need     Have    
    -------------------- -------- --------
    ExtUtils::MakeMaker  0        7.04_01 
    Test::More           0.19     1.001014
    Try::Tiny            0.19     0.22    

configure_requires:

    Module               Need     Have    
    -------------------- -------- --------
    ExtUtils::CBuilder   0.280205 0.280223
    Getopt::Long         0        2.45    
    Path::Class          0.26     0.35    
    Try::Tiny            0.19     0.22    


------------------------------
ENVIRONMENT AND OTHER CONTEXT
------------------------------

Environment variables:

    LANG = C
    LC_CTYPE = en_US
    PATH = /opt/perl522/bin:/opt/perl520/bin:/home/martin/bin:/usr/local/bin:/usr/bin:/bin:/usr/local/games:/usr/games
    PERL5LIB = 
    PERL5OPT = 
    PERL5_CPANPLUS_IS_RUNNING = 26856
    PERL5_CPAN_IS_RUNNING = 26856
    SHELL = /bin/bash
    TERM = screen

Perl special variables (and OS-specific diagnostics, for MSWin32):

    $^X = /opt/perl522/bin/perl
    $UID/$EUID = 1000 / 1000
    $GID = 1000 24 25 27 29 30 40 44 46 104 109 111 122 124 507 1000 3001
    $EGID = 1000 24 25 27 29 30 40 44 46 104 109 111 122 124 507 1000 3001

Perl module toolchain versions installed:

    Module              Have    
    ------------------- --------
    CPAN                2.11    
    CPAN::Meta          2.150001
    Cwd                 3.56    
    ExtUtils::CBuilder  0.280223
    ExtUtils::Command   1.20    
    ExtUtils::Install   2.04    
    ExtUtils::MakeMaker 7.04_01 
    ExtUtils::Manifest  1.70    
    ExtUtils::ParseXS   3.28    
    File::Spec          3.56    
    JSON                2.90    
    JSON::PP            2.27300 
    Module::Build       0.4212  
    Module::Signature   0.79    
    Parse::CPAN::Meta   1.4414  
    Test::Harness       3.35    
    Test::More          1.001014
    YAML                1.15    
    YAML::Syck          1.29    
    version             0.9909  


--

Summary of my perl5 (revision 5 version 22 subversion 0) configuration:
   
  Platform:
    osname=linux, osvers=3.2.0-4-amd64, archname=x86_64-linux-ld
    uname='linux dewey 3.2.0-4-amd64 #1 smp debian 3.2.68-1+deb7u1 x86_64 gnulinux '
    config_args='-Dprefix=/opt/perl522 -Duse64bitint -Duse64bitall -Duselongdouble -Dperladmin=none -Dusevfork=false -de'
    hint=recommended, useposix=true, d_sigaction=define
    useithreads=undef, usemultiplicity=undef
    use64bitint=define, use64bitall=define, uselongdouble=define
    usemymalloc=n, bincompat5005=undef
  Compiler:
    cc='cc', ccflags ='-fwrapv -fno-strict-aliasing -pipe -fstack-protector -I/usr/local/include -D_LARGEFILE_SOURCE -D_FILE_OFFSET_BITS=64 -D_FORTIFY_SOURCE=2',
    optimize='-O2',
    cppflags='-fwrapv -fno-strict-aliasing -pipe -fstack-protector -I/usr/local/include'
    ccversion='', gccversion='4.7.2', gccosandvers=''
    intsize=4, longsize=8, ptrsize=8, doublesize=8, byteorder=12345678, doublekind=3
    d_longlong=define, longlongsize=8, d_longdbl=define, longdblsize=16, longdblkind=3
    ivtype='long', ivsize=8, nvtype='long double', nvsize=16, Off_t='off_t', lseeksize=8
    alignbytes=16, prototype=define
  Linker and Libraries:
    ld='cc', ldflags =' -fstack-protector -L/usr/local/lib'
    libpth=/usr/local/lib /usr/lib/gcc/x86_64-linux-gnu/4.7/include-fixed /usr/include/x86_64-linux-gnu /usr/lib /lib/x86_64-linux-gnu /lib/../lib /usr/lib/x86_64-linux-gnu /usr/lib/../lib /lib
    libs=-lpthread -lnsl -ldl -lm -lcrypt -lutil -lc
    perllibs=-lpthread -lnsl -ldl -lm -lcrypt -lutil -lc
    libc=libc-2.13.so, so=so, useshrplib=false, libperl=libperl.a
    gnulibc_version='2.13'
  Dynamic Linking:
    dlsrc=dl_dlopen.xs, dlext=so, d_dlsymun=undef, ccdlflags='-Wl,-E'
    cccdlflags='-fPIC', lddlflags='-shared -O2 -L/usr/local/lib -fstack-protector'


Characteristics of this binary (from libperl): 
  Compile-time options: HAS_TIMES PERLIO_LAYERS PERL_DONT_CREATE_GVSV
                        PERL_HASH_FUNC_ONE_AT_A_TIME_HARD PERL_MALLOC_WRAP
                        PERL_NEW_COPY_ON_WRITE PERL_PRESERVE_IVUV
                        USE_64_BIT_ALL USE_64_BIT_INT USE_LARGE_FILES
                        USE_LOCALE USE_LOCALE_COLLATE USE_LOCALE_CTYPE
                        USE_LOCALE_NUMERIC USE_LOCALE_TIME USE_LONG_DOUBLE
                        USE_PERLIO USE_PERL_ATOF
  Built under linux
  Compiled at Jun  3 2015 12:35:01
  %ENV:
    PERL5LIB=""
    PERL5OPT=""
    PERL5_CPANPLUS_IS_RUNNING="26856"
    PERL5_CPAN_IS_RUNNING="26856"
  @INC:
    /opt/perl522/lib/site_perl/5.22.0/x86_64-linux-ld
    /opt/perl522/lib/site_perl/5.22.0
    /opt/perl522/lib/5.22.0/x86_64-linux-ld
    /opt/perl522/lib/5.22.0
    .