Report for HTML-FillInForm-Lite-1.15

Back
From: metabase:user:30f4dfbe-2aae-11df-837a-5e0a49663a4f
Subject: PASS HTML-FillInForm-Lite-1.15 v5.8.6 GNU/Linux
Date: 2016-08-21T22:28:27Z

This distribution has been tested as part of the CPAN Testers
project, supporting the Perl programming language.  See
http://wiki.cpantesters.org/ for more information or email
questions to cpan-testers-discuss@perl.org


--
Dear Goro Fuji,

This is a computer-generated report for HTML-FillInForm-Lite-1.15
on perl 5.8.6, created by CPAN-Reporter-1.2017.

Thank you for uploading your work to CPAN.  Congratulations!
All tests were successful.

Sections of this report:

    * Tester comments
    * Program output
    * Prerequisites
    * Environment and other context

------------------------------
TESTER COMMENTS
------------------------------

Additional comments from tester:

this report is from an automated smoke testing program
and was not reviewed by a human for accuracy

------------------------------
PROGRAM OUTPUT
------------------------------

Output from './Build test':

t/00basic.t .......... ok
t/02select.t ......... ok
t/03textarea.t ....... ok
t/04target.t ......... ok
CGI::param called in list context from package HTML::FillInForm::Lite line 372, this can lead to vulnerabilities. See the warning in "Fetching the value or values of a single named parameter" at /home/njh/perl5/perlbrew/perls/perl-5.8.6/lib/5.8.6/CGI.pm line 437.
CGI::param called in list context from package HTML::FillInForm::Lite line 372, this can lead to vulnerabilities. See the warning in "Fetching the value or values of a single named parameter" at /home/njh/perl5/perlbrew/perls/perl-5.8.6/lib/5.8.6/CGI.pm line 437.
CGI::param called in list context from package HTML::FillInForm::Lite line 372, this can lead to vulnerabilities. See the warning in "Fetching the value or values of a single named parameter" at /home/njh/perl5/perlbrew/perls/perl-5.8.6/lib/5.8.6/CGI.pm line 437.
CGI::param called in list context from package HTML::FillInForm::Lite line 372, this can lead to vulnerabilities. See the warning in "Fetching the value or values of a single named parameter" at /home/njh/perl5/perlbrew/perls/perl-5.8.6/lib/5.8.6/CGI.pm line 437, <$in> line 1.
CGI::param called in list context from package HTML::FillInForm::Lite line 372, this can lead to vulnerabilities. See the warning in "Fetching the value or values of a single named parameter" at /home/njh/perl5/perlbrew/perls/perl-5.8.6/lib/5.8.6/CGI.pm line 437, <$_[...]> line 1.
CGI::param called in list context from package HTML::FillInForm::Lite line 372, this can lead to vulnerabilities. See the warning in "Fetching the value or values of a single named parameter" at /home/njh/perl5/perlbrew/perls/perl-5.8.6/lib/5.8.6/CGI.pm line 437, <$_[...]> line 1.
CGI::param called in list context from package HTML::FillInForm::Lite line 372, this can lead to vulnerabilities. See the warning in "Fetching the value or values of a single named parameter" at /home/njh/perl5/perlbrew/perls/perl-5.8.6/lib/5.8.6/CGI.pm line 437.
CGI::param called in list context from package HTML::FillInForm::Lite line 372, this can lead to vulnerabilities. See the warning in "Fetching the value or values of a single named parameter" at /home/njh/perl5/perlbrew/perls/perl-5.8.6/lib/5.8.6/CGI.pm line 437, <HANDLE> line 1.
CGI::param called in list context from package HTML::FillInForm::Lite line 372, this can lead to vulnerabilities. See the warning in "Fetching the value or values of a single named parameter" at /home/njh/perl5/perlbrew/perls/perl-5.8.6/lib/5.8.6/CGI.pm line 437, <HANDLE> line 1.
CGI::param called in list context from package HTML::FillInForm::Lite line 372, this can lead to vulnerabilities. See the warning in "Fetching the value or values of a single named parameter" at /home/njh/perl5/perlbrew/perls/perl-5.8.6/lib/5.8.6/CGI.pm line 437.
CGI::param called in list context from package HTML::FillInForm::Lite line 372, this can lead to vulnerabilities. See the warning in "Fetching the value or values of a single named parameter" at /home/njh/perl5/perlbrew/perls/perl-5.8.6/lib/5.8.6/CGI.pm line 437.
CGI::param called in list context from package HTML::FillInForm::Lite line 372, this can lead to vulnerabilities. See the warning in "Fetching the value or values of a single named parameter" at /home/njh/perl5/perlbrew/perls/perl-5.8.6/lib/5.8.6/CGI.pm line 437.
CGI::param called in list context from package HTML::FillInForm::Lite line 372, this can lead to vulnerabilities. See the warning in "Fetching the value or values of a single named parameter" at /home/njh/perl5/perlbrew/perls/perl-5.8.6/lib/5.8.6/CGI.pm line 437.
CGI::param called in list context from package HTML::FillInForm::Lite line 372, this can lead to vulnerabilities. See the warning in "Fetching the value or values of a single named parameter" at /home/njh/perl5/perlbrew/perls/perl-5.8.6/lib/5.8.6/CGI.pm line 437.
CGI::param called in list context from package HTML::FillInForm::Lite line 372, this can lead to vulnerabilities. See the warning in "Fetching the value or values of a single named parameter" at /home/njh/perl5/perlbrew/perls/perl-5.8.6/lib/5.8.6/CGI.pm line 437.
CGI::param called in list context from package HTML::FillInForm::Lite line 372, this can lead to vulnerabilities. See the warning in "Fetching the value or values of a single named parameter" at /home/njh/perl5/perlbrew/perls/perl-5.8.6/lib/5.8.6/CGI.pm line 437.
CGI::param called in list context from package HTML::FillInForm::Lite line 372, this can lead to vulnerabilities. See the warning in "Fetching the value or values of a single named parameter" at /home/njh/perl5/perlbrew/perls/perl-5.8.6/lib/5.8.6/CGI.pm line 437.
CGI::param called in list context from package HTML::FillInForm::Lite line 372, this can lead to vulnerabilities. See the warning in "Fetching the value or values of a single named parameter" at /home/njh/perl5/perlbrew/perls/perl-5.8.6/lib/5.8.6/CGI.pm line 437.
CGI::param called in list context from package HTML::FillInForm::Lite line 372, this can lead to vulnerabilities. See the warning in "Fetching the value or values of a single named parameter" at /home/njh/perl5/perlbrew/perls/perl-5.8.6/lib/5.8.6/CGI.pm line 437.
CGI::param called in list context from package HTML::FillInForm::Lite line 372, this can lead to vulnerabilities. See the warning in "Fetching the value or values of a single named parameter" at /home/njh/perl5/perlbrew/perls/perl-5.8.6/lib/5.8.6/CGI.pm line 437.
CGI::param called in list context from package HTML::FillInForm::Lite line 372, this can lead to vulnerabilities. See the warning in "Fetching the value or values of a single named parameter" at /home/njh/perl5/perlbrew/perls/perl-5.8.6/lib/5.8.6/CGI.pm line 437.
CGI::param called in list context from package HTML::FillInForm::Lite line 372, this can lead to vulnerabilities. See the warning in "Fetching the value or values of a single named parameter" at /home/njh/perl5/perlbrew/perls/perl-5.8.6/lib/5.8.6/CGI.pm line 437.
CGI::param called in list context from package HTML::FillInForm::Lite line 372, this can lead to vulnerabilities. See the warning in "Fetching the value or values of a single named parameter" at /home/njh/perl5/perlbrew/perls/perl-5.8.6/lib/5.8.6/CGI.pm line 437.
CGI::param called in list context from package HTML::FillInForm::Lite line 372, this can lead to vulnerabilities. See the warning in "Fetching the value or values of a single named parameter" at /home/njh/perl5/perlbrew/perls/perl-5.8.6/lib/5.8.6/CGI.pm line 437.
CGI::param called in list context from package HTML::FillInForm::Lite line 372, this can lead to vulnerabilities. See the warning in "Fetching the value or values of a single named parameter" at /home/njh/perl5/perlbrew/perls/perl-5.8.6/lib/5.8.6/CGI.pm line 437.
CGI::param called in list context from package HTML::FillInForm::Lite line 372, this can lead to vulnerabilities. See the warning in "Fetching the value or values of a single named parameter" at /home/njh/perl5/perlbrew/perls/perl-5.8.6/lib/5.8.6/CGI.pm line 437.
CGI::param called in list context from package HTML::FillInForm::Lite line 372, this can lead to vulnerabilities. See the warning in "Fetching the value or values of a single named parameter" at /home/njh/perl5/perlbrew/perls/perl-5.8.6/lib/5.8.6/CGI.pm line 437.
CGI::param called in list context from package HTML::FillInForm::Lite line 372, this can lead to vulnerabilities. See the warning in "Fetching the value or values of a single named parameter" at /home/njh/perl5/perlbrew/perls/perl-5.8.6/lib/5.8.6/CGI.pm line 437.
CGI::param called in list context from package HTML::FillInForm::Lite line 372, this can lead to vulnerabilities. See the warning in "Fetching the value or values of a single named parameter" at /home/njh/perl5/perlbrew/perls/perl-5.8.6/lib/5.8.6/CGI.pm line 437.
CGI::param called in list context from package HTML::FillInForm::Lite line 372, this can lead to vulnerabilities. See the warning in "Fetching the value or values of a single named parameter" at /home/njh/perl5/perlbrew/perls/perl-5.8.6/lib/5.8.6/CGI.pm line 437.
CGI::param called in list context from package HTML::FillInForm::Lite line 372, this can lead to vulnerabilities. See the warning in "Fetching the value or values of a single named parameter" at /home/njh/perl5/perlbrew/perls/perl-5.8.6/lib/5.8.6/CGI.pm line 437.
CGI::param called in list context from package HTML::FillInForm::Lite line 372, this can lead to vulnerabilities. See the warning in "Fetching the value or values of a single named parameter" at /home/njh/perl5/perlbrew/perls/perl-5.8.6/lib/5.8.6/CGI.pm line 437.
CGI::param called in list context from package HTML::FillInForm::Lite line 372, this can lead to vulnerabilities. See the warning in "Fetching the value or values of a single named parameter" at /home/njh/perl5/perlbrew/perls/perl-5.8.6/lib/5.8.6/CGI.pm line 437.
CGI::param called in list context from package HTML::FillInForm::Lite line 372, this can lead to vulnerabilities. See the warning in "Fetching the value or values of a single named parameter" at /home/njh/perl5/perlbrew/perls/perl-5.8.6/lib/5.8.6/CGI.pm line 437.
CGI::param called in list context from package HTML::FillInForm::Lite line 372, this can lead to vulnerabilities. See the warning in "Fetching the value or values of a single named parameter" at /home/njh/perl5/perlbrew/perls/perl-5.8.6/lib/5.8.6/CGI.pm line 437.
CGI::param called in list context from package HTML::FillInForm::Lite line 372, this can lead to vulnerabilities. See the warning in "Fetching the value or values of a single named parameter" at /home/njh/perl5/perlbrew/perls/perl-5.8.6/lib/5.8.6/CGI.pm line 437.
CGI::param called in list context from package HTML::FillInForm::Lite line 372, this can lead to vulnerabilities. See the warning in "Fetching the value or values of a single named parameter" at /home/njh/perl5/perlbrew/perls/perl-5.8.6/lib/5.8.6/CGI.pm line 437.
CGI::param called in list context from package HTML::FillInForm::Lite line 372, this can lead to vulnerabilities. See the warning in "Fetching the value or values of a single named parameter" at /home/njh/perl5/perlbrew/perls/perl-5.8.6/lib/5.8.6/CGI.pm line 437.
CGI::param called in list context from package HTML::FillInForm::Lite line 372, this can lead to vulnerabilities. See the warning in "Fetching the value or values of a single named parameter" at /home/njh/perl5/perlbrew/perls/perl-5.8.6/lib/5.8.6/CGI.pm line 437.
CGI::param called in list context from package HTML::FillInForm::Lite line 372, this can lead to vulnerabilities. See the warning in "Fetching the value or values of a single named parameter" at /home/njh/perl5/perlbrew/perls/perl-5.8.6/lib/5.8.6/CGI.pm line 437.
CGI::param called in list context from package HTML::FillInForm::Lite line 372, this can lead to vulnerabilities. See the warning in "Fetching the value or values of a single named parameter" at /home/njh/perl5/perlbrew/perls/perl-5.8.6/lib/5.8.6/CGI.pm line 437.
CGI::param called in list context from package HTML::FillInForm::Lite line 372, this can lead to vulnerabilities. See the warning in "Fetching the value or values of a single named parameter" at /home/njh/perl5/perlbrew/perls/perl-5.8.6/lib/5.8.6/CGI.pm line 437.
CGI::param called in list context from package HTML::FillInForm::Lite line 372, this can lead to vulnerabilities. See the warning in "Fetching the value or values of a single named parameter" at /home/njh/perl5/perlbrew/perls/perl-5.8.6/lib/5.8.6/CGI.pm line 437.
CGI::param called in list context from package HTML::FillInForm::Lite line 372, this can lead to vulnerabilities. See the warning in "Fetching the value or values of a single named parameter" at /home/njh/perl5/perlbrew/perls/perl-5.8.6/lib/5.8.6/CGI.pm line 437.
CGI::param called in list context from package HTML::FillInForm::Lite line 372, this can lead to vulnerabilities. See the warning in "Fetching the value or values of a single named parameter" at /home/njh/perl5/perlbrew/perls/perl-5.8.6/lib/5.8.6/CGI.pm line 437.
CGI::param called in list context from package HTML::FillInForm::Lite line 372, this can lead to vulnerabilities. See the warning in "Fetching the value or values of a single named parameter" at /home/njh/perl5/perlbrew/perls/perl-5.8.6/lib/5.8.6/CGI.pm line 437.
CGI::param called in list context from package HTML::FillInForm::Lite line 372, this can lead to vulnerabilities. See the warning in "Fetching the value or values of a single named parameter" at /home/njh/perl5/perlbrew/perls/perl-5.8.6/lib/5.8.6/CGI.pm line 437.
CGI::param called in list context from package HTML::FillInForm::Lite line 372, this can lead to vulnerabilities. See the warning in "Fetching the value or values of a single named parameter" at /home/njh/perl5/perlbrew/perls/perl-5.8.6/lib/5.8.6/CGI.pm line 437.
CGI::param called in list context from package HTML::FillInForm::Lite line 372, this can lead to vulnerabilities. See the warning in "Fetching the value or values of a single named parameter" at /home/njh/perl5/perlbrew/perls/perl-5.8.6/lib/5.8.6/CGI.pm line 437.
CGI::param called in list context from package HTML::FillInForm::Lite line 372, this can lead to vulnerabilities. See the warning in "Fetching the value or values of a single named parameter" at /home/njh/perl5/perlbrew/perls/perl-5.8.6/lib/5.8.6/CGI.pm line 437.
CGI::param called in list context from package HTML::FillInForm::Lite line 372, this can lead to vulnerabilities. See the warning in "Fetching the value or values of a single named parameter" at /home/njh/perl5/perlbrew/perls/perl-5.8.6/lib/5.8.6/CGI.pm line 437.
CGI::param called in list context from package HTML::FillInForm::Lite line 372, this can lead to vulnerabilities. See the warning in "Fetching the value or values of a single named parameter" at /home/njh/perl5/perlbrew/perls/perl-5.8.6/lib/5.8.6/CGI.pm line 437.
CGI::param called in list context from package HTML::FillInForm::Lite line 372, this can lead to vulnerabilities. See the warning in "Fetching the value or values of a single named parameter" at /home/njh/perl5/perlbrew/perls/perl-5.8.6/lib/5.8.6/CGI.pm line 437.
CGI::param called in list context from package HTML::FillInForm::Lite line 372, this can lead to vulnerabilities. See the warning in "Fetching the value or values of a single named parameter" at /home/njh/perl5/perlbrew/perls/perl-5.8.6/lib/5.8.6/CGI.pm line 437.
t/01input.t .......... ok
t/05encoding.t ....... ok
t/07fobj.t ........... ok
t/08select-extra.t ... ok
t/09decode_entity.t .. ok
t/11html4compat.t .... ok
CGI::param called in list context from package HTML::FillInForm::Lite line 372, this can lead to vulnerabilities. See the warning in "Fetching the value or values of a single named parameter" at /home/njh/perl5/perlbrew/perls/perl-5.8.6/lib/5.8.6/CGI.pm line 437.
CGI::param called in list context from package HTML::FillInForm::Lite line 482, this can lead to vulnerabilities. See the warning in "Fetching the value or values of a single named parameter" at /home/njh/perl5/perlbrew/perls/perl-5.8.6/lib/5.8.6/CGI.pm line 437, <$in> line 1.
CGI::param called in list context from package HTML::FillInForm::Lite line 372, this can lead to vulnerabilities. See the warning in "Fetching the value or values of a single named parameter" at /home/njh/perl5/perlbrew/perls/perl-5.8.6/lib/5.8.6/CGI.pm line 437.
CGI::param called in list context from package HTML::FillInForm::Lite line 372, this can lead to vulnerabilities. See the warning in "Fetching the value or values of a single named parameter" at /home/njh/perl5/perlbrew/perls/perl-5.8.6/lib/5.8.6/CGI.pm line 437.
CGI::param called in list context from package HTML::FillInForm::Lite line 372, this can lead to vulnerabilities. See the warning in "Fetching the value or values of a single named parameter" at /home/njh/perl5/perlbrew/perls/perl-5.8.6/lib/5.8.6/CGI.pm line 437.
CGI::param called in list context from package HTML::FillInForm::Lite line 372, this can lead to vulnerabilities. See the warning in "Fetching the value or values of a single named parameter" at /home/njh/perl5/perlbrew/perls/perl-5.8.6/lib/5.8.6/CGI.pm line 437.
CGI::param called in list context from package HTML::FillInForm::Lite line 372, this can lead to vulnerabilities. See the warning in "Fetching the value or values of a single named parameter" at /home/njh/perl5/perlbrew/perls/perl-5.8.6/lib/5.8.6/CGI.pm line 437.
CGI::param called in list context from package HTML::FillInForm::Lite line 372, this can lead to vulnerabilities. See the warning in "Fetching the value or values of a single named parameter" at /home/njh/perl5/perlbrew/perls/perl-5.8.6/lib/5.8.6/CGI.pm line 437.
CGI::param called in list context from package HTML::FillInForm::Lite line 372, this can lead to vulnerabilities. See the warning in "Fetching the value or values of a single named parameter" at /home/njh/perl5/perlbrew/perls/perl-5.8.6/lib/5.8.6/CGI.pm line 437.
CGI::param called in list context from package HTML::FillInForm::Lite line 372, this can lead to vulnerabilities. See the warning in "Fetching the value or values of a single named parameter" at /home/njh/perl5/perlbrew/perls/perl-5.8.6/lib/5.8.6/CGI.pm line 437.
CGI::param called in list context from package HTML::FillInForm::Lite line 372, this can lead to vulnerabilities. See the warning in "Fetching the value or values of a single named parameter" at /home/njh/perl5/perlbrew/perls/perl-5.8.6/lib/5.8.6/CGI.pm line 437.
CGI::param called in list context from package HTML::FillInForm::Lite line 372, this can lead to vulnerabilities. See the warning in "Fetching the value or values of a single named parameter" at /home/njh/perl5/perlbrew/perls/perl-5.8.6/lib/5.8.6/CGI.pm line 437.
CGI::param called in list context from package HTML::FillInForm::Lite line 372, this can lead to vulnerabilities. See the warning in "Fetching the value or values of a single named parameter" at /home/njh/perl5/perlbrew/perls/perl-5.8.6/lib/5.8.6/CGI.pm line 437.
t/12empty_elem.t ..... ok
CGI::param called in list context from package HTML::FillInForm::Lite line 372, this can lead to vulnerabilities. See the warning in "Fetching the value or values of a single named parameter" at /home/njh/perl5/perlbrew/perls/perl-5.8.6/lib/5.8.6/CGI.pm line 437.
CGI::param called in list context from package HTML::FillInForm::Lite line 372, this can lead to vulnerabilities. See the warning in "Fetching the value or values of a single named parameter" at /home/njh/perl5/perlbrew/perls/perl-5.8.6/lib/5.8.6/CGI.pm line 437.
t/10compat.t ......... ok
t/13simple.t ......... ok
t/14stringobj.t ...... ok
t/15data-attr.t ...... ok
t/16html5.t .......... ok
t/17suffix.t ......... ok
t/99podcoverage.t .... ok
t/99pod.t ............ ok
All tests successful.
Files=19, Tests=300,  0 wallclock secs ( 0.10 usr  0.03 sys +  0.59 cusr  0.08 csys =  0.80 CPU)
Result: PASS

------------------------------
PREREQUISITES
------------------------------

Prerequisite modules loaded:

requires:

    Module              Need     Have    
    ------------------- -------- --------
    perl                5.008001 5.008006

build_requires:

    Module              Need     Have    
    ------------------- -------- --------
    CGI                 0        4.13    
    ExtUtils::MakeMaker 6.59     7.22    
    Test::More          0.62     1.001014
    Test::Requires      0        0.08    

configure_requires:

    Module              Need     Have    
    ------------------- -------- --------
    Module::Build::Tiny 0.035    0.039   


------------------------------
ENVIRONMENT AND OTHER CONTEXT
------------------------------

Environment variables:

    AUTOMATED_TESTING = 1
    HARNESS_OPTIONS = j2
    LANG = en_US.UTF-8
    PATH = /home/njh/perl5/perlbrew/bin:/home/njh/perl5/perlbrew/perls/perl-5.8.6/bin:/home/njh/perl5/perlbrew/bin:/usr/bin:/bin
    PERL5LIB = 
    PERL5OPT = 
    PERL5_CPANPLUS_IS_RUNNING = 19600
    PERL5_CPAN_IS_RUNNING = 19600
    PERLBREW_BASHRC_VERSION = 0.75
    PERLBREW_HOME = /home/njh/.perlbrew
    PERLBREW_LIB = 
    PERLBREW_MANPATH = /home/njh/perl5/perlbrew/perls/perl-5.8.6/man
    PERLBREW_PATH = /home/njh/perl5/perlbrew/bin:/home/njh/perl5/perlbrew/perls/perl-5.8.6/bin
    PERLBREW_PERL = perl-5.8.6
    PERLBREW_ROOT = /home/njh/perl5/perlbrew
    PERLBREW_VERSION = 0.75
    PERL_LOCAL_LIB_ROOT = 
    SHELL = /bin/sh

Perl special variables (and OS-specific diagnostics, for MSWin32):

    $^X = /home/njh/perl5/perlbrew/perls/perl-5.8.6/bin/perl
    $UID/$EUID = 1000 / 1000
    $GID = 1000 1000 123 115 108 103 46 44 30 29 25 24 4
    $EGID = 1000 1000 123 115 108 103 46 44 30 29 25 24 4

Perl module toolchain versions installed:

    Module              Have    
    ------------------- --------
    CPAN                2.14    
    CPAN::Meta          2.150005
    Cwd                 3.47    
    ExtUtils::CBuilder  0.280220
    ExtUtils::Command   7.22    
    ExtUtils::Install   2.04    
    ExtUtils::MakeMaker 7.22    
    ExtUtils::Manifest  1.70    
    ExtUtils::ParseXS   3.30    
    File::Spec          3.47    
    JSON                2.61    
    JSON::PP            2.27400 
    Module::Build       0.4211  
    Module::Signature   n/a     
    Parse::CPAN::Meta   1.4422  
    Test::Harness       3.36    
    Test::More          1.001014
    YAML                n/a     
    YAML::Syck          1.29    
    version             0.9912  


--

Summary of my perl5 (revision 5 version 8 subversion 6) configuration:
  Platform:
    osname=linux, osvers=3.16-3-amd64, archname=x86_64-linux-thread-multi
    uname='linux amelia 3.16-3-amd64 #1 smp debian 3.16.5-1 (2014-10-10) x86_64 gnulinux '
    config_args='-de -Dprefix=/home/njh/perl5/perlbrew/perls/perl-5.8.6 -Duseithreads -Dusemultiplicity -Dusedevel -Accflags= -Aeval:scriptdir=/home/njh/perl5/perlbrew/perls/perl-5.8.6/bin'
    hint=recommended, useposix=true, d_sigaction=define
    usethreads=define use5005threads=undef useithreads=define usemultiplicity=define
    useperlio=define d_sfio=undef uselargefiles=define usesocks=undef
    use64bitint=define use64bitall=define uselongdouble=undef
    usemymalloc=n, bincompat5005=undef
  Compiler:
    cc='cc', ccflags ='-D_REENTRANT -D_GNU_SOURCE -fno-strict-aliasing -pipe -I/usr/local/include -D_LARGEFILE_SOURCE -D_FILE_OFFSET_BITS=64',
    optimize='-O2',
    cppflags='-D_REENTRANT -D_GNU_SOURCE -fno-strict-aliasing -pipe -I/usr/local/include'
    ccversion='', gccversion='4.9.2', gccosandvers=''
    intsize=4, longsize=8, ptrsize=8, doublesize=8, byteorder=12345678
    d_longlong=define, longlongsize=8, d_longdbl=define, longdblsize=16
    ivtype='long', ivsize=8, nvtype='double', nvsize=8, Off_t='off_t', lseeksize=8
    alignbytes=8, prototype=define
  Linker and Libraries:
    ld='cc', ldflags =' -L/usr/local/lib'
    libpth=/usr/local/lib /lib/x86_64-linux-gnu /lib/../lib /usr/lib/x86_64-linux-gnu /usr/lib/../lib /lib /usr/lib
    libs=-lnsl -lgdbm -ldb -ldl -lm -lcrypt -lutil -lpthread -lc -lgdbm_compat
    perllibs=-lnsl -ldl -lm -lcrypt -lutil -lpthread -lc -lgdbm_compat
    libc=libc-2.19.so, so=so, useshrplib=false, libperl=libperl.a
    gnulibc_version='2.19'
  Dynamic Linking:
    dlsrc=dl_dlopen.xs, dlext=so, d_dlsymun=undef, ccdlflags='-Wl,-E'
    cccdlflags='-fpic', lddlflags='-shared -L/usr/local/lib'


Characteristics of this binary (from libperl): 
  Compile-time options: MULTIPLICITY USE_ITHREADS USE_64_BIT_INT USE_64_BIT_ALL USE_LARGE_FILES PERL_IMPLICIT_CONTEXT
  Built under linux
  Compiled at Nov 15 2014 03:29:48
  %ENV:
    PERL5LIB=""
    PERL5OPT=""
    PERL5_CPANPLUS_IS_RUNNING="19600"
    PERL5_CPAN_IS_RUNNING="19600"
    PERLBREW_BASHRC_VERSION="0.75"
    PERLBREW_HOME="/home/njh/.perlbrew"
    PERLBREW_LIB=""
    PERLBREW_MANPATH="/home/njh/perl5/perlbrew/perls/perl-5.8.6/man"
    PERLBREW_PATH="/home/njh/perl5/perlbrew/bin:/home/njh/perl5/perlbrew/perls/perl-5.8.6/bin"
    PERLBREW_PERL="perl-5.8.6"
    PERLBREW_ROOT="/home/njh/perl5/perlbrew"
    PERLBREW_VERSION="0.75"
    PERL_LOCAL_LIB_ROOT=""
  @INC:
    /home/njh/perl5/perlbrew/perls/perl-5.8.6/lib/5.8.6/x86_64-linux-thread-multi
    /home/njh/perl5/perlbrew/perls/perl-5.8.6/lib/5.8.6
    /home/njh/perl5/perlbrew/perls/perl-5.8.6/lib/site_perl/5.8.6/x86_64-linux-thread-multi
    /home/njh/perl5/perlbrew/perls/perl-5.8.6/lib/site_perl/5.8.6
    /home/njh/perl5/perlbrew/perls/perl-5.8.6/lib/site_perl
    .