IO-Socket-SSL v2.085 Perl 5 v5.36.3 arm64-freebsd-thread-multi
- Status
- Pass
- From
- Slaven Rezić
- Dist
-
IO-Socket-SSL v2.085
- Platform
- Perl 5 v5.36.3 arm64-freebsd-thread-multi
- Date
- 2024-01-22 20:41:12
- ID
- 94581cdc-b966-11ee-8c16-41506e8775ea
This distribution has been tested as part of the CPAN Testers
project, supporting the Perl programming language. See
http://wiki.cpantesters.org/ for more information or email
questions to cpan-testers-discuss@perl.org
--
Dear Steffen Ullrich,
This is a computer-generated report for IO-Socket-SSL-2.085
on perl 5.36.3, created by CPAN-Reporter-1.2018.
Thank you for uploading your work to CPAN. Congratulations!
All tests were successful.
Sections of this report:
* Tester comments
* Program output
* Prerequisites
* Environment and other context
------------------------------
TESTER COMMENTS
------------------------------
Additional comments from tester:
none provided
------------------------------
PROGRAM OUTPUT
------------------------------
Output from '/usr/bin/make test':
PERL_DL_NONLAZY=1 "/usr/local/bin/perl" "-MExtUtils::Command::MM" "-MTest::Harness" "-e" "undef *Test::Harness::Switches; test_harness(0, 'blib/lib', 'blib/arch')" t/*.t t/external/*.t
# openssl version compiled=0x300000c0 linked=0x300000c0 -- OpenSSL 3.0.12 24 Oct 2023
# Net::SSLeay version=1.92
# parent IO::Socket::IP version=0.42
t/01loadmodule.t .................. ok
t/acceptSSL-timeout.t ............. ok
t/alpn.t .......................... ok
t/auto_verify_hostname.t .......... ok
t/cert_formats.t .................. ok
t/cert_no_file.t .................. ok
t/compatibility.t ................. ok
t/connectSSL-timeout.t ............ ok
t/core.t .......................... ok
t/dhe.t ........................... ok
t/ecdhe.t ......................... ok
# tcp connect to www.chksum.de:443 ok
# fingerprint matches
# validation with default CA w/o OCSP ok
# got stapled response as expected
# validation with default CA with OCSP defaults ok
# validation with default CA with OCSP full chain ok
# tcp connect to www.bild.de:443 ok
# fingerprint matches
# validation with default CA w/o OCSP ok
# validation with default CA with OCSP defaults ok
# validation with default CA with OCSP full chain ok
# tcp connect to revoked.grc.com:443 ok
t/external/ocsp.t ................. ok
# found 140 CA certs
# have root CA for www.bild.de in store
# 5 connections to www.bild.de ok
# have root CA for www.yahoo.com in store
# 5 connections to www.yahoo.com ok
# fingerprint www.yahoo.com matches
# have root CA for www.comdirect.de in store
# 5 connections to www.comdirect.de ok
# fingerprint www.comdirect.de matches
# have root CA for meine.deutsche-bank.de in store
# 5 connections to meine.deutsche-bank.de ok
# fingerprint meine.deutsche-bank.de matches
# have root CA for www.twitter.com in store
# 5 connections to www.twitter.com ok
# fingerprint www.twitter.com matches
# have root CA for www.facebook.com in store
# 5 connections to www.facebook.com ok
# fingerprint www.facebook.com matches
# have root CA for www.live.com in store
# 5 connections to www.live.com ok
# fingerprint www.live.com matches
t/external/usable_ca.t ............ ok
t/io-socket-inet6.t ............... ok
t/io-socket-ip.t .................. ok
t/memleak_bad_handshake.t ......... ok
t/mitm.t .......................... ok
t/multiple-cert-rsa-ecc.t ......... ok
t/nonblock.t ...................... ok
t/npn.t ........................... ok
# -- test: newINET start_SSL stop_SSL start_SSL
# server accepted new client
# wait for initial data from client
# got 0x666f6f from client
# server: got plain data at start of connection
# server: TLS upgrade
# server: TLS downgrade
# server: TLS upgrade#2
# -- test: newSSL stop_SSL connect_SSL
# server accepted new client
# wait for initial data from client
# got 0x160301 from client
# server: TLS upgrade
# server: TLS downgrade
# server: TLS upgrade#2
# -- test: newSSL:0 connect_SSL stop_SSL connect_SSL
# server accepted new client
# wait for initial data from client
# got 0x666f6f from client
# server: got plain data at start of connection
# server: TLS upgrade
# server: TLS downgrade
# server: TLS upgrade#2
# -- test: newSSL:0 start_SSL stop_SSL connect_SSL
# server accepted new client
# wait for initial data from client
# got 0x666f6f from client
# server: got plain data at start of connection
# server: TLS upgrade
# server: TLS downgrade
# server: TLS upgrade#2
# server accepted new client
# wait for initial data from client
# got 0x656e64 from client
# client requested end of tests
t/plain_upgrade_downgrade.t ....... ok
# looks like OpenSSL was compiled without SSLv3 support
t/protocol_version.t .............. ok
t/public_suffix_lib_encode_idn.t .. ok
t/public_suffix_lib_libidn.t ...... ok
t/public_suffix_lib_uri.t ......... ok
t/public_suffix_ssl.t ............. ok
t/readline.t ...................... ok
t/session_cache.t ................. ok
# listen at 127.0.0.1:55577
# listen at 127.0.0.1:40769
# connect to 0: success reuse=0 version=TLSv1_3
# connect to 0: success reuse=1 version=TLSv1_3
# connect to 1: success reuse=1 version=TLSv1_3
# connect to 1: success reuse=0 version=TLSv1_3
# connect to 0: success reuse=0 version=TLSv1_3
# connect to 0: success reuse=1 version=TLSv1_3
t/session_ticket.t ................ ok
t/sessions.t ...................... ok
t/set_curves.t .................... ok
t/signal-readline.t ............... ok
t/sni.t ........................... ok
t/sni_verify.t .................... ok
t/start-stopssl.t ................. ok
t/startssl-failed.t ............... ok
t/startssl.t ...................... ok
t/sysread_write.t ................. ok
t/verify_fingerprint.t ............ ok
t/verify_hostname.t ............... ok
t/verify_hostname_standalone.t .... ok
t/verify_partial_chain.t .......... ok
All tests successful.
Files=42, Tests=818, 54 wallclock secs ( 0.27 usr 0.12 sys + 10.11 cusr 1.34 csys = 11.84 CPU)
Result: PASS
------------------------------
PREREQUISITES
------------------------------
Prerequisite modules loaded:
requires:
Module Need Have
------------------- ---- --------
Mozilla::CA 0 20231213
Net::SSLeay 1.46 1.92
Scalar::Util 0 1.62
build_requires:
Module Need Have
------------------- ---- --------
ExtUtils::MakeMaker 0 7.64
configure_requires:
Module Need Have
------------------- ---- --------
ExtUtils::MakeMaker 0 7.64
Net::SSLeay 1.46 1.92
------------------------------
ENVIRONMENT AND OTHER CONTEXT
------------------------------
Environment variables:
LANG = C.UTF-8
PATH = /usr/local/bin:/usr/bin:/bin:/usr/local/sbin:/usr/sbin:/sbin:/home/cpansand/bin/sh:/home/cpansand/bin:/usr/games:/home/cpansand/devel:/home/eserte/src/srezic-misc/scripts
PERL5LIB =
PERL5OPT =
PERL5_CPANPLUS_IS_RUNNING = 23453
PERL5_CPAN_IS_RUNNING = 23453
PERL5_CPAN_IS_RUNNING_IN_RECURSION = 10697,23453
PERL_BATCH = yes
PERL_CANARY_STABILITY_NOPROMPT = 1
PERL_CPAN_REPORTER_CONFIG = /var/tmp/cpansmoker-1023/2024012219/cpanreporter_000_config.ini
PERL_EXTUTILS_AUTOINSTALL = --defaultdeps
PERL_USE_UNSAFE_INC = 1
SHELL = /bin/sh
TMPDIR = /var/tmp/cpansmoker-1023/2024012219
Perl special variables (and OS-specific diagnostics, for MSWin32):
$^X = /usr/local/bin/perl
$UID/$EUID = 1023 / 1023
$GID = 1023 1023
$EGID = 1023 1023
Perl module toolchain versions installed:
Module Have
------------------- --------
CPAN 2.33
CPAN::Meta 2.150010
Cwd 3.84
ExtUtils::CBuilder 0.280236
ExtUtils::Command 7.64
ExtUtils::Install 2.20
ExtUtils::MakeMaker 7.64
ExtUtils::Manifest 1.73
ExtUtils::ParseXS 3.45
File::Spec 3.84
JSON n/a
JSON::PP 4.07
Module::Build n/a
Module::Signature n/a
Parse::CPAN::Meta 2.150010
Test::Harness 3.44
Test::More 1.302190
YAML n/a
YAML::Syck 1.34
version 0.9929
--
Summary of my perl5 (revision 5 version 36 subversion 3) configuration:
Platform:
osname=freebsd
osvers=14.0-release-p3
archname=arm64-freebsd-thread-multi
uname='freebsd 140arm64-default-job-03 14.0-release-p3 freebsd 14.0-release-p3 arm64 '
config_args='-Accflags=-DUSE_THREAD_SAFE_LOCALE -Darchlib=/usr/local/lib/perl5/5.36/mach -Dcc=cc -Dcf_by=mat -Dcf_email=mat@FreeBSD.org -Dcf_time=Wed Nov 29 16:10:26 UTC 2023 -Dinc_version_list=none -Dlibperl=libperl.so.5.36.3 -Dman1dir=/usr/local/lib/perl5/5.36/perl/man/man1 -Dman3dir=/usr/local/lib/perl5/5.36/perl/man/man3 -Dprefix=/usr/local -Dprivlib=/usr/local/lib/perl5/5.36 -Dscriptdir=/usr/local/bin -Dsitearch=/usr/local/lib/perl5/site_perl/mach/5.36 -Dsitelib=/usr/local/lib/perl5/site_perl -Dsiteman1dir=/usr/local/lib/perl5/site_perl/man/man1 -Dsiteman3dir=/usr/local/lib/perl5/site_perl/man/man3 -Dusenm=n -Duseshrplib -sde -Ui_iconv -Ui_malloc -Uinstallusrbinperl -Alddlflags=-L/wrkdirs/usr/ports/lang/perl5.36/work/perl-5.36.3 -L/usr/local/lib/perl5/5.36/mach/CORE -lperl -Dshrpldflags=$(LDDLFLAGS:N-L/wrkdirs/usr/ports/lang/perl5.36/work/perl-5.36.3:N-L/usr/local/lib/perl5/5.36/mach/CORE:N-lperl) -Wl,-soname,$(LIBPERL:R) -Doptimize=-O2 -pipe -fstack-protector-strong -fno-strict-aliasing -Uusedtrace -Ui_gdbm -Dusemultiplicity=y -Duse64bitint -Dusemymalloc=n -Dusethreads=y'
hint=recommended
useposix=true
d_sigaction=define
useithreads=define
usemultiplicity=define
use64bitint=define
use64bitall=define
uselongdouble=undef
usemymalloc=n
default_inc_excludes_dot=define
Compiler:
cc='cc'
ccflags ='-DHAS_FPSETMASK -DHAS_FLOATINGPOINT_H -DUSE_THREAD_SAFE_LOCALE -fno-strict-aliasing -pipe -fstack-protector-strong -I/usr/local/include'
optimize='-O2 -pipe -fstack-protector-strong -fno-strict-aliasing '
cppflags='-DHAS_FPSETMASK -DHAS_FLOATINGPOINT_H -DUSE_THREAD_SAFE_LOCALE -fno-strict-aliasing -pipe -fstack-protector-strong -I/usr/local/include'
ccversion=''
gccversion='FreeBSD Clang 16.0.6 (https://github.com/llvm/llvm-project.git llvmorg-16.0.6-0-g7cbf1a259152)'
gccosandvers=''
intsize=4
longsize=8
ptrsize=8
doublesize=8
byteorder=12345678
doublekind=3
d_longlong=define
longlongsize=8
d_longdbl=define
longdblsize=16
longdblkind=1
ivtype='long'
ivsize=8
nvtype='double'
nvsize=8
Off_t='off_t'
lseeksize=8
alignbytes=8
prototype=define
Linker and Libraries:
ld='cc'
ldflags ='-pthread -Wl,-E -fstack-protector-strong -L/usr/local/lib'
libpth=/usr/lib /usr/local/lib /usr/lib/clang/16/lib
libs=-ldl -lm -lcrypt -lutil
perllibs=-ldl -lm -lcrypt -lutil
libc=
so=so
useshrplib=true
libperl=libperl.so.5.36.3
gnulibc_version=''
Dynamic Linking:
dlsrc=dl_dlopen.xs
dlext=so
d_dlsymun=undef
ccdlflags=' -Wl,-R/usr/local/lib/perl5/5.36/mach/CORE'
cccdlflags='-DPIC -fPIC'
lddlflags='-shared -L/usr/local/lib/perl5/5.36/mach/CORE -lperl -L/usr/local/lib -fstack-protector-strong'
Characteristics of this binary (from libperl):
Compile-time options:
HAS_TIMES
MULTIPLICITY
PERLIO_LAYERS
PERL_COPY_ON_WRITE
PERL_DONT_CREATE_GVSV
PERL_MALLOC_WRAP
PERL_OP_PARENT
PERL_PRESERVE_IVUV
USE_64_BIT_ALL
USE_64_BIT_INT
USE_ITHREADS
USE_LARGE_FILES
USE_LOCALE
USE_LOCALE_COLLATE
USE_LOCALE_CTYPE
USE_LOCALE_NUMERIC
USE_LOCALE_TIME
USE_PERLIO
USE_PERL_ATOF
USE_REENTRANT_API
USE_THREAD_SAFE_LOCALE
Built under freebsd
%ENV:
PERL5LIB=""
PERL5OPT=""
PERL5_CPANPLUS_IS_RUNNING="23453"
PERL5_CPAN_IS_RUNNING="23453"
PERL5_CPAN_IS_RUNNING_IN_RECURSION="10697,23453"
PERL_BATCH="yes"
PERL_CANARY_STABILITY_NOPROMPT="1"
PERL_CPAN_REPORTER_CONFIG="/var/tmp/cpansmoker-1023/2024012219/cpanreporter_000_config.ini"
PERL_EXTUTILS_AUTOINSTALL="--defaultdeps"
PERL_USE_UNSAFE_INC="1"
@INC:
/usr/local/lib/perl5/site_perl/mach/5.36
/usr/local/lib/perl5/site_perl
/usr/local/lib/perl5/5.36/mach
/usr/local/lib/perl5/5.36
.