LWP-Protocol-https v6.14 Perl 5 v5.24.1 amd64-freebsd
- Status
- Pass
- From
- Slaven Rezić
- Dist
-
LWP-Protocol-https v6.14
- Platform
- Perl 5 v5.24.1 amd64-freebsd
- Date
- 2024-03-11 04:19:40
- ID
- 942f6a4e-df5e-11ee-aa67-b7fb6d8775ea
This distribution has been tested as part of the CPAN Testers
project, supporting the Perl programming language. See
http://wiki.cpantesters.org/ for more information or email
questions to cpan-testers-discuss@perl.org
--
Dear Olaf Alders,
This is a computer-generated report for LWP-Protocol-https-6.14
on perl 5.24.1, created by CPAN-Reporter-1.2019.
Thank you for uploading your work to CPAN. Congratulations!
All tests were successful.
Sections of this report:
* Tester comments
* Program output
* Prerequisites
* Environment and other context
------------------------------
TESTER COMMENTS
------------------------------
Additional comments from tester:
none provided
------------------------------
PROGRAM OUTPUT
------------------------------
Output from '/usr/bin/make test':
PERL_DL_NONLAZY=1 "/usr/perl5.24.1p/bin/perl5.24.1" "-MExtUtils::Command::MM" "-MTest::Harness" "-e" "undef *Test::Harness::Switches; test_harness(0, 'blib/lib', 'blib/arch')" t/*.t
#
# Versions for all modules listed in MYMETA.json (including optional ones):
#
# === Configure Requires ===
#
# Module Want Have
# ------------------- -------- --------
# ExtUtils::MakeMaker any 7.70
# perl 5.008001 5.024001
#
# === Configure Suggests ===
#
# Module Want Have
# -------- ------- ----
# JSON::PP 2.27300 4.16
#
# === Build Requires ===
#
# Module Want Have
# ------------------- ---- ----
# ExtUtils::MakeMaker any 7.70
#
# === Test Requires ===
#
# Module Want Have
# ---------------------- -------- --------
# ExtUtils::MakeMaker any 7.70
# File::Spec any 3.75
# File::Temp any 0.2311
# IO::Select any 1.55
# IO::Socket::INET any 1.55
# IO::Socket::SSL 1.970 2.081
# IO::Socket::SSL::Utils any 2.015
# LWP::UserAgent 6.06 6.72
# Socket any 2.037
# Test::More 0.96 1.302198
# Test::Needs 0.002010 0.002010
# Test::RequiresInternet any 0.05
# perl 5.008001 5.024001
# warnings any 1.36
#
# === Test Recommends ===
#
# Module Want Have
# ---------- -------- --------
# CPAN::Meta 2.120900 2.150010
#
# === Runtime Requires ===
#
# Module Want Have
# ------------------- -------- --------
# IO::Socket::SSL 1.970 2.081
# LWP::Protocol::http any 6.72
# LWP::UserAgent 6.06 6.72
# Net::HTTPS 6 6.22
# base any 2.23
# perl 5.008001 5.024001
# strict any 1.11
#
# === Other Modules ===
#
# Module Have
# ----------- ----
# Net::SSLeay 1.94
#
t/00-report-prereqs.t .. ok
# path to openssl: /usr/local/bin/openssl
# stdout: OpenSSL 1.0.2j 26 Sep 2016
# stderr: WARNING: can't open config file: /usr/local/openssl/openssl.cnf
# Net::SSLeay::OPENSSL_VERSION_NUMBER() 0x100020af
# IO::Select 1.55
# IO::Socket::INET 1.55
# IO::Socket::SSL 2.081
# IO::Socket::SSL::Utils 2.015
# Socket 2.037
t/diag.t ............... ok
t/example.t ............ ok
t/https_proxy.t ........ ok
All tests successful.
Files=4, Tests=62, 3 wallclock secs ( 0.01 usr 0.02 sys + 0.54 cusr 0.34 csys = 0.91 CPU)
Result: PASS
------------------------------
PREREQUISITES
------------------------------
Prerequisite modules loaded:
requires:
Module Need Have
---------------------- -------- --------
base 0 2.23
IO::Socket::SSL 1.970 2.081
LWP::Protocol::http 0 6.72
LWP::UserAgent 6.06 6.72
Net::HTTPS 6 6.22
perl 5.008001 5.024001
strict 0 1.11
build_requires:
Module Need Have
---------------------- -------- --------
ExtUtils::MakeMaker 0 7.70
File::Spec 0 3.75
File::Temp 0 0.2311
IO::Select 0 1.55
IO::Socket::INET 0 1.55
IO::Socket::SSL 1.970 2.081
IO::Socket::SSL::Utils 0 2.015
LWP::UserAgent 6.06 6.72
Socket 0 2.037
Test::More 0.96 1.302198
Test::Needs 0.002010 0.002010
Test::RequiresInternet 0 0.05
warnings 0 1.36
configure_requires:
Module Need Have
---------------------- -------- --------
ExtUtils::MakeMaker 0 7.70
perl 5.008001 5.024001
------------------------------
ENVIRONMENT AND OTHER CONTEXT
------------------------------
Environment variables:
LC_ALL = de_DE.ISO8859-1
PATH = /usr/local/bin:/usr/bin:/bin:/usr/local/sbin:/usr/sbin:/sbin:/home/cpansand/bin/freebsd10.3:/home/cpansand/bin/sh:/home/cpansand/bin:/usr/games:/home/cpansand/devel:/home/eserte/src/srezic-misc/scripts
PERL5LIB =
PERL5OPT =
PERL5_CPANPLUS_IS_RUNNING = 22809
PERL5_CPAN_IS_RUNNING = 22809
PERL5_CPAN_IS_RUNNING_IN_RECURSION = 17301,22809
PERLDOC = -MPod::Perldoc::ToTextOverstrike
PERL_BATCH = yes
PERL_CANARY_STABILITY_NOPROMPT = 1
PERL_CPAN_REPORTER_CONFIG = /var/tmp/cpansmoker-1023/2024031105/cpanreporter_000_config.ini
PERL_EXTUTILS_AUTOINSTALL = --defaultdeps
PERL_USE_UNSAFE_INC = 1
SHELL = /usr/local/bin/zsh
TERM = screen
TMPDIR = /var/tmp/cpansmoker-1023/2024031105
Perl special variables (and OS-specific diagnostics, for MSWin32):
$^X = /usr/perl5.24.1p/bin/perl5.24.1
$UID/$EUID = 1023 / 1023
$GID = 1023 1023
$EGID = 1023 1023
Perl module toolchain versions installed:
Module Have
------------------- --------
CPAN 2.34
CPAN::Meta 2.150010
Cwd 3.75
ExtUtils::CBuilder 0.280236
ExtUtils::Command 7.70
ExtUtils::Install 2.22
ExtUtils::MakeMaker 7.70
ExtUtils::Manifest 1.75
ExtUtils::ParseXS 3.51
File::Spec 3.75
JSON 4.10
JSON::PP 4.16
Module::Build 0.4234
Module::Signature 0.87
Parse::CPAN::Meta 2.150010
Test2 1.302198
Test::Harness 3.47
Test::More 1.302198
YAML 1.30
YAML::Syck 1.34
version 0.9930
--
Summary of my perl5 (revision 5 version 24 subversion 1) configuration:
Platform:
osname=freebsd, osvers=10.1-release, archname=amd64-freebsd
uname='freebsd cvrsnica-freebsd-101.herceg.de 10.1-release freebsd 10.1-release #0 r274401: tue nov 11 21:02:49 utc 2014 root@releng1.nyi.freebsd.org:usrobjusrsrcsysgeneric amd64 '
config_args='-ds -e -Dprefix=/usr/perl5.24.1p -Dcf_email=srezic@cpan.org -Doptimize=-O2 -pipe'
hint=recommended, useposix=true, d_sigaction=define
useithreads=undef, usemultiplicity=undef
use64bitint=define, use64bitall=define, uselongdouble=undef
usemymalloc=n, bincompat5005=undef
Compiler:
cc='cc', ccflags ='-DHAS_FPSETMASK -DHAS_FLOATINGPOINT_H -fno-strict-aliasing -pipe -fstack-protector -I/usr/local/include -D_FORTIFY_SOURCE=2',
optimize='-O2 -pipe',
cppflags='-DHAS_FPSETMASK -DHAS_FLOATINGPOINT_H -fno-strict-aliasing -pipe -fstack-protector -I/usr/local/include'
ccversion='', gccversion='4.2.1 Compatible FreeBSD Clang 3.4.1 (tags/RELEASE_34/dot1-final 208032)', gccosandvers=''
intsize=4, longsize=8, ptrsize=8, doublesize=8, byteorder=12345678, doublekind=3
d_longlong=define, longlongsize=8, d_longdbl=define, longdblsize=16, longdblkind=3
ivtype='long', ivsize=8, nvtype='double', nvsize=8, Off_t='off_t', lseeksize=8
alignbytes=8, prototype=define
Linker and Libraries:
ld='cc', ldflags ='-pthread -Wl,-E -fstack-protector -L/usr/local/lib'
libpth=/usr/lib /usr/local/lib /usr/include/clang/3.4.1 /usr/lib
libs=-lpthread -lgdbm -lm -lcrypt -lutil -lc
perllibs=-lpthread -lm -lcrypt -lutil -lc
libc=, so=so, useshrplib=false, libperl=libperl.a
gnulibc_version=''
Dynamic Linking:
dlsrc=dl_dlopen.xs, dlext=so, d_dlsymun=undef, ccdlflags=' '
cccdlflags='-DPIC -fPIC', lddlflags='-shared -L/usr/local/lib -fstack-protector'
Characteristics of this binary (from libperl):
Compile-time options: HAS_TIMES PERLIO_LAYERS PERL_COPY_ON_WRITE
PERL_DONT_CREATE_GVSV
PERL_HASH_FUNC_ONE_AT_A_TIME_HARD PERL_MALLOC_WRAP
PERL_PRESERVE_IVUV USE_64_BIT_ALL USE_64_BIT_INT
USE_LARGE_FILES USE_LOCALE USE_LOCALE_COLLATE
USE_LOCALE_CTYPE USE_LOCALE_NUMERIC USE_LOCALE_TIME
USE_PERLIO USE_PERL_ATOF
Built under freebsd
Compiled at Jan 15 2017 11:45:26
%ENV:
PERL5LIB=""
PERL5OPT=""
PERL5_CPANPLUS_IS_RUNNING="22809"
PERL5_CPAN_IS_RUNNING="22809"
PERL5_CPAN_IS_RUNNING_IN_RECURSION="17301,22809"
PERLDOC="-MPod::Perldoc::ToTextOverstrike"
PERL_BATCH="yes"
PERL_CANARY_STABILITY_NOPROMPT="1"
PERL_CPAN_REPORTER_CONFIG="/var/tmp/cpansmoker-1023/2024031105/cpanreporter_000_config.ini"
PERL_EXTUTILS_AUTOINSTALL="--defaultdeps"
PERL_USE_UNSAFE_INC="1"
@INC:
/usr/perl5.24.1p/lib/site_perl/5.24.1/amd64-freebsd
/usr/perl5.24.1p/lib/site_perl/5.24.1
/usr/perl5.24.1p/lib/5.24.1/amd64-freebsd
/usr/perl5.24.1p/lib/5.24.1
.