Acme-TLDR v0.004 Perl 5 v5.43.2 amd64-midnightbsd

Status
Pass
From
Carlos Guevara
Dist
Acme-TLDR v0.004
Platform
Perl 5 v5.43.2 amd64-midnightbsd
Date
2025-07-29 10:27:07
ID
940dfab2-6c66-11f0-a80f-a174a378b0c8
This distribution has been tested as part of the CPAN Testers
project, supporting the Perl programming language.  See
http://wiki.cpantesters.org/ for more information or email
questions to cpan-testers-discuss@perl.org


--
Dear Stanislaw Pusep,

This is a computer-generated report for Acme-TLDR-0.004
on perl 5.43.2, created by CPAN-Reporter-1.2020.

Thank you for uploading your work to CPAN.  Congratulations!
All tests were successful.

Sections of this report:

    * Tester comments
    * Program output
    * Prerequisites
    * Environment and other context

------------------------------
TESTER COMMENTS
------------------------------

Additional comments from tester:

this report is from an automated smoke testing program
and was not reviewed by a human for accuracy

------------------------------
PROGRAM OUTPUT
------------------------------

Output from '/usr/bin/make test':

PERL_DL_NONLAZY=1 "/usr/home/cpan/bin/perl/bin/perl5.43.2" "-MExtUtils::Command::MM" "-MTest::Harness" "-e" "undef *Test::Harness::Switches; test_harness(0, 'blib/lib', 'blib/arch')" t/*.t
t/00-compile.t ............... ok
Version string '1.2 ' contains invalid data; ignoring: ' ' at /home/cpan/bin/perl/lib/5.43.2/ExtUtils/MM_Unix.pm line 3048.
# Acme::TLDR v0.004, Perl 5.043002, /usr/home/cpan/bin/perl/bin/perl5.43.2
t/00-load.t .................. ok
ExtUtils::Installed cache: /home/cpan/.Acme-TLDR-6ac586234ffdb8c3537b4fead5d79bc6.cache
no cache found; generating
Version string '1.2 ' contains invalid data; ignoring: ' ' at /home/cpan/bin/perl/lib/5.43.2/ExtUtils/MM_Unix.pm line 3048.
AWS-Signature4                                                   => AWS-S4
Acme::Anything                                                   => A::A
Acme::Beamerang::Logger                                          => A::B::L
Acme::Bleach::Numerically                                        => A::B::N
Acme::CPANAuthors                                                => A::CPANA
Acme::CPANAuthors::CPANTS::FiveOrMore                            => A::CPANA::CPANTS::FOrM
Acme::CPANAuthors::CodeRepos                                     => A::CPANA::CR
Acme::CPANModulesUtil::Bencher                                   => A::CPANMU::B
Acme::Collector64                                                => A::C64
Acme::Constructor::Pythonic                                      => A::C::P
Acme::Current::Forever                                           => A::C::F
Acme::Damn                                                       => A::D
Acme::Everything                                                 => A::E
Acme::Frog                                                       => A::F
Acme::Futuristic::Perl                                           => A::F::P
Acme::Given::Hash                                                => A::G::H
Acme::Hidek                                                      => A::H
Acme::Insult::Pirate                                             => A::I::P
Acme::JavaTrace                                                  => A::JT
Acme::KMX::Test                                                  => A::KMX::T
Acme::Lambda::Expr                                               => A::L::E
Acme::Math::PerfectChristmasTree                                 => A::M::PCT
Acme::Meta                                                       => A::M
Acme::MetaSyntactic                                              => A::MS
Acme::MetaSyntactic::Themes::Abigail                             => A::MS::T::A
Acme::MetaSyntactic::errno                                       => A::MS::e
Acme::Ognon                                                      => A::O
Acme::POE::Acronym::Generator                                    => A::POE::A::G
Acme::Perl::Consensual                                           => A::P::C
Acme::Playwright                                                 => A::P
Acme::PrettyCure                                                 => A::PC
Acme::RandomEmoji                                                => A::RE
Acme::Scurvy::Whoreson::BilgeRat                                 => A::S::W::BRat
Acme::Scurvy::Whoreson::BilgeRat::Backend::insultserver          => A::S::W::BRat::B::i
Acme::Takahashi::Method                                          => A::T::M
Acme::Terror::AU                                                 => A::T::AU
Acme::Ukrop                                                      => A::U
Acme::UseStrict                                                  => A::UseS
Acme::Vuvuzela                                                   => A::V
Acme::please                                                     => A::p
Acme::this                                                       => A::t
Action::Retry                                                    => A::R
Adapter::Async                                                   => *undef*
Algorithm::Backoff                                               => A::B
Algorithm::C3                                                    => A::C3
Algorithm::ClusterPoints                                         => A::CP
Algorithm::Combinatorics                                         => A::C
Algorithm::CurveFit                                              => A::CFit
Algorithm::Dependency                                            => *undef*
Algorithm::Diff                                                  => *undef*
Algorithm::Diff::Callback                                        => A::D::C
Algorithm::Diff::JSON                                            => A::D::JSON
Algorithm::Evolutionary::Fitness                                 => A::E::F
Algorithm::Evolutionary::Utils                                   => A::E::U
Algorithm::Loops                                                 => A::L
Algorithm::NaiveBayes                                            => A::NB
Algorithm::Permute                                               => *undef*
Algorithm::SkipList                                              => A::SL
Algorithm::SlopeOne                                              => A::SOne
Algorithm::SpatialIndex                                          => A::SI
Alien::Build                                                     => *undef*
Alien::Build::Plugin::Download::GitLab                           => A::B::P::D::GitLab
Alien::GMP                                                       => A::GMP
Alien::Libxml2                                                   => A::L2
Alien::cmake3                                                    => A::c3
Alien::libtermkey                                                => A::l
Alien::libtickit                                                 => *undef*
Amiga::ARexx                                                     => A::AR
Amiga::Exec                                                      => *undef*
Amon2                                                            => A2
Amon2::DBI                                                       => A2::DBI
Amon2::Lite                                                      => A2::L
Amon2::Plugin::LogDispatch                                       => A2::P::LogD
Amon2::Plugin::Web::CSRFDefender                                 => A2::P::Web::CSRFD
Amon2::Plugin::Web::HTTPSession                                  => A2::P::Web::HTTPS
Anonymous::Object                                                => *undef*
Any::Moose                                                       => Any::M
Any::URI::Escape                                                 => Any::URI::E
AnyDBM_File                                                      => AnyDBM_F
Apache2::AuthzCaps                                               => A2::AC
Apache::ConfigParser                                             => *undef*
Apache::LogFormat::Compiler                                      => A::LogF::C
Apachish::Examples                                               => *undef*
App::BCVI::InstallManager                                        => App::BCVI::IM
App::BCVI::NotifyClient                                          => App::BCVI::NC
App::BarnesNoble::WishListMinder                                 => App::BN::WLM
App::Base                                                        => App::B
App::Base64                                                      => App::B64
App::CPAN::Fresh                                                 => App::CPAN::F
App::CPANModuleSite                                              => App::CPANMS
App::Cache                                                       => App::C
App::Colorist                                                    => *undef*
App::Cpan                                                        => *undef*
App::DPath                                                       => App::DP
App::Devbot                                                      => App::D
App::Easer                                                       => App::E
App::EvalServer                                                  => App::ES
App::FatPacker                                                   => App::FatP
App::Git::Info                                                   => App::Git::I
App::Git::SitePerl                                               => App::Git::SP
App::JSON::Tools                                                 => App::JSON::T
App::KeePass2                                                    => App::KeeP2
App::Nopaste                                                     => App::N
App::Nopaste::Service::AnyPastebin                               => App::N::S::AnyP
App::Nopaste::Service::Linode                                    => App::N::S::L
App::Nopaste::Service::Mathbin                                   => App::N::S::M
App::Office::Contacts                                            => App::O::C
App::Physics::ParticleMotion                                     => App::P::PM
App::PipeFilter                                                  => App::PF
App::Prove                                                       => App::P
App::Prove::Plugin::SetEnv                                       => App::P::P::SetEnv
App::Prove::State                                                => App::P::S
App::Prove::State::Result                                        => App::P::S::R
App::Prove::State::Result::Test                                  => App::P::S::R::T
App::RegexFileUtils                                              => App::RFU
App::SVN::Bisect                                                 => App::SVN::B
App::ShellCompleter::cpanm                                       => App::SC::c
App::ShellCompleter::perlbrew                                    => App::SC::p
App::SlideServer                                                 => App::SS
App::ThisDist                                                    => App::TD
App::Ttyrec                                                      => App::T
App::Whatsit                                                     => App::W
App::Ylastic::CostAgent                                          => App::Y::CA
App::cpanm::script                                               => App::c::s
App::cpanminus                                                   => App::c
App::cpanminus::reporter                                         => App::c::r
App::cpantimes                                                   => *undef*
App::datasection                                                 => App::d
App::eta2zero                                                    => App::eta2
App::find2perl                                                   => App::f2
App::perlbrew                                                    => App::p
App::perlhl                                                      => *undef*
App::pmdir                                                       => *undef*
App::zipdetails                                                  => App::z
AppConfig                                                        => AppC
Archive::Any::Lite                                               => A::Any::L
Archive::Builder                                                 => *undef*
Archive::Extract                                                 => *undef*
Archive::Extract::Libarchive                                     => A::E::L
Archive::Peek                                                    => *undef*
Archive::Tar                                                     => A::Tar
Archive::Tar::Constant                                           => A::Tar::C
Archive::Tar::File                                               => A::Tar::F
Archive::Tar::Wrapper                                            => A::Tar::W
Archive::Zip                                                     => A::Zip
Ark::Plugin::Authentication                                      => Ark::P::A
Ark::Plugin::I18N                                                => Ark::P::I18N
Ark::Plugin::ReproxyCallback                                     => Ark::P::RC
Array::Diff                                                      => *undef*
Array::Group                                                     => A::G
Array::Iter                                                      => A::I
Array::Merge::Unique                                             => A::M::U
Array::OneOf                                                     => A::OneOf
Array::PrintCols                                                 => *undef*
Array::Sample::SysRand                                           => A::S::SysR
Array::Sample::WeightedRandom                                    => A::S::WR
Array::Window                                                    => A::W
Ascii::Text                                                      => A::T
Ascii::Text::Image                                               => A::T::I
Asm::Z80::Table                                                  => Asm::Z80::T
Aspect::Library::NYTProf                                         => A::L::NYTP
Aspect::Library::Timer                                           => A::L::T
Astro::Coord::Constellations                                     => A::C::C
Astro::Coord::Precession                                         => *undef*
Astro::FITS::Header                                              => A::FITS::H
Astro::Funtools::Parse                                           => *undef*
Astro::Utils                                                     => *undef*
Async::Group                                                     => *undef*
Async::Interrupt                                                 => *undef*
Async::MergePoint                                                => A::MP
Attribute::Benchmark                                             => *undef*
Attribute::Contract                                              => *undef*
Attribute::Deprecated                                            => *undef*
Attribute::Handlers                                              => *undef*
Attribute::RecordCallers                                         => A::RC
Attribute::Util                                                  => *undef*
Authen::DecHpwd                                                  => A::DecH
Authen::Htpasswd                                                 => *undef*
Authen::NTLM                                                     => A::NTLM
Authen::Passphrase                                               => *undef*
Authen::Passphrase::SaltedSHA512                                 => A::P::SSHA512
Authen::SASL                                                     => A::SASL
Authen::SASL::SASLprep                                           => A::SASL::SASL
Authen::Simple                                                   => A::S
Authen::Simple::DBM                                              => A::S::DBM
Authen::Simple::Gmail                                            => A::S::G
Authen::Simple::Passwd                                           => A::S::P
Authen::Simple::SSH                                              => A::S::SSH
AutoLoader                                                       => AL
AutoSplit                                                        => AS
B::CallChecker                                                   => B::CC
B::Concise                                                       => B::C
B::Debug                                                         => B::D
B::Deparse                                                       => *undef*
B::Flags                                                         => B::F
B::Hooks::EndOfScope                                             => B::H::EndOfS
B::Hooks::OP::Annotation                                         => B::H::OP::A
B::Hooks::OP::Check                                              => B::H::OP::C
B::Hooks::OP::Check::StashChange                                 => B::H::OP::C::SC
B::Hooks::Parser                                                 => B::H::P
B::Hooks::XSUB::CallAsOp                                         => B::H::XSUB::CAsOp
B::Keywords                                                      => B::K
B::OPCheck                                                       => B::OPC
B::Op_private                                                    => B::O
B::Showlex                                                       => B::S
B::Terse                                                         => B::T
B::Utils                                                         => B::U
B::Xref                                                          => B::X
BSD::Resource                                                    => BSD::R
Bad::Words                                                       => Bad::W
Bash::Completion                                                 => *undef*
Bash::Completion::Plugins::VimTag                                => B::C::P::VimTag
Beam::Emitter                                                    => B::E
Beam::Make                                                       => B::M
Beam::Runner                                                     => B::R
Beam::Service                                                    => *undef*
Beam::Wire                                                       => B::W
Benchmark::Perl::Formance::Cargo                                 => B::P::F::C
Benchmark::Perl::Formance::Plugin::PerlStone2015                 => B::P::F::P::PS2015
Benchmark::Report::GitHub                                        => B::R::GitHub
BenchmarkAnything::Config                                        => BA::C
BenchmarkAnything::Reporter                                      => BA::R
BenchmarkAnything::Storage::Search::Elasticsearch                => BA::S::S::E
Biblio-LCC                                                       => B-LCC
BikePower                                                        => BP
Bit::Fast                                                        => Bit::F
Bit::MorseSignals                                                => Bit::MS
Bit::Vector                                                      => Bit::V
Blessed::Merge                                                   => *undef*
Blog::Simple::HTMLOnly                                           => B::S::HTMLO
BorderStyle                                                      => BS
BorderStyles::Standard                                           => BS::S
Bot::BasicBot                                                    => Bot::BBot
Bot::Training                                                    => Bot::T
Bot::Training::StarCraft                                         => Bot::T::SC
Browser::Open                                                    => *undef*
Bryar::DataSource::Multiplex                                     => B::DS::M
Business::CCCheck                                                => B::CCC
Business::FO::Postalcode                                         => B::FO::P
Business::GL::Postalcode                                         => B::GL::P
Business::IBAN                                                   => B::IBAN
Business::ISBN                                                   => B::ISBN
Business::ISBN::Data                                             => B::ISBN::D
Business::PayflowPro::Reporting                                  => B::PPro::R
Business::Tax::US::Form_1040::Worksheets                         => B::Tax::US::F1040::W
Bytes::Random::Secure                                            => B::R::S
CGI::AIS::Session                                                => CGI::AIS::S
CGI::Application                                                 => CGI::A
CGI::Application::Demo::Dispatch                                 => CGI::A::D::D
CGI::Application::Dispatch                                       => CGI::A::D
CGI::Application::Plugin::ConfigAuto                             => CGI::A::P::CA
CGI::Application::Plugin::HTCompiled                             => CGI::A::P::HTC
CGI::Application::Plugin::Phrasebook                             => CGI::A::P::P
CGI::Compile                                                     => CGI::C
CGI::Echo                                                        => CGI::E
CGI::Emulate::PSGI                                               => CGI::E::PSGI
CGI::Fast                                                        => CGI::F
CGI::Form::Table                                                 => CGI::F::T
CGI::Info                                                        => CGI::I
CGI::Safe                                                        => CGI::S
CGI::Session                                                     => *undef*
CGI::Simple                                                      => *undef*
CGI::Snapp                                                       => *undef*
CGI::Snapp::Demo::Four                                           => CGI::S::D::F
CGI::Snapp::Demo::One                                            => CGI::S::D::One
CGI::Snapp::Dispatch                                             => CGI::S::D
CGI::Struct                                                      => *undef*
CGI::Test                                                        => CGI::T
CGI::Untaint                                                     => CGI::U
CGI::Untaint::email                                              => CGI::U::e
CLI::Dispatch                                                    => CLI::D
CPAN::Author                                                     => CPAN::A
CPAN::Bundle                                                     => CPAN::B
CPAN::Cache                                                      => CPAN::C
CPAN::CacheMgr                                                   => CPAN::CMgr
CPAN::Changes                                                    => *undef*
CPAN::Checksums                                                  => *undef*
CPAN::Common::Index                                              => CPAN::C::I
CPAN::Complete                                                   => *undef*
CPAN::Debug                                                      => CPAN::D
CPAN::DeferredCode                                               => CPAN::DC
CPAN::Diff                                                       => *undef*
CPAN::DistnameInfo                                               => CPAN::DI
CPAN::Distribution                                               => *undef*
CPAN::Distroprefs                                                => *undef*
CPAN::Distrostatus                                               => *undef*
CPAN::Exception::RecursiveDependency                             => CPAN::E::RD
CPAN::Exception::blocked_urllist                                 => CPAN::E::b
CPAN::Exception::yaml_not_installed                              => CPAN::E::y
CPAN::Exception::yaml_process_error                              => *undef*
CPAN::FTP::netrc                                                 => CPAN::FTP::n
CPAN::FirstTime                                                  => CPAN::FT
CPAN::HTTP::Client                                               => CPAN::HTTP::C
CPAN::HTTP::Credentials                                          => *undef*
CPAN::HandleConfig                                               => CPAN::HC
CPAN::Index                                                      => CPAN::I
CPAN::Info::FromRepoName                                         => CPAN::I::FRN
CPAN::Info::FromURL                                              => CPAN::I::FURL
CPAN::InfoObj                                                    => CPAN::IObj
CPAN::Inject                                                     => *undef*
CPAN::Kwalify                                                    => CPAN::K
CPAN::LWP::UserAgent                                             => CPAN::LWP::UA
CPAN::Meta                                                       => CPAN::M
CPAN::Meta::Check                                                => CPAN::M::C
CPAN::Meta::Converter                                            => *undef*
CPAN::Meta::Feature                                              => CPAN::M::F
CPAN::Meta::History                                              => CPAN::M::H
CPAN::Meta::Merge                                                => CPAN::M::M
CPAN::Meta::Prereqs                                              => CPAN::M::P
CPAN::Meta::Requirements                                         => CPAN::M::R
CPAN::Meta::Requirements::Range                                  => CPAN::M::R::R
CPAN::Meta::Spec                                                 => CPAN::M::S
CPAN::Meta::Validator                                            => CPAN::M::V
CPAN::Meta::YAML                                                 => CPAN::M::YAML
CPAN::Mini                                                       => *undef*
CPAN::Mini::Webserver                                            => CPAN::M::W
CPAN::Mirrors                                                    => *undef*
CPAN::Module                                                     => *undef*
CPAN::Patches                                                    => CPAN::P
CPAN::Patches::Plugin::Debian                                    => CPAN::P::P::D
CPAN::Perl::Releases                                             => CPAN::P::R
CPAN::Plugin                                                     => *undef*
CPAN::Plugin::Specfile                                           => CPAN::P::S
CPAN::Prompt                                                     => *undef*
CPAN::Queue                                                      => CPAN::Q
CPAN::Reporter                                                   => CPAN::R
CPAN::Requirements::Dynamic                                      => CPAN::R::D
CPAN::Shell                                                      => CPAN::S
CPAN::Tarzip                                                     => CPAN::T
CPAN::Test::Dummy::Perl5::Deps::VersionRange                     => CPAN::T::D::P5::D::VR
CPAN::Test::Dummy::Perl5::Make                                   => CPAN::T::D::P5::M
CPAN::Test::Dummy::Perl5::Make::CircularPrereq                   => CPAN::T::D::P5::M::CP
CPAN::Test::Dummy::Perl5::Make::ConfReq                          => CPAN::T::D::P5::M::CReq
CPAN::Test::Dummy::Perl5::Make::Features                         => CPAN::T::D::P5::M::F
CPAN::Test::Dummy::Perl5::Make::OptionalPrereq                   => CPAN::T::D::P5::M::OP
CPAN::Test::Dummy::Perl5::Make::UnsatPrereq                      => CPAN::T::D::P5::M::UP
CPAN::Test::Dummy::Perl5::Make::Zip                              => CPAN::T::D::P5::M::Zip
CPAN::Testers::Common::Client                                    => CPAN::T::C::C
CPAN::Testers::Common::DBUtils                                   => CPAN::T::C::DBU
CPAN::Testers::Data::Release                                     => CPAN::T::D::R
CPAN::Testers::Report                                            => CPAN::T::R
CPAN::Testers::WWW::Reports::Query::AJAX                         => CPAN::T::WWW::R::Q::AJAX
CPAN::Version                                                    => CPAN::V
CPU::x86_64::InstructionWriter                                   => CPU::x86_64::IW
CSS::Minifier                                                    => CSS::M
CSS::Moonfall                                                    => *undef*
CSS::Orientation                                                 => CSS::O
CSS::Packer                                                      => CSS::P
CSS::Tiny                                                        => CSS::T
Cache::Cache                                                     => C::C
Cache::FastMmap                                                  => C::FM
Cache::LRU                                                       => C::LRU
Cache::RedisDB                                                   => C::RDB
Calendar::Simple                                                 => C::S
Call::Context                                                    => *undef*
Caller::Hide                                                     => C::H
Canary::Stability                                                => *undef*
Captcha::reCAPTCHA::Mailhide                                     => C::reCAPTCHA::M
Capture::Tiny                                                    => C::T
Carp::Always                                                     => C::A
Carp::Assert                                                     => *undef*
Carp::Assert::More                                               => C::A::M
Carp::Clan                                                       => *undef*
Carp::Clan::Share                                                => C::C::S
Carp::Heavy                                                      => *undef*
Carp::POE                                                        => C::POE
Catalyst::Action::REST                                           => C::A::REST
Catalyst::Action::RenderView                                     => C::A::RV
Catalyst::ActionRole::ACL                                        => C::AR::ACL
Catalyst::ActionRole::DetachOnDie                                => C::AR::DOnDie
Catalyst::ActionRole::Methods                                    => C::AR::M
Catalyst::ActionRole::PseudoCache                                => C::AR::PC
Catalyst::Authentication::Credential::HTTP                       => C::A::C::HTTP
Catalyst::Authentication::Store::Fey::ORM                        => C::A::S::Fey::ORM
Catalyst::Component::InstancePerContext                          => C::C::IPerC
Catalyst::Contoller::View                                        => C::C::V
Catalyst::Controller::ActionRole                                 => C::C::AR
Catalyst::Controller::Combine                                    => C::C::C
Catalyst::Devel                                                  => C::D
Catalyst::Log::Log4perl                                          => C::Log::Log4
Catalyst::Model::DBI                                             => C::M::DBI
Catalyst::Model::DataHash                                        => C::M::DH
Catalyst::Model::Redis                                           => C::M::R
Catalyst::Plugin::Authentication                                 => C::P::A
Catalyst::Plugin::Cache                                          => C::P::C
Catalyst::Plugin::Cache::FastMmap                                => C::P::C::FM
Catalyst::Plugin::Cache::Store::FastMmap                         => C::P::C::S::FM
Catalyst::Plugin::Compress::Zlib                                 => C::P::C::Z
Catalyst::Plugin::ConfigLoader                                   => C::P::CL
Catalyst::Plugin::FillInForm                                     => C::P::FInF
Catalyst::Plugin::I18N                                           => C::P::I18N
Catalyst::Plugin::I18N::PathPrefix                               => C::P::I18N::PP
Catalyst::Plugin::I18N::Request                                  => C::P::I18N::R
Catalyst::Plugin::Images                                         => C::P::I
Catalyst::Plugin::PluginLoader                                   => C::P::PL
Catalyst::Plugin::Session                                        => C::P::S
Catalyst::Plugin::Session::AsObject                              => C::P::S::AsO
Catalyst::Plugin::Session::DynamicExpiry                         => C::P::S::DE
Catalyst::Plugin::Session::State::Cookie                         => C::P::S::S::C
Catalyst::Plugin::Session::Store::Delegate                       => C::P::S::S::D
Catalyst::Plugin::Static::Simple                                 => C::P::S::S
Catalyst::Plugin::URLMap                                         => C::P::URLMap
Catalyst::Plugin::Upload::Digest                                 => C::P::U::D
Catalyst::Runtime                                                => C::R
Catalyst::TraitFor::Request::ContentNegotiationHelpers           => C::TFor::R::CNH
Catalyst::View::BasePerRequest                                   => C::V::BPerR
Catalyst::View::REST::XML                                        => C::V::REST::XML
Catalyst::View::RRDGraph                                         => C::V::RRDG
Catalyst::View::Spreadsheet::Template                            => C::V::S::T
Catalyst::View::TT                                               => C::V::TT
Catalyst::View::vCard                                            => C::V::vC
CatalystX::Component::Traits                                     => CX::C::T
CatalystX::Errors                                                => CX::E
CatalystX::InjectComponent                                       => CX::IC
CatalystX::PathContext                                           => CX::PC
CatalystX::RequestModel                                          => CX::RM
CatalystX::Test::Recorder                                        => CX::T::R
Chart::Gnuplot                                                   => C::G
Chart::Strip                                                     => *undef*
Chat::iFly                                                       => C::iFly
Check::UnitCheck                                                 => C::UC
Cisco::Reconfig                                                  => *undef*
Clarity::XOG::Merge                                              => C::XOG::M
Class::Accessor                                                  => *undef*
Class::Accessor::Array                                           => C::A::A
Class::Accessor::Chained                                         => C::A::C
Class::Accessor::Grouped                                         => C::A::G
Class::Accessor::Installer                                       => C::A::I
Class::Accessor::Lite                                            => C::A::L
Class::Accessor::Named                                           => C::A::N
Class::Accessor::PackedString                                    => C::A::PS
Class::Autouse                                                   => *undef*
Class::Bits                                                      => C::B
Class::Builtin                                                   => *undef*
Class::C3                                                        => C::C3
Class::C3::Adopt::NEXT                                           => C::C3::A::NEXT
Class::C3::Componentised                                         => C::C3::C
Class::CGI                                                       => C::CGI
Class::CGI::Email::Valid                                         => C::CGI::E::V
Class::ClassDecorator                                            => C::CD
Class::Cloneable                                                 => *undef*
Class::DBI                                                       => C::DBI
Class::DBI::AbstractSearch                                       => C::DBI::AS
Class::DBI::BaseDSN                                              => C::DBI::BDSN
Class::DBI::DFV                                                  => C::DBI::DFV
Class::DBI::FromCGI                                              => C::DBI::FCGI
Class::DBI::Loader                                               => C::DBI::L
Class::DBI::Plugin                                               => C::DBI::P
Class::DBI::Plugin::DeepAbstractSearch                           => C::DBI::P::DAS
Class::DBI::Plugin::RetrieveAll                                  => C::DBI::P::RAll
Class::DBI::Plugin::TO_JSON                                      => C::DBI::P::TO_JSON
Class::DBI::Storable                                             => C::DBI::S
Class::Data::Accessor                                            => C::D::A
Class::Data::Inheritable                                         => C::D::I
Class::Data::Inheritable::Translucent                            => C::D::I::T
Class::Default                                                   => *undef*
Class::Delay                                                     => *undef*
Class::DispatchToAll                                             => C::DToAll
Class::ErrorHandler                                              => C::EH
Class::ExtraAttributes                                           => C::EA
Class::Factory                                                   => C::F
Class::Factory::Enhanced                                         => C::F::E
Class::Field                                                     => *undef*
Class::GenSource                                                 => C::GenS
Class::ISA                                                       => C::ISA
Class::Implements                                                => C::I
Class::Inspector                                                 => *undef*
Class::Load                                                      => C::L
Class::Load::XS                                                  => C::L::XS
Class::Meta                                                      => C::M
Class::Method::Debug                                             => C::M::D
Class::Method::Modifiers                                         => C::M::M
Class::MethodMaker                                               => C::MM
Class::Mix                                                       => C::Mix
Class::Null                                                      => C::N
Class::Prototyped                                                => C::P
Class::Refresh                                                   => *undef*
Class::Singleton                                                 => *undef*
Class::Sniff                                                     => *undef*
Class::Std                                                       => C::Std
Class::Std::Utils                                                => C::Std::U
Class::Struct                                                    => *undef*
Class::Tie::InsideOut                                            => C::Tie::IOut
Class::Tiny                                                      => *undef*
Class::Tiny::Antlers                                             => C::T::A
Class::Trigger                                                   => *undef*
Class::Unload                                                    => C::U
Class::XSAccessor                                                => C::XSA
Clone::Any                                                       => C::Any
Clone::AsUTF8Bytes                                               => C::AsUTF8B
Clone::Choose                                                    => *undef*
Clone::PP                                                        => C::PP
Clone::Util                                                      => *undef*
Code::CutNPaste                                                  => C::CutNP
Code::TidyAll                                                    => C::TAll
Code::TidyAll::Plugin::TestCount                                 => C::TAll::P::TC
Code::Tooling                                                    => *undef*
Coerce::Types::Standard                                          => C::T::S
Collision::Util                                                  => *undef*
Color::ANSI::Util                                                => C::ANSI::U
Color::Library                                                   => *undef*
Color::RGB::Util                                                 => C::RGB::U
ColorThemeBase::Static                                           => CTB::S
ColorThemeRole::ANSI                                             => CTR::ANSI
ColorThemeUtil::ANSI                                             => CTU::ANSI
ColorThemes::Standard                                            => CT::S
Combine::Keys                                                    => C::K
Compass::Points                                                  => *undef*
Compiled::Params::OO                                             => C::P::OO
Compiler::Lexer                                                  => *undef*
Complete::Bash                                                   => *undef*
Complete::Common                                                 => *undef*
Complete::Dpkg                                                   => *undef*
Complete::Env                                                    => C::Env
Complete::File                                                   => *undef*
Complete::Fish                                                   => *undef*
Complete::Getopt::Long                                           => C::G::L
Complete::Module                                                 => *undef*
Complete::Number                                                 => *undef*
Complete::Path                                                   => *undef*
Complete::RPM                                                    => C::RPM
Complete::Sah                                                    => C::Sah
Complete::Sequence                                               => *undef*
Complete::Tcsh                                                   => *undef*
Complete::Util                                                   => *undef*
Complete::Zsh                                                    => C::Zsh
Compress::Bzip2                                                  => C::B2
Compress::LZV1                                                   => C::LZV1
Compress::Raw::Bzip2                                             => C::Raw::B2
Compress::Raw::Lzma                                              => C::Raw::L
Compress::Raw::Zlib                                              => C::Raw::Z
Compress::Zlib                                                   => C::Z
Compress::Zlib::Perl                                             => C::Z::P
Config::Abstraction                                              => *undef*
Config::Any                                                      => *undef*
Config::Auto                                                     => *undef*
Config::AutoConf                                                 => C::AC
Config::Extensions                                               => C::E
Config::Find                                                     => *undef*
Config::General                                                  => *undef*
Config::INI                                                      => C::INI
Config::INI::Reader::Ordered                                     => C::INI::R::O
Config::INI::Serializer                                          => C::INI::S
Config::IOD::Reader                                              => C::IOD::R
Config::IniFiles                                                 => C::IniF
Config::JFDI                                                     => C::JFDI
Config::MVP                                                      => C::MVP
Config::MVP::Reader::INI                                         => C::MVP::R::INI
Config::Perl::V                                                  => C::P::V
Config::Plugin::Tiny                                             => C::P::T
Config::Plugin::TinyManifold                                     => C::P::TM
Config::Properties                                               => *undef*
Config::Std                                                      => *undef*
Config::Tiny                                                     => *undef*
Config::XPath                                                    => C::XP
ConfigReader::Simple                                             => CR::S
Const::Common::Generator                                         => C::C::G
Const::Exporter                                                  => *undef*
Const::Fast                                                      => *undef*
Const::Fast::Exporter                                            => *undef*
Const::XS                                                        => C::XS
Constant::FromGlobal                                             => C::FG
Context::Preserve                                                => *undef*
Contextual::Return                                               => *undef*
Convert::Base32                                                  => C::B32
Convert::Base32::Crockford                                       => C::B32::C
Convert::BaseN                                                   => C::BN
Convert::Bencode                                                 => *undef*
Convert::BinHex                                                  => C::BinHex
Convert::CEGH                                                    => C::CEGH
Convert::Color                                                   => *undef*
Convert::Color::XTerm                                            => C::C::XT
Convert::Context                                                 => *undef*
Convert::ModHex                                                  => C::ModHex
Convert::yEnc                                                    => C::yEnc
Cookie::Baker                                                    => *undef*
Cookie::Baker::XS                                                => C::B::XS
Cpanel::JSON::XS                                                 => C::JSON::XS
Crypt::Argon2                                                    => C::A2
Crypt::Bcrypt                                                    => *undef*
Crypt::Bear                                                      => *undef*
Crypt::CBC                                                       => C::CBC
Crypt::Caesar                                                    => *undef*
Crypt::Credentials                                               => *undef*
Crypt::Curve25519                                                => C::C25519
Crypt::DES                                                       => C::DES
Crypt::DES_EDE3                                                  => C::DES_EDE3
Crypt::DES_EEE3                                                  => C::DES_EEE3
Crypt::DH::GMP                                                   => C::DH::GMP
Crypt::Diceware                                                  => *undef*
Crypt::ECDH_ES                                                   => C::ECDH_ES
Crypt::Eksblowfish                                               => *undef*
Crypt::HSM                                                       => C::HSM
Crypt::Hill                                                      => *undef*
Crypt::IDEA                                                      => C::IDEA
Crypt::JWT                                                       => C::JWT
Crypt::MySQL                                                     => C::MySQL
Crypt::OpenBSD::Blowfish                                         => C::OBSD::B
Crypt::OpenSSH::ChachaPoly                                       => C::OSSH::CP
Crypt::OpenSSL::AES                                              => C::OSSL::AES
Crypt::OpenSSL::Bignum                                           => C::OSSL::B
Crypt::OpenSSL::Guess                                            => C::OSSL::G
Crypt::OpenSSL::PKCS10                                           => C::OSSL::PKCS10
Crypt::OpenSSL::PKCS12                                           => C::OSSL::PKCS12
Crypt::OpenSSL::RSA                                              => C::OSSL::RSA
Crypt::OpenSSL::Random                                           => C::OSSL::R
Crypt::PBKDF2                                                    => C::PBKDF2
Crypt::Passphrase                                                => *undef*
Crypt::Passphrase::Argon2                                        => C::P::A2
Crypt::Passphrase::Argon2::AES                                   => C::P::A2::AES
Crypt::Passphrase::Bcrypt                                        => C::P::B
Crypt::Passphrase::Bcrypt::AES                                   => C::P::B::AES
Crypt::Passphrase::HSM                                           => C::P::HSM
Crypt::Passphrase::Scrypt                                        => *undef*
Crypt::Passphrase::Yescrypt                                      => C::P::Y
Crypt::PasswdMD5                                                 => C::PMD5
Crypt::Password::Util                                            => C::P::U
Crypt::Polybius                                                  => *undef*
Crypt::RC4                                                       => C::RC4
Crypt::RFC8188                                                   => C::RFC8188
Crypt::RIPEMD160                                                 => C::RIPEMD160
Crypt::Random::Seed                                              => C::R::S
Crypt::Random::Source                                            => *undef*
Crypt::Random::Source::SSLeay                                    => C::R::S::SSL
Crypt::Random::TESHA2                                            => C::R::TESHA2
Crypt::Rijndael                                                  => *undef*
Crypt::SRP                                                       => C::SRP
Crypt::SaltedHash                                                => C::SH
Crypt::ScryptKDF                                                 => C::SKDF
Crypt::Skip32::XS                                                => C::S32::XS
Crypt::SysRandom                                                 => C::SysR
Crypt::SysRandom::XS                                             => C::SysR::XS
Crypt::URandom                                                   => C::UR
Crypt::UnixCrypt                                                 => *undef*
Crypt::UnixCrypt_XS                                              => C::UCXS
Crypt::XKCDCommon1949                                            => C::XKCDC1949
Crypt::XkcdPassword                                              => *undef*
Crypt::Yescrypt                                                  => C::Y
CryptX                                                           => CX
Cwd::Guard                                                       => Cwd::G
DBD::Mock                                                        => DBD::M
DBD::SQLite                                                      => DBD::SQL
DBIx::Admin::CreateTable                                         => DBIx::A::CT
DBIx::Connector                                                  => DBIx::C
DBIx::ContextualFetch                                            => DBIx::CF
DBIx::Diff::Schema                                               => DBIx::D::S
DBIx::MultiStatementDo                                           => DBIx::MSDo
DBIx::Simple                                                     => DBIx::S
DBIx::TransactionManager                                         => DBIx::TM
DBIx::UpdateTable::FromHoH                                       => DBIx::UT::FHoH
DBIx::Util::Schema                                               => DBIx::U::S
DBM::Deep                                                        => DBM::D
DBM_Filter                                                       => DBM_F
DBM_Filter::compress                                             => DBM_F::c
DBM_Filter::encode                                               => DBM_F::e
DBM_Filter::int32                                                => DBM_F::int32
DBM_Filter::null                                                 => DBM_F::n
DBM_Filter::utf8                                                 => DBM_F::utf8
DB_File                                                          => DB_F
Data::Alias                                                      => D::A
Data::Binary                                                     => D::B
Data::Check::Structure                                           => D::C::S
Data::Clean                                                      => D::C
Data::Clean::ForJSON                                             => D::C::ForJSON
Data::Clean::JSON                                                => D::C::JSON
Data::Clone                                                      => *undef*
Data::Cmp                                                        => D::Cmp
Data::Coloured                                                   => *undef*
Data::Compare                                                    => *undef*
Data::DPath                                                      => D::DP
Data::Dmp                                                        => D::Dmp
Data::Dump                                                       => D::D
Data::Dump::Color                                                => D::D::C
Data::Dump::OneLine                                              => D::D::OneL
Data::Dump::Partial                                              => D::D::P
Data::Dumper                                                     => *undef*
Data::Dumper::Concise                                            => *undef*
Data::Entropy                                                    => D::E
Data::Float                                                      => D::F
Data::FormValidator                                              => D::FV
Data::Format::Pretty                                             => D::F::P
Data::Format::Pretty::Console                                    => D::F::P::C
Data::Format::Pretty::HTML                                       => D::F::P::HTML
Data::Format::Pretty::JSON                                       => D::F::P::JSON
Data::Format::Pretty::PHPSerialization                           => D::F::P::PHPS
Data::Format::Pretty::Perl                                       => D::F::P::P
Data::Format::Pretty::YAML                                       => D::F::P::YAML
Data::GUID                                                       => D::GUID
Data::Handle                                                     => D::H
Data::Integer                                                    => D::I
Data::LineBuffer                                                 => D::LB
Data::LnArray                                                    => D::LnA
Data::MessagePack                                                => D::MP
Data::ModeMerge                                                  => D::MM
Data::OptList                                                    => D::OptL
Data::Page                                                       => D::P
Data::Page::NoTotalEntries                                       => D::P::NoTE
Data::Perl                                                       => *undef*
Data::Phrasebook                                                 => *undef*
Data::Printer                                                    => *undef*
Data::Record                                                     => D::R
Data::Reuse                                                      => *undef*
Data::Sah::DefaultValue                                          => D::Sah::DV
Data::Sah::Filter                                                => D::Sah::F
Data::Sah::Normalize                                             => D::Sah::N
Data::Sah::Resolve                                               => D::Sah::R
Data::Sah::Terse                                                 => D::Sah::T
Data::Sah::Util::Type                                            => D::Sah::U::T
Data::Section                                                    => D::S
Data::Section::Pluggable                                         => D::S::P
Data::Section::Seekable                                          => D::S::S
Data::Section::Simple                                            => *undef*
Data::Section::Writer                                            => D::S::W
Data::Session                                                    => *undef*
Data::Stream::Bulk                                               => D::S::B
Data::Structure::Util                                            => D::S::U
Data::TableData::Object                                          => D::TD::O
Data::TableData::Rank                                            => D::TD::R
Data::Taxi                                                       => D::T
Data::Types                                                      => *undef*
Data::UUID                                                       => D::UUID
Data::UUID::MT                                                   => D::UUID::MT
Data::Unixish                                                    => D::U
Data::Unixish::ANSI                                              => D::U::ANSI
Data::Util                                                       => *undef*
Data::Validate::IP                                               => D::V::IP
Data::Verifier                                                   => D::V
Data::Visitor                                                    => *undef*
Date::Calc                                                       => *undef*
Date::Calc::XS                                                   => D::C::XS
Date::Parse                                                      => *undef*
Date::Range                                                      => *undef*
Date::Simple                                                     => *undef*
Date::TimeOfDay                                                  => D::TOfDay
Date::Utility                                                    => *undef*
DateTime                                                         => DT
DateTime::Format::Builder                                        => DT::F::B
DateTime::Format::Duration                                       => DT::F::D
DateTime::Format::Excel                                          => DT::F::E
DateTime::Format::Flexible                                       => DT::F::F
DateTime::Format::HTTP                                           => DT::F::HTTP
DateTime::Format::ISO8601                                        => DT::F::ISO8601
DateTime::Format::Mail                                           => DT::F::M
DateTime::Format::MySQL                                          => DT::F::MySQL
DateTime::Format::Natural                                        => DT::F::N
DateTime::Format::Pg                                             => DT::F::Pg
DateTime::Format::SQLite                                         => DT::F::SQL
DateTime::Format::Strptime                                       => DT::F::S
DateTime::Format::W3CDTF                                         => DT::F::W3CDTF
DateTime::HiRes                                                  => DT::HiRes
DateTime::Locale                                                 => DT::L
DateTime::TimeZone                                               => DT::TZ
Debian::Dpkg::Version                                            => D::D::V
Debug::ShowStuff                                                 => D::SS
Devel::Autoflush                                                 => *undef*
Devel::CallChecker                                               => D::CC
Devel::Caller                                                    => *undef*
Devel::Caller::Util                                              => D::C::U
Devel::CheckBin                                                  => D::CBin
Devel::CheckCompiler                                             => *undef*
Devel::CheckLib                                                  => D::CLib
Devel::CheckOS                                                   => D::COS
Devel::Confess                                                   => *undef*
Devel::Cycle                                                     => *undef*
Devel::FindPerl                                                  => D::FP
Devel::GlobalDestruction                                         => D::GD
Devel::Hide                                                      => *undef*
Devel::Leak                                                      => D::L
Devel::LexAlias                                                  => D::LexA
Devel::MAT                                                       => D::MAT
Devel::MAT::Dumper                                               => D::MAT::D
Devel::NYTProf                                                   => D::NYTP
Devel::OverloadInfo                                              => D::OI
Devel::OverrideGlobalRequire                                     => D::OGR
Devel::PPPort                                                    => D::PPP
Devel::PartialDump                                               => D::PD
Devel::PatchPerl                                                 => D::PP
Devel::Peek                                                      => *undef*
Devel::Platform::Info                                            => D::P::I
Devel::SelfStubber                                               => *undef*
Devel::Size                                                      => *undef*
Devel::StackTrace                                                => D::ST
Devel::StackTrace::AsHTML                                        => D::ST::AsHTML
Devel::Symdump                                                   => *undef*
Devel::UseAnyFunc                                                => D::UseAnyF
Digest::BubbleBabble                                             => D::BB
Digest::CRC                                                      => D::CRC
Digest::HMAC                                                     => D::HMAC
Digest::JHash                                                    => D::JH
Digest::MD4                                                      => D::MD4
Digest::MD5                                                      => D::MD5
Digest::Perl::MD5                                                => D::P::MD5
Digest::SHA                                                      => D::SHA
Digest::SHA1                                                     => D::SHA1
Digest::SHA3                                                     => D::SHA3
Digest::base                                                     => D::b
Digest::file                                                     => D::f
Dir::Self                                                        => Dir::S
DirHandle                                                        => DirH
Directory::Scratch                                               => *undef*
Dist::Build                                                      => *undef*
Dist::CheckConflicts                                             => *undef*
Dist::Util                                                       => *undef*
DynaLoader                                                       => DL
DynaLoader::Functions                                            => DL::F
Email::Abstract                                                  => E::A
Email::Address::XS                                               => E::A::XS
Email::Date                                                      => E::D
Email::Date::Format                                              => E::D::F
Email::MIME                                                      => E::MIME
Email::MIME::ContentType                                         => E::MIME::CT
Email::MIME::Encodings                                           => E::MIME::E
Email::MessageID                                                 => E::MID
Email::Sender                                                    => E::S
Email::Simple                                                    => *undef*
Email::Stuffer                                                   => *undef*
Email::Valid                                                     => E::V
Email::Valid::Loose                                              => E::V::L
Encode::Alias                                                    => *undef*
Encode::Byte                                                     => E::B
Encode::CJKConstants                                             => E::CJKC
Encode::CN                                                       => E::CN
Encode::CN::HZ                                                   => E::CN::HZ
Encode::Config                                                   => E::C
Encode::EBCDIC                                                   => E::EBCDIC
Encode::Encoder                                                  => E::E
Encode::Encoding                                                 => *undef*
Encode::GSM0338                                                  => E::GSM0338
Encode::Guess                                                    => E::G
Encode::JP                                                       => E::JP
Encode::JP::H2Z                                                  => E::JP::H2Z
Encode::JP::JIS7                                                 => E::JP::JIS7
Encode::KR                                                       => E::KR
Encode::KR::2022_KR                                              => E::KR::2022_KR
Encode::Locale                                                   => E::L
Encode::MIME::Header                                             => E::MIME::H
Encode::MIME::Header::ISO_2022_JP                                => E::MIME::H::ISO_2022_JP
Encode::MIME::Name                                               => E::MIME::N
Encode::Symbol                                                   => *undef*
Encode::TW                                                       => E::TW
Encode::Unicode                                                  => E::U
Encode::Unicode::UTF7                                            => E::U::UTF7
Env::Sanctify                                                    => Env::S
Eval::Closure                                                    => *undef*
Excel::Writer::XLSX                                              => E::W::XLSX
Exception::Class                                                 => *undef*
Exception::Class::TryCatch                                       => E::C::TryC
Exporter::AutoClean                                              => E::AC
Exporter::Heavy                                                  => E::H
Exporter::Lite                                                   => *undef*
Exporter::Rinci                                                  => E::R
Exporter::Tidy                                                   => E::T
Exporter::Tiny                                                   => *undef*
ExtUtils::Builder                                                => ExtU::B
ExtUtils::Builder::Compiler                                      => ExtU::B::C
ExtUtils::CBuilder                                               => ExtU::CB
ExtUtils::CBuilder::Base                                         => ExtU::CB::B
ExtUtils::CBuilder::Platform::Unix                               => ExtU::CB::P::U
ExtUtils::CBuilder::Platform::VMS                                => ExtU::CB::P::VMS
ExtUtils::CBuilder::Platform::Windows                            => ExtU::CB::P::W
ExtUtils::CBuilder::Platform::Windows::BCC                       => ExtU::CB::P::W::BCC
ExtUtils::CBuilder::Platform::Windows::GCC                       => ExtU::CB::P::W::GCC
ExtUtils::CBuilder::Platform::Windows::MSVC                      => ExtU::CB::P::W::MSVC
ExtUtils::CBuilder::Platform::aix                                => ExtU::CB::P::aix
ExtUtils::CBuilder::Platform::android                            => ExtU::CB::P::a
ExtUtils::CBuilder::Platform::cygwin                             => ExtU::CB::P::c
ExtUtils::CBuilder::Platform::darwin                             => ExtU::CB::P::d
ExtUtils::CBuilder::Platform::dec_osf                            => *undef*
ExtUtils::CBuilder::Platform::os2                                => ExtU::CB::P::os2
ExtUtils::CChecker                                               => ExtU::CC
ExtUtils::Command                                                => ExtU::C
ExtUtils::Command::MM                                            => ExtU::C::MM
ExtUtils::Config                                                 => *undef*
ExtUtils::Constant                                               => *undef*
ExtUtils::Constant::Base                                         => ExtU::C::B
ExtUtils::Constant::ProxySubs                                    => ExtU::C::PS
ExtUtils::Constant::Utils                                        => ExtU::C::U
ExtUtils::Constant::XS                                           => ExtU::C::XS
ExtUtils::CppGuess                                               => ExtU::CppG
ExtUtils::Depends                                                => ExtU::D
ExtUtils::Embed                                                  => ExtU::E
ExtUtils::HasCompiler                                            => ExtU::HasC
ExtUtils::Helpers                                                => ExtU::H
ExtUtils::Install                                                => ExtU::I
ExtUtils::InstallPaths                                           => ExtU::IP
ExtUtils::Installed                                              => *undef*
ExtUtils::Liblist                                                => ExtU::L
ExtUtils::Liblist::Kid                                           => ExtU::L::Kid
ExtUtils::MM                                                     => ExtU::MM
ExtUtils::MM_AIX                                                 => ExtU::MM_AIX
ExtUtils::MM_Any                                                 => ExtU::MM_Any
ExtUtils::MM_BeOS                                                => ExtU::MM_BeOS
ExtUtils::MM_Cygwin                                              => ExtU::MM_C
ExtUtils::MM_DOS                                                 => ExtU::MM_DOS
ExtUtils::MM_Darwin                                              => ExtU::MM_D
ExtUtils::MM_MacOS                                               => ExtU::MM_MacOS
ExtUtils::MM_NW5                                                 => ExtU::MM_NW5
ExtUtils::MM_OS2                                                 => ExtU::MM_OS2
ExtUtils::MM_OS390                                               => ExtU::MM_OS390
ExtUtils::MM_QNX                                                 => ExtU::MM_QNX
ExtUtils::MM_UWIN                                                => ExtU::MM_UWIN
ExtUtils::MM_Unix                                                => ExtU::MM_U
ExtUtils::MM_VMS                                                 => ExtU::MM_VMS
ExtUtils::MM_VOS                                                 => ExtU::MM_VOS
ExtUtils::MM_Win32                                               => ExtU::MM_Win32
ExtUtils::MM_Win95                                               => ExtU::MM_Win95
ExtUtils::MY                                                     => ExtU::MY
ExtUtils::MakeMaker                                              => *undef*
ExtUtils::MakeMaker::CPANfile                                    => ExtU::MM::CPAN
ExtUtils::MakeMaker::Config                                      => ExtU::MM::C
ExtUtils::MakeMaker::Locale                                      => ExtU::MM::L
ExtUtils::MakeMaker::version                                     => ExtU::MM::v
ExtUtils::MakeMaker::version::regex                              => ExtU::MM::v::r
ExtUtils::Manifest                                               => ExtU::M
ExtUtils::Miniperl                                               => *undef*
ExtUtils::Mkbootstrap                                            => *undef*
ExtUtils::Mksymlists                                             => *undef*
ExtUtils::PL2Bat                                                 => ExtU::PL2Bat
ExtUtils::Packlist                                               => ExtU::P
ExtUtils::ParseXS                                                => ExtU::PXS
ExtUtils::ParseXS::Constants                                     => ExtU::PXS::C
ExtUtils::ParseXS::CountLines                                    => ExtU::PXS::CL
ExtUtils::ParseXS::Eval                                          => ExtU::PXS::E
ExtUtils::ParseXS::Node                                          => ExtU::PXS::N
ExtUtils::ParseXS::Utilities                                     => ExtU::PXS::U
ExtUtils::PkgConfig                                              => ExtU::PkgC
ExtUtils::Typemaps                                               => ExtU::T
ExtUtils::Typemaps::Cmd                                          => ExtU::T::Cmd
ExtUtils::Typemaps::InputMap                                     => ExtU::T::IMap
ExtUtils::Typemaps::OutputMap                                    => ExtU::T::OMap
ExtUtils::Typemaps::Type                                         => ExtU::T::T
ExtUtils::XSSymSet                                               => ExtU::XSSymSet
ExtUtils::testlib                                                => ExtU::t
FCGI::Client                                                     => FCGI::C
FCGI::ProcManager                                                => FCGI::PM
FFI::CheckLib                                                    => FFI::CLib
Factory::Sub                                                     => F::Sub
Feature::Compat::Try                                             => F::C::Try
Feed::Find                                                       => F::F
File::BaseDir                                                    => F::BDir
File::Basename                                                   => F::B
File::ChangeNotify                                               => F::CN
File::Compare                                                    => F::C
File::ConfigDir                                                  => F::CDir
File::Copy                                                       => *undef*
File::Copy::Recursive                                            => F::C::R
File::Copy::Recursive::Reduced                                   => F::C::R::R
File::DesktopEntry                                               => F::DE
File::DirCompare                                                 => F::DirC
File::DosGlob                                                    => F::DosG
File::Fetch                                                      => *undef*
File::Find                                                       => *undef*
File::Find::Object                                               => F::F::O
File::Find::Object::Rule                                         => F::F::O::R
File::Find::Rule                                                 => F::F::R
File::Find::Rule::Perl                                           => F::F::R::P
File::Flat                                                       => *undef*
File::Flock::Retry                                               => *undef*
File::Flock::Tiny                                                => F::F::T
File::FnMatch                                                    => F::FnM
File::Glob                                                       => F::G
File::GlobMapper                                                 => F::GM
File::HomeDir                                                    => F::HDir
File::KeePass                                                    => F::KeeP
File::Listing                                                    => F::L
File::MMagic                                                     => F::MM
File::Map                                                        => F::Map
File::MimeInfo                                                   => F::MI
File::Path                                                       => F::P
File::ReadBackwards                                              => F::RB
File::Remove                                                     => F::R
File::Rsync                                                      => *undef*
File::Share                                                      => F::S
File::ShareDir                                                   => F::SDir
File::ShareDir::Dist                                             => F::SDir::D
File::ShareDir::Install                                          => F::SDir::I
File::ShareDir::Tarball                                          => F::SDir::T
File::ShareDir::Tiny                                             => *undef*
File::Slurp                                                      => *undef*
File::Slurper                                                    => *undef*
File::Spec                                                       => *undef*
File::Spec::AmigaOS                                              => F::S::AOS
File::Spec::Cygwin                                               => F::S::C
File::Spec::Epoc                                                 => F::S::E
File::Spec::Functions                                            => F::S::F
File::Spec::Mac                                                  => F::S::Mac
File::Spec::OS2                                                  => F::S::OS2
File::Spec::Unix                                                 => F::S::U
File::Spec::VMS                                                  => F::S::VMS
File::Spec::Win32                                                => F::S::Win32
File::Temp                                                       => F::T
File::TreeCreate                                                 => F::TC
File::Type                                                       => *undef*
File::Util                                                       => F::U
File::Util::Sort                                                 => F::U::S
File::Util::Tempdir                                              => F::U::T
File::Util::Test                                                 => *undef*
File::Which                                                      => F::W
File::chdir                                                      => F::c
File::chmod                                                      => *undef*
File::is                                                         => F::is
File::pushd                                                      => F::p
File::stat                                                       => F::s
FileCache                                                        => FC
FileHandle                                                       => FH
Filename::Archive                                                => F::A
Filename::Compressed                                             => *undef*
Filename::Perl::Release                                          => F::P::R
Filesys::Cap                                                     => F::Cap
Filesys::Notify::Simple                                          => F::N::S
Filter::Simple                                                   => *undef*
Filter::Util::Call                                               => F::U::C
Finance::Currency::Convert::Yahoo                                => F::C::C::Y
FindBin                                                          => FBin
Font::AFM                                                        => F::AFM
FormValidator::Lite                                              => FV::L
Format::Human::Bytes                                             => F::H::B
FreezeThaw                                                       => FT
Function::Fallback::CoreOrPP                                     => F::F::COrPP
Function::Parameters                                             => *undef*
Future::AsyncAwait                                               => F::AA
GDBM_File                                                        => GDBM_F
Gen::Test::Rinci::FuncResult                                     => Gen::T::R::FR
Getopt::Long                                                     => G::L
Getopt::Long::Complete                                           => G::L::C
Getopt::Long::Descriptive                                        => G::L::D
Getopt::Long::EvenLess                                           => G::L::EL
Getopt::Long::Negate::EN                                         => G::L::N::EN
Getopt::Long::Parser                                             => G::L::P
Getopt::Long::Subcommand                                         => G::L::S
Getopt::Long::Util                                               => G::L::U
Getopt::Lucid                                                    => *undef*
Getopt::Std                                                      => G::Std
Getopt::Usaginator                                               => G::U
Graph::Easy                                                      => G::E
Graph::Easy::As_svg                                              => G::E::A
Graphics::ColorNamesLite::WWW                                    => G::CNL::WWW
Graphics::ColorUtils                                             => G::CU
Gravatar::URL                                                    => G::URL
HTML-Element-Extended                                            => HTML-E-E
HTML::Entities::Interpolate                                      => HTML::E::I
HTML::Escape                                                     => HTML::E
HTML::FillInForm                                                 => HTML::FInF
HTML::FillInForm::Lite                                           => HTML::FInF::L
HTML::Form                                                       => HTML::F
HTML::FormFu                                                     => HTML::FFu
HTML::Formatter                                                  => *undef*
HTML::Parser                                                     => HTML::P
HTML::Scrubber                                                   => HTML::S
HTML::Selector::XPath                                            => HTML::S::XP
HTML::Shakan                                                     => *undef*
HTML::StickyQuery                                                => HTML::SQ
HTML::Tagset                                                     => HTML::T
HTML::Template                                                   => *undef*
HTML::Template::Compiled                                         => HTML::T::C
HTML::Tiny                                                       => *undef*
HTML::TokeParser::Simple                                         => HTML::TP::S
HTML::Tree                                                       => *undef*
HTML::TreeBuilder::XPath                                         => HTML::TB::XP
HTTP::Body                                                       => HTTP::B
HTTP::BrowserDetect                                              => HTTP::BD
HTTP::CookieJar                                                  => HTTP::CJar
HTTP::Cookies                                                    => HTTP::C
HTTP::Daemon                                                     => HTTP::D
HTTP::Date                                                       => *undef*
HTTP::Entity::Parser                                             => HTTP::E::P
HTTP::Exception                                                  => HTTP::E
HTTP::Headers::ActionPack                                        => HTTP::H::AP
HTTP::Headers::Fast                                              => HTTP::H::F
HTTP::Link::Parser                                               => HTTP::L::P
HTTP::Lite                                                       => HTTP::L
HTTP::Message                                                    => HTTP::M
HTTP::MultiPartParser                                            => HTTP::MPP
HTTP::Negotiate                                                  => HTTP::N
HTTP::Parser::XS                                                 => HTTP::P::XS
HTTP::Request::AsCGI                                             => HTTP::R::AsCGI
HTTP::Server::Simple                                             => HTTP::S::S
HTTP::Server::Simple::PSGI                                       => HTTP::S::S::PSGI
HTTP::Session2                                                   => HTTP::S2
HTTP::Tiny                                                       => HTTP::T
HTTP::Tiny::Mech                                                 => HTTP::T::M
HTTP::Tiny::Multipart                                            => *undef*
HTTP::Tiny::UNIX                                                 => HTTP::T::UNIX
Hash::FieldHash                                                  => H::FH
Hash::Flatten                                                    => H::F
Hash::Merge                                                      => H::M
Hash::Merge::Simple                                              => H::M::S
Hash::MoreUtils                                                  => H::MU
Hash::MultiValue                                                 => H::MV
Hash::Objectify                                                  => H::O
Hash::Subset                                                     => H::S
Hash::Union                                                      => H::U
Hash::Util                                                       => *undef*
Hash::Util::FieldHash                                            => H::U::FH
Hash::Util::FieldHash::Compat                                    => H::U::FH::C
Hook::LexWrap                                                    => H::LexW
Hook::Queue                                                      => H::Q
I18N::AcceptLanguage                                             => I18N::AL
I18N::Collate                                                    => I18N::C
I18N::LangTags                                                   => I18N::LT
I18N::LangTags::Detect                                           => I18N::LT::D
I18N::LangTags::List                                             => I18N::LT::L
I18N::Langinfo                                                   => I18N::L
IO::Async                                                        => IO::A
IO::Capture                                                      => IO::C
IO::CaptureOutput                                                => IO::CO
IO::Compress                                                     => *undef*
IO::Compress::Adapter::Bzip2                                     => IO::C::A::B2
IO::Compress::Adapter::Deflate                                   => IO::C::A::D
IO::Compress::Adapter::Identity                                  => IO::C::A::I
IO::Compress::Base                                               => IO::C::B
IO::Compress::Base::Common                                       => IO::C::B::C
IO::Compress::Brotli                                             => *undef*
IO::Compress::Bzip2                                              => IO::C::B2
IO::Compress::Deflate                                            => IO::C::D
IO::Compress::Gzip                                               => IO::C::G
IO::Compress::Gzip::Constants                                    => IO::C::G::C
IO::Compress::RawDeflate                                         => IO::C::RawD
IO::Compress::Zip                                                => IO::C::Zip
IO::Compress::Zip::Constants                                     => IO::C::Zip::C
IO::Compress::Zlib::Constants                                    => IO::C::Z::C
IO::Compress::Zlib::Extra                                        => IO::C::Z::E
IO::File                                                         => IO::F
IO::Handle                                                       => IO::H
IO::Handle::Util                                                 => IO::H::U
IO::Interactive                                                  => IO::I
IO::KQueue                                                       => IO::KQ
IO::LockedFile                                                   => IO::LF
IO::Pager                                                        => IO::P
IO::Pipe                                                         => *undef*
IO::Pipely                                                       => *undef*
IO::Poll                                                         => *undef*
IO::Prompt                                                       => *undef*
IO::Prompt::I18N                                                 => IO::P::I18N
IO::Prompt::Simple                                               => IO::P::S
IO::Prompt::Tiny                                                 => IO::P::T
IO::Pty::Easy                                                    => IO::Pty::E
IO::Seekable                                                     => IO::S
IO::Select                                                       => *undef*
IO::Socket                                                       => *undef*
IO::Socket::INET                                                 => IO::S::INET
IO::Socket::INET6                                                => IO::S::INET6
IO::Socket::IP                                                   => IO::S::IP
IO::Socket::SSL                                                  => IO::S::SSL
IO::Socket::Timeout                                              => IO::S::T
IO::Socket::UNIX                                                 => IO::S::UNIX
IO::String                                                       => *undef*
IO::Stringy                                                      => *undef*
IO::TieCombine                                                   => IO::TieC
IO::Uncompress::Adapter::Bunzip2                                 => IO::U::A::B2
IO::Uncompress::Adapter::Identity                                => IO::U::A::I
IO::Uncompress::Adapter::Inflate                                 => *undef*
IO::Uncompress::AnyInflate                                       => IO::U::AnyI
IO::Uncompress::AnyUncompress                                    => IO::U::AnyU
IO::Uncompress::Base                                             => IO::U::B
IO::Uncompress::Bunzip2                                          => IO::U::B2
IO::Uncompress::Gunzip                                           => IO::U::G
IO::Uncompress::Inflate                                          => IO::U::I
IO::Uncompress::RawInflate                                       => IO::U::RawI
IO::Uncompress::Unzip                                            => IO::U::U
IO::Zlib                                                         => IO::Z
IOD::Examples                                                    => IOD::E
IPC::Open2                                                       => IPC::O2
IPC::Open3                                                       => IPC::O3
IPC::Semaphore                                                   => IPC::S
IPC::SharedMem                                                   => IPC::SMem
IPC::System::Options                                             => IPC::S::O
IPC::System::Simple                                              => IPC::S::S
IRC::Utils                                                       => IRC::U
Image::Base                                                      => I::B
Image::ExifTool                                                  => I::ET
Image::Info                                                      => I::I
Image::PNG::Libpng                                               => I::PNG::L
Image::Size                                                      => I::S
Image::Xbm                                                       => I::Xbm
Image::Xpm                                                       => I::Xpm
Import::Base                                                     => *undef*
Import::Export                                                   => I::E
Import::Into                                                     => *undef*
Inline::C                                                        => I::C
Inline::Lua                                                      => I::Lua
Inline::Python                                                   => I::P
Iterator::Array::Jagged                                          => I::A::J
Iterator::Util                                                   => I::U
JSON::Color                                                      => JSON::C
JSON::MaybeXS                                                    => JSON::MXS
JSON::MultiValueOrdered                                          => JSON::MVO
JSON::PP::Boolean                                                => JSON::PP::B
JSON::Parse                                                      => JSON::P
JSON::Path                                                       => *undef*
JSON::Pointer                                                    => *undef*
JSON::Util                                                       => JSON::U
LWP::MediaTypes                                                  => LWP::MT
LWP::Online                                                      => LWP::O
LWP::Protocol::PSGI                                              => LWP::P::PSGI
LWP::Protocol::Patch::CountBytesIn                               => LWP::P::P::CBIn
LWP::Protocol::http10                                            => LWP::P::h10
LWP::Protocol::http::SocketUnixAlt                               => LWP::P::h::SUAlt
LWP::Protocol::https                                             => LWP::P::h
LWP::UserAgent::Plugin                                           => LWP::UA::P
LWP::UserAgent::Plugin::Retry                                    => LWP::UA::P::R
LWPx::ParanoidAgent                                              => LWPx::PA
Language::Expr                                                   => L::E
Lingua::EN::Inflect                                              => L::EN::I
Lingua::EN::Numbers                                              => L::EN::N
Lingua::EN::Numbers::Ordinate                                    => L::EN::N::O
Lingua::EN::PluralToSingular                                     => L::EN::PToS
Lingua::EN::Sentence                                             => L::EN::S
Lingua::ENG::Inflect                                             => L::ENG::I
Lingua::JA::Regular::Unicode                                     => L::JA::R::U
Lingua::StopWords                                                => L::SW
List::AllUtils                                                   => L::AllU
List::BinarySearch                                               => L::BS
List::BinarySearch::XS                                           => L::BS::XS
List::Compare                                                    => L::C
List::MoreUtils                                                  => L::MU
List::MoreUtils::XS                                              => L::MU::XS
List::Rank                                                       => L::R
List::SomeUtils                                                  => L::SU
List::SomeUtils::XS                                              => L::SU::XS
List::Util                                                       => L::U
List::Util::Uniq                                                 => L::U::U
List::Util::XS                                                   => L::U::XS
List::UtilsBy                                                    => L::UBy
Locale::MO::File                                                 => L::MO::F
Locale::Maketext                                                 => L::M
Locale::Maketext::Guts                                           => L::M::G
Locale::Maketext::GutsLoader                                     => L::M::GL
Locale::Maketext::Lexicon                                        => L::M::L
Locale::Maketext::Simple                                         => L::M::S
Locale::Object                                                   => L::O
Locale::PO                                                       => L::PO
Locale::TextDomain::OO                                           => L::TD::OO
Locale::TextDomain::OO::Util                                     => L::TD::OO::U
Locale::TextDomain::UTF8                                         => L::TD::UTF8
Locale::Utils::PlaceholderBabelFish                              => L::U::PBF
Locale::Utils::PlaceholderMaketext                               => L::U::PM
Locale::Utils::PlaceholderNamed                                  => L::U::PN
LockFile::Simple                                                 => LF::S
Log::Abstraction                                                 => Log::A
Log::Any::Adapter::Callback                                      => Log::Any::A::C
Log::Any::Adapter::Daemontools                                   => Log::Any::A::D
Log::Any::Adapter::TAP                                           => Log::Any::A::TAP
Log::Contextual                                                  => Log::C
Log::Contextual::WarnLogger::Fancy                               => Log::C::WL::F
Log::Dispatch                                                    => Log::D
Log::Dispatch::Array                                             => Log::D::A
Log::Dispatchouli                                                => *undef*
Log::Dump                                                        => *undef*
Log::Handler                                                     => Log::H
Log::Handler::Plugin::DBI                                        => Log::H::P::DBI
Log::Log4perl                                                    => Log::Log4
Log::Message                                                     => Log::M
Log::Message::Simple                                             => Log::M::S
Log::Minimal                                                     => *undef*
Log::Trace                                                       => Log::T
Log::ger::Layout::Pattern                                        => Log::ger::L::P
Log::ger::Level::FromEnv                                         => Log::ger::L::FEnv
Log::ger::Level::FromVar                                         => Log::ger::L::FVar
Log::ger::Output::Composite                                      => Log::ger::O::C
Log::ger::Output::File                                           => Log::ger::O::F
Log::ger::Output::Screen                                         => Log::ger::O::S
Log::ger::Output::SimpleFile                                     => Log::ger::O::SF
Log::ger::Output::Syslog                                         => *undef*
Log::ger::Screen                                                 => Log::ger::S
Logfile::Rotate                                                  => *undef*
Long::Jump                                                       => L::J
MIME::Base32                                                     => MIME::B32
MIME::Base64                                                     => MIME::B64
MIME::Charset                                                    => MIME::C
MIME::QuotedPrint                                                => MIME::QP
MIME::Tools                                                      => MIME::T
MIME::Types                                                      => *undef*
MP3::Info                                                        => MP3::I
MRO::Compat                                                      => MRO::C
MailTools                                                        => MT
Markdown::To::POD                                                => M::To::POD
Math::Base36                                                     => M::B36
Math::Base::Convert                                              => M::B::C
Math::BigFloat                                                   => M::BigF
Math::BigFloat::Trace                                            => M::BigF::T
Math::BigInt                                                     => M::BigInt
Math::BigInt::Calc                                               => M::BigInt::C
Math::BigInt::FastCalc                                           => M::BigInt::FC
Math::BigInt::Lib                                                => M::BigInt::Lib
Math::BigInt::Trace                                              => M::BigInt::T
Math::BigRat                                                     => M::BigRat
Math::BigRat::Trace                                              => M::BigRat::T
Math::Cartesian::Product                                         => M::C::P
Math::Complex                                                    => M::C
Math::DCT                                                        => M::DCT
Math::Fibonacci                                                  => M::F
Math::GMP                                                        => M::GMP
Math::Int64                                                      => M::Int64
Math::MatrixReal                                                 => M::MR
Math::Project3D                                                  => M::P3D
Math::Random                                                     => M::R
Math::Random::ISAAC                                              => M::R::ISAAC
Math::Random::ISAAC::XS                                          => M::R::ISAAC::XS
Math::Random::MT                                                 => M::R::MT
Math::Random::MT::Auto                                           => M::R::MT::A
Math::RungeKutta                                                 => M::RK
Math::ScientificNotation::Util                                   => M::SN::U
Math::Symbolic                                                   => M::S
Math::Trig                                                       => M::T
Memoize::AnyDBM_File                                             => M::AnyDBM_F
Memoize::Expire                                                  => M::E
Memoize::NDBM_File                                               => M::NDBM_F
Memoize::SDBM_File                                               => M::SDBM_F
Memoize::Storable                                                => *undef*
MetaCPAN::Client                                                 => MCPAN::C
Metabase::Client::Simple                                         => M::C::S
Metabase::Fact                                                   => *undef*
Method::WeakCallback                                             => M::WC
Metrics::Any                                                     => M::Any
Mixin::Event::Dispatch                                           => M::E::D
Mixin::Linewise                                                  => M::L
Mock::Config                                                     => *undef*
Mock::MonkeyPatch                                                => M::MP
Module::Build                                                    => M::B
Module::Build::Pluggable                                         => M::B::P
Module::Build::Pluggable::CPANfile                               => M::B::P::CPAN
Module::Build::Pluggable::PPPort                                 => M::B::P::PPP
Module::Build::SysPath                                           => M::B::SysP
Module::Build::Tiny                                              => M::B::T
Module::Build::Using::PkgConfig                                  => M::B::U::PkgC
Module::Build::XSUtil                                            => M::B::XSU
Module::CPANTS::Analyse                                          => M::CPANTS::A
Module::CPANfile                                                 => M::CPAN
Module::CoreList                                                 => M::CL
Module::CoreList::More                                           => M::CL::M
Module::CoreList::Utils                                          => M::CL::U
Module::DataPack                                                 => M::DP
Module::Extract::Namespaces                                      => M::E::N
Module::FatPack                                                  => M::FatP
Module::Find                                                     => *undef*
Module::Functions                                                => *undef*
Module::Implementation                                           => M::I
Module::Install                                                  => *undef*
Module::Installed::Tiny                                          => M::I::T
Module::InstalledVersion                                         => M::IV
Module::List                                                     => *undef*
Module::List::Tiny                                               => M::L::T
Module::Load                                                     => *undef*
Module::Load::Conditional                                        => M::L::C
Module::Load::Util                                               => M::L::U
Module::Loaded                                                   => *undef*
Module::Mask                                                     => M::M
Module::Metadata                                                 => *undef*
Module::Patch                                                    => M::P
Module::Path                                                     => *undef*
Module::Path::More                                               => M::P::M
Module::Pluggable                                                => *undef*
Module::Refresh                                                  => *undef*
Module::Release::Select                                          => M::R::S
Module::Runtime                                                  => *undef*
Module::Runtime::Conflicts                                       => M::R::C
Module::ScanDeps                                                 => M::SD
Module::Signature                                                => *undef*
Module::Util                                                     => M::U
Module::XSOrPP                                                   => M::XSOrPP
Monkey::Patch::Action                                            => M::P::A
MooX::ConfigFromFile                                             => MooX::CFF
MooX::File::ConfigDir                                            => MooX::F::CDir
MooX::HandlesVia                                                 => MooX::HVia
MooX::LazierAttributes                                           => MooX::LA
MooX::Locale::Passthrough                                        => MooX::L::P
MooX::Locale::TextDomain::OO                                     => MooX::L::TD::OO
MooX::Options                                                    => MooX::O
MooX::ReturnModifiers                                            => MooX::RM
MooX::Singleton                                                  => MooX::S
MooX::StrictConstructor                                          => MooX::SC
MooX::Traits                                                     => MooX::T
MooX::Types::MooseLike                                           => MooX::T::ML
MooX::Types::MooseLike::Numeric                                  => MooX::T::ML::N
MooseX::Aliases                                                  => MX::A
MooseX::ArrayRef                                                 => MX::ARef
MooseX::Attribute::Chained                                       => MX::A::C
MooseX::AttributeHelpers                                         => MX::AH
MooseX::ClassAttribute                                           => MX::CA
MooseX::ConfigFromFile                                           => MX::CFF
MooseX::Emulate::Class::Accessor::Fast                           => MX::E::C::A::F
MooseX::Getopt                                                   => MX::G
MooseX::MarkAsMethods                                            => MX::MAsM
MooseX::MethodAttributes                                         => MX::MA
MooseX::Object::Pluggable                                        => MX::O::P
MooseX::OneArgNew                                                => MX::OneArgNew
MooseX::Role::Parameterized                                      => MX::R::P
MooseX::SimpleConfig                                             => MX::SC
MooseX::Storage                                                  => MX::S
MooseX::Storage::Format::JSONpm                                  => MX::S::F::JSONpm
MooseX::StrictConstructor                                        => *undef*
MooseX::Traits::Pluggable                                        => MX::T::P
MooseX::Types                                                    => MX::T
MooseX::Types::DateTime                                          => MX::T::DT
MooseX::Types::DateTime::MySQL                                   => MX::T::DT::MySQL
MooseX::Types::ISO8601                                           => MX::T::ISO8601
MooseX::Types::JSON                                              => MX::T::JSON
MooseX::Types::LoadableClass                                     => MX::T::LC
MooseX::Types::Path::Class                                       => MX::T::P::C
MooseX::Types::Path::Tiny                                        => MX::T::P::T
MooseX::Types::Stringlike                                        => MX::T::S
MooseX::Types::Structured                                        => *undef*
MouseX::Types                                                    => *undef*
Mozilla::CA                                                      => M::CA
Mozilla::PublicSuffix                                            => M::PS
MySQL::Diff                                                      => MySQL::D
NDBM_File                                                        => NDBM_F
Net::AMQP::RabbitMQ                                              => Net::AMQP::RMQ
Net::Config                                                      => Net::C
Net::Curl                                                        => *undef*
Net::Curl::Promiser                                              => Net::C::P
Net::DNS::Lite                                                   => Net::DNS::L
Net::Detect                                                      => Net::D
Net::Domain                                                      => *undef*
Net::EC2::Tiny                                                   => Net::EC2::T
Net::FTP::dataconn                                               => Net::FTP::d
Net::IDN::Encode                                                 => Net::IDN::E
Net::Netrc                                                       => Net::N
Net::OAuth                                                       => Net::OA
Net::OpenID::Common                                              => Net::OID::C
Net::OpenID::Consumer                                            => *undef*
Net::Ping                                                        => Net::P
Net::SSH::Perl                                                   => Net::SSH::P
Net::SSLeay                                                      => Net::SSL
Net::Server                                                      => Net::S
Net::Subnet                                                      => *undef*
Net::Time                                                        => Net::T
Net::Twitter                                                     => *undef*
Net::Twitter::Lite                                               => Net::T::L
Net::Whois::IANA                                                 => Net::W::IANA
Net::Whois::IP                                                   => Net::W::IP
Net::hostent                                                     => Net::h
Net::netent                                                      => Net::n
Net::protoent                                                    => Net::p
Net::servent                                                     => Net::s
NetAddr::IP                                                      => NetA::IP
Nodejs::Util                                                     => N::U
Number::Compare                                                  => N::C
Number::Format                                                   => N::F
Number::Format::BigFloat                                         => N::F::BigF
Number::Format::Metric                                           => N::F::M
Number::WithError                                                => N::WE
OAuth::Lite                                                      => OA::L
ODBM_File                                                        => ODBM_F
OLE::Storage_Lite                                                => OLE::SL
OS2::ExtAttr                                                     => OS2::ExtA
OS2::Process                                                     => OS2::P
Object::Accessor                                                 => O::A
Object::Configure                                                => O::C
Object::Container                                                => *undef*
Object::InsideOut                                                => O::IOut
Object::Pluggable                                                => O::P
Object::Signature                                                => O::S
Object::Tiny                                                     => O::T
Overload::FileCheck                                              => O::FC
PAR::Dist                                                        => PAR::D
PERLANCAR::AppUtil::PerlStripper                                 => PERLANCAR::AppU::PS
PERLANCAR::File::HomeDir                                         => PERLANCAR::F::HDir
PERLANCAR::Module::List                                          => PERLANCAR::M::L
PHP::Serialization                                               => PHP::S
POE::Component::IRC                                              => POE::C::IRC
POE::Component::Syndicator                                       => POE::C::S
POE::Filter::IRCD                                                => POE::F::IRCD
POE::Filter::JSON                                                => POE::F::JSON
POE::Test::Loops                                                 => POE::T::L
POSIX::strftime::Compiler                                        => POSIX::s::C
POSIX::strptime                                                  => POSIX::s
PPIx::Regexp                                                     => PPIx::R
PPIx::Utils                                                      => PPIx::U
Package::Constants                                               => P::C
Package::DeprecationManager                                      => P::DM
Package::MoreUtil                                                => P::MU
Package::Pkg                                                     => P::Pkg
Package::Stash                                                   => P::S
Package::Stash::XS                                               => P::S::XS
Package::Util::Lite                                              => P::U::L
Package::Variant                                                 => P::V
PadWalker                                                        => PadW
Parallel::ForkManager                                            => P::FM
Params::Check                                                    => *undef*
Params::Classify                                                 => *undef*
Params::Get                                                      => P::Get
Params::Util                                                     => P::U
Params::Validate                                                 => *undef*
Params::Validate::Strict                                         => P::V::S
Params::ValidationCompiler                                       => P::VC
Parse::CPAN::Authors                                             => P::CPAN::A
Parse::CPAN::Meta                                                => P::CPAN::M
Parse::CPAN::Packages                                            => P::CPAN::P
Parse::CPAN::Packages::Fast                                      => P::CPAN::P::F
Parse::CPAN::Whois                                               => P::CPAN::W
Parse::Deb::Control                                              => P::Deb::C
Parse::Distname                                                  => P::D
Parse::RecDescent                                                => P::RecD
Parse::VarName                                                   => P::VarN
Parser::MGC                                                      => P::MGC
Path::Abstract                                                   => P::A
Path::AttrRouter                                                 => P::AR
Path::Class                                                      => *undef*
Path::Iterator::Rule                                             => P::I::R
Path::Tiny                                                       => P::T
Perinci::Access::Base                                            => P::A::B
Perinci::Access::HTTP::Client                                    => P::A::HTTP::C
Perinci::Access::Lite                                            => P::A::L
Perinci::Access::Simple::Client                                  => P::A::S::C
Perinci::AccessUtil                                              => P::AU
Perinci::CmdLine::Call                                           => P::CmdL::C
Perinci::CmdLine::Util                                           => P::CmdL::U
Perinci::CmdLine::Util::Config                                   => P::CmdL::U::C
Perinci::CmdLineX::CommonOptions::SelfUpgrade                    => P::CmdLX::CO::SU
Perinci::Examples                                                => P::E
Perinci::Object                                                  => P::O
Perinci::Result::Format                                          => P::R::F
Perinci::Result::Format::Lite                                    => P::R::F::L
Perinci::Sub::ConvertArgs::Argv                                  => P::Sub::CA::A
Perinci::Sub::ConvertArgs::Array                                 => *undef*
Perinci::Sub::DepChecker                                         => P::Sub::DepC
Perinci::Sub::GetArgs::Array                                     => P::Sub::GetA::A
Perinci::Sub::Normalize                                          => P::Sub::N
Perinci::Sub::Property::arg::cmdline                             => P::Sub::P::arg::c
Perinci::Sub::PropertyUtil                                       => P::Sub::PU
Perinci::Sub::Util                                               => P::Sub::U
Perl6::Slurp                                                     => P6::S
Perl::Destruct::Level                                            => P::D::L
Perl::MinimumVersion                                             => P::MV
Perl::OSType                                                     => P::OST
Perl::PrereqScanner                                              => P::PS
Perl::PrereqScanner::NotQuiteLite                                => P::PS::NotQL
Perl::Strip                                                      => *undef*
Perl::Stripper                                                   => *undef*
Perl::Tidy                                                       => *undef*
Perl::osnames                                                    => P::o
PerlIO                                                           => PIO
PerlIO::Layers                                                   => PIO::L
PerlIO::encoding                                                 => PIO::e
PerlIO::gzip                                                     => PIO::g
PerlIO::locale                                                   => PIO::l
PerlIO::mmap                                                     => PIO::m
PerlIO::scalar                                                   => PIO::s
PerlIO::utf8_strict                                              => PIO::utf8
PerlIO::via                                                      => PIO::via
PerlIO::via::QuotedPrint                                         => PIO::via::QP
PerlIO::via::Timeout                                             => PIO::via::T
Permute::Named::Iter                                             => P::N::I
Pipe::Find                                                       => P::F
Plack::Middleware::Cache                                         => P::M::C
Plack::Middleware::Debug                                         => P::M::D
Plack::Middleware::ETag                                          => P::M::ETag
Plack::Middleware::FixMissingBodyInRedirect                      => P::M::FixMBInR
Plack::Middleware::Header                                        => P::M::H
Plack::Middleware::MethodOverride                                => P::M::MO
Plack::Middleware::RemoveRedundantBody                           => P::M::RRB
Plack::Middleware::ReverseProxy                                  => P::M::RP
Plack::Middleware::Session                                       => P::M::S
Plack::Request::WithEncoding                                     => P::R::WE
Plack::Test::ExternalServer                                      => P::T::ES
Pod::Checker                                                     => Pod::C
Pod::Coverage                                                    => *undef*
Pod::Coverage::TrustPod                                          => Pod::C::TPod
Pod::Escapes                                                     => Pod::E
Pod::Eventual                                                    => *undef*
Pod::Functions                                                   => Pod::F
Pod::Html                                                        => Pod::H
Pod::Html::Util                                                  => Pod::H::U
Pod::Markdown                                                    => Pod::M
Pod::ParseLink                                                   => Pod::PL
Pod::Parser                                                      => Pod::P
Pod::Perldoc                                                     => *undef*
Pod::Perldoc::BaseTo                                             => Pod::P::BTo
Pod::Perldoc::GetOptsOO                                          => Pod::P::GetOOO
Pod::Perldoc::ToANSI                                             => Pod::P::ToANSI
Pod::Perldoc::ToChecker                                          => Pod::P::ToC
Pod::Perldoc::ToMan                                              => Pod::P::ToMan
Pod::Perldoc::ToNroff                                            => Pod::P::ToN
Pod::Perldoc::ToPod                                              => Pod::P::ToPod
Pod::Perldoc::ToRtf                                              => Pod::P::ToRtf
Pod::Perldoc::ToTerm                                             => Pod::P::ToT
Pod::Perldoc::ToText                                             => *undef*
Pod::Perldoc::ToTk                                               => Pod::P::ToTk
Pod::Perldoc::ToXml                                              => Pod::P::ToXml
Pod::Simple                                                      => Pod::S
Pod::Simple::BlackBox                                            => Pod::S::BBox
Pod::Simple::Checker                                             => Pod::S::C
Pod::Simple::Debug                                               => Pod::S::D
Pod::Simple::DumpAsText                                          => Pod::S::DAsT
Pod::Simple::DumpAsXML                                           => Pod::S::DAsXML
Pod::Simple::HTML                                                => Pod::S::HTML
Pod::Simple::HTMLBatch                                           => Pod::S::HTMLB
Pod::Simple::HTMLLegacy                                          => Pod::S::HTMLL
Pod::Simple::JustPod                                             => Pod::S::JPod
Pod::Simple::LinkSection                                         => Pod::S::LS
Pod::Simple::Methody                                             => Pod::S::M
Pod::Simple::Progress                                            => Pod::S::P
Pod::Simple::PullParser                                          => Pod::S::PP
Pod::Simple::PullParserEndToken                                  => Pod::S::PPEndT
Pod::Simple::PullParserStartToken                                => Pod::S::PPST
Pod::Simple::PullParserTextToken                                 => Pod::S::PPTT
Pod::Simple::PullParserToken                                     => Pod::S::PPT
Pod::Simple::RTF                                                 => Pod::S::RTF
Pod::Simple::Search                                              => Pod::S::S
Pod::Simple::SimpleTree                                          => Pod::S::ST
Pod::Simple::Text                                                => Pod::S::T
Pod::Simple::TextContent                                         => Pod::S::TC
Pod::Simple::TiedOutFH                                           => Pod::S::TOutFH
Pod::Simple::Transcode                                           => *undef*
Pod::Simple::TranscodeDumb                                       => Pod::S::TD
Pod::Simple::TranscodeSmart                                      => Pod::S::TS
Pod::Simple::XHTML                                               => Pod::S::XHTML
Pod::Simple::XMLOutStream                                        => Pod::S::XMLOutS
Pod::Spell                                                       => *undef*
Pod::Spell::CommonMistakes                                       => Pod::S::CM
Pod::Text                                                        => Pod::T
Pod::Text::Color                                                 => Pod::T::C
Pod::Text::Overstrike                                            => Pod::T::O
Pod::Text::Termcap                                               => Pod::T::T
Pod::Usage                                                       => Pod::U
Probe::Perl                                                      => P::P
Proc::ChildError                                                 => P::CE
Proc::Daemon                                                     => *undef*
Proc::Find::Parents                                              => P::F::P
Proc::Fork                                                       => *undef*
Proc::InvokeEditor                                               => P::IE
Proc::ProcessTable                                               => P::PT
Progress::Any                                                    => P::Any
Progress::Any::Output::TermProgressBarColor                      => P::Any::O::TPBarC
Promise::ES6                                                     => P::ES6
Protocol::WebSocket                                              => P::WebS
RDF::NS::Curated                                                 => RDF::NS::C
RDF::Prefixes                                                    => RDF::P
RDF::Trine                                                       => RDF::T
Readonly::Enum                                                   => R::E
Readonly::Values::Syslog                                         => R::V::S
RedisDB                                                          => RDB
RedisDB::Parser                                                  => RDB::P
Ref::Util                                                        => Ref::U
Ref::Util::XS                                                    => Ref::U::XS
Regexp::Assemble                                                 => R::A
Regexp::Common                                                   => R::C
Regexp::Ethiopic                                                 => *undef*
Regexp::Grammars                                                 => R::G
Regexp::IPv6                                                     => R::IPv6
Regexp::Pattern::Perl                                            => R::P::P
Regexp::RegGrp                                                   => R::RegGrp
Regexp::SQL::LIKE                                                => R::SQL::LIKE
Regexp::Stringify                                                => R::S
Regexp::Trie                                                     => R::T
Regexp::Util                                                     => R::U
Return::MultiLevel                                               => R::ML
Role::Basic                                                      => R::B
Role::HasMessage                                                 => R::HasM
Role::Identifiable                                               => R::I
Role::Tiny                                                       => *undef*
Rope::Cmd                                                        => R::Cmd
Router::Boom                                                     => *undef*
Router::Simple                                                   => *undef*
Router::Simple::Sinatraish                                       => R::S::S
SDBM_File                                                        => SDBM_F
SQL::Abstract                                                    => SQL::A
SQL::Abstract::Classic                                           => SQL::A::C
SQL::Abstract::Limit                                             => SQL::A::L
SQL::Inserter                                                    => SQL::I
SQL::Interp                                                      => *undef*
SQL::Maker                                                       => SQL::M
SQL::QueryMaker                                                  => SQL::QM
SQL::Schema::Versioned                                           => SQL::S::V
SQL::SplitStatement                                              => SQL::SS
SQL::Statement                                                   => SQL::S
SQL::Translator                                                  => SQL::T
Safe::Isa                                                        => S::Isa
Sah::Schemas::Int                                                => Sah::S::Int
Sah::Schemas::JSON                                               => Sah::S::JSON
Sah::Schemas::Rinci                                              => Sah::S::R
Scalar::List::Utils                                              => S::L::U
Scalar::Readonly                                                 => S::R
Scalar::String                                                   => S::S
Scalar::Util                                                     => S::U
Scalar::Util::LooksLikeNumber                                    => S::U::LLN
Scalar::Util::Numeric                                            => S::U::N
Scalar::Util::Numeric::PP                                        => S::U::N::PP
Scope::Guard                                                     => S::G
Scope::Upper                                                     => *undef*
Search::Dict                                                     => S::D
Search::Elasticsearch                                            => S::E
Search::QueryParser                                              => S::QP
Search::Tokenizer                                                => S::T
SelectSaver                                                      => SS
SelfLoader                                                       => SL
Sereal::Decoder                                                  => *undef*
Sereal::Encoder                                                  => *undef*
Set::CrossProduct                                                => Set::CP
Set::IntSpan                                                     => Set::IntS
Set::Object                                                      => Set::O
Set::Scalar                                                      => Set::S
ShellQuote::Any::Tiny                                            => SQ::Any::T
Socket6                                                          => S6
Software::License                                                => S::L
Sort::ByExample                                                  => S::ByE
Sort::BySpec                                                     => S::ByS
Sort::Naturally                                                  => S::N
Sort::Sub                                                        => S::Sub
Sort::Versions                                                   => S::V
Specio::Library::Path::Tiny                                      => S::L::P::T
Spreadsheet::GenerateXLSX                                        => S::GXLSX
Spreadsheet::ParseExcel                                          => S::PE
Spreadsheet::ParseXLSX                                           => S::PXLSX
Spreadsheet::Template                                            => *undef*
Statistics::Basic                                                => S::B
Statistics::CaseResampling                                       => S::CR
Stream::Buffered                                                 => *undef*
String::BufferStack                                              => S::BS
String::CRC32                                                    => S::CRC32
String::CamelCase                                                => S::CC
String::Clean                                                    => S::C
String::Compare::ConstantTime                                    => S::C::CT
String::Elide::Parts                                             => S::E::P
String::Errf                                                     => *undef*
String::Escape                                                   => *undef*
String::Flogger                                                  => S::F
String::Formatter                                                => *undef*
String::IRC                                                      => S::IRC
String::Indent                                                   => S::I
String::JS                                                       => S::JS
String::LineNumber                                               => S::LN
String::Pad                                                      => S::Pad
String::PerlQuote                                                => S::PQ
String::PodQuote                                                 => S::PodQ
String::Random                                                   => *undef*
String::RewritePrefix                                            => S::RP
String::ShellQuote                                               => S::SQ
String::Tagged                                                   => *undef*
String::Tagged::Terminal                                         => S::T::T
String::TtyLength                                                => S::TtyL
String::Util                                                     => *undef*
String::Wildcard::Bash                                           => S::W::B
Struct::Conditional                                              => *undef*
Struct::Dumb                                                     => *undef*
Sub::Attribute                                                   => Sub::A
Sub::Delete                                                      => Sub::D
Sub::Exporter                                                    => Sub::E
Sub::Exporter::ForMethods                                        => Sub::E::ForM
Sub::Exporter::GlobExporter                                      => Sub::E::GE
Sub::Exporter::Progressive                                       => Sub::E::P
Sub::Identify                                                    => Sub::I
Sub::Infix                                                       => *undef*
Sub::Info                                                        => *undef*
Sub::Install                                                     => *undef*
Sub::Iterator                                                    => *undef*
Sub::Name                                                        => Sub::N
Sub::Override                                                    => Sub::O
Sub::Quote                                                       => Sub::Q
Sub::Uplevel                                                     => Sub::U
Sub::Util                                                        => *undef*
Syntax::Feature::EachOnArray                                     => S::F::EOnA
Syntax::Highlight::Perl::Improved                                => S::H::P::I
Syntax::Keyword::Dynamically                                     => S::K::D
Syntax::Keyword::Match                                           => S::K::M
Syntax::Keyword::Try                                             => S::K::Try
Sys::Hostname                                                    => Sys::H
Sys::Info                                                        => Sys::I
Sys::Info::Base                                                  => Sys::I::B
Sys::Info::Driver::Unknown                                       => Sys::I::D::U
Sys::Load                                                        => Sys::L
Sys::Path                                                        => Sys::P
Sys::SigAction                                                   => Sys::SigA
Sys::Syslog                                                      => Sys::S
Sys::Syslog::Win32                                               => Sys::S::Win32
System::Info                                                     => *undef*
TAP::Base                                                        => TAP::B
TAP::Formatter::Base                                             => TAP::F::B
TAP::Formatter::Color                                            => TAP::F::C
TAP::Formatter::Console                                          => *undef*
TAP::Formatter::Console::ParallelSession                         => TAP::F::C::PS
TAP::Formatter::Console::Session                                 => TAP::F::C::S
TAP::Formatter::File                                             => TAP::F::F
TAP::Formatter::File::Session                                    => TAP::F::F::S
TAP::Formatter::Session                                          => TAP::F::S
TAP::Harness                                                     => TAP::H
TAP::Harness::Env                                                => TAP::H::Env
TAP::Object                                                      => TAP::O
TAP::Parser                                                      => TAP::P
TAP::Parser::Aggregator                                          => TAP::P::A
TAP::Parser::Grammar                                             => TAP::P::G
TAP::Parser::Iterator                                            => TAP::P::I
TAP::Parser::Iterator::Array                                     => TAP::P::I::A
TAP::Parser::Iterator::Process                                   => TAP::P::I::P
TAP::Parser::Iterator::Stream                                    => TAP::P::I::S
TAP::Parser::IteratorFactory                                     => TAP::P::IF
TAP::Parser::Multiplexer                                         => TAP::P::M
TAP::Parser::Result                                              => TAP::P::R
TAP::Parser::Result::Bailout                                     => TAP::P::R::B
TAP::Parser::Result::Comment                                     => TAP::P::R::C
TAP::Parser::Result::Plan                                        => TAP::P::R::P
TAP::Parser::Result::Pragma                                      => *undef*
TAP::Parser::Result::Test                                        => TAP::P::R::T
TAP::Parser::Result::Unknown                                     => TAP::P::R::U
TAP::Parser::Result::Version                                     => TAP::P::R::V
TAP::Parser::Result::YAML                                        => TAP::P::R::YAML
TAP::Parser::ResultFactory                                       => TAP::P::RF
TAP::Parser::Scheduler                                           => TAP::P::S
TAP::Parser::Scheduler::Job                                      => TAP::P::S::Job
TAP::Parser::Scheduler::Spinner                                  => TAP::P::S::S
TAP::Parser::Source                                              => *undef*
TAP::Parser::SourceHandler                                       => TAP::P::SH
TAP::Parser::SourceHandler::Executable                           => TAP::P::SH::E
TAP::Parser::SourceHandler::File                                 => TAP::P::SH::F
TAP::Parser::SourceHandler::Handle                               => TAP::P::SH::H
TAP::Parser::SourceHandler::Perl                                 => TAP::P::SH::P
TAP::Parser::SourceHandler::RawTAP                               => TAP::P::SH::RawTAP
TAP::Parser::YAMLish::Reader                                     => TAP::P::YAML::R
TAP::Parser::YAMLish::Writer                                     => TAP::P::YAML::W
Taint::Runtime                                                   => T::R
Task::CPAN::Reporter                                             => T::CPAN::R
Task::Weaken                                                     => T::W
Template::Alloy                                                  => T::A
Template::Declare                                                => T::D
Template::Provider::Encoding                                     => T::P::E
Template::Timer                                                  => T::T
Template::Toolkit::Simple                                        => T::T::S
Term::ANSI::Sprintf                                              => T::ANSI::S
Term::ANSIColor                                                  => T::ANSIC
Term::App::Roles                                                 => T::App::R
Term::App::Util::Color                                           => T::App::U::C
Term::App::Util::Interactive                                     => T::App::U::I
Term::App::Util::Size                                            => T::App::U::S
Term::Cap                                                        => T::Cap
Term::Choose                                                     => T::C
Term::Choose::LineFold::XS                                       => T::C::LF::XS
Term::Choose::Util                                               => T::C::U
Term::Complete                                                   => *undef*
Term::Detect::Software                                           => T::D::S
Term::Encoding                                                   => T::E
Term::Filter                                                     => T::F
Term::Form                                                       => *undef*
Term::ProgressBar                                                => T::PBar
Term::ReadKey                                                    => T::RKey
Term::ReadLine                                                   => T::RL
Term::ReadLine::Gnu                                              => T::RL::Gnu
Term::ReadLine::Zoid                                             => T::RL::Z
Term::Size                                                       => T::S
Term::Size::ReadKey                                              => T::S::RKey
Term::Table                                                      => *undef*
Term::Table::Cell                                                => T::T::C
Term::Table::CellStack                                           => T::T::CS
Term::Table::HashBase                                            => T::T::HB
Term::Table::LineBreak                                           => T::T::LB
Term::Table::Spacer                                              => *undef*
Term::Table::Util                                                => T::T::U
Term::TablePrint                                                 => T::TP
Term::TtyRec::Plus                                               => T::TtyRec::P
Term::UI                                                         => T::UI
Test2                                                            => T2
Test2::API                                                       => T2::API
Test2::API::Breakage                                             => T2::API::B
Test2::API::Context                                              => T2::API::C
Test2::API::Instance                                             => T2::API::I
Test2::API::InterceptResult                                      => T2::API::IR
Test2::API::InterceptResult::Event                               => T2::API::IR::E
Test2::API::InterceptResult::Facet                               => T2::API::IR::F
Test2::API::InterceptResult::Hub                                 => T2::API::IR::Hub
Test2::API::InterceptResult::Squasher                            => T2::API::IR::S
Test2::API::Stack                                                => T2::API::S
Test2::AsyncSubtest                                              => T2::AS
Test2::AsyncSubtest::Event::Attach                               => T2::AS::E::A
Test2::AsyncSubtest::Event::Detach                               => T2::AS::E::D
Test2::AsyncSubtest::Formatter                                   => T2::AS::F
Test2::AsyncSubtest::Hub                                         => T2::AS::Hub
Test2::Bundle                                                    => T2::B
Test2::Bundle::Extended                                          => T2::B::E
Test2::Bundle::More                                              => T2::B::M
Test2::Bundle::Simple                                            => T2::B::S
Test2::Compare                                                   => T2::C
Test2::Compare::Array                                            => T2::C::A
Test2::Compare::Bag                                              => T2::C::Bag
Test2::Compare::Base                                             => T2::C::B
Test2::Compare::Bool                                             => *undef*
Test2::Compare::Custom                                           => T2::C::C
Test2::Compare::DeepRef                                          => T2::C::DRef
Test2::Compare::Delta                                            => T2::C::D
Test2::Compare::Event                                            => T2::C::E
Test2::Compare::EventMeta                                        => T2::C::EM
Test2::Compare::Float                                            => T2::C::F
Test2::Compare::Hash                                             => T2::C::H
Test2::Compare::Isa                                              => T2::C::Isa
Test2::Compare::Meta                                             => T2::C::M
Test2::Compare::Negatable                                        => T2::C::N
Test2::Compare::Number                                           => *undef*
Test2::Compare::Object                                           => T2::C::O
Test2::Compare::OrderedSubset                                    => T2::C::OS
Test2::Compare::Pattern                                          => T2::C::P
Test2::Compare::Ref                                              => T2::C::Ref
Test2::Compare::Regex                                            => T2::C::R
Test2::Compare::Scalar                                           => T2::C::S
Test2::Compare::Set                                              => T2::C::Set
Test2::Compare::String                                           => *undef*
Test2::Compare::Undef                                            => T2::C::U
Test2::Compare::Wildcard                                         => T2::C::W
Test2::Env                                                       => T2::Env
Test2::Event                                                     => T2::E
Test2::Event::Bail                                               => T2::E::B
Test2::Event::Diag                                               => T2::E::D
Test2::Event::Encoding                                           => T2::E::E
Test2::Event::Exception                                          => *undef*
Test2::Event::Fail                                               => T2::E::F
Test2::Event::Generic                                            => T2::E::G
Test2::Event::Note                                               => T2::E::N
Test2::Event::Ok                                                 => T2::E::Ok
Test2::Event::Pass                                               => T2::E::P
Test2::Event::Plan                                               => *undef*
Test2::Event::Skip                                               => T2::E::S
Test2::Event::Subtest                                            => *undef*
Test2::Event::TAP::Version                                       => T2::E::TAP::V
Test2::Event::V2                                                 => T2::E::V2
Test2::Event::Waiting                                            => T2::E::W
Test2::EventFacet                                                => T2::EF
Test2::EventFacet::About                                         => T2::EF::A
Test2::EventFacet::Amnesty                                       => *undef*
Test2::EventFacet::Assert                                        => *undef*
Test2::EventFacet::Control                                       => T2::EF::C
Test2::EventFacet::Error                                         => T2::EF::E
Test2::EventFacet::Hub                                           => T2::EF::Hub
Test2::EventFacet::Info                                          => T2::EF::I
Test2::EventFacet::Info::Table                                   => T2::EF::I::T
Test2::EventFacet::Meta                                          => T2::EF::M
Test2::EventFacet::Parent                                        => T2::EF::P
Test2::EventFacet::Plan                                          => *undef*
Test2::EventFacet::Render                                        => T2::EF::R
Test2::EventFacet::Trace                                         => T2::EF::T
Test2::Formatter                                                 => T2::F
Test2::Formatter::TAP                                            => T2::F::TAP
Test2::Hub                                                       => T2::Hub
Test2::Hub::Interceptor                                          => T2::Hub::I
Test2::Hub::Interceptor::Terminator                              => T2::Hub::I::T
Test2::Hub::Subtest                                              => T2::Hub::S
Test2::IPC                                                       => T2::IPC
Test2::IPC::Driver                                               => T2::IPC::D
Test2::IPC::Driver::Files                                        => T2::IPC::D::F
Test2::Manual                                                    => T2::M
Test2::Manual::Anatomy                                           => T2::M::A
Test2::Manual::Anatomy::API                                      => T2::M::A::API
Test2::Manual::Anatomy::Context                                  => T2::M::A::C
Test2::Manual::Anatomy::EndToEnd                                 => T2::M::A::EndToEnd
Test2::Manual::Anatomy::Event                                    => T2::M::A::E
Test2::Manual::Anatomy::Hubs                                     => T2::M::A::H
Test2::Manual::Anatomy::IPC                                      => T2::M::A::IPC
Test2::Manual::Anatomy::Utilities                                => T2::M::A::U
Test2::Manual::Concurrency                                       => T2::M::C
Test2::Manual::Contributing                                      => *undef*
Test2::Manual::Testing                                           => T2::M::T
Test2::Manual::Testing::Introduction                             => T2::M::T::I
Test2::Manual::Testing::Migrating                                => T2::M::T::M
Test2::Manual::Testing::Planning                                 => T2::M::T::P
Test2::Manual::Testing::Todo                                     => T2::M::T::T
Test2::Manual::Tooling                                           => *undef*
Test2::Manual::Tooling::FirstTool                                => T2::M::T::FT
Test2::Manual::Tooling::Formatter                                => T2::M::T::F
Test2::Manual::Tooling::Nesting                                  => T2::M::T::N
Test2::Manual::Tooling::Plugin::TestExit                         => T2::M::T::P::TE
Test2::Manual::Tooling::Plugin::TestingDone                      => T2::M::T::P::TD
Test2::Manual::Tooling::Plugin::ToolCompletes                    => T2::M::T::P::TC
Test2::Manual::Tooling::Plugin::ToolStarts                       => T2::M::T::P::TS
Test2::Manual::Tooling::Subtest                                  => T2::M::T::S
Test2::Manual::Tooling::TestBuilder                              => T2::M::T::TB
Test2::Manual::Tooling::Testing                                  => *undef*
Test2::Mock                                                      => *undef*
Test2::Plugin                                                    => T2::P
Test2::Plugin::BailOnFail                                        => T2::P::BOnF
Test2::Plugin::Cover                                             => T2::P::C
Test2::Plugin::DBIProfile                                        => T2::P::DBIP
Test2::Plugin::DieOnFail                                         => T2::P::DieOnF
Test2::Plugin::ExitSummary                                       => T2::P::ES
Test2::Plugin::IOEvents                                          => T2::P::IOE
Test2::Plugin::MemUsage                                          => T2::P::MemU
Test2::Plugin::NoWarnings                                        => T2::P::NoW
Test2::Plugin::SRand                                             => T2::P::SR
Test2::Plugin::Times                                             => T2::P::T
Test2::Plugin::UTF8                                              => T2::P::UTF8
Test2::Plugin::UUID                                              => T2::P::UUID
Test2::Require                                                   => T2::R
Test2::Require::AuthorTesting                                    => T2::R::AT
Test2::Require::AutomatedTesting                                 => *undef*
Test2::Require::EnvVar                                           => T2::R::EnvVar
Test2::Require::ExtendedTesting                                  => T2::R::ET
Test2::Require::Fork                                             => T2::R::F
Test2::Require::Module                                           => T2::R::M
Test2::Require::NonInteractiveTesting                            => T2::R::NonIT
Test2::Require::Perl                                             => T2::R::P
Test2::Require::RealFork                                         => T2::R::RF
Test2::Require::ReleaseTesting                                   => T2::R::RT
Test2::Require::Threads                                          => T2::R::T
Test2::Suite                                                     => T2::S
Test2::Todo                                                      => T2::T
Test2::Tools                                                     => *undef*
Test2::Tools::AsyncSubtest                                       => T2::T::AS
Test2::Tools::Basic                                              => T2::T::B
Test2::Tools::Class                                              => T2::T::C
Test2::Tools::ClassicCompare                                     => T2::T::CC
Test2::Tools::Compare                                            => *undef*
Test2::Tools::Defer                                              => T2::T::D
Test2::Tools::Encoding                                           => T2::T::E
Test2::Tools::Event                                              => *undef*
Test2::Tools::Exception                                          => *undef*
Test2::Tools::Explain                                            => *undef*
Test2::Tools::Exports                                            => *undef*
Test2::Tools::GenTemp                                            => T2::T::GenT
Test2::Tools::Grab                                               => T2::T::G
Test2::Tools::Mock                                               => T2::T::M
Test2::Tools::Ref                                                => T2::T::Ref
Test2::Tools::Refcount                                           => T2::T::R
Test2::Tools::Spec                                               => T2::T::S
Test2::Tools::Subtest                                            => *undef*
Test2::Tools::Target                                             => T2::T::T
Test2::Tools::Tester                                             => *undef*
Test2::Tools::Tiny                                               => *undef*
Test2::Tools::Warnings                                           => T2::T::W
Test2::Util                                                      => T2::U
Test2::Util::ExternalMeta                                        => T2::U::EM
Test2::Util::Facets2Legacy                                       => T2::U::F2L
Test2::Util::Grabber                                             => T2::U::G
Test2::Util::Guard                                               => *undef*
Test2::Util::HashBase                                            => T2::U::HB
Test2::Util::Importer                                            => T2::U::I
Test2::Util::Ref                                                 => T2::U::Ref
Test2::Util::Sig                                                 => T2::U::Sig
Test2::Util::Stash                                               => T2::U::S
Test2::Util::Sub                                                 => T2::U::Sub
Test2::Util::Table                                               => T2::U::T
Test2::Util::Table::Cell                                         => T2::U::T::C
Test2::Util::Table::LineBreak                                    => T2::U::T::LB
Test2::Util::Term                                                => *undef*
Test2::Util::Times                                               => *undef*
Test2::Util::Trace                                               => *undef*
Test2::V0                                                        => T2::V0
Test2::Workflow                                                  => T2::W
Test2::Workflow::BlockBase                                       => T2::W::BB
Test2::Workflow::Build                                           => T2::W::B
Test2::Workflow::Runner                                          => T2::W::R
Test2::Workflow::Task                                            => T2::W::T
Test2::Workflow::Task::Action                                    => T2::W::T::A
Test2::Workflow::Task::Group                                     => T2::W::T::G
Test::API                                                        => T::API
Test::Abortable                                                  => *undef*
Test::Assertions                                                 => *undef*
Test::Base                                                       => T::B
Test::Builder                                                    => *undef*
Test::Builder::Formatter                                         => T::B::F
Test::Builder::Module                                            => T::B::M
Test::Builder::Tester                                            => T::B::T
Test::Builder::Tester::Color                                     => T::B::T::C
Test::Builder::TodoDiag                                          => T::B::TD
Test::CPAN::Meta                                                 => T::CPAN::M
Test::CPAN::Meta::JSON                                           => T::CPAN::M::JSON
Test::Carp                                                       => *undef*
Test::CheckDeps                                                  => T::CD
Test::Class                                                      => *undef*
Test::Class::Moose                                               => T::C::M
Test::Class::Most                                                => *undef*
Test::Class::Tiny                                                => T::C::T
Test::ClassAPI                                                   => T::CAPI
Test::Classy                                                     => *undef*
Test::CleanNamespaces                                            => T::CN
Test::Cmd                                                        => T::Cmd
Test::Compile                                                    => *undef*
Test::Count                                                      => *undef*
Test::Database                                                   => *undef*
Test::Deep                                                       => *undef*
Test::Deep::JSON                                                 => T::D::JSON
Test::Deep::Type                                                 => T::D::T
Test::DescribeMe                                                 => T::DMe
Test::DiagINC                                                    => T::DINC
Test::Differences                                                => *undef*
Test::Dirs                                                       => *undef*
Test::Distribution                                               => *undef*
Test::Exception                                                  => *undef*
Test::Exit                                                       => *undef*
Test::FailWarnings                                               => T::FW
Test::Fake::HTTPD                                                => T::F::HTTPD
Test::Fatal                                                      => *undef*
Test::File                                                       => *undef*
Test::File::Contents                                             => T::F::C
Test::File::ShareDir                                             => T::F::SDir
Test::Filename                                                   => *undef*
Test::Fork                                                       => *undef*
Test::Future::IO::Impl                                           => T::F::IO::I
Test::Harness                                                    => T::H
Test::HexDifferences                                             => T::HexD
Test::InDistDir                                                  => T::InDDir
Test::JSON                                                       => T::JSON
Test::Kwalitee                                                   => T::K
Test::LWP::UserAgent                                             => T::LWP::UA
Test::Lazy                                                       => T::L
Test::LeakTrace                                                  => T::LT
Test::LectroTest                                                 => *undef*
Test::Lib                                                        => T::Lib
Test::LongString                                                 => T::LS
Test::Memory::Cycle                                              => T::M::C
Test::Metrics::Any                                               => T::M::Any
Test::MinimumVersion                                             => T::MV
Test::Mock::Guard                                                => T::M::G
Test::MockModule                                                 => T::MM
Test::MockObject                                                 => T::MO
Test::MockRandom                                                 => T::MR
Test::MockTime                                                   => T::MT
Test::MockTime::HiRes                                            => T::MT::HiRes
Test::Mockingbird                                                => T::M
Test::Modern                                                     => *undef*
Test::More                                                       => *undef*
Test::More::UTF8                                                 => T::M::UTF8
Test::Most                                                       => *undef*
Test::Needs                                                      => T::N
Test::Net::RabbitMQ                                              => T::Net::RMQ
Test::NoWarnings                                                 => T::NoW
Test::Number::Delta                                              => T::N::D
Test::Object                                                     => T::O
Test::Output                                                     => *undef*
Test::Pod                                                        => T::Pod
Test::Pod::Coverage                                              => T::Pod::C
Test::RandomResult                                               => T::RR
Test::Refcount                                                   => *undef*
Test::Regexp                                                     => *undef*
Test::Reporter                                                   => *undef*
Test::Reporter::Transport::Metabase                              => T::R::T::M
Test::Requires                                                   => *undef*
Test::RequiresInternet                                           => T::RI
Test::Roo                                                        => T::Roo
Test::Routine                                                    => *undef*
Test::Script                                                     => *undef*
Test::Settings                                                   => *undef*
Test::SharedFork                                                 => T::SF
Test::Simple                                                     => *undef*
Test::Spelling                                                   => *undef*
Test::SubCalls                                                   => T::SubC
Test::Synopsis                                                   => *undef*
Test::Sys::Info                                                  => T::Sys::I
Test::TCP                                                        => T::TCP
Test::Taint                                                      => *undef*
Test::TempDir::Tiny                                              => T::TDir::T
Test::Tester                                                     => *undef*
Test::Tester::Capture                                            => *undef*
Test::Tester::CaptureRunner                                      => T::T::CR
Test::Tester::Delegate                                           => T::T::D
Test::Time                                                       => *undef*
Test::TrailingSpace                                              => T::TS
Test::Trap                                                       => *undef*
Test::UseAllModules                                              => T::UseAllM
Test::Version                                                    => T::V
Test::WWW::Mechanize                                             => T::WWW::M
Test::WWW::Mechanize::Catalyst                                   => T::WWW::M::C
Test::WWW::Mechanize::PSGI                                       => T::WWW::M::PSGI
Test::Warn                                                       => *undef*
Test::Warnings                                                   => *undef*
Test::WithDB                                                     => T::WDB
Test::Without::Module                                            => T::W::M
Test::YAML                                                       => T::YAML
Test::use::ok                                                    => T::use::ok
Test::utf8                                                       => T::utf8
Text::ANSI::Util                                                 => T::ANSI::U
Text::ANSI::WideUtil                                             => T::ANSI::WU
Text::ANSITable                                                  => T::ANSIT
Text::ASCIITable                                                 => T::ASCIIT
Text::Abbrev                                                     => *undef*
Text::Aligner                                                    => *undef*
Text::Autoformat                                                 => *undef*
Text::Balanced                                                   => *undef*
Text::CSV                                                        => T::CSV
Text::CSV::Encoded                                               => T::CSV::E
Text::CSV_XS                                                     => T::CSV_XS
Text::CharWidth                                                  => T::CW
Text::Diff                                                       => *undef*
Text::FormatTable                                                => T::FT
Text::Glob                                                       => T::G
Text::Haml                                                       => *undef*
Text::Levenshtein::Damerau::XS                                   => T::L::D::XS
Text::Levenshtein::Flexible                                      => T::L::F
Text::Levenshtein::XS                                            => T::L::XS
Text::Markdown::Hoedown                                          => T::M::H
Text::MarkdownTable                                              => *undef*
Text::MicroTemplate                                              => *undef*
Text::MicroTemplate::Extended                                    => T::MT::E
Text::NonWideChar::Util                                          => T::NonWC::U
Text::ParseWords                                                 => T::PW
Text::RecordParser                                               => T::RP
Text::Reform                                                     => *undef*
Text::SimpleTable                                                => T::ST
Text::Soundex                                                    => *undef*
Text::Table                                                      => *undef*
Text::Table::ASV                                                 => T::T::ASV
Text::Table::Any                                                 => T::T::Any
Text::Table::CSV                                                 => T::T::CSV
Text::Table::HTML                                                => T::T::HTML
Text::Table::HTML::DataTables                                    => T::T::HTML::DT
Text::Table::LTSV                                                => T::T::LTSV
Text::Table::Manifold                                            => T::T::M
Text::Table::More                                                => *undef*
Text::Table::Org                                                 => T::T::Org
Text::Table::Paragraph                                           => T::T::P
Text::Table::Sprintf                                             => *undef*
Text::Table::TSV                                                 => T::T::TSV
Text::Table::Tiny                                                => T::T::T
Text::Table::TinyBorderStyle                                     => T::T::TBS
Text::Table::TinyColor                                           => T::T::TC
Text::Table::TinyColorWide                                       => T::T::TCW
Text::Table::TinyWide                                            => T::T::TW
Text::Table::XLSX                                                => T::T::XLSX
Text::Tabs                                                       => *undef*
Text::TabularDisplay                                             => T::TD
Text::Template                                                   => *undef*
Text::Template::Simple                                           => *undef*
Text::TestBase                                                   => T::TB
Text::Transliterator                                             => *undef*
Text::Trim                                                       => *undef*
Text::UnicodeBox                                                 => T::UBox
Text::Unidecode                                                  => T::U
Text::VisualWidth                                                => T::VW
Text::VisualWidth::PP                                            => T::VW::PP
Text::WideChar::Util                                             => T::WC::U
Text::WikiFormat::SAX                                            => T::WF::SAX
Text::Wrap                                                       => *undef*
Text::Xslate                                                     => T::X
Text::Xslate::Bridge::TT2Like                                    => T::X::B::TT2L
Text::sprintfn                                                   => T::s
Text::vCard                                                      => T::vC
Text::vFile::asData                                              => T::vF::asD
Thread::Queue                                                    => T::Q
Thread::Semaphore                                                => *undef*
Tie::Array                                                       => Tie::A
Tie::Cache                                                       => Tie::C
Tie::File                                                        => Tie::F
Tie::Filehandle::Preempt::Stdin                                  => Tie::F::P::S
Tie::Function                                                    => *undef*
Tie::Handle                                                      => Tie::H
Tie::Handle::Offset                                              => Tie::H::O
Tie::Handle::TtyRec                                              => Tie::H::TtyRec
Tie::Hash                                                        => *undef*
Tie::Hash::LRU                                                   => Tie::H::LRU
Tie::Hash::Method                                                => Tie::H::M
Tie::Hash::NamedCapture                                          => Tie::H::NC
Tie::IxHash                                                      => Tie::IxH
Tie::Memoize                                                     => Tie::M
Tie::RangeHash                                                   => Tie::RH
Tie::RefHash                                                     => Tie::RefH
Tie::Scalar                                                      => Tie::S
Tie::Simple                                                      => *undef*
Tie::StdHandle                                                   => Tie::StdH
Tie::SubstrHash                                                  => Tie::SH
Tie::ToObject                                                    => Tie::ToO
Time::Duration                                                   => *undef*
Time::Duration::Concise::Localize                                => T::D::C::L
Time::Duration::Parse                                            => T::D::P
Time::Duration::Parse::AsHash                                    => T::D::P::AsH
Time::HiRes                                                      => T::HiRes
Time::Local                                                      => *undef*
Time::Moment                                                     => *undef*
Time::Piece                                                      => T::P
Time::Piece::Month                                               => T::P::M
Time::Piece::MySQL                                               => T::P::MySQL
Time::Piece::Range                                               => T::P::R
Time::Seconds                                                    => *undef*
Time::Stamp                                                      => *undef*
Time::TZOffset                                                   => T::TZO
Time::gmtime                                                     => T::g
Time::localtime                                                  => T::l
Time::tm                                                         => T::tm
Tree::DAG_Node                                                   => T::DAG_N
Tree::Simple                                                     => *undef*
Tree::Simple::VisitorFactory                                     => T::S::VF
Try::Tiny                                                        => Try::T
Type::Tiny                                                       => *undef*
Type::Tiny::XS                                                   => T::T::XS
Types::Path::Tiny                                                => T::P::T
Types::Serialiser                                                => *undef*
Types::URI                                                       => T::URI
Types::UUID                                                      => T::UUID
UNIVERSAL::moniker                                               => UNIVERSAL::m
UNIVERSAL::require                                               => UNIVERSAL::r
URI::Escape::XS                                                  => URI::E::XS
URI::Fetch                                                       => URI::F
URI::Find                                                        => *undef*
URI::Find::Simple                                                => URI::F::S
URI::FromHash                                                    => URI::FH
URI::NamespaceMap                                                => URI::NMap
URI::Title                                                       => URI::T
URI::ToDisk                                                      => URI::ToD
URI::redis                                                       => URI::r
UUID::Random                                                     => UUID::R
UUID::Tiny                                                       => UUID::T
Unicode::CaseFold                                                => U::CF
Unicode::Collate                                                 => U::C
Unicode::Collate::CJK::Big5                                      => U::C::CJK::Big5
Unicode::Collate::CJK::GB2312                                    => U::C::CJK::GB2312
Unicode::Collate::CJK::JISX0208                                  => U::C::CJK::JISX0208
Unicode::Collate::CJK::Korean                                    => U::C::CJK::K
Unicode::Collate::CJK::Pinyin                                    => U::C::CJK::P
Unicode::Collate::CJK::Stroke                                    => U::C::CJK::S
Unicode::Collate::CJK::Zhuyin                                    => U::C::CJK::Z
Unicode::Collate::Locale                                         => U::C::L
Unicode::EastAsianWidth                                          => U::EAW
Unicode::LineBreak                                               => U::LB
Unicode::Normalize                                               => U::N
Unicode::Stringprep                                              => U::S
Unicode::UCD                                                     => U::UCD
Unicode::UTF8                                                    => U::UTF8
Unix::Passwd::File                                               => U::P::F
Unix::Processors                                                 => U::P
User::grent                                                      => U::g
User::pwent                                                      => U::p
VMS::DCLsym                                                      => VMS::DCL
VMS::Filespec                                                    => VMS::F
VMS::Stdio                                                       => VMS::S
Variable::Disposition                                            => V::D
Variable::Magic                                                  => V::M
Version::Util                                                    => V::U
WWW::Form::UrlEncoded                                            => WWW::F::UrlE
WWW::Form::UrlEncoded::XS                                        => WWW::F::UrlE::XS
WWW::Mechanize                                                   => WWW::M
WWW::RobotRules                                                  => WWW::RR
Web::Scraper                                                     => Web::S
Win32::Locale                                                    => Win32::L
Win32API::File                                                   => Win32API::F
X::Tiny                                                          => X::T
XML::CommonNS                                                    => XML::CNS
XML::Filter::BufferText                                          => XML::F::BT
XML::Namespace                                                   => XML::N
XML::NamespaceFactory                                            => XML::NF
XML::NamespaceSupport                                            => XML::NS
XML::Parser                                                      => XML::P
XML::SAX::Base                                                   => XML::SAX::B
XML::SAX::Expat                                                  => XML::SAX::E
XML::SAX::Writer                                                 => XML::SAX::W
XML::Simple                                                      => XML::S
XML::Twig                                                        => XML::T
XML::Writer                                                      => XML::W
XML::XPath                                                       => XML::XP
XML::XPathEngine                                                 => XML::XPE
XS::APItest                                                      => XS::API
XS::Parse::Keyword                                               => XS::P::K
XS::Parse::Sublike                                               => XS::P::S
XS::Typemap                                                      => XS::T
XSLoader                                                         => XSL
XString                                                          => XS
YAML::Syck                                                       => YAML::S
YAML::Tiny                                                       => YAML::T
YAML::Tiny::Color                                                => YAML::T::C
alias::module                                                    => a::m
autobox::DateTime::Duration                                      => a::DT::D
autodie::Scope::Guard                                            => a::S::G
autodie::Scope::GuardStack                                       => a::S::GS
autodie::Util                                                    => a::U
autodie::exception                                               => a::e
autodie::exception::system                                       => a::e::s
autodie::hints                                                   => a::h
autodie::skip                                                    => a::s
bareword::filehandles                                            => b::f
builtin::compat                                                  => b::c
cPanel::APIClient                                                => cP::APIC
circular::require                                                => c::r
class::with::roles                                               => c::w::r
common::sense                                                    => c::s
constant::defer                                                  => c::d
encoding::warnings                                               => e::w
goto::file                                                       => g::f
http::session                                                    => h::s
lib::filter                                                      => lib::f
lib::relative                                                    => lib::r
libintl-perl                                                     => l-p
libxml-perl                                                      => *undef*
local::lib                                                       => l::lib
match::simple                                                    => m::s
match::simple::XS                                                => m::s::XS
namespace::autoclean                                             => n::a
namespace::clean                                                 => n::c
namespace::sweep                                                 => n::s
overload::numbers                                                => o::n
source::encoding                                                 => s::e
threads::shared                                                  => t::s
unicore::Name                                                    => u::N
version::regex                                                   => v::r
warnings::register                                               => w::r
t/10-check.t ................. ok
t/author-critic.t ............ skipped: these tests are for testing by the author
t/author-test-eol.t .......... skipped: these tests are for testing by the author
t/release-cpan-changes.t ..... skipped: these tests are for release candidate testing
t/release-dist-manifest.t .... skipped: these tests are for release candidate testing
t/release-distmeta.t ......... skipped: these tests are for release candidate testing
t/release-kwalitee.t ......... skipped: these tests are for release candidate testing
t/release-minimum-version.t .. skipped: these tests are for release candidate testing
t/release-mojibake.t ......... skipped: these tests are for release candidate testing
t/release-no-tabs.t .......... skipped: these tests are for release candidate testing
t/release-pod-coverage.t ..... skipped: these tests are for release candidate testing
t/release-pod-linkcheck.t .... skipped: these tests are for release candidate testing
t/release-pod-syntax.t ....... skipped: these tests are for release candidate testing
t/release-portability.t ...... skipped: these tests are for release candidate testing
t/release-test-version.t ..... skipped: these tests are for release candidate testing
t/release-unused-vars.t ...... skipped: these tests are for release candidate testing
All tests successful.
Files=18, Tests=4,  2 wallclock secs ( 0.03 usr  0.02 sys +  1.39 cusr  0.53 csys =  1.98 CPU)
Result: PASS

------------------------------
PREREQUISITES
------------------------------

Prerequisite modules loaded:

requires:

    Module              Need Have      
    ------------------- ---- ----------
    File::HomeDir       0    1.006     
    List::MoreUtils     0    0.430     
    Module::CoreList    0    5.20250820

build_requires:

    Module              Need Have      
    ------------------- ---- ----------
    ExtUtils::MakeMaker 0    7.76      

configure_requires:

    Module              Need Have      
    ------------------- ---- ----------
    ExtUtils::MakeMaker 6.30 7.76      


------------------------------
ENVIRONMENT AND OTHER CONTEXT
------------------------------

Environment variables:

    AUTOMATED_TESTING = 1
    DATE_MANIP_TEST_DM5 = 1
    LC_ALL = C
    NONINTERACTIVE_TESTING = 1
    NO_NETWORK_TESTING = 1
    PATH = /home/cpan/bin/perl/bin:/home/cpan/bin:/sbin:/bin:/usr/sbin:/usr/bin:/usr/games:/usr/local/sbin:/usr/local/bin:/home/cpan/bin
    PERL5LIB = 
    PERL5OPT = 
    PERL5_CPANPLUS_IS_RUNNING = 56549
    PERL5_CPAN_IS_RUNNING = 56549
    PERL_MM_USE_DEFAULT = 1
    PERL_USE_UNSAFE_INC = 1
    SHELL = /usr/local/bin/bash
    TERM = screen
    TMPDIR = /home/cpan/tmp

Perl special variables (and OS-specific diagnostics, for MSWin32):

    $^X = /usr/home/cpan/bin/perl/bin/perl5.43.2
    $UID/$EUID = 1002 / 1002
    $GID = 1002 1002
    $EGID = 1002 1002

Perl module toolchain versions installed:

    Module              Have    
    ------------------- --------
    CPAN                2.38    
    CPAN::Meta          2.150010
    Cwd                 3.94    
    ExtUtils::CBuilder  0.280242
    ExtUtils::Command   7.76    
    ExtUtils::Install   2.22    
    ExtUtils::MakeMaker 7.76    
    ExtUtils::Manifest  1.75    
    ExtUtils::ParseXS   3.58    
    File::Spec          3.94    
    JSON                4.10    
    JSON::PP            4.16    
    Module::Build       0.4234  
    Module::Signature   0.93    
    Parse::CPAN::Meta   2.150010
    Test2               1.302214
    Test::Harness       3.52    
    Test::More          1.302214
    YAML                1.31    
    YAML::Syck          1.34    
    version             0.9933  


--

Summary of my perl5 (revision 5 version 43 subversion 2) configuration:
  Commit id: 148136c313ee439bdf7c9faed3dbbb772c04a925
  Platform:
    osname=midnightbsd
    osvers=3.2.1
    archname=amd64-midnightbsd
    uname='midnightbsd cjg-midnightbsd3 3.2.1 midnightbsd 3.2.1 #15n13132-0869ed7092(stable3.2)-dirty: wed nov 6 12:53:25 est 2024 root@m3264:usrobjusrsrcamd64.amd64sysgeneric amd64 '
    config_args='-des -Dprefix=/home/cpan/bin/perl -Dscriptdir=/home/cpan/bin/perl/bin -Dusedevel -Duse64bitall'
    hint=recommended
    useposix=true
    d_sigaction=define
    useithreads=undef
    usemultiplicity=undef
    use64bitint=define
    use64bitall=define
    uselongdouble=undef
    usemymalloc=n
    default_inc_excludes_dot=define
  Compiler:
    cc='cc'
    ccflags ='-DHAS_FPSETMASK -DHAS_FLOATINGPOINT_H -fno-strict-aliasing -pipe -fstack-protector-strong -I/usr/local/include'
    optimize='-O'
    cppflags='-DHAS_FPSETMASK -DHAS_FLOATINGPOINT_H -fno-strict-aliasing -pipe -fstack-protector-strong -I/usr/local/include'
    ccversion=''
    gccversion='MidnightBSD Clang 13.0.0 (git@github.com:llvm/llvm-project.git llvmorg-13.0.0-0-gd7b669b3a303)'
    gccosandvers=''
    intsize=4
    longsize=8
    ptrsize=8
    doublesize=8
    byteorder=12345678
    doublekind=3
    d_longlong=define
    longlongsize=8
    d_longdbl=define
    longdblsize=16
    longdblkind=3
    ivtype='long'
    ivsize=8
    nvtype='double'
    nvsize=8
    Off_t='off_t'
    lseeksize=8
    alignbytes=8
    prototype=define
  Linker and Libraries:
    ld='cc'
    ldflags ='-Wl,-E  -fstack-protector-strong -L/usr/local/lib'
    libpth=/usr/lib /usr/local/lib /usr/lib/clang/13.0.0/lib
    libs=-lpthread -lgdbm -ldl -lm -lcrypt -lutil -lc
    perllibs=-lpthread -ldl -lm -lcrypt -lutil -lc
    libc=
    so=so
    useshrplib=false
    libperl=libperl.a
    gnulibc_version=''
  Dynamic Linking:
    dlsrc=dl_dlopen.xs
    dlext=so
    d_dlsymun=undef
    ccdlflags=' '
    cccdlflags='-DPIC -fPIC'
    lddlflags='-shared  -L/usr/local/lib -fstack-protector-strong'


Characteristics of this binary (from libperl): 
  Compile-time options:
    HAS_LONG_DOUBLE
    HAS_STRTOLD
    HAS_TIMES
    PERLIO_LAYERS
    PERL_COPY_ON_WRITE
    PERL_DONT_CREATE_GVSV
    PERL_HASH_FUNC_SIPHASH13
    PERL_HASH_USE_SBOX32
    PERL_MALLOC_WRAP
    PERL_OP_PARENT
    PERL_PRESERVE_IVUV
    PERL_USE_DEVEL
    PERL_USE_SAFE_PUTENV
    USE_64_BIT_ALL
    USE_64_BIT_INT
    USE_LARGE_FILES
    USE_LOCALE
    USE_LOCALE_COLLATE
    USE_LOCALE_CTYPE
    USE_LOCALE_NUMERIC
    USE_LOCALE_TIME
    USE_PERLIO
    USE_PERL_ATOF
  Built under midnightbsd
  Compiled at Jul 29 2025 01:23:23
  %ENV:
    PERL5LIB=""
    PERL5OPT=""
    PERL5_CPANPLUS_IS_RUNNING="56549"
    PERL5_CPAN_IS_RUNNING="56549"
    PERL_MM_USE_DEFAULT="1"
    PERL_USE_UNSAFE_INC="1"
  @INC:
    /home/cpan/bin/perl/lib/site_perl/5.43.2/amd64-midnightbsd
    /home/cpan/bin/perl/lib/site_perl/5.43.2
    /home/cpan/bin/perl/lib/5.43.2/amd64-midnightbsd
    /home/cpan/bin/perl/lib/5.43.2
    .