Module-Install-ReadmeFromPod v0.30 Perl 5 v5.27.11 x86_64-linux-ld
- Status
- Pass
- From
- Andreas J. König (ANDK)
- Dist
-
Module-Install-ReadmeFromPod v0.30
- Platform
- Perl 5 v5.27.11 x86_64-linux-ld
- Date
- 2018-03-25 02:31:09
- ID
- 93f9eecc-2fd4-11e8-a73e-d3898e36a9cc
This distribution has been tested as part of the CPAN Testers
project, supporting the Perl programming language. See
http://wiki.cpantesters.org/ for more information or email
questions to cpan-testers-discuss@perl.org
--
Dear Chris Williams,
This is a computer-generated report for Module-Install-ReadmeFromPod-0.30
on perl 5.27.11, created by CPAN-Reporter-1.2018.
Thank you for uploading your work to CPAN. Congratulations!
All tests were successful.
Sections of this report:
* Tester comments
* Program output
* Prerequisites
* Environment and other context
------------------------------
TESTER COMMENTS
------------------------------
Additional comments from tester:
this report is from an automated smoke testing program
and was not reviewed by a human for accuracy
------------------------------
PROGRAM OUTPUT
------------------------------
Output from '/usr/bin/make test':
PERL_DL_NONLAZY=1 "/tmp/basesmoker-reloperl-wGOW/bin/perl" "-MExtUtils::Command::MM" "-MTest::Harness" "-e" "undef *Test::Harness::Switches; test_harness(0, 'inc', 'blib/lib', 'blib/arch')" t/*.t
# Testing Module::Install::ReadmeFromPod 0.30, Perl 5.027011, /tmp/basesmoker-reloperl-wGOW/bin/perl
t/00_compile.t ....... ok
# Locale::Country will be removed from the Perl core distribution in the next major release. Please install it from CPAN. It is being used at /home/sand/src/perl/repoperls/installed-perls/host/k93msid/v5.27.10-19-ge77195360c/af11/lib/site_perl/5.27.11/HTML/HTML5/Sanity.pm, line 23.
# Locale::Codes will be removed from the Perl core distribution in the next major release. Please install it from CPAN. It is being used at /home/sand/src/perl/repoperls/installed-perls/host/k93msid/v5.27.10-19-ge77195360c/af11/lib/5.27.11/Locale/Country.pm, line 22.
# Subroutine Module::Install::ReadmeFromPod::io redefined at /home/sand/src/perl/repoperls/installed-perls/host/k93msid/v5.27.10-19-ge77195360c/af11/lib/site_perl/5.27.11/IO/All/Base.pm line 24.
# include /tmp/loop_over_bdir-19614-QsvZ2B/Module-Install-ReadmeFromPod-0.30-0/dist/2GVDY1dSDd/inc/Module/Install.pm
# include inc/Module/Install/Metadata.pm
# include inc/Module/Install/Base.pm
# include inc/Module/Install/ReadmeFromPod.pm
# readme_from README.pm to txt
# readme_from README.pm to htm
# Subroutine Module::Install::ReadmeFromPod::io redefined at /home/sand/src/perl/repoperls/installed-perls/host/k93msid/v5.27.10-19-ge77195360c/af11/lib/site_perl/5.27.11/IO/All/Base.pm line 24.
# Subroutine Module::Install::ReadmeFromPod::io redefined at /home/sand/src/perl/repoperls/installed-perls/host/k93msid/v5.27.10-19-ge77195360c/af11/lib/site_perl/5.27.11/IO/All/Base.pm line 24.
# readme_from README.pm to man
# readme_from README.pm to md
# include inc/Module/Install/WriteAll.pm
# include inc/Module/Install/Makefile.pm
# include inc/Module/Install/Win32.pm
# include inc/Module/Install/Can.pm
# include inc/Module/Install/Fetch.pm
# Generating a Unix-style Makefile
# Writing Makefile for Foo::Bar
# Writing MYMETA.yml and MYMETA.json
# Writing META.yml
# make[1]: Entering directory '/tmp/loop_over_bdir-19614-QsvZ2B/Module-Install-ReadmeFromPod-0.30-0/dist/2GVDY1dSDd'
# rm -f \
# Bar.bso Bar.def \
# Bar.exp Bar.x \
# blib/arch/auto/Foo/Bar/extralibs.all \
# blib/arch/auto/Foo/Bar/extralibs.ld Makefile.aperl \
# *.a *.o \
# *perl.core MYMETA.json \
# MYMETA.yml blibdirs.ts \
# core core.*perl.*.? \
# core.[0-9] core.[0-9][0-9] \
# core.[0-9][0-9][0-9] core.[0-9][0-9][0-9][0-9] \
# core.[0-9][0-9][0-9][0-9][0-9] libBar.def \
# mon.out perl \
# perl perl.exe \
# perlmain.c pm_to_blib \
# pm_to_blib.ts so_locations \
# tmon.out
# rm -rf \
# blib
# mv Makefile Makefile.old > /dev/null 2>&1
# rm -f \
# Makefile Makefile.old
# rm -rf \
# Foo-Bar-0.01 MYMETA.yml
# rm -f Foo-Bar-0.01.tar.gz
# rm -f MANIFEST.bak _build
# "/tmp/basesmoker-reloperl-wGOW/bin/perl" "-Iinc" "-Ilib" "-MModule::Install::Admin" -e "remove_meta()"
# Locale::Country will be removed from the Perl core distribution in the next major release. Please install it from CPAN. It is being used at /home/sand/src/perl/repoperls/installed-perls/host/k93msid/v5.27.10-19-ge77195360c/af11/lib/site_perl/5.27.11/HTML/HTML5/Sanity.pm, line 23.
# Locale::Codes will be removed from the Perl core distribution in the next major release. Please install it from CPAN. It is being used at /home/sand/src/perl/repoperls/installed-perls/host/k93msid/v5.27.10-19-ge77195360c/af11/lib/5.27.11/Locale/Country.pm, line 22.
# rm -rf inc
# "/tmp/basesmoker-reloperl-wGOW/bin/perl" "-Iinc" "-MExtUtils::Manifest=fullcheck" -e fullcheck
# Problem opening MANIFEST: No such file or directory at /home/sand/src/perl/repoperls/installed-perls/host/k93msid/v5.27.10-19-ge77195360c/af11/lib/5.27.11/ExtUtils/Manifest.pm line 349.
# Problem opening MANIFEST: No such file or directory at /home/sand/src/perl/repoperls/installed-perls/host/k93msid/v5.27.10-19-ge77195360c/af11/lib/5.27.11/ExtUtils/Manifest.pm line 349.
# Not in MANIFEST: Makefile.PL
# Not in MANIFEST: README
# Not in MANIFEST: README.1
# Not in MANIFEST: README.htm
# Not in MANIFEST: README.md
# Not in MANIFEST: README.pm
# make[1]: Leaving directory '/tmp/loop_over_bdir-19614-QsvZ2B/Module-Install-ReadmeFromPod-0.30-0/dist/2GVDY1dSDd'
t/01_dist.t .......... ok
# Locale::Country will be removed from the Perl core distribution in the next major release. Please install it from CPAN. It is being used at /home/sand/src/perl/repoperls/installed-perls/host/k93msid/v5.27.10-19-ge77195360c/af11/lib/site_perl/5.27.11/HTML/HTML5/Sanity.pm, line 23.
# Locale::Codes will be removed from the Perl core distribution in the next major release. Please install it from CPAN. It is being used at /home/sand/src/perl/repoperls/installed-perls/host/k93msid/v5.27.10-19-ge77195360c/af11/lib/5.27.11/Locale/Country.pm, line 22.
# Subroutine Module::Install::ReadmeFromPod::io redefined at /home/sand/src/perl/repoperls/installed-perls/host/k93msid/v5.27.10-19-ge77195360c/af11/lib/site_perl/5.27.11/IO/All/Base.pm line 24.
# include /tmp/loop_over_bdir-19614-QsvZ2B/Module-Install-ReadmeFromPod-0.30-0/dist/qUkXCNSxsy/inc/Module/Install.pm
# include inc/Module/Install/Metadata.pm
# include inc/Module/Install/Base.pm
# include inc/Module/Install/ReadmeFromPod.pm
# readme_from README.pm to text
# include inc/Module/Install/Makefile.pm
# readme_from README.pm to html
# Subroutine Module::Install::ReadmeFromPod::io redefined at /home/sand/src/perl/repoperls/installed-perls/host/k93msid/v5.27.10-19-ge77195360c/af11/lib/site_perl/5.27.11/IO/All/Base.pm line 24.
# Subroutine Module::Install::ReadmeFromPod::io redefined at /home/sand/src/perl/repoperls/installed-perls/host/k93msid/v5.27.10-19-ge77195360c/af11/lib/site_perl/5.27.11/IO/All/Base.pm line 24.
# readme_from README.pm to md
# readme_from README.pm to man
# include inc/Module/Install/WriteAll.pm
# include inc/Module/Install/Win32.pm
# include inc/Module/Install/Can.pm
# include inc/Module/Install/Fetch.pm
# Generating a Unix-style Makefile
# Writing Makefile for Foo::Bar
# Writing MYMETA.yml and MYMETA.json
# Writing META.yml
# make[1]: Entering directory '/tmp/loop_over_bdir-19614-QsvZ2B/Module-Install-ReadmeFromPod-0.30-0/dist/qUkXCNSxsy'
# rm -f \
# Bar.bso Bar.def \
# Bar.exp Bar.x \
# blib/arch/auto/Foo/Bar/extralibs.all \
# blib/arch/auto/Foo/Bar/extralibs.ld Makefile.aperl \
# *.a *.o \
# *perl.core MYMETA.json \
# MYMETA.yml blibdirs.ts \
# core core.*perl.*.? \
# core.[0-9] core.[0-9][0-9] \
# core.[0-9][0-9][0-9] core.[0-9][0-9][0-9][0-9] \
# core.[0-9][0-9][0-9][0-9][0-9] libBar.def \
# mon.out perl \
# perl perl.exe \
# perlmain.c pm_to_blib \
# pm_to_blib.ts so_locations \
# tmon.out
# rm -rf \
# Foobar.htm Foobar.man \
# Foobar.md Foobar.txt \
# blib
# mv Makefile Makefile.old > /dev/null 2>&1
# rm -f \
# Makefile Makefile.old
# rm -rf \
# Foo-Bar-0.01 MYMETA.yml
# rm -f Foo-Bar-0.01.tar.gz
# rm -f MANIFEST.bak _build
# "/tmp/basesmoker-reloperl-wGOW/bin/perl" "-Iinc" "-Ilib" "-MModule::Install::Admin" -e "remove_meta()"
# Locale::Country will be removed from the Perl core distribution in the next major release. Please install it from CPAN. It is being used at /home/sand/src/perl/repoperls/installed-perls/host/k93msid/v5.27.10-19-ge77195360c/af11/lib/site_perl/5.27.11/HTML/HTML5/Sanity.pm, line 23.
# Locale::Codes will be removed from the Perl core distribution in the next major release. Please install it from CPAN. It is being used at /home/sand/src/perl/repoperls/installed-perls/host/k93msid/v5.27.10-19-ge77195360c/af11/lib/5.27.11/Locale/Country.pm, line 22.
# rm -rf inc
# "/tmp/basesmoker-reloperl-wGOW/bin/perl" "-Iinc" "-MExtUtils::Manifest=fullcheck" -e fullcheck
# Problem opening MANIFEST: No such file or directory at /home/sand/src/perl/repoperls/installed-perls/host/k93msid/v5.27.10-19-ge77195360c/af11/lib/5.27.11/ExtUtils/Manifest.pm line 349.
# Problem opening MANIFEST: No such file or directory at /home/sand/src/perl/repoperls/installed-perls/host/k93msid/v5.27.10-19-ge77195360c/af11/lib/5.27.11/ExtUtils/Manifest.pm line 349.
# Not in MANIFEST: Makefile.PL
# Not in MANIFEST: README.pm
# make[1]: Leaving directory '/tmp/loop_over_bdir-19614-QsvZ2B/Module-Install-ReadmeFromPod-0.30-0/dist/qUkXCNSxsy'
t/02_clean.t ......... ok
# Locale::Country will be removed from the Perl core distribution in the next major release. Please install it from CPAN. It is being used at /home/sand/src/perl/repoperls/installed-perls/host/k93msid/v5.27.10-19-ge77195360c/af11/lib/site_perl/5.27.11/HTML/HTML5/Sanity.pm, line 23.
# Locale::Codes will be removed from the Perl core distribution in the next major release. Please install it from CPAN. It is being used at /home/sand/src/perl/repoperls/installed-perls/host/k93msid/v5.27.10-19-ge77195360c/af11/lib/5.27.11/Locale/Country.pm, line 22.
# include /tmp/loop_over_bdir-19614-QsvZ2B/Module-Install-ReadmeFromPod-0.30-0/dist/32XGDcl7H2/inc/Module/Install.pm
# include inc/Module/Install/Metadata.pm
# include inc/Module/Install/Base.pm
# include inc/Module/Install/Makefile.pm
# include inc/Module/Install/ReadmeFromPod.pm
# readme_from README.pm to txt
# include inc/Module/Install/WriteAll.pm
# include inc/Module/Install/Win32.pm
# include inc/Module/Install/Can.pm
# include inc/Module/Install/Fetch.pm
# Generating a Unix-style Makefile
# Writing Makefile for Foo::Bar
# Writing MYMETA.yml and MYMETA.json
# Writing META.yml
# make[1]: Entering directory '/tmp/loop_over_bdir-19614-QsvZ2B/Module-Install-ReadmeFromPod-0.30-0/dist/32XGDcl7H2'
# rm -f \
# Bar.bso Bar.def \
# Bar.exp Bar.x \
# blib/arch/auto/Foo/Bar/extralibs.all \
# blib/arch/auto/Foo/Bar/extralibs.ld Makefile.aperl \
# *.a *.o \
# *perl.core MYMETA.json \
# MYMETA.yml blibdirs.ts \
# core core.*perl.*.? \
# core.[0-9] core.[0-9][0-9] \
# core.[0-9][0-9][0-9] core.[0-9][0-9][0-9][0-9] \
# core.[0-9][0-9][0-9][0-9][0-9] libBar.def \
# mon.out perl \
# perl perl.exe \
# perlmain.c pm_to_blib \
# pm_to_blib.ts so_locations \
# tmon.out
# rm -rf \
# blib
# mv Makefile Makefile.old > /dev/null 2>&1
# rm -f \
# Makefile Makefile.old
# rm -rf \
# Foo-Bar-0.01 MYMETA.yml
# rm -f Foo-Bar-0.01.tar.gz
# rm -f MANIFEST.bak _build
# "/tmp/basesmoker-reloperl-wGOW/bin/perl" "-Iinc" "-Ilib" "-MModule::Install::Admin" -e "remove_meta()"
# Locale::Country will be removed from the Perl core distribution in the next major release. Please install it from CPAN. It is being used at /home/sand/src/perl/repoperls/installed-perls/host/k93msid/v5.27.10-19-ge77195360c/af11/lib/site_perl/5.27.11/HTML/HTML5/Sanity.pm, line 23.
# Locale::Codes will be removed from the Perl core distribution in the next major release. Please install it from CPAN. It is being used at /home/sand/src/perl/repoperls/installed-perls/host/k93msid/v5.27.10-19-ge77195360c/af11/lib/5.27.11/Locale/Country.pm, line 22.
# rm -rf inc
# "/tmp/basesmoker-reloperl-wGOW/bin/perl" "-Iinc" "-MExtUtils::Manifest=fullcheck" -e fullcheck
# Problem opening MANIFEST: No such file or directory at /home/sand/src/perl/repoperls/installed-perls/host/k93msid/v5.27.10-19-ge77195360c/af11/lib/5.27.11/ExtUtils/Manifest.pm line 349.
# Problem opening MANIFEST: No such file or directory at /home/sand/src/perl/repoperls/installed-perls/host/k93msid/v5.27.10-19-ge77195360c/af11/lib/5.27.11/ExtUtils/Manifest.pm line 349.
# Not in MANIFEST: Makefile.PL
# Not in MANIFEST: README
# Not in MANIFEST: README.pm
# make[1]: Leaving directory '/tmp/loop_over_bdir-19614-QsvZ2B/Module-Install-ReadmeFromPod-0.30-0/dist/32XGDcl7H2'
t/03_all_from.t ...... ok
# Locale::Country will be removed from the Perl core distribution in the next major release. Please install it from CPAN. It is being used at /home/sand/src/perl/repoperls/installed-perls/host/k93msid/v5.27.10-19-ge77195360c/af11/lib/site_perl/5.27.11/HTML/HTML5/Sanity.pm, line 23.
# Locale::Codes will be removed from the Perl core distribution in the next major release. Please install it from CPAN. It is being used at /home/sand/src/perl/repoperls/installed-perls/host/k93msid/v5.27.10-19-ge77195360c/af11/lib/5.27.11/Locale/Country.pm, line 22.
# Subroutine Module::Install::ReadmeFromPod::io redefined at /home/sand/src/perl/repoperls/installed-perls/host/k93msid/v5.27.10-19-ge77195360c/af11/lib/site_perl/5.27.11/IO/All/Base.pm line 24.
# include /tmp/loop_over_bdir-19614-QsvZ2B/Module-Install-ReadmeFromPod-0.30-0/dist/haWQa_0fFH/inc/Module/Install.pm
# include inc/Module/Install/Metadata.pm
# include inc/Module/Install/Base.pm
# include inc/Module/Install/ReadmeFromPod.pm
# readme_from README.pm to txt
# readme_from README.pm to htm
# Subroutine Module::Install::ReadmeFromPod::io redefined at /home/sand/src/perl/repoperls/installed-perls/host/k93msid/v5.27.10-19-ge77195360c/af11/lib/site_perl/5.27.11/IO/All/Base.pm line 24.
# Subroutine Module::Install::ReadmeFromPod::io redefined at /home/sand/src/perl/repoperls/installed-perls/host/k93msid/v5.27.10-19-ge77195360c/af11/lib/site_perl/5.27.11/IO/All/Base.pm line 24.
# readme_from README.pm to man
# readme_from README.pm to pdf
# include inc/Module/Install/WriteAll.pm
# include inc/Module/Install/Makefile.pm
# include inc/Module/Install/Win32.pm
# include inc/Module/Install/Can.pm
# include inc/Module/Install/Fetch.pm
# Generating a Unix-style Makefile
# Writing Makefile for Foo::Bar
# Writing MYMETA.yml and MYMETA.json
# Writing META.yml
# make[1]: Entering directory '/tmp/loop_over_bdir-19614-QsvZ2B/Module-Install-ReadmeFromPod-0.30-0/dist/haWQa_0fFH'
# rm -f \
# Bar.bso Bar.def \
# Bar.exp Bar.x \
# blib/arch/auto/Foo/Bar/extralibs.all \
# blib/arch/auto/Foo/Bar/extralibs.ld Makefile.aperl \
# *.a *.o \
# *perl.core MYMETA.json \
# MYMETA.yml blibdirs.ts \
# core core.*perl.*.? \
# core.[0-9] core.[0-9][0-9] \
# core.[0-9][0-9][0-9] core.[0-9][0-9][0-9][0-9] \
# core.[0-9][0-9][0-9][0-9][0-9] libBar.def \
# mon.out perl \
# perl perl.exe \
# perlmain.c pm_to_blib \
# pm_to_blib.ts so_locations \
# tmon.out
# rm -rf \
# blib
# mv Makefile Makefile.old > /dev/null 2>&1
# rm -f \
# Makefile Makefile.old
# rm -rf \
# Foo-Bar-0.01 MYMETA.yml
# rm -f Foo-Bar-0.01.tar.gz
# rm -f MANIFEST.bak _build
# "/tmp/basesmoker-reloperl-wGOW/bin/perl" "-Iinc" "-Ilib" "-MModule::Install::Admin" -e "remove_meta()"
# Locale::Country will be removed from the Perl core distribution in the next major release. Please install it from CPAN. It is being used at /home/sand/src/perl/repoperls/installed-perls/host/k93msid/v5.27.10-19-ge77195360c/af11/lib/site_perl/5.27.11/HTML/HTML5/Sanity.pm, line 23.
# Locale::Codes will be removed from the Perl core distribution in the next major release. Please install it from CPAN. It is being used at /home/sand/src/perl/repoperls/installed-perls/host/k93msid/v5.27.10-19-ge77195360c/af11/lib/5.27.11/Locale/Country.pm, line 22.
# rm -rf inc
# "/tmp/basesmoker-reloperl-wGOW/bin/perl" "-Iinc" "-MExtUtils::Manifest=fullcheck" -e fullcheck
# Problem opening MANIFEST: No such file or directory at /home/sand/src/perl/repoperls/installed-perls/host/k93msid/v5.27.10-19-ge77195360c/af11/lib/5.27.11/ExtUtils/Manifest.pm line 349.
# Problem opening MANIFEST: No such file or directory at /home/sand/src/perl/repoperls/installed-perls/host/k93msid/v5.27.10-19-ge77195360c/af11/lib/5.27.11/ExtUtils/Manifest.pm line 349.
# Not in MANIFEST: Makefile.PL
# Not in MANIFEST: README
# Not in MANIFEST: README.1
# Not in MANIFEST: README.htm
# Not in MANIFEST: README.pdf
# Not in MANIFEST: README.pm
# make[1]: Leaving directory '/tmp/loop_over_bdir-19614-QsvZ2B/Module-Install-ReadmeFromPod-0.30-0/dist/haWQa_0fFH'
t/04_distpdf.t ....... ok
# Locale::Country will be removed from the Perl core distribution in the next major release. Please install it from CPAN. It is being used at /home/sand/src/perl/repoperls/installed-perls/host/k93msid/v5.27.10-19-ge77195360c/af11/lib/site_perl/5.27.11/HTML/HTML5/Sanity.pm, line 23.
# Locale::Codes will be removed from the Perl core distribution in the next major release. Please install it from CPAN. It is being used at /home/sand/src/perl/repoperls/installed-perls/host/k93msid/v5.27.10-19-ge77195360c/af11/lib/5.27.11/Locale/Country.pm, line 22.
# Subroutine Module::Install::ReadmeFromPod::io redefined at /home/sand/src/perl/repoperls/installed-perls/host/k93msid/v5.27.10-19-ge77195360c/af11/lib/site_perl/5.27.11/IO/All/Base.pm line 24.
# include /tmp/loop_over_bdir-19614-QsvZ2B/Module-Install-ReadmeFromPod-0.30-0/dist/ecG9hHcIar/inc/Module/Install.pm
# include inc/Module/Install/Metadata.pm
# include inc/Module/Install/Base.pm
# include inc/Module/Install/ReadmeFromPod.pm
# readme_from README.pm to text
# include inc/Module/Install/Makefile.pm
# readme_from README.pm to html
# Subroutine Module::Install::ReadmeFromPod::io redefined at /home/sand/src/perl/repoperls/installed-perls/host/k93msid/v5.27.10-19-ge77195360c/af11/lib/site_perl/5.27.11/IO/All/Base.pm line 24.
# Subroutine Module::Install::ReadmeFromPod::io redefined at /home/sand/src/perl/repoperls/installed-perls/host/k93msid/v5.27.10-19-ge77195360c/af11/lib/site_perl/5.27.11/IO/All/Base.pm line 24.
# readme_from README.pm to man
# readme_from README.pm to pdf
# include inc/Module/Install/WriteAll.pm
# include inc/Module/Install/Win32.pm
# include inc/Module/Install/Can.pm
# include inc/Module/Install/Fetch.pm
# Generating a Unix-style Makefile
# Writing Makefile for Foo::Bar
# Writing MYMETA.yml and MYMETA.json
# Writing META.yml
# make[1]: Entering directory '/tmp/loop_over_bdir-19614-QsvZ2B/Module-Install-ReadmeFromPod-0.30-0/dist/ecG9hHcIar'
# rm -f \
# Bar.bso Bar.def \
# Bar.exp Bar.x \
# blib/arch/auto/Foo/Bar/extralibs.all \
# blib/arch/auto/Foo/Bar/extralibs.ld Makefile.aperl \
# *.a *.o \
# *perl.core MYMETA.json \
# MYMETA.yml blibdirs.ts \
# core core.*perl.*.? \
# core.[0-9] core.[0-9][0-9] \
# core.[0-9][0-9][0-9] core.[0-9][0-9][0-9][0-9] \
# core.[0-9][0-9][0-9][0-9][0-9] libBar.def \
# mon.out perl \
# perl perl.exe \
# perlmain.c pm_to_blib \
# pm_to_blib.ts so_locations \
# tmon.out
# rm -rf \
# Foobar.htm Foobar.man \
# Foobar.pdf Foobar.txt \
# blib
# mv Makefile Makefile.old > /dev/null 2>&1
# rm -f \
# Makefile Makefile.old
# rm -rf \
# Foo-Bar-0.01 MYMETA.yml
# rm -f Foo-Bar-0.01.tar.gz
# rm -f MANIFEST.bak _build
# "/tmp/basesmoker-reloperl-wGOW/bin/perl" "-Iinc" "-Ilib" "-MModule::Install::Admin" -e "remove_meta()"
# Locale::Country will be removed from the Perl core distribution in the next major release. Please install it from CPAN. It is being used at /home/sand/src/perl/repoperls/installed-perls/host/k93msid/v5.27.10-19-ge77195360c/af11/lib/site_perl/5.27.11/HTML/HTML5/Sanity.pm, line 23.
# Locale::Codes will be removed from the Perl core distribution in the next major release. Please install it from CPAN. It is being used at /home/sand/src/perl/repoperls/installed-perls/host/k93msid/v5.27.10-19-ge77195360c/af11/lib/5.27.11/Locale/Country.pm, line 22.
# rm -rf inc
# "/tmp/basesmoker-reloperl-wGOW/bin/perl" "-Iinc" "-MExtUtils::Manifest=fullcheck" -e fullcheck
# Problem opening MANIFEST: No such file or directory at /home/sand/src/perl/repoperls/installed-perls/host/k93msid/v5.27.10-19-ge77195360c/af11/lib/5.27.11/ExtUtils/Manifest.pm line 349.
# Problem opening MANIFEST: No such file or directory at /home/sand/src/perl/repoperls/installed-perls/host/k93msid/v5.27.10-19-ge77195360c/af11/lib/5.27.11/ExtUtils/Manifest.pm line 349.
# Not in MANIFEST: Makefile.PL
# Not in MANIFEST: README.pm
# make[1]: Leaving directory '/tmp/loop_over_bdir-19614-QsvZ2B/Module-Install-ReadmeFromPod-0.30-0/dist/ecG9hHcIar'
t/05_cleanpdf.t ...... ok
t/99_pod.t ........... ok
t/99_pod_coverage.t .. ok
All tests successful.
Files=8, Tests=59, 13 wallclock secs ( 0.03 usr 0.04 sys + 10.05 cusr 2.36 csys = 12.48 CPU)
Result: PASS
------------------------------
PREREQUISITES
------------------------------
Prerequisite modules loaded:
requires:
Module Need Have
------------------- ----- --------
IO::All 0 0.87
Module::Install 1 1.19
perl 5.006 5.027011
Pod::Html 0 1.24
Pod::Man 0 4.10
Pod::Markdown 2 3.005
Pod::Text 3.13 4.10
build_requires:
Module Need Have
------------------- ----- --------
Capture::Tiny 0.05 0.46
ExtUtils::MakeMaker 6.59 7.34
File::Temp 0 0.2304
Test::InDistDir 0 1.112071
Test::More 0.47 1.302133
configure_requires:
Module Need Have
------------------- ----- --------
ExtUtils::MakeMaker 6.59 7.34
------------------------------
ENVIRONMENT AND OTHER CONTEXT
------------------------------
Environment variables:
AUTOMATED_TESTING = 1
LANG = en_US.UTF-8
PATH = /home/sand/bin:/usr/local/bin:/usr/bin:/bin:/usr/games:/usr/local/perl/bin:/usr/X11/bin:/sbin:/usr/sbin
PERL5LIB =
PERL5OPT =
PERL5_CPANPLUS_IS_RUNNING = 28473
PERL5_CPAN_IS_RUNNING = 28473
PERL_CANARY_STABILITY_NOPROMPT = 1
PERL_MM_USE_DEFAULT = 1
PERL_USE_UNSAFE_INC = 1
SHELL = /usr/bin/zsh
TERM = screen
Perl special variables (and OS-specific diagnostics, for MSWin32):
$^X = /tmp/basesmoker-reloperl-wGOW/bin/perl
$UID/$EUID = 1005 / 1005
$GID = 1005 1005
$EGID = 1005 1005
Perl module toolchain versions installed:
Module Have
------------------- --------
CPAN 2.20
CPAN::Meta 2.150010
Cwd 3.74
ExtUtils::CBuilder 0.280230
ExtUtils::Command 7.34
ExtUtils::Install 2.14
ExtUtils::MakeMaker 7.34
ExtUtils::Manifest 1.70
ExtUtils::ParseXS 3.39
File::Spec 3.74
JSON 2.97001
JSON::PP 2.97001
Module::Build 0.4224
Module::Signature 0.81
Parse::CPAN::Meta 2.150010
Test::Harness 3.42
Test::More 1.302133
YAML 1.24
YAML::Syck 1.30
version 0.9918
--
Summary of my perl5 (revision 5 version 27 subversion 11) configuration:
Commit id: e77195360c1a2b081a806df017630b3165e2aeac
Platform:
osname=linux
osvers=4.14.0-3-amd64
archname=x86_64-linux-ld
uname='linux k93msid 4.14.0-3-amd64 #1 smp debian 4.14.12-2 (2018-01-06) x86_64 gnulinux '
config_args='-Dprefix=/home/sand/src/perl/repoperls/installed-perls/host/k93msid/v5.27.10-19-ge77195360c/af11 -Dmyhostname=k93msid -Dinstallusrbinperl=n -Uversiononly -Dusedevel -des -Ui_db -Dlibswanted=cl pthread socket inet nsl gdbm dbm malloc dl ld sun m crypt sec util c cposix posix ucb BSD gdbm_compat -Uuseithreads -Duselongdouble -DEBUGGING=-g'
hint=recommended
useposix=true
d_sigaction=define
useithreads=undef
usemultiplicity=undef
use64bitint=define
use64bitall=define
uselongdouble=define
usemymalloc=n
default_inc_excludes_dot=define
bincompat5005=undef
Compiler:
cc='cc'
ccflags ='-fwrapv -fno-strict-aliasing -pipe -fstack-protector-strong -I/usr/local/include -D_LARGEFILE_SOURCE -D_FILE_OFFSET_BITS=64 -D_FORTIFY_SOURCE=2'
optimize='-O2 -g'
cppflags='-fwrapv -fno-strict-aliasing -pipe -fstack-protector-strong -I/usr/local/include'
ccversion=''
gccversion='7.2.0'
gccosandvers=''
intsize=4
longsize=8
ptrsize=8
doublesize=8
byteorder=12345678
doublekind=3
d_longlong=define
longlongsize=8
d_longdbl=define
longdblsize=16
longdblkind=3
ivtype='long'
ivsize=8
nvtype='long double'
nvsize=16
Off_t='off_t'
lseeksize=8
alignbytes=16
prototype=define
Linker and Libraries:
ld='cc'
ldflags =' -fstack-protector-strong -L/usr/local/lib'
libpth=/usr/local/lib /usr/lib/gcc/x86_64-linux-gnu/7/include-fixed /usr/include/x86_64-linux-gnu /usr/lib /lib/x86_64-linux-gnu /lib/../lib /usr/lib/x86_64-linux-gnu /usr/lib/../lib /lib
libs=-lpthread -lnsl -ldl -lm -lcrypt -lutil -lc
perllibs=-lpthread -lnsl -ldl -lm -lcrypt -lutil -lc
libc=libc-2.26.so
so=so
useshrplib=false
libperl=libperl.a
gnulibc_version='2.26'
Dynamic Linking:
dlsrc=dl_dlopen.xs
dlext=so
d_dlsymun=undef
ccdlflags='-Wl,-E'
cccdlflags='-fPIC'
lddlflags='-shared -O2 -g -L/usr/local/lib -fstack-protector-strong'
Characteristics of this binary (from libperl):
Compile-time options:
HAS_TIMES
PERLIO_LAYERS
PERL_COPY_ON_WRITE
PERL_DONT_CREATE_GVSV
PERL_MALLOC_WRAP
PERL_OP_PARENT
PERL_PRESERVE_IVUV
PERL_USE_DEVEL
USE_64_BIT_ALL
USE_64_BIT_INT
USE_LARGE_FILES
USE_LOCALE
USE_LOCALE_COLLATE
USE_LOCALE_CTYPE
USE_LOCALE_NUMERIC
USE_LOCALE_TIME
USE_LONG_DOUBLE
USE_PERLIO
USE_PERL_ATOF
Built under linux
Compiled at Mar 23 2018 17:06:58
%ENV:
PERL5LIB=""
PERL5OPT=""
PERL5_CPANPLUS_IS_RUNNING="28473"
PERL5_CPAN_IS_RUNNING="28473"
PERL_CANARY_STABILITY_NOPROMPT="1"
PERL_MM_USE_DEFAULT="1"
PERL_USE_UNSAFE_INC="1"
@INC:
/home/sand/src/perl/repoperls/installed-perls/host/k93msid/v5.27.10-19-ge77195360c/af11/lib/site_perl/5.27.11/x86_64-linux-ld
/home/sand/src/perl/repoperls/installed-perls/host/k93msid/v5.27.10-19-ge77195360c/af11/lib/site_perl/5.27.11
/home/sand/src/perl/repoperls/installed-perls/host/k93msid/v5.27.10-19-ge77195360c/af11/lib/5.27.11/x86_64-linux-ld
/home/sand/src/perl/repoperls/installed-perls/host/k93msid/v5.27.10-19-ge77195360c/af11/lib/5.27.11
.