File-pfopen v0.02 Perl 5 v5.26.0 x86_64-linux-gnu-thread-multi
- Status
- Pass
- From
- Nigel Horne
- Dist
-
File-pfopen v0.02
- Platform
- Perl 5 v5.26.0 x86_64-linux-gnu-thread-multi
- Date
- 2017-10-23 11:51:59
- ID
- 93a2577a-b7e8-11e7-a2a8-d0c13ad602b4
This distribution has been tested as part of the CPAN Testers
project, supporting the Perl programming language. See
http://wiki.cpantesters.org/ for more information or email
questions to cpan-testers-discuss@perl.org
--
Dear Nigel Horne,
This is a computer-generated report for File-pfopen-0.02
on perl 5.26.0, created by CPAN-Reporter-1.2018.
Thank you for uploading your work to CPAN. Congratulations!
All tests were successful.
Sections of this report:
* Tester comments
* Program output
* Prerequisites
* Environment and other context
------------------------------
TESTER COMMENTS
------------------------------
Additional comments from tester:
none provided
------------------------------
PROGRAM OUTPUT
------------------------------
Output from '/usr/bin/make test':
PERL_DL_NONLAZY=1 "/usr/bin/perl" "-MExtUtils::Command::MM" "-MTest::Harness" "-e" "undef *Test::Harness::Switches; test_harness(0, 'blib/lib', 'blib/arch')" t/*.t
t/manifest.t .. skipped: Author tests not required for installation
t/pod-cm.t .... skipped: Test::Pod::Spelling::CommonMistakes required for testing POD spelling
# Testing File::pfopen 0.02, Perl 5.026000, /usr/bin/perl
t/00-load.t ... ok
t/dist.t ...... skipped: Author tests not required for installation
t/pod.t ....... skipped: Author tests not required for installation
t/coverage.t .. skipped: Test::Pod::Coverage 1.08 required for testing POD coverage
t/pfopen.t .... ok
All tests successful.
Files=7, Tests=19, 0 wallclock secs ( 0.02 usr 0.01 sys + 0.67 cusr 0.07 csys = 0.77 CPU)
Result: PASS
------------------------------
PREREQUISITES
------------------------------
Prerequisite modules loaded:
requires:
Module Need Have
------------------- -------- --------
Exporter 0 5.72
File::Spec 0 3.67
perl 5.006002 5.026000
build_requires:
Module Need Have
------------------- -------- --------
ExtUtils::MakeMaker 0 7.24
Test::Most 0 0.35
Test::NoWarnings 0 1.04
Test::TempDir::Tiny 0 0.016
configure_requires:
Module Need Have
------------------- -------- --------
ExtUtils::MakeMaker 0 7.24
------------------------------
ENVIRONMENT AND OTHER CONTEXT
------------------------------
Environment variables:
HARNESS_OPTIONS = j10:c
LANG = en_GB.UTF-8
LD_LIBRARY_PATH = /usr/local/lib::
NONINTERACTIVE_TESTING = 1
PATH = /home/njh/perl5/perlbrew/bin:/home/njh/perl5/perlbrew/perls/perl-5.6.2/bin:/home/njh/perl5/perlbrew/bin:/usr/local/bin:/usr/bin:/bin:/usr/local/games:/usr/games:/home/njh/bin:/sbin
PERL5LIB = /tmp/build/Test-TempDir-Tiny-0.016-2/blib/arch:/tmp/build/Test-TempDir-Tiny-0.016-2/blib/lib:/tmp/build/App-csv2sqlite-0.004-43/blib/arch:/tmp/build/App-csv2sqlite-0.004-43/blib/lib:/tmp/build/DBIx-TableLoader-CSV-1.102-42/blib/arch:/tmp/build/DBIx-TableLoader-CSV-1.102-42/blib/lib:/tmp/build/Text-CSV-1.95-40/blib/arch:/tmp/build/Text-CSV-1.95-40/blib/lib:/tmp/build/Test-MockObject-1.20161202-14/blib/arch:/tmp/build/Test-MockObject-1.20161202-14/blib/lib:/tmp/build/UNIVERSAL-isa-1.20171012-14/blib/arch:/tmp/build/UNIVERSAL-isa-1.20171012-14/blib/lib:/tmp/build/UNIVERSAL-can-1.20140328-14/blib/arch:/tmp/build/UNIVERSAL-can-1.20140328-14/blib/lib:/tmp/build/DBIx-TableLoader-1.100-42/blib/arch:/tmp/build/DBIx-TableLoader-1.100-42/blib/lib:/tmp/build/DBD-Mock-1.45-14/blib/arch:/tmp/build/DBD-Mock-1.45-14/blib/lib
PERL5OPT =
PERL5_CPANPLUS_IS_RUNNING = 25129
PERL5_CPAN_IS_RUNNING = 25129
PERLBREW_BASHRC_VERSION = 0.80
PERLBREW_HOME = /home/njh/.perlbrew
PERLBREW_LIB =
PERLBREW_MANPATH = /home/njh/perl5/perlbrew/perls/perl-5.6.2/man
PERLBREW_PATH = /home/njh/perl5/perlbrew/bin:/home/njh/perl5/perlbrew/perls/perl-5.6.2/bin
PERLBREW_PERL = perl-5.6.2
PERLBREW_ROOT = /home/njh/perl5/perlbrew
PERLBREW_VERSION = 0.80
PERL_LOCAL_LIB_ROOT =
PERL_MM_USE_DEFAULT = 1
PERL_USE_UNSAFE_INC = 1
SHELL = /bin/bash
TERM = xterm-256color
Perl special variables (and OS-specific diagnostics, for MSWin32):
$^X = /usr/bin/perl
$UID/$EUID = 1000 / 1000
$GID = 1000 4 24 25 29 30 44 46 107 112 118 1000
$EGID = 1000 4 24 25 29 30 44 46 107 112 118 1000
Perl module toolchain versions installed:
Module Have
------------------- ----------
CPAN 2.18
CPAN::Meta 2.150010
Cwd 3.67
ExtUtils::CBuilder 0.280225
ExtUtils::Command 7.24
ExtUtils::Install 2.04
ExtUtils::MakeMaker 7.24
ExtUtils::Manifest 1.70
ExtUtils::ParseXS 3.34
File::Spec 3.67
JSON 2.94
JSON::PP 2.27400_02
Module::Build 0.4224
Module::Signature n/a
Parse::CPAN::Meta 2.150010
Test::Harness 3.38
Test::More 1.302098
YAML 1.21
YAML::Syck n/a
version 0.9917
--
Summary of my perl5 (revision 5 version 26 subversion 0) configuration:
Platform:
osname=linux
osvers=4.9.0
archname=x86_64-linux-gnu-thread-multi
uname='linux localhost 4.9.0 #1 smp debian 4.9.0 x86_64 gnulinux '
config_args='-Dusethreads -Duselargefiles -Dcc=x86_64-linux-gnu-gcc -Dcpp=x86_64-linux-gnu-cpp -Dld=x86_64-linux-gnu-gcc -Dccflags=-DDEBIAN -Wdate-time -D_FORTIFY_SOURCE=2 -g -O2 -fdebug-prefix-map=/build/perl-ZO7XdY/perl-5.26.0=. -fstack-protector-strong -Wformat -Werror=format-security -Dldflags= -Wl,-z,relro -Dlddlflags=-shared -Wl,-z,relro -Dcccdlflags=-fPIC -Darchname=x86_64-linux-gnu -Dprefix=/usr -Dprivlib=/usr/share/perl/5.26 -Darchlib=/usr/lib/x86_64-linux-gnu/perl/5.26 -Dvendorprefix=/usr -Dvendorlib=/usr/share/perl5 -Dvendorarch=/usr/lib/x86_64-linux-gnu/perl5/5.26 -Dsiteprefix=/usr/local -Dsitelib=/usr/local/share/perl/5.26.0 -Dsitearch=/usr/local/lib/x86_64-linux-gnu/perl/5.26.0 -Dman1dir=/usr/share/man/man1 -Dman3dir=/usr/share/man/man3 -Dsiteman1dir=/usr/local/man/man1 -Dsiteman3dir=/usr/local/man/man3 -Duse64bitint -Dman1ext=1 -Dman3ext=3perl -Dpager=/usr/bin/sensible-pager -Uafs -Ud_csh -Ud_ualarm -Uusesfio -Uusenm -Ui_libutil -Uversiononly -DDEBUGGING=-g -Doptimize=-O2 -dEs -Duseshrplib -Dlibperl=libperl.so.5.26.0'
hint=recommended
useposix=true
d_sigaction=define
useithreads=define
usemultiplicity=define
use64bitint=define
use64bitall=define
uselongdouble=undef
usemymalloc=n
default_inc_excludes_dot=define
bincompat5005=undef
Compiler:
cc='x86_64-linux-gnu-gcc'
ccflags ='-D_REENTRANT -D_GNU_SOURCE -DDEBIAN -fwrapv -fno-strict-aliasing -pipe -I/usr/local/include -D_LARGEFILE_SOURCE -D_FILE_OFFSET_BITS=64'
optimize='-O2 -g'
cppflags='-D_REENTRANT -D_GNU_SOURCE -DDEBIAN -fwrapv -fno-strict-aliasing -pipe -I/usr/local/include'
ccversion=''
gccversion='7.2.0'
gccosandvers=''
intsize=4
longsize=8
ptrsize=8
doublesize=8
byteorder=12345678
doublekind=3
d_longlong=define
longlongsize=8
d_longdbl=define
longdblsize=16
longdblkind=3
ivtype='long'
ivsize=8
nvtype='double'
nvsize=8
Off_t='off_t'
lseeksize=8
alignbytes=8
prototype=define
Linker and Libraries:
ld='x86_64-linux-gnu-gcc'
ldflags =' -fstack-protector-strong -L/usr/local/lib'
libpth=/usr/local/lib /usr/lib/gcc/x86_64-linux-gnu/7/include-fixed /usr/include/x86_64-linux-gnu /usr/lib /lib/x86_64-linux-gnu /lib/../lib /usr/lib/x86_64-linux-gnu /usr/lib/../lib /lib
libs=-lgdbm -lgdbm_compat -ldb -ldl -lm -lpthread -lc -lcrypt
perllibs=-ldl -lm -lpthread -lc -lcrypt
libc=libc-2.24.so
so=so
useshrplib=true
libperl=libperl.so.5.26
gnulibc_version='2.24'
Dynamic Linking:
dlsrc=dl_dlopen.xs
dlext=so
d_dlsymun=undef
ccdlflags='-Wl,-E'
cccdlflags='-fPIC'
lddlflags='-shared -L/usr/local/lib -fstack-protector-strong'
Characteristics of this binary (from libperl):
Compile-time options:
HAS_TIMES
MULTIPLICITY
PERLIO_LAYERS
PERL_COPY_ON_WRITE
PERL_DONT_CREATE_GVSV
PERL_IMPLICIT_CONTEXT
PERL_MALLOC_WRAP
PERL_OP_PARENT
PERL_PRESERVE_IVUV
USE_64_BIT_ALL
USE_64_BIT_INT
USE_ITHREADS
USE_LARGE_FILES
USE_LOCALE
USE_LOCALE_COLLATE
USE_LOCALE_CTYPE
USE_LOCALE_NUMERIC
USE_LOCALE_TIME
USE_PERLIO
USE_PERL_ATOF
USE_REENTRANT_API
Locally applied patches:
DEBPKG:debian/cpan_definstalldirs - Provide a sensible INSTALLDIRS default for modules installed from CPAN.
DEBPKG:debian/db_file_ver - https://bugs.debian.org/340047 Remove overly restrictive DB_File version check.
DEBPKG:debian/doc_info - Replace generic man(1) instructions with Debian-specific information.
DEBPKG:debian/enc2xs_inc - https://bugs.debian.org/290336 Tweak enc2xs to follow symlinks and ignore missing @INC directories.
DEBPKG:debian/errno_ver - https://bugs.debian.org/343351 Remove Errno version check due to upgrade problems with long-running processes.
DEBPKG:debian/libperl_embed_doc - https://bugs.debian.org/186778 Note that libperl-dev package is required for embedded linking
DEBPKG:fixes/respect_umask - Respect umask during installation
DEBPKG:debian/writable_site_dirs - Set umask approproately for site install directories
DEBPKG:debian/extutils_set_libperl_path - EU:MM: set location of libperl.a under /usr/lib
DEBPKG:debian/no_packlist_perllocal - Don't install .packlist or perllocal.pod for perl or vendor
DEBPKG:debian/fakeroot - Postpone LD_LIBRARY_PATH evaluation to the binary targets.
DEBPKG:debian/instmodsh_doc - Debian policy doesn't install .packlist files for core or vendor.
DEBPKG:debian/ld_run_path - Remove standard libs from LD_RUN_PATH as per Debian policy.
DEBPKG:debian/libnet_config_path - Set location of libnet.cfg to /etc/perl/Net as /usr may not be writable.
DEBPKG:debian/mod_paths - Tweak @INC ordering for Debian
DEBPKG:debian/prune_libs - https://bugs.debian.org/128355 Prune the list of libraries wanted to what we actually need.
DEBPKG:debian/perlivp - https://bugs.debian.org/510895 Make perlivp skip include directories in /usr/local
DEBPKG:debian/deprecate-with-apt - https://bugs.debian.org/747628 Point users to Debian packages of deprecated core modules
DEBPKG:debian/squelch-locale-warnings - https://bugs.debian.org/508764 Squelch locale warnings in Debian package maintainer scripts
DEBPKG:debian/skip-upstream-git-tests - Skip tests specific to the upstream Git repository
DEBPKG:debian/patchlevel - https://bugs.debian.org/567489 List packaged patches for 5.26.0-8 in patchlevel.h
DEBPKG:fixes/document_makemaker_ccflags - https://bugs.debian.org/628522 [rt.cpan.org #68613] Document that CCFLAGS should include $Config{ccflags}
DEBPKG:debian/find_html2text - https://bugs.debian.org/640479 Configure CPAN::Distribution with correct name of html2text
DEBPKG:debian/perl5db-x-terminal-emulator.patch - https://bugs.debian.org/668490 Invoke x-terminal-emulator rather than xterm in perl5db.pl
DEBPKG:debian/cpan-missing-site-dirs - https://bugs.debian.org/688842 Fix CPAN::FirstTime defaults with nonexisting site dirs if a parent is writable
DEBPKG:fixes/memoize_storable_nstore - [rt.cpan.org #77790] https://bugs.debian.org/587650 Memoize::Storable: respect 'nstore' option not respected
DEBPKG:debian/regen-skip - Skip a regeneration check in unrelated git repositories
DEBPKG:debian/makemaker-pasthru - https://bugs.debian.org/758471 Pass LD settings through to subdirectories
DEBPKG:debian/makemaker-manext - https://bugs.debian.org/247370 Make EU::MakeMaker honour MANnEXT settings in generated manpage headers
DEBPKG:debian/kfreebsd-softupdates - https://bugs.debian.org/796798 Work around Debian Bug#796798
DEBPKG:fixes/autodie-scope - https://bugs.debian.org/798096 Fix a scoping issue with "no autodie" and the "system" sub
DEBPKG:fixes/memoize-pod - [rt.cpan.org #89441] Fix POD errors in Memoize
DEBPKG:debian/hurd-softupdates - https://bugs.debian.org/822735 Fix t/op/stat.t failures on hurd
DEBPKG:fixes/math_complex_doc_great_circle - https://bugs.debian.org/697567 [rt.cpan.org #114104] Math::Trig: clarify definition of great_circle_midpoint
DEBPKG:fixes/math_complex_doc_see_also - https://bugs.debian.org/697568 [rt.cpan.org #114105] Math::Trig: add missing SEE ALSO
DEBPKG:fixes/math_complex_doc_angle_units - https://bugs.debian.org/731505 [rt.cpan.org #114106] Math::Trig: document angle units
DEBPKG:fixes/cpan_web_link - https://bugs.debian.org/367291 CPAN: Add link to main CPAN web site
DEBPKG:fixes/time_piece_doc - https://bugs.debian.org/817925 Time::Piece: Improve documentation for add_months and add_years
DEBPKG:fixes/extutils_makemaker_reproducible - https://bugs.debian.org/835815 https://bugs.debian.org/834190 Make perllocal.pod files reproducible
DEBPKG:fixes/file_path_hurd_errno - File-Path: Fix test failure in Hurd due to hard-coded ENOENT
DEBPKG:debian/hppa_op_optimize_workaround - https://bugs.debian.org/838613 Temporarily lower the optimization of op.c on hppa due to gcc-6 problems
DEBPKG:debian/installman-utf8 - https://bugs.debian.org/840211 Generate man pages with UTF-8 characters
DEBPKG:fixes/file_path_chmod_race - https://bugs.debian.org/863870 [rt.cpan.org #121951] Prevent directory chmod race attack.
DEBPKG:fixes/extutils_file_path_compat - Correct the order of tests of chmod(). (#294)
DEBPKG:fixes/getopt-long-2 - [rt.cpan.org #120300] Withdraw part of commit 5d9947fb445327c7299d8beb009d609bc70066c0, which tries to implement more GNU getopt_long campatibility. GNU
DEBPKG:fixes/getopt-long-3 - provide a default value for optional arguments
DEBPKG:fixes/getopt-long-4 - https://bugs.debian.org/864544 [rt.cpan.org #122068] Fix issue #122068.
DEBPKG:fixes/fbm-instr-crash - [bb152a4] [perl #131575] don't call Perl_fbm_instr() with negative length
DEBPKG:fixes/test-builder-reset - https://bugs.debian.org/865894 Reset inside subtest maintains parent
DEBPKG:debian/CVE-2016-1238/base-pm-amends-pt2 - [a77da41] Limit dotless-INC effect on base.pm with guard:
DEBPKG:debian/hppa_opmini_optimize_workaround - https://bugs.debian.org/869122 Lower the optimization level of opmini.c on hppa
DEBPKG:debian/sh4_op_optimize_workaround - https://bugs.debian.org/869373 Also lower the optimization level of op.c and opmini.c on sh4
DEBPKG:fixes/json-pp-example - [rt.cpan.org #92793] https://bugs.debian.org/871837 fix RT-92793: bug in SYNOPSIS
DEBPKG:debian/customized - Update customized.dat for files patched in Debian
DEBPKG:fixes/CVE-2017-12837 - https://bugs.debian.org/875596 [perl #131582] [66288bb] regcomp [perl #131582]
DEBPKG:fixes/CVE-2017-12883 - https://bugs.debian.org/875597 [perl #131598] [2692dda] PATCH: [perl #131598]
Built under linux
Compiled at Sep 12 2017 15:07:07
%ENV:
PERL5LIB="/tmp/build/Test-TempDir-Tiny-0.016-2/blib/arch:/tmp/build/Test-TempDir-Tiny-0.016-2/blib/lib:/tmp/build/App-csv2sqlite-0.004-43/blib/arch:/tmp/build/App-csv2sqlite-0.004-43/blib/lib:/tmp/build/DBIx-TableLoader-CSV-1.102-42/blib/arch:/tmp/build/DBIx-TableLoader-CSV-1.102-42/blib/lib:/tmp/build/Text-CSV-1.95-40/blib/arch:/tmp/build/Text-CSV-1.95-40/blib/lib:/tmp/build/Test-MockObject-1.20161202-14/blib/arch:/tmp/build/Test-MockObject-1.20161202-14/blib/lib:/tmp/build/UNIVERSAL-isa-1.20171012-14/blib/arch:/tmp/build/UNIVERSAL-isa-1.20171012-14/blib/lib:/tmp/build/UNIVERSAL-can-1.20140328-14/blib/arch:/tmp/build/UNIVERSAL-can-1.20140328-14/blib/lib:/tmp/build/DBIx-TableLoader-1.100-42/blib/arch:/tmp/build/DBIx-TableLoader-1.100-42/blib/lib:/tmp/build/DBD-Mock-1.45-14/blib/arch:/tmp/build/DBD-Mock-1.45-14/blib/lib"
PERL5OPT=""
PERL5_CPANPLUS_IS_RUNNING="25129"
PERL5_CPAN_IS_RUNNING="25129"
PERLBREW_BASHRC_VERSION="0.80"
PERLBREW_HOME="/home/njh/.perlbrew"
PERLBREW_LIB=""
PERLBREW_MANPATH="/home/njh/perl5/perlbrew/perls/perl-5.6.2/man"
PERLBREW_PATH="/home/njh/perl5/perlbrew/bin:/home/njh/perl5/perlbrew/perls/perl-5.6.2/bin"
PERLBREW_PERL="perl-5.6.2"
PERLBREW_ROOT="/home/njh/perl5/perlbrew"
PERLBREW_VERSION="0.80"
PERL_LOCAL_LIB_ROOT=""
PERL_MM_USE_DEFAULT="1"
PERL_USE_UNSAFE_INC="1"
@INC:
/tmp/build/Test-TempDir-Tiny-0.016-2/blib/arch
/tmp/build/Test-TempDir-Tiny-0.016-2/blib/lib
/tmp/build/App-csv2sqlite-0.004-43/blib/arch
/tmp/build/App-csv2sqlite-0.004-43/blib/lib
/tmp/build/DBIx-TableLoader-CSV-1.102-42/blib/arch
/tmp/build/DBIx-TableLoader-CSV-1.102-42/blib/lib
/tmp/build/Text-CSV-1.95-40/blib/arch
/tmp/build/Text-CSV-1.95-40/blib/lib
/tmp/build/Test-MockObject-1.20161202-14/blib/arch
/tmp/build/Test-MockObject-1.20161202-14/blib/lib
/tmp/build/UNIVERSAL-isa-1.20171012-14/blib/arch
/tmp/build/UNIVERSAL-isa-1.20171012-14/blib/lib
/tmp/build/UNIVERSAL-can-1.20140328-14/blib/arch
/tmp/build/UNIVERSAL-can-1.20140328-14/blib/lib
/tmp/build/DBIx-TableLoader-1.100-42/blib/arch
/tmp/build/DBIx-TableLoader-1.100-42/blib/lib
/tmp/build/DBD-Mock-1.45-14/blib/arch
/tmp/build/DBD-Mock-1.45-14/blib/lib
/etc/perl
/usr/local/lib/x86_64-linux-gnu/perl/5.26.0
/usr/local/share/perl/5.26.0
/usr/lib/x86_64-linux-gnu/perl5/5.26
/usr/share/perl5
/usr/lib/x86_64-linux-gnu/perl/5.26
/usr/share/perl/5.26
/usr/local/lib/site_perl
/usr/lib/x86_64-linux-gnu/perl-base
.