Protocol-HTTP v1.1.6 Perl 5 v5.38.3 x86_64-linux-thread-multi-quadmath

Status
Pass
From
Andreas J. König (ANDK)
Dist
Protocol-HTTP v1.1.6
Platform
Perl 5 v5.38.3 x86_64-linux-thread-multi-quadmath
Date
2025-03-29 19:04:01
ID
935dab6c-0cd0-11f0-bdcd-c11bb9f6ea59
This distribution has been tested as part of the CPAN Testers
project, supporting the Perl programming language.  See
http://wiki.cpantesters.org/ for more information or email
questions to cpan-testers-discuss@perl.org


--
Dear Oleg Pronin,

This is a computer-generated report for Protocol-HTTP-1.1.6
on perl 5.38.3, created by CPAN-Reporter-1.2020.

Thank you for uploading your work to CPAN.  Congratulations!
All tests were successful.

Sections of this report:

    * Tester comments
    * Program output
    * Prerequisites
    * Environment and other context

------------------------------
TESTER COMMENTS
------------------------------

Additional comments from tester:

this report is from an automated smoke testing program
and was not reviewed by a human for accuracy

------------------------------
PROGRAM OUTPUT
------------------------------

Output from '/usr/bin/make test':

"/home/sand/src/perl/repoperls/installed-perls/host/k93msid/v5.38.3/db45/bin/perl" -MExtUtils::Command::MM -e 'cp_nonempty' -- HTTP.bs blib/arch/auto/Protocol/HTTP/HTTP.bs 644
cd clib/build && cd ../cmake_props && make  panda-protocol-http
make[1]: Entering directory '/tmp/loop_over_bdir-2639088-qvlVO6/Protocol-HTTP-1.1.6-0/clib/cmake_props'
make[2]: Entering directory '/tmp/loop_over_bdir-2639088-qvlVO6/Protocol-HTTP-1.1.6-0/clib/cmake_props'
make[3]: Entering directory '/tmp/loop_over_bdir-2639088-qvlVO6/Protocol-HTTP-1.1.6-0/clib/cmake_props'
make[4]: Entering directory '/tmp/loop_over_bdir-2639088-qvlVO6/Protocol-HTTP-1.1.6-0/clib/cmake_props'
make[4]: Leaving directory '/tmp/loop_over_bdir-2639088-qvlVO6/Protocol-HTTP-1.1.6-0/clib/cmake_props'
[100%] Built target panda-protocol-http
make[3]: Leaving directory '/tmp/loop_over_bdir-2639088-qvlVO6/Protocol-HTTP-1.1.6-0/clib/cmake_props'
make[2]: Leaving directory '/tmp/loop_over_bdir-2639088-qvlVO6/Protocol-HTTP-1.1.6-0/clib/cmake_props'
make[1]: Leaving directory '/tmp/loop_over_bdir-2639088-qvlVO6/Protocol-HTTP-1.1.6-0/clib/cmake_props'
cd clib/build && make install > /dev/null 2>&1
/usr/bin/cmake -E copy_directory clib/build/cmake_prefix/include blib/arch/Protocol/HTTP.x/i/
Skip blib/arch/Protocol/HTTP.pod (unchanged)
Skip blib/arch/Protocol/HTTP.x/info (unchanged)
Skip blib/arch/Protocol/HTTP/Message.pm (unchanged)
Skip blib/arch/Protocol/HTTP/Response.pm (unchanged)
Skip blib/arch/Protocol/HTTP/Response.pod (unchanged)
Skip blib/arch/Protocol/HTTP/Cookiejar.pm (unchanged)
Skip blib/arch/Protocol/HTTP/ResponseParser.pm (unchanged)
Skip blib/arch/Protocol/HTTP/RequestParser.pm (unchanged)
Skip blib/arch/Protocol/HTTP/Error.pm (unchanged)
Skip blib/arch/Protocol/HTTP.x/i/xs/protocol/http.h (unchanged)
Skip blib/arch/Protocol/HTTP/RequestParser.pod (unchanged)
Skip blib/arch/Protocol/HTTP/Request.pod (unchanged)
Skip blib/arch/Protocol/HTTP/Compression.pm (unchanged)
Skip blib/arch/Protocol/HTTP/Error.pod (unchanged)
Skip blib/arch/Protocol/HTTP/ResponseParser.pod (unchanged)
Skip blib/arch/Protocol/HTTP/Message.pod (unchanged)
Skip blib/arch/Protocol/HTTP.pm (unchanged)
Skip blib/arch/Protocol/HTTP/Cookiejar.pod (unchanged)
Skip blib/arch/Protocol/HTTP/Compression.pod (unchanged)
Skip blib/arch/Protocol/HTTP/Request.pm (unchanged)
make[1]: Nothing to be done for 'object'.
Running Mkbootstrap for MyTest ()
chmod 644 "MyTest.bs"
"/home/sand/src/perl/repoperls/installed-perls/host/k93msid/v5.38.3/db45/bin/perl" -MExtUtils::Command::MM -e 'cp_nonempty' -- MyTest.bs blib/arch/auto/MyTest/MyTest.bs 644
cd clib/build && cd ../cmake_props && make  panda-protocol-http-tests
[ 43%] Built target panda-protocol-http
[ 45%] Building CXX object /tmp/loop_over_bdir-2639088-qvlVO6/Protocol-HTTP-1.1.6-0/clib/build/CMakeFiles/panda-protocol-http-tests.dir/tests/bench.cc.o
[ 48%] Building CXX object /tmp/loop_over_bdir-2639088-qvlVO6/Protocol-HTTP-1.1.6-0/clib/build/CMakeFiles/panda-protocol-http-tests.dir/tests/compile/chunks.cc.o
[ 51%] Building CXX object /tmp/loop_over_bdir-2639088-qvlVO6/Protocol-HTTP-1.1.6-0/clib/build/CMakeFiles/panda-protocol-http-tests.dir/tests/compile/compression.cc.o
[ 54%] Building CXX object /tmp/loop_over_bdir-2639088-qvlVO6/Protocol-HTTP-1.1.6-0/clib/build/CMakeFiles/panda-protocol-http-tests.dir/tests/compile/cookies.cc.o
[ 56%] Building CXX object /tmp/loop_over_bdir-2639088-qvlVO6/Protocol-HTTP-1.1.6-0/clib/build/CMakeFiles/panda-protocol-http-tests.dir/tests/compile/form.cc.o
[ 59%] Building CXX object /tmp/loop_over_bdir-2639088-qvlVO6/Protocol-HTTP-1.1.6-0/clib/build/CMakeFiles/panda-protocol-http-tests.dir/tests/compile/message.cc.o
[ 62%] Building CXX object /tmp/loop_over_bdir-2639088-qvlVO6/Protocol-HTTP-1.1.6-0/clib/build/CMakeFiles/panda-protocol-http-tests.dir/tests/compile/request.cc.o
[ 64%] Building CXX object /tmp/loop_over_bdir-2639088-qvlVO6/Protocol-HTTP-1.1.6-0/clib/build/CMakeFiles/panda-protocol-http-tests.dir/tests/compile/response.cc.o
[ 67%] Building CXX object /tmp/loop_over_bdir-2639088-qvlVO6/Protocol-HTTP-1.1.6-0/clib/build/CMakeFiles/panda-protocol-http-tests.dir/tests/cookie-jar.cc.o
[ 70%] Building CXX object /tmp/loop_over_bdir-2639088-qvlVO6/Protocol-HTTP-1.1.6-0/clib/build/CMakeFiles/panda-protocol-http-tests.dir/tests/header.cc.o
[ 72%] Building CXX object /tmp/loop_over_bdir-2639088-qvlVO6/Protocol-HTTP-1.1.6-0/clib/build/CMakeFiles/panda-protocol-http-tests.dir/tests/main.cc.o
[ 75%] Building CXX object /tmp/loop_over_bdir-2639088-qvlVO6/Protocol-HTTP-1.1.6-0/clib/build/CMakeFiles/panda-protocol-http-tests.dir/tests/parse/chunks.cc.o
[ 78%] Building CXX object /tmp/loop_over_bdir-2639088-qvlVO6/Protocol-HTTP-1.1.6-0/clib/build/CMakeFiles/panda-protocol-http-tests.dir/tests/parse/compression.cc.o
[ 81%] Building CXX object /tmp/loop_over_bdir-2639088-qvlVO6/Protocol-HTTP-1.1.6-0/clib/build/CMakeFiles/panda-protocol-http-tests.dir/tests/parse/content-length.cc.o
[ 83%] Building CXX object /tmp/loop_over_bdir-2639088-qvlVO6/Protocol-HTTP-1.1.6-0/clib/build/CMakeFiles/panda-protocol-http-tests.dir/tests/parse/cookies.cc.o
[ 86%] Building CXX object /tmp/loop_over_bdir-2639088-qvlVO6/Protocol-HTTP-1.1.6-0/clib/build/CMakeFiles/panda-protocol-http-tests.dir/tests/parse/message.cc.o
[ 89%] Building CXX object /tmp/loop_over_bdir-2639088-qvlVO6/Protocol-HTTP-1.1.6-0/clib/build/CMakeFiles/panda-protocol-http-tests.dir/tests/parse/request.cc.o
[ 91%] Building CXX object /tmp/loop_over_bdir-2639088-qvlVO6/Protocol-HTTP-1.1.6-0/clib/build/CMakeFiles/panda-protocol-http-tests.dir/tests/parse/response.cc.o
[ 94%] Building CXX object /tmp/loop_over_bdir-2639088-qvlVO6/Protocol-HTTP-1.1.6-0/clib/build/CMakeFiles/panda-protocol-http-tests.dir/tests/parse/special-codes.cc.o
[ 97%] Building CXX object /tmp/loop_over_bdir-2639088-qvlVO6/Protocol-HTTP-1.1.6-0/clib/build/CMakeFiles/panda-protocol-http-tests.dir/tests/regression.cc.o
[100%] Linking CXX static library libpanda-protocol-http-tests.a
[100%] Built target panda-protocol-http-tests
rm -f blib/arch/auto/MyTest/MyTest.so
c++  -shared -O2 -g -L/usr/local/lib -fstack-protector-strong   blib/arch/auto/Protocol/HTTP/HTTP.so -Wl,--whole-archive clib/build/libpanda-protocol-http-tests.a  -Wl,--no-whole-archive -lz -lunwind -o blib/arch/auto/MyTest/MyTest.so  \
      \
  
chmod 755 blib/arch/auto/MyTest/MyTest.so
cd clib/build && make install > /dev/null 2>&1
Skip blib/arch/Protocol/HTTP/Response.pod (unchanged)
Skip blib/arch/Protocol/HTTP.pod (unchanged)
Skip blib/arch/Protocol/HTTP/Response.pm (unchanged)
Skip blib/arch/Protocol/HTTP/Cookiejar.pm (unchanged)
Skip blib/arch/Protocol/HTTP/ResponseParser.pm (unchanged)
Skip blib/arch/Protocol/HTTP/Compression.pod (unchanged)
Skip blib/arch/Protocol/HTTP/ResponseParser.pod (unchanged)
Skip blib/arch/Protocol/HTTP/RequestParser.pod (unchanged)
Skip blib/arch/Protocol/HTTP/Message.pod (unchanged)
Skip blib/arch/Protocol/HTTP/Compression.pm (unchanged)
Skip blib/arch/Protocol/HTTP/Cookiejar.pod (unchanged)
Skip blib/arch/Protocol/HTTP/Error.pod (unchanged)
Skip blib/arch/Protocol/HTTP/Message.pm (unchanged)
Skip blib/arch/Protocol/HTTP/Request.pod (unchanged)
Skip blib/arch/Protocol/HTTP/Request.pm (unchanged)
Skip blib/arch/Protocol/HTTP.pm (unchanged)
Skip blib/arch/Protocol/HTTP/RequestParser.pm (unchanged)
Skip blib/arch/Protocol/HTTP/Error.pm (unchanged)
Manifying 9 pod documents
PERL_DL_NONLAZY=1 "/home/sand/src/perl/repoperls/installed-perls/host/k93msid/v5.38.3/db45/bin/perl" "-MExtUtils::Command::MM" "-MTest::Harness" "-e" "undef *Test::Harness::Switches; test_harness(0, 'blib/lib', 'blib/arch')" t/*.t t/*/*.t
t/compile/chunks.t ........ ok
t/compile/compression.t ... ok
t/compile/cookies.t ....... ok
t/compile/form.t .......... ok
t/compile/message.t ....... ok
t/compile/request.t ....... ok
t/compile/response.t ...... ok
t/cookie-jar.t ............ ok
t/header.t ................ ok
t/parse/chunks.t .......... ok
t/parse/compression.t ..... ok
t/parse/content-length.t .. ok
t/parse/cookies.t ......... ok
t/parse/message.t ......... ok
t/parse/request.t ......... ok
t/parse/response.t ........ ok
t/parse/special-codes.t ... ok
t/regression.t ............ ok
All tests successful.
Files=18, Tests=188,  7 wallclock secs ( 0.13 usr  0.06 sys +  1.93 cusr  0.61 csys =  2.73 CPU)
Result: PASS

------------------------------
PREREQUISITES
------------------------------

Prerequisite modules loaded:

requires:

    Module             Need      Have    
    ------------------ --------- --------
    Date               v5.2.14   5.2.14  
    Export::XS         v3.0.8    3.0.8   
    next::XS           v1.0.8    1.0.8   
    URI::XS            v2.1.7    2.1.7   
    XS::Framework      v1.6.0    1.6.0   
    XS::Install        v1.4.0    1.4.0   
    XS::libboost::mini v1.87.0.0 1.87.0.0
    XS::libpanda       v1.5.11   1.5.11  
    XS::librangeV3     v1.12.0   1.12.0  

build_requires:

    Module             Need      Have    
    ------------------ --------- --------
    Date               v5.2.14   5.2.14  
    Export::XS         v3.0.8    3.0.8   
    next::XS           v1.0.8    1.0.8   
    Test::Catch        v2.0.2    2.0.2   
    Test::Deep         0         1.204   
    Test::Fatal        0         0.017   
    Test::More         0         1.302209
    Test::Simple       0.96      1.302209
    URI::XS            v2.1.7    2.1.7   
    XS::Framework      v1.6.0    1.6.0   
    XS::libboost::mini v1.87.0.0 1.87.0.0
    XS::libcatch       v3.7.1.1  3.7.1.1 
    XS::libpanda       v1.5.11   1.5.11  
    XS::librangeV3     v1.12.0   1.12.0  

configure_requires:

    Module             Need      Have    
    ------------------ --------- --------
    Date               v5.2.14   5.2.14  
    Export::XS         v3.0.8    3.0.8   
    next::XS           v1.0.8    1.0.8   
    Test::Catch        v2.0.2    2.0.2   
    URI::XS            v2.1.7    2.1.7   
    XS::Framework      v1.6.0    1.6.0   
    XS::Install        v1.4.0    1.4.0   
    XS::libboost::mini v1.87.0.0 1.87.0.0
    XS::libcatch       v3.7.1    3.7.1.1 
    XS::libpanda       v1.5.11   1.5.11  
    XS::librangeV3     v1.12.0   1.12.0  


------------------------------
ENVIRONMENT AND OTHER CONTEXT
------------------------------

Environment variables:

    AUTOMATED_TESTING = 1
    LANG = en_US.UTF-8
    LANGUAGE = en_US:en
    PATH = /home/sand/bin:/usr/local/bin:/usr/bin:/bin:/usr/games:/usr/local/perl/bin:/usr/X11/bin:/sbin:/usr/sbin
    PERL5LIB = 
    PERL5OPT = 
    PERL5_CPANPLUS_IS_RUNNING = 956303
    PERL5_CPAN_IS_RUNNING = 956303
    PERL_CANARY_STABILITY_NOPROMPT = 1
    PERL_MM_USE_DEFAULT = 1
    PERL_USE_UNSAFE_INC = 1
    SHELL = /usr/bin/zsh
    TERM = screen

Perl special variables (and OS-specific diagnostics, for MSWin32):

    $^X = /home/sand/src/perl/repoperls/installed-perls/host/k93msid/v5.38.3/db45/bin/perl
    $UID/$EUID = 1005 / 1005
    $GID = 1005 1005
    $EGID = 1005 1005

Perl module toolchain versions installed:

    Module              Have    
    ------------------- --------
    CPAN                2.38    
    CPAN::Meta          2.150010
    Cwd                 3.89    
    ExtUtils::CBuilder  0.280238
    ExtUtils::Command   7.70    
    ExtUtils::Install   2.22    
    ExtUtils::MakeMaker 7.70    
    ExtUtils::Manifest  1.73    
    ExtUtils::ParseXS   3.51    
    File::Spec          3.88    
    JSON                4.10    
    JSON::PP            4.16    
    Module::Build       0.4234  
    Module::Signature   0.89    
    Parse::CPAN::Meta   2.150010
    Test2               1.302209
    Test::Harness       3.50    
    Test::More          1.302209
    YAML                1.31    
    YAML::Syck          1.34    
    version             0.9933  


--

Summary of my perl5 (revision 5 version 38 subversion 3) configuration:
  Commit id: 06697759559c52236e296a256776b1222f228163
  Platform:
    osname=linux
    osvers=6.8.12-amd64
    archname=x86_64-linux-thread-multi-quadmath
    uname='linux k93msid 6.8.12-amd64 #1 smp preempt_dynamic debian 6.8.12-1 (2024-05-31) x86_64 gnulinux '
    config_args='-Dprefix=/home/sand/src/perl/repoperls/installed-perls/host/k93msid/v5.38.3/db45 -Dmyhostname=k93msid -Dinstallusrbinperl=n -Uversiononly -Dusedevel -des -Ui_db -Dlibswanted=cl pthread socket inet nsl gdbm dbm malloc dl ld sun m crypt sec util c cposix posix ucb BSD gdbm_compat -Duseithreads -Uuselongdouble -DEBUGGING=both -Dusequadmath'
    hint=recommended
    useposix=true
    d_sigaction=define
    useithreads=define
    usemultiplicity=define
    use64bitint=define
    use64bitall=define
    uselongdouble=undef
    usemymalloc=n
    default_inc_excludes_dot=define
  Compiler:
    cc='cc'
    ccflags ='-D_REENTRANT -D_GNU_SOURCE -fwrapv -DDEBUGGING -fno-strict-aliasing -pipe -fstack-protector-strong -I/usr/local/include -D_LARGEFILE_SOURCE -D_FILE_OFFSET_BITS=64 -D_FORTIFY_SOURCE=2'
    optimize='-O2 -g'
    cppflags='-D_REENTRANT -D_GNU_SOURCE -fwrapv -DDEBUGGING -fno-strict-aliasing -pipe -fstack-protector-strong -I/usr/local/include'
    ccversion=''
    gccversion='13.3.0'
    gccosandvers=''
    intsize=4
    longsize=8
    ptrsize=8
    doublesize=8
    byteorder=12345678
    doublekind=3
    d_longlong=define
    longlongsize=8
    d_longdbl=define
    longdblsize=16
    longdblkind=3
    ivtype='long'
    ivsize=8
    nvtype='__float128'
    nvsize=16
    Off_t='off_t'
    lseeksize=8
    alignbytes=16
    prototype=define
  Linker and Libraries:
    ld='cc'
    ldflags =' -fstack-protector-strong -L/usr/local/lib'
    libpth=/usr/local/lib /usr/lib/x86_64-linux-gnu /usr/lib /usr/lib64
    libs=-lpthread -ldl -lm -lcrypt -lutil -lc -lquadmath
    perllibs=-lpthread -ldl -lm -lcrypt -lutil -lc -lquadmath
    libc=/lib/x86_64-linux-gnu/libc.so.6
    so=so
    useshrplib=false
    libperl=libperl.a
    gnulibc_version='2.38'
  Dynamic Linking:
    dlsrc=dl_dlopen.xs
    dlext=so
    d_dlsymun=undef
    ccdlflags='-Wl,-E'
    cccdlflags='-fPIC'
    lddlflags='-shared -O2 -g -L/usr/local/lib -fstack-protector-strong'


Characteristics of this binary (from libperl): 
  Compile-time options:
    DEBUGGING
    HAS_LONG_DOUBLE
    HAS_STRTOLD
    HAS_TIMES
    MULTIPLICITY
    PERLIO_LAYERS
    PERL_COPY_ON_WRITE
    PERL_DONT_CREATE_GVSV
    PERL_HASH_FUNC_SIPHASH13
    PERL_HASH_USE_SBOX32
    PERL_MALLOC_WRAP
    PERL_OP_PARENT
    PERL_PRESERVE_IVUV
    PERL_TRACK_MEMPOOL
    PERL_USE_DEVEL
    PERL_USE_SAFE_PUTENV
    USE_64_BIT_ALL
    USE_64_BIT_INT
    USE_ITHREADS
    USE_LARGE_FILES
    USE_LOCALE
    USE_LOCALE_COLLATE
    USE_LOCALE_CTYPE
    USE_LOCALE_NUMERIC
    USE_LOCALE_TIME
    USE_PERLIO
    USE_PERL_ATOF
    USE_QUADMATH
    USE_REENTRANT_API
    USE_THREAD_SAFE_LOCALE
  Built under linux
  Compiled at Jan 20 2025 13:37:18
  %ENV:
    PERL5LIB=""
    PERL5OPT=""
    PERL5_CPANPLUS_IS_RUNNING="956303"
    PERL5_CPAN_IS_RUNNING="956303"
    PERL_CANARY_STABILITY_NOPROMPT="1"
    PERL_MM_USE_DEFAULT="1"
    PERL_USE_UNSAFE_INC="1"
  @INC:
    /home/sand/src/perl/repoperls/installed-perls/host/k93msid/v5.38.3/db45/lib/site_perl/5.38.3/x86_64-linux-thread-multi-quadmath
    /home/sand/src/perl/repoperls/installed-perls/host/k93msid/v5.38.3/db45/lib/site_perl/5.38.3
    /home/sand/src/perl/repoperls/installed-perls/host/k93msid/v5.38.3/db45/lib/5.38.3/x86_64-linux-thread-multi-quadmath
    /home/sand/src/perl/repoperls/installed-perls/host/k93msid/v5.38.3/db45/lib/5.38.3
    .