CPAN-Testers-Common-Client v0.14 Perl 5 v5.38.2 darwin-2level
- Status
- Pass
- From
- Dist
-
CPAN-Testers-Common-Client v0.14
- Platform
- Perl 5 v5.38.2 darwin-2level
- Date
- 2024-08-26 14:50:45
- ID
- 9347c6ea-63ba-11ef-a3fc-80df78f3ab73
This distribution has been tested as part of the CPAN Testers
project, supporting the Perl programming language. See
http://wiki.cpantesters.org/ for more information or email
questions to cpan-testers-discuss@perl.org
--
Dear GARU,
This is a computer-generated report for CPAN-Testers-Common-Client-0.14
on perl 5.38.2, created by App::cpanminus::reporter 0.21 (1.7047).
Thank you for uploading your work to CPAN. Congratulations!
All tests were successful.
Sections of this report:
* Tester comments
* Program output
* Prerequisites
* Environment and other context
------------------------------
TESTER COMMENTS
------------------------------
Additional comments from tester:
none provided
------------------------------
PROGRAM OUTPUT
------------------------------
Output from '':
Building and testing CPAN-Testers-Common-Client-0.14
cp lib/CPAN/Testers/Common/Client/Config.pm blib/lib/CPAN/Testers/Common/Client/Config.pm
cp lib/CPAN/Testers/Common/Client/History.pm blib/lib/CPAN/Testers/Common/Client/History.pm
cp lib/CPAN/Testers/Common/Client.pm blib/lib/CPAN/Testers/Common/Client.pm
cp lib/CPAN/Testers/Common/Client/PrereqCheck.pm blib/lib/CPAN/Testers/Common/Client/PrereqCheck.pm
PERL_DL_NONLAZY=1 "/Users/ntonkin/perl5/perlbrew/perls/perl-5.38.2/bin/perl" "-MExtUtils::Command::MM" "-MTest::Harness" "-e" "undef *Test::Harness::Switches; test_harness(0, 'blib/lib', 'blib/arch')" t/*.t
# Testing CPAN::Testers::Common::Client 0.14
t/00.load.t ................. ok
t/01-basic.t ................ ok
t/02-config.t ............... ok
t/03-history.t .............. ok
t/03-undef-prereq-report.t .. ok
All tests successful.
Files=5, Tests=96, 1 wallclock secs ( 0.01 usr 0.01 sys + 0.71 cusr 0.16 csys = 0.89 CPU)
Result: PASS
------------------------------
PREREQUISITES
------------------------------
Prerequisite modules loaded:
runtime:
Module Need Have
--------------------- ---- --------
Capture::Tiny 0 0.48
Carp 0 1.54
Config::Perl::V 0 0.36
CPAN::Version 0 5.5003
Devel::Platform::Info 0 1.00
ExtUtils::MakeMaker 6.36 7.70
Fcntl 0 1.15
File::Glob 0 1.40
File::HomeDir 0.58 1.006
File::Path 0 2.18
File::Spec 3.19 3.88
IO::File 0 1.52
IPC::Cmd 0 1.04
Probe::Perl 0 0.03
Test::More 0 1.302194
build:
Module Need Have
--------------------- ---- --------
ExtUtils::MakeMaker 0 7.70
configure:
Module Need Have
--------------------- ---- --------
ExtUtils::MakeMaker 0 7.70
------------------------------
ENVIRONMENT AND OTHER CONTEXT
------------------------------
Environment variables:
LANG = en_US.UTF-8
LC_TERMINAL = iTerm2
LC_TERMINAL_VERSION = 3.5.4
LDFLAGS = -L/opt/homebrew/Cellar/openssl@3/3.1.3/lib
PATH = /opt/homebrew/opt/mysql@8.0/bin:/opt/homebrew/opt/postgresql@16/bin:/Users/ntonkin/.local/bin:/Users/ntonkin/Library/Python/3.11/bin:/Library/Frameworks/Python.framework/Versions/3.11/bin:/opt/homebrew/bin:/opt/homebrew/sbin:/Users/ntonkin/.perlbrew/libs/perl-5.38.2@rosetta/bin:/Users/ntonkin/perl5/perlbrew/bin:/Users/ntonkin/perl5/perlbrew/perls/perl-5.38.2/bin:/opt/homebrew/Cellar/openssl@3/3.1.3/include:/usr/local/opt/gnu-tar/libexec/gnubin:/usr/local/opt/openssl@3.1.3/bin:/usr/local/opt/gettext/bin:/usr/local/bin:/System/Cryptexes/App/usr/bin:/usr/bin:/bin:/usr/sbin:/sbin:/var/run/com.apple.security.cryptexd/codex.system/bootstrap/usr/local/bin:/var/run/com.apple.security.cryptexd/codex.system/bootstrap/usr/bin:/var/run/com.apple.security.cryptexd/codex.system/bootstrap/usr/appleinternal/bin:/Applications/Privileges.app/Contents/Resources:/Applications/iTerm.app/Contents/Resources/utilities
PERL5LIB = /Users/ntonkin/.perlbrew/libs/perl-5.38.2@rosetta/lib/perl5
PERLBREW_HOME = /Users/ntonkin/.perlbrew
PERLBREW_LIB = rosetta
PERLBREW_MANPATH = /Users/ntonkin/.perlbrew/libs/perl-5.38.2@rosetta/man:/Users/ntonkin/perl5/perlbrew/perls/perl-5.38.2/man
PERLBREW_PATH = /Users/ntonkin/.perlbrew/libs/perl-5.38.2@rosetta/bin:/Users/ntonkin/perl5/perlbrew/bin:/Users/ntonkin/perl5/perlbrew/perls/perl-5.38.2/bin
PERLBREW_PERL = perl-5.38.2
PERLBREW_ROOT = /Users/ntonkin/perl5/perlbrew
PERLBREW_SHELLRC_VERSION = 0.97
PERLBREW_VERSION = 0.97
PERL_CPANM_OPT = --mirror cpan.metacpan.org --mirror cpan.metacpan.com --mirror cpan.mirror.constant.com --mirror cpan.hoovism-http.com --mirror http://ftp.wayne.edu/cpan/ --mirror ftp://mirror.cogentco.com/pub/CPAN/ --mirror ftp://mirror.cc.columbia.edu/pub/software/cpan/ --mirror http://develooper.com --mirror http://cpan.cse.msu.edu/ --mirror http://mirror.cc.columbia.edu/pub/software/cpan/ --mirror http://www.cpan.org/ --mirror http://cpan.perlnow.com/ --mirror http://cpan.mirror.facebook.net/ --mirror http://www.perl.com/CPAN/ --mirror http://cpan.pair.com/ --mirror http://mirror.uta.edu/CPAN/ --mirror http://cpan.cs.utah.edu/ --mirror-only --cascade-search
PERL_LOCAL_LIB_ROOT = /Users/ntonkin/.perlbrew/libs/perl-5.38.2@rosetta
PERL_MB_OPT = --install_base /Users/ntonkin/.perlbrew/libs/perl-5.38.2@rosetta
PERL_MM_OPT = INSTALL_BASE=/Users/ntonkin/.perlbrew/libs/perl-5.38.2@rosetta
SHELL = /bin/bash
TERM = xterm-256color
TMPDIR = /var/folders/b8/v1999vpx21jf70qf03qsv6r80000gq/T/
Perl special variables (and OS-specific diagnostics, for MSWin32):
EGID = 20 20 12 61 701 100
EUID = 503
EXECUTABLE_NAME = /Users/ntonkin/perl5/perlbrew/perls/perl-5.38.2/bin/perl
GID = 20 20 12 61 701 100
UID = 503
Perl module toolchain versions installed:
Module Have
------------------- --------
CPAN 2.36
CPAN::Meta 2.150010
Cwd 3.89
ExtUtils::CBuilder 0.280238
ExtUtils::Command 7.70
ExtUtils::Install 2.22
ExtUtils::MakeMaker 7.70
ExtUtils::Manifest 1.73
ExtUtils::ParseXS 3.51
File::Spec 3.88
JSON 4.10
JSON::PP 4.16
Module::Build 0.4234
Module::Signature n/a
Parse::CPAN::Meta 2.150010
Test::Harness 3.44
Test::More 1.302194
YAML 1.31
YAML::Syck n/a
version 0.9929
--
Summary of my perl5 (revision 5 version 38 subversion 2) configuration:
Platform:
osname=darwin
osvers=22.6.0
archname=darwin-2level
uname='darwin mjg7kk6gj3-m 22.6.0 darwin kernel version 22.6.0: mon feb 19 19:43:13 pst 2024; root:xnu-8796.141.3.704.6~1release_arm64_t6020 arm64 '
config_args='-de -Dprefix=/Users/ntonkin/perl5/perlbrew/perls/perl-5.38.2 -Aeval:scriptdir=/Users/ntonkin/perl5/perlbrew/perls/perl-5.38.2/bin'
hint=recommended
useposix=true
d_sigaction=define
useithreads=undef
usemultiplicity=undef
use64bitint=define
use64bitall=define
uselongdouble=undef
usemymalloc=n
default_inc_excludes_dot=define
Compiler:
cc='cc'
ccflags ='-fno-common -DPERL_DARWIN -mmacosx-version-min=13.6 -DNO_POSIX_2008_LOCALE -fno-strict-aliasing -pipe -fstack-protector-strong -I/usr/local/include'
optimize='-O3'
cppflags='-fno-common -DPERL_DARWIN -mmacosx-version-min=13.6 -DNO_POSIX_2008_LOCALE -fno-strict-aliasing -pipe -fstack-protector-strong -I/usr/local/include'
ccversion=''
gccversion='Apple LLVM 15.0.0 (clang-1500.0.40.1)'
gccosandvers=''
intsize=4
longsize=8
ptrsize=8
doublesize=8
byteorder=12345678
doublekind=3
d_longlong=define
longlongsize=8
d_longdbl=define
longdblsize=8
longdblkind=0
ivtype='long'
ivsize=8
nvtype='double'
nvsize=8
Off_t='off_t'
lseeksize=8
alignbytes=8
prototype=define
Linker and Libraries:
ld='cc'
ldflags =' -mmacosx-version-min=13.6 -fstack-protector-strong -L/usr/local/lib'
libpth=/usr/local/lib /Library/Developer/CommandLineTools/usr/lib/clang/15.0.0/lib /Library/Developer/CommandLineTools/SDKs/MacOSX14.0.sdk/usr/lib /Library/Developer/CommandLineTools/usr/lib /usr/lib
libs=
perllibs=
libc=
so=dylib
useshrplib=false
libperl=libperl.a
gnulibc_version=''
Dynamic Linking:
dlsrc=dl_dlopen.xs
dlext=bundle
d_dlsymun=undef
ccdlflags=' '
cccdlflags=' '
lddlflags=' -mmacosx-version-min=13.6 -bundle -undefined dynamic_lookup -L/usr/local/lib -fstack-protector-strong'
Characteristics of this binary (from libperl):
Compile-time options:
HAS_LONG_DOUBLE
HAS_STRTOLD
HAS_TIMES
PERLIO_LAYERS
PERL_COPY_ON_WRITE
PERL_DONT_CREATE_GVSV
PERL_HASH_FUNC_SIPHASH13
PERL_HASH_USE_SBOX32
PERL_MALLOC_WRAP
PERL_OP_PARENT
PERL_PRESERVE_IVUV
PERL_USE_SAFE_PUTENV
USE_64_BIT_ALL
USE_64_BIT_INT
USE_LARGE_FILES
USE_LOCALE
USE_LOCALE_COLLATE
USE_LOCALE_CTYPE
USE_LOCALE_NUMERIC
USE_LOCALE_TIME
USE_PERLIO
USE_PERL_ATOF
Built under darwin
Compiled at Mar 14 2024 10:09:25
%ENV:
PERL5LIB="/Users/ntonkin/.perlbrew/libs/perl-5.38.2@rosetta/lib/perl5"
PERLBREW_HOME="/Users/ntonkin/.perlbrew"
PERLBREW_LIB="rosetta"
PERLBREW_MANPATH="/Users/ntonkin/.perlbrew/libs/perl-5.38.2@rosetta/man:/Users/ntonkin/perl5/perlbrew/perls/perl-5.38.2/man"
PERLBREW_PATH="/Users/ntonkin/.perlbrew/libs/perl-5.38.2@rosetta/bin:/Users/ntonkin/perl5/perlbrew/bin:/Users/ntonkin/perl5/perlbrew/perls/perl-5.38.2/bin"
PERLBREW_PERL="perl-5.38.2"
PERLBREW_ROOT="/Users/ntonkin/perl5/perlbrew"
PERLBREW_SHELLRC_VERSION="0.97"
PERLBREW_VERSION="0.97"
PERL_CPANM_OPT="--mirror cpan.metacpan.org --mirror cpan.metacpan.com --mirror cpan.mirror.constant.com --mirror cpan.hoovism-http.com --mirror http://ftp.wayne.edu/cpan/ --mirror ftp://mirror.cogentco.com/pub/CPAN/ --mirror ftp://mirror.cc.columbia.edu/pub/software/cpan/ --mirror http://develooper.com --mirror http://cpan.cse.msu.edu/ --mirror http://mirror.cc.columbia.edu/pub/software/cpan/ --mirror http://www.cpan.org/ --mirror http://cpan.perlnow.com/ --mirror http://cpan.mirror.facebook.net/ --mirror http://www.perl.com/CPAN/ --mirror http://cpan.pair.com/ --mirror http://mirror.uta.edu/CPAN/ --mirror http://cpan.cs.utah.edu/ --mirror-only --cascade-search"
PERL_LOCAL_LIB_ROOT="/Users/ntonkin/.perlbrew/libs/perl-5.38.2@rosetta"
PERL_MB_OPT="--install_base /Users/ntonkin/.perlbrew/libs/perl-5.38.2@rosetta"
PERL_MM_OPT="INSTALL_BASE=/Users/ntonkin/.perlbrew/libs/perl-5.38.2@rosetta"
@INC:
/Users/ntonkin/.perlbrew/libs/perl-5.38.2@rosetta/lib/perl5/darwin-2level
/Users/ntonkin/.perlbrew/libs/perl-5.38.2@rosetta/lib/perl5
/Users/ntonkin/perl5/perlbrew/perls/perl-5.38.2/lib/site_perl/5.38.2/darwin-2level
/Users/ntonkin/perl5/perlbrew/perls/perl-5.38.2/lib/site_perl/5.38.2
/Users/ntonkin/perl5/perlbrew/perls/perl-5.38.2/lib/5.38.2/darwin-2level
/Users/ntonkin/perl5/perlbrew/perls/perl-5.38.2/lib/5.38.2