Back
From: metabase:user:320bfe00-2aae-11df-837a-5e0a49663a4f
Subject: PASS Tapper-Testplan-4.1.2 v5.19.3 GNU/Linux
Date: 2013-11-08T01:17:46Z
This distribution has been tested as part of the CPAN Testers
project, supporting the Perl programming language. See
http://wiki.cpantesters.org/ for more information or email
questions to cpan-testers-discuss@perl.org
--
Dear Tapper Team,
This is a computer-generated report for Tapper-Testplan-4.1.2
on perl 5.19.3, created by CPAN-Reporter-1.2010.
Thank you for uploading your work to CPAN. Congratulations!
All tests were successful.
Sections of this report:
* Tester comments
* Program output
* Prerequisites
* Environment and other context
------------------------------
TESTER COMMENTS
------------------------------
Additional comments from tester:
this report is from an automated smoke testing program
and was not reviewed by a human for accuracy
------------------------------
PROGRAM OUTPUT
------------------------------
Output from '/usr/bin/make test':
PERL_DL_NONLAZY=1 /tmp/basesmoker-reloperl-_zXu/bin/perl "-MExtUtils::Command::MM" "-MTest::Harness" "-e" "undef *Test::Harness::Switches; test_harness(0, 'blib/lib', 'blib/arch')" t/*.t
given is experimental at /home/sand/src/perl/repoperls/installed-perls/perl/v5.19.3/165a/lib/site_perl/5.19.3/Tapper/Cmd/Testplan.pm line 25.
when is experimental at /home/sand/src/perl/repoperls/installed-perls/perl/v5.19.3/165a/lib/site_perl/5.19.3/Tapper/Cmd/Testplan.pm line 26.
t/00-load.t .................... ok
t/01-use.t ..................... ok
t/pod.t ........................ ok
t/release-eol.t ................ skipped: these tests are for release candidate testing
t/release-no-tabs.t ............ skipped: these tests are for release candidate testing
t/release-pod-coverage.t ....... skipped: these tests are for release candidate testing
t/release-pod-syntax.t ......... skipped: these tests are for release candidate testing
given is experimental at /home/sand/src/perl/repoperls/installed-perls/perl/v5.19.3/165a/lib/site_perl/5.19.3/Tapper/Cmd/Testplan.pm line 25.
when is experimental at /home/sand/src/perl/repoperls/installed-perls/perl/v5.19.3/165a/lib/site_perl/5.19.3/Tapper/Cmd/Testplan.pm line 26.
t/tapper-testplan-generator.t .. ok
t/tapper-testplan-reporter.t ... ok
All tests successful.
Files=9, Tests=23, 7 wallclock secs ( 0.04 usr 0.01 sys + 3.29 cusr 0.40 csys = 3.74 CPU)
Result: PASS
------------------------------
PREREQUISITES
------------------------------
Prerequisite modules loaded:
requires:
Module Need Have
------------------------------ ---- --------
CHI 0 0.58
DateTime 0 1.03
DateTime::Format::DateParse 0 0.05
DateTime::Format::Natural 0 1.02
DateTime::Format::Strptime 0 1.54
Email::Sender::Simple 0 1.300006
Email::Sender::Transport::SMTP 0 1.300006
Email::Simple 0 2.202
File::ShareDir 0 1.03
File::Slurp 0 9999.19
File::Temp 0 0.2304
Hash::Merge 0 0.200
Module::Find 0.11 0.11
Moose 0 2.1005
strict 0 1.08
Tapper::Cmd::Testplan 0 4.1.8
Tapper::Config 0 4.1.3
Tapper::Model 0 4.1.2
Template 0 2.25
Text::CSV::Slurp 0 1.01
warnings 0 1.18
build_requires:
Module Need Have
------------------------------ ---- --------
Data::Dumper 0 2.148
HTTP::Daemon 0 6.01
HTTP::Status 0 6.03
POSIX 0 1.34
Tapper::Schema::TestTools 0 4.1.3
Test::Differences 0 0.61
Test::Fixture::DBIC::Schema 0 0.04
Test::MockModule 0 0.05
Test::More 0 1.001002
configure_requires:
Module Need Have
------------------------------ ---- --------
ExtUtils::MakeMaker 6.30 6.82
------------------------------
ENVIRONMENT AND OTHER CONTEXT
------------------------------
Environment variables:
AUTOMATED_TESTING = 1
LANG = en_US.UTF-8
LANGUAGE = en_US:en
PATH = /usr/lib/ccache:/home/sand/bin:/usr/local/bin:/usr/bin:/bin:/usr/bin/X11:/usr/games:/usr/local/perl/bin:/usr/X11/bin:/sbin:/usr/sbin
PERL5LIB =
PERL5OPT =
PERL5_CPANPLUS_IS_RUNNING = 5265
PERL5_CPAN_IS_RUNNING = 5265
PERL_MM_USE_DEFAULT = 1
SHELL = /usr/bin/zsh
TERM = screen
Perl special variables (and OS-specific diagnostics, for MSWin32):
$^X = /tmp/basesmoker-reloperl-_zXu/bin/perl
$UID/$EUID = 1005 / 1005
$GID = 1005 1005
$EGID = 1005 1005
Perl module toolchain versions installed:
Module Have
------------------- --------
CPAN 2.00
CPAN::Meta 2.132830
Cwd 3.44
ExtUtils::CBuilder 0.280212
ExtUtils::Command 1.17
ExtUtils::Install 1.60
ExtUtils::MakeMaker 6.82
ExtUtils::Manifest 1.63
ExtUtils::ParseXS 3.21
File::Spec 3.44
JSON 2.90
JSON::PP 2.27203
Module::Build 0.4008
Module::Signature 0.73
Parse::CPAN::Meta 1.4409
Test::Harness 3.29
Test::More 1.001002
YAML 0.84
YAML::Syck 1.27
version 0.9903
--
Summary of my perl5 (revision 5 version 19 subversion 3) configuration:
Commit id: f865d60069cbf2222595cce29bf98f8f1b6703ec
Platform:
osname=linux, osvers=3.11-1-amd64, archname=x86_64-linux
uname='linux k83 3.11-1-amd64 #1 smp debian 3.11.6-2 (2013-11-01) x86_64 gnulinux '
config_args='-Dprefix=/home/sand/src/perl/repoperls/installed-perls/perl/v5.19.3/165a -Dmyhostname=k83 -Dinstallusrbinperl=n -Uversiononly -Dusedevel -des -Ui_db -Uuseithreads -Uuselongdouble -DDEBUGGING=-g'
hint=recommended, useposix=true, d_sigaction=define
useithreads=undef, usemultiplicity=undef
useperlio=define, d_sfio=undef, uselargefiles=define, usesocks=undef
use64bitint=define, use64bitall=define, uselongdouble=undef
usemymalloc=n, bincompat5005=undef
Compiler:
cc='cc', ccflags ='-fno-strict-aliasing -pipe -fstack-protector -I/usr/local/include -D_LARGEFILE_SOURCE -D_FILE_OFFSET_BITS=64',
optimize='-O2 -g',
cppflags='-fno-strict-aliasing -pipe -fstack-protector -I/usr/local/include'
ccversion='', gccversion='4.8.2', gccosandvers=''
intsize=4, longsize=8, ptrsize=8, doublesize=8, byteorder=12345678
d_longlong=define, longlongsize=8, d_longdbl=define, longdblsize=16
ivtype='long', ivsize=8, nvtype='double', nvsize=8, Off_t='off_t', lseeksize=8
alignbytes=8, prototype=define
Linker and Libraries:
ld='cc', ldflags =' -fstack-protector -L/usr/local/lib'
libpth=/usr/local/lib /lib/x86_64-linux-gnu /lib/../lib /usr/lib/x86_64-linux-gnu /usr/lib/../lib /lib /usr/lib
libs=-lnsl -lgdbm -ldb -ldl -lm -lcrypt -lutil -lc -lgdbm_compat
perllibs=-lnsl -ldl -lm -lcrypt -lutil -lc
libc=, so=so, useshrplib=false, libperl=libperl.a
gnulibc_version='2.17'
Dynamic Linking:
dlsrc=dl_dlopen.xs, dlext=so, d_dlsymun=undef, ccdlflags='-Wl,-E'
cccdlflags='-fPIC', lddlflags='-shared -O2 -g -L/usr/local/lib -fstack-protector'
Characteristics of this binary (from libperl):
Compile-time options: HAS_TIMES PERLIO_LAYERS PERL_DONT_CREATE_GVSV
PERL_HASH_FUNC_ONE_AT_A_TIME_HARD PERL_MALLOC_WRAP
PERL_NEW_COPY_ON_WRITE PERL_PRESERVE_IVUV
PERL_USE_DEVEL USE_64_BIT_ALL USE_64_BIT_INT
USE_LARGE_FILES USE_LOCALE USE_LOCALE_COLLATE
USE_LOCALE_CTYPE USE_LOCALE_NUMERIC USE_PERLIO
USE_PERL_ATOF
Built under linux
Compiled at Nov 8 2013 00:18:12
%ENV:
PERL5LIB=""
PERL5OPT=""
PERL5_CPANPLUS_IS_RUNNING="5265"
PERL5_CPAN_IS_RUNNING="5265"
PERL_MM_USE_DEFAULT="1"
@INC:
/home/sand/src/perl/repoperls/installed-perls/perl/v5.19.3/165a/lib/site_perl/5.19.3/x86_64-linux
/home/sand/src/perl/repoperls/installed-perls/perl/v5.19.3/165a/lib/site_perl/5.19.3
/home/sand/src/perl/repoperls/installed-perls/perl/v5.19.3/165a/lib/5.19.3/x86_64-linux
/home/sand/src/perl/repoperls/installed-perls/perl/v5.19.3/165a/lib/5.19.3
.