XML-LibXML v2.0201 Perl 5 v5.16.2 amd64-netbsd-thread-multi

Status
Pass
From
Nigel Horne
Dist
XML-LibXML v2.0201
Platform
Perl 5 v5.16.2 amd64-netbsd-thread-multi
Date
2019-10-23 21:39:21
ID
92f90da2-f5dd-11e9-b513-a86062b887d7
This distribution has been tested as part of the CPAN Testers
project, supporting the Perl programming language.  See
http://wiki.cpantesters.org/ for more information or email
questions to cpan-testers-discuss@perl.org


--
Dear Shlomi Fish,

This is a computer-generated report for XML-LibXML-2.0201
on perl 5.16.2, created by CPAN-Reporter-1.2018.

Thank you for uploading your work to CPAN.  Congratulations!
All tests were successful.

Sections of this report:

    * Tester comments
    * Program output
    * Prerequisites
    * Environment and other context

------------------------------
TESTER COMMENTS
------------------------------

Additional comments from tester:

none provided

------------------------------
PROGRAM OUTPUT
------------------------------

Output from '/usr/bin/make test':

"/home/njh/perl5/perlbrew/perls/perl-5.16.2-thread-multi/bin/perl5.16.2" -MExtUtils::Command::MM -e 'cp_nonempty' -- LibXML.bs blib/arch/auto/XML/LibXML/LibXML.bs 644
PERL_DL_NONLAZY=1 "/home/njh/perl5/perlbrew/perls/perl-5.16.2-thread-multi/bin/perl5.16.2" "-MExtUtils::Command::MM" "-MTest::Harness" "-e" "undef *Test::Harness::Switches; test_harness(0, 'blib/lib', 'blib/arch')" t/*.t
# 
# Versions for all modules listed in MYMETA.json (including optional ones):
# 
# === Configure Requires ===
# 
#     Module              Want  Have
#     ------------------- ---- -----
#     Alien::Libxml2       any  0.09
#     Config               any undef
#     ExtUtils::MakeMaker  any  7.34
# 
# === Build Requires ===
# 
#     Module              Want Have
#     ------------------- ---- ----
#     ExtUtils::MakeMaker  any 7.34
# 
# === Test Requires ===
# 
#     Module       Want     Have
#     ------------ ---- --------
#     Config        any    undef
#     Errno         any     1.15
#     IO::File      any     1.39
#     IO::Handle    any     1.39
#     POSIX         any     1.30
#     Scalar::Util  any     1.52
#     Test::More    any 1.302140
#     locale        any     1.01
#     utf8          any     1.09
# 
# === Runtime Requires ===
# 
#     Module                    Want  Have
#     ------------------------- ---- -----
#     Carp                       any  1.50
#     DynaLoader                 any  1.14
#     Encode                     any  2.98
#     Exporter                  5.57  5.73
#     IO::Handle                 any  1.39
#     Scalar::Util               any  1.52
#     Tie::Hash                  any  1.04
#     XML::NamespaceSupport     1.07  1.12
#     XML::SAX                  0.11  1.02
#     XML::SAX::Base             any  1.09
#     XML::SAX::DocumentLocator  any undef
#     XML::SAX::Exception        any  1.09
#     base                       any  2.23
#     constant                   any  1.33
#     overload                   any  1.18
#     parent                     any 0.237
#     strict                     any  1.07
#     vars                       any  1.02
#     warnings                   any  1.13
# 
t/00-report-prereqs.t .............................. ok
# 
# 
# Compiled against libxml2 version: 20909
# Running libxml2 version:          20909
# 
t/01basic.t ........................................ ok
t/02parse.t ........................................ ok
t/03doc.t .......................................... ok
t/04node.t ......................................... ok
t/05text.t ......................................... ok
t/06elements.t ..................................... ok
t/07dtd.t .......................................... ok
t/08findnodes.t .................................... ok
t/09xpath.t ........................................ ok
t/10ns.t ........................................... ok
t/11memory.t ....................................... skipped: These tests are for authors only!
t/12html.t ......................................... ok
t/13dtd.t .......................................... ok
t/14sax.t .......................................... ok
t/15nodelist.t ..................................... ok
t/16docnodes.t ..................................... ok
t/17callbacks.t .................................... ok
t/18docfree.t ...................................... ok
t/19die_on_invalid_utf8_rt_58848.t ................. ok
t/19encoding.t ..................................... ok
t/20extras.t ....................................... ok
t/21catalog.t ...................................... ok
t/23rawfunctions.t ................................. ok
t/24c14n.t ......................................... ok
t/25relaxng.t ...................................... ok
t/26schema.t ....................................... ok
t/27new_callbacks_simple.t ......................... ok
t/28new_callbacks_multiple.t ....................... ok
t/29id.t ........................................... ok
t/30keep_blanks.t .................................. ok
t/30xpathcontext.t ................................. ok
t/31xpc_functions.t ................................ ok
t/32xpc_variables.t ................................ ok
t/35huge_mode.t .................................... ok
t/40reader.t ....................................... ok
t/40reader_mem_error.t ............................. ok
t/41xinclude.t ..................................... ok
t/42common.t ....................................... ok
t/43options.t ...................................... ok
t/44extent.t ....................................... ok
t/45regex.t ........................................ ok
t/46err_column.t ................................... ok
t/47load_xml_callbacks.t ........................... ok
t/48_memleak_rt_83744.t ............................ ok
t/48_reader_undef_warning_on_empty_str_rt106830.t .. ok
t/48_removeChild_crashes_rt_80395.t ................ ok
t/48_replaceNode_DTD_nodes_rT_80521.t .............. ok
t/48_RH5_double_free_rt83779.t ..................... ok
t/48_rt123379_setNamespace.t ....................... ok
t/48_rt55000.t ..................................... ok
t/48_rt93429_recover_2_in_html_parsing.t ........... ok
t/48_SAX_Builder_rt_91433.t ........................ ok
t/48importing_nodes_IDs_rt_69520.t ................. ok
t/49_load_html.t ................................... ok
t/49callbacks_returning_undef.t .................... ok
t/49global_extent.t ................................ ok
t/50devel.t ........................................ ok
t/51_parse_html_string_rt87089.t ................... ok
t/60error_prev_chain.t ............................. ok
t/60struct_error.t ................................. ok
t/61error.t ........................................ ok
t/62overload.t ..................................... ok
t/71overloads.t .................................... ok
t/72destruction.t .................................. ok
t/80registryleak.t ................................. ok
t/90shared_clone_failed_rt_91800.t ................. skipped: optional (set THREAD_TEST=1 to run these tests)
t/90stack.t ........................................ ok
t/90threads.t ...................................... skipped: optional (set THREAD_TEST=1 to run these tests)
t/91unique_key.t ................................... ok
t/cpan-changes.t ................................... skipped: These tests are for authors only!
t/pod-files-presence.t ............................. ok
t/pod.t ............................................ skipped: These tests are for authors only!
t/release-kwalitee.t ............................... skipped: These tests are for authors only!
t/style-trailing-space.t ........................... skipped: These tests are for authors only!
All tests successful.
Files=75, Tests=2537, 11 wallclock secs ( 0.47 usr  0.19 sys +  8.25 cusr  2.01 csys = 10.92 CPU)
Result: PASS

------------------------------
PREREQUISITES
------------------------------

Prerequisite modules loaded:

requires:

    Module                    Need     Have    
    ------------------------- -------- --------
    base                      0        2.23    
    Carp                      0        1.50    
    constant                  0        1.33    
    DynaLoader                0        1.14    
    Encode                    0        2.98    
    Exporter                  5.57     5.73    
    IO::Handle                0        1.39    
    overload                  0        1.18    
    parent                    0        0.237   
    perl                      5.008001 5.016002
    Scalar::Util              0        1.52    
    strict                    0        1.07    
    Tie::Hash                 0        1.04    
    vars                      0        1.02    
    warnings                  0        1.13    
    XML::NamespaceSupport     1.07     1.12    
    XML::SAX                  0.11     1.02    
    XML::SAX::Base            0        1.09    
    XML::SAX::DocumentLocator 0        0       
    XML::SAX::Exception       0        1.09    

build_requires:

    Module                    Need     Have    
    ------------------------- -------- --------
    Config                    0        0       
    Errno                     0        1.15    
    ExtUtils::MakeMaker       0        7.34    
    IO::File                  0        1.39    
    IO::Handle                0        1.39    
    locale                    0        1.01    
    POSIX                     0        1.30    
    Scalar::Util              0        1.52    
    Test::More                0        1.302140
    utf8                      0        1.09    

configure_requires:

    Module                    Need     Have    
    ------------------------- -------- --------
    Alien::Libxml2            0        0.09    
    Config                    0        0       
    ExtUtils::MakeMaker       0        7.34    


------------------------------
ENVIRONMENT AND OTHER CONTEXT
------------------------------

Environment variables:

    NONINTERACTIVE_TESTING = 1
    PATH = /home/njh/perl5/perlbrew/bin:/home/njh/perl5/perlbrew/perls/perl-5.16.2-thread-multi/bin:/usr/bin:/bin:/usr/pkg/bin:/usr/local/bin
    PERL5LIB = 
    PERL5OPT = 
    PERL5_CPANPLUS_IS_RUNNING = 1248
    PERL5_CPAN_IS_RUNNING = 1248
    PERLBREW_HOME = /home/njh/.perlbrew
    PERLBREW_MANPATH = /home/njh/perl5/perlbrew/perls/perl-5.16.2-thread-multi/man
    PERLBREW_PATH = /home/njh/perl5/perlbrew/bin:/home/njh/perl5/perlbrew/perls/perl-5.16.2-thread-multi/bin
    PERLBREW_PERL = perl-5.16.2-thread-multi
    PERLBREW_ROOT = /home/njh/perl5/perlbrew
    PERLBREW_SHELLRC_VERSION = 0.82
    PERLBREW_VERSION = 0.82
    PERL_MM_USE_DEFAULT = 1
    PERL_USE_UNSAFE_INC = 1
    SHELL = /usr/pkg/bin/bash
    TERM = xterm-256color
    TMPDIR = /tmp

Perl special variables (and OS-specific diagnostics, for MSWin32):

    $^X = /home/njh/perl5/perlbrew/perls/perl-5.16.2-thread-multi/bin/perl5.16.2
    $UID/$EUID = 1000 / 1000
    $GID = 100 100 0
    $EGID = 100 100 0

Perl module toolchain versions installed:

    Module              Have    
    ------------------- --------
    CPAN                2.26    
    CPAN::Meta          2.150010
    Cwd                 3.75    
    ExtUtils::CBuilder  0.280230
    ExtUtils::Command   7.34    
    ExtUtils::Install   2.14    
    ExtUtils::MakeMaker 7.34    
    ExtUtils::Manifest  1.71    
    ExtUtils::ParseXS   3.35    
    File::Spec          3.75    
    JSON                4.02    
    JSON::PP            2.97001 
    Module::Build       0.4224  
    Module::Signature   n/a     
    Parse::CPAN::Meta   2.150010
    Test::Harness       3.42    
    Test::More          1.302140
    YAML                1.29    
    YAML::Syck          1.31    
    version             0.9924  


--

Summary of my perl5 (revision 5 version 16 subversion 2) configuration:
   
  Platform:
    osname=netbsd, osvers=7.1.2, archname=amd64-netbsd-thread-multi
    uname='netbsd vultr2.bandsman.co.uk 7.1.2 netbsd 7.1.2 (generic.201803151611z) amd64 '
    config_args='-de -Dprefix=/home/njh/perl5/perlbrew/perls/perl-5.16.2-thread-multi -Dusedevel -Dusethreads -Dusemultiplicity -Accflags= -Aeval:scriptdir=/home/njh/perl5/perlbrew/perls/perl-5.16.2-thread-multi/bin'
    hint=recommended, useposix=true, d_sigaction=define
    useithreads=define, usemultiplicity=define
    useperlio=define, d_sfio=undef, uselargefiles=define, usesocks=undef
    use64bitint=define, use64bitall=define, uselongdouble=undef
    usemymalloc=n, bincompat5005=undef
  Compiler:
    cc='cc', ccflags ='-fno-strict-aliasing -pipe -fstack-protector -I/usr/pkg/include',
    optimize='-O',
    cppflags='-fno-strict-aliasing -pipe -fstack-protector -I/usr/pkg/include'
    ccversion='', gccversion='4.8.5', gccosandvers=''
    intsize=4, longsize=8, ptrsize=8, doublesize=8, byteorder=12345678
    d_longlong=define, longlongsize=8, d_longdbl=define, longdblsize=16
    ivtype='long', ivsize=8, nvtype='double', nvsize=8, Off_t='off_t', lseeksize=8
    alignbytes=8, prototype=define
  Linker and Libraries:
    ld='cc', ldflags =' -Wl,-rpath,/usr/pkg/lib -Wl,-rpath,/usr/local/lib -fstack-protector -L/usr/pkg/lib'
    libpth=/usr/pkg/lib /lib /usr/lib
    libs=-lm -lcrypt -lutil -lc -lposix -lpthread
    perllibs=-lm -lcrypt -lutil -lc -lposix -lpthread
    libc=/lib/libc.so, so=so, useshrplib=false, libperl=libperl.a
    gnulibc_version=''
  Dynamic Linking:
    dlsrc=dl_dlopen.xs, dlext=so, d_dlsymun=undef, ccdlflags='-Wl,-E '
    cccdlflags='-DPIC -fPIC ', lddlflags='-shared  -L/usr/pkg/lib -fstack-protector'


Characteristics of this binary (from libperl): 
  Compile-time options: HAS_TIMES MULTIPLICITY PERLIO_LAYERS
                        PERL_DONT_CREATE_GVSV PERL_IMPLICIT_CONTEXT
                        PERL_MALLOC_WRAP PERL_PRESERVE_IVUV PERL_USE_DEVEL
                        USE_64_BIT_ALL USE_64_BIT_INT USE_ITHREADS
                        USE_LARGE_FILES USE_LOCALE USE_LOCALE_COLLATE
                        USE_LOCALE_CTYPE USE_LOCALE_NUMERIC USE_PERLIO
                        USE_PERL_ATOF USE_REENTRANT_API
  Locally applied patches:
	Devel::PatchPerl 1.48
  Built under netbsd
  Compiled at Sep 29 2018 02:17:47
  %ENV:
    PERL5LIB=""
    PERL5OPT=""
    PERL5_CPANPLUS_IS_RUNNING="1248"
    PERL5_CPAN_IS_RUNNING="1248"
    PERLBREW_HOME="/home/njh/.perlbrew"
    PERLBREW_MANPATH="/home/njh/perl5/perlbrew/perls/perl-5.16.2-thread-multi/man"
    PERLBREW_PATH="/home/njh/perl5/perlbrew/bin:/home/njh/perl5/perlbrew/perls/perl-5.16.2-thread-multi/bin"
    PERLBREW_PERL="perl-5.16.2-thread-multi"
    PERLBREW_ROOT="/home/njh/perl5/perlbrew"
    PERLBREW_SHELLRC_VERSION="0.82"
    PERLBREW_VERSION="0.82"
    PERL_MM_USE_DEFAULT="1"
    PERL_USE_UNSAFE_INC="1"
  @INC:
    /home/njh/perl5/perlbrew/perls/perl-5.16.2-thread-multi/lib/site_perl/5.16.2/amd64-netbsd-thread-multi
    /home/njh/perl5/perlbrew/perls/perl-5.16.2-thread-multi/lib/site_perl/5.16.2
    /home/njh/perl5/perlbrew/perls/perl-5.16.2-thread-multi/lib/5.16.2/amd64-netbsd-thread-multi
    /home/njh/perl5/perlbrew/perls/perl-5.16.2-thread-multi/lib/5.16.2
    .