Report for HTTP-Session2-1.09

Back
From: metabase:user:917c2b6a-77f3-11e5-af78-c9d573d1e3cf
Subject: PASS HTTP-Session2-1.09 v5.22.0 Mac OS X
Date: 2015-12-04T09:51:21Z

This distribution has been tested as part of the CPAN Testers
project, supporting the Perl programming language.  See
http://wiki.cpantesters.org/ for more information or email
questions to cpan-testers-discuss@perl.org


--
Dear Author,

This is a computer-generated report for HTTP-Session2-1.09
on perl 5.22.0, created by CPAN-Reporter-1.2015.

Thank you for uploading your work to CPAN.  Congratulations!
All tests were successful.

Sections of this report:

    * Tester comments
    * Program output
    * Prerequisites
    * Environment and other context

------------------------------
TESTER COMMENTS
------------------------------

Additional comments from tester:

this report is from an automated smoke testing program
and was not reviewed by a human for accuracy

------------------------------
PROGRAM OUTPUT
------------------------------

Output from './Build test':

t/00_compile.t .............. ok
Secret string too short at /Users/petr/.cpan/build/HTTP-Session2-1.09-qFpuPO/blib/lib/HTTP/Session2/Base.pm line 79.
	HTTP::Session2::Base::__ANON__(HTTP::Session2::ServerStore=HASH(0x7ffa51c06c28), "s3cret") called at t/01_server_side.t line 23
	main::__ANON__("client -> server: request without cookie", CODE(0x7ffa51c064a8)) called at t/01_server_side.t line 25
	main::__ANON__() called at /Users/petr/perl5/perlbrew/perls/perl-5.22.0/lib/5.22.0/Test/Builder.pm line 261
	Test::Builder::__ANON__() called at /Users/petr/perl5/perlbrew/perls/perl-5.22.0/lib/5.22.0/Test/Builder.pm line 266
	eval {...} called at /Users/petr/perl5/perlbrew/perls/perl-5.22.0/lib/5.22.0/Test/Builder.pm line 266
	Test::Builder::subtest(Test::Builder=HASH(0x7ffa5187efb0), "First request", CODE(0x7ffa51be2288)) called at /Users/petr/perl5/perlbrew/perls/perl-5.22.0/lib/5.22.0/Test/More.pm line 771
	Test::More::subtest("First request", CODE(0x7ffa51be2288)) called at t/01_server_side.t line 11
	main::scenario("First request", CODE(0x7ffa51be2288)) called at t/01_server_side.t line 31
Secret string too short at /Users/petr/.cpan/build/HTTP-Session2-1.09-qFpuPO/blib/lib/HTTP/Session2/Base.pm line 79.
	HTTP::Session2::Base::__ANON__(HTTP::Session2::ServerStore=HASH(0x7ffa51c06a30), "s3cret") called at t/01_server_side.t line 40
	main::__ANON__("client -> server: request without cookie", CODE(0x7ffa51c06bc8)) called at t/01_server_side.t line 42
	main::__ANON__() called at /Users/petr/perl5/perlbrew/perls/perl-5.22.0/lib/5.22.0/Test/Builder.pm line 261
	Test::Builder::__ANON__() called at /Users/petr/perl5/perlbrew/perls/perl-5.22.0/lib/5.22.0/Test/Builder.pm line 266
	eval {...} called at /Users/petr/perl5/perlbrew/perls/perl-5.22.0/lib/5.22.0/Test/Builder.pm line 266
	Test::Builder::subtest(Test::Builder=HASH(0x7ffa5187efb0), "Store something without login", CODE(0x7ffa51beeda8)) called at /Users/petr/perl5/perlbrew/perls/perl-5.22.0/lib/5.22.0/Test/More.pm line 771
	Test::More::subtest("Store something without login", CODE(0x7ffa51beeda8)) called at t/01_server_side.t line 11
	main::scenario("Store something without login", CODE(0x7ffa51beeda8)) called at t/01_server_side.t line 58
Secret string too short at /Users/petr/.cpan/build/HTTP-Session2-1.09-qFpuPO/blib/lib/HTTP/Session2/Base.pm line 79.
	HTTP::Session2::Base::__ANON__(HTTP::Session2::ServerStore=HASH(0x7ffa51bfad38), "s3cret") called at t/01_server_side.t line 70
	main::__ANON__("client -> server: request without cookie", CODE(0x7ffa51c113c0)) called at t/01_server_side.t line 72
	main::__ANON__() called at /Users/petr/perl5/perlbrew/perls/perl-5.22.0/lib/5.22.0/Test/Builder.pm line 261
	Test::Builder::__ANON__() called at /Users/petr/perl5/perlbrew/perls/perl-5.22.0/lib/5.22.0/Test/Builder.pm line 266
	eval {...} called at /Users/petr/perl5/perlbrew/perls/perl-5.22.0/lib/5.22.0/Test/Builder.pm line 266
	Test::Builder::subtest(Test::Builder=HASH(0x7ffa5187efb0), "Login", CODE(0x7ffa51bfa1f8)) called at /Users/petr/perl5/perlbrew/perls/perl-5.22.0/lib/5.22.0/Test/More.pm line 771
	Test::More::subtest("Login", CODE(0x7ffa51bfa1f8)) called at t/01_server_side.t line 11
	main::scenario("Login", CODE(0x7ffa51bfa1f8)) called at t/01_server_side.t line 96
Secret string too short at /Users/petr/.cpan/build/HTTP-Session2-1.09-qFpuPO/blib/lib/HTTP/Session2/Base.pm line 79.
	HTTP::Session2::Base::__ANON__(HTTP::Session2::ServerStore=HASH(0x7ffa51c113a8), "s3cret") called at t/01_server_side.t line 108
	main::__ANON__("client -> server: request without cookie", CODE(0x7ffa5186e448)) called at t/01_server_side.t line 110
	main::__ANON__() called at /Users/petr/perl5/perlbrew/perls/perl-5.22.0/lib/5.22.0/Test/Builder.pm line 261
	Test::Builder::__ANON__() called at /Users/petr/perl5/perlbrew/perls/perl-5.22.0/lib/5.22.0/Test/Builder.pm line 266
	eval {...} called at /Users/petr/perl5/perlbrew/perls/perl-5.22.0/lib/5.22.0/Test/Builder.pm line 266
	Test::Builder::subtest(Test::Builder=HASH(0x7ffa5187efb0), "In a login session", CODE(0x7ffa51bfa8b8)) called at /Users/petr/perl5/perlbrew/perls/perl-5.22.0/lib/5.22.0/Test/More.pm line 771
	Test::More::subtest("In a login session", CODE(0x7ffa51bfa8b8)) called at t/01_server_side.t line 11
	main::scenario("In a login session", CODE(0x7ffa51bfa8b8)) called at t/01_server_side.t line 124
Secret string too short at /Users/petr/.cpan/build/HTTP-Session2-1.09-qFpuPO/blib/lib/HTTP/Session2/Base.pm line 79.
	HTTP::Session2::Base::__ANON__(HTTP::Session2::ServerStore=HASH(0x7ffa51c11690), "s3cret") called at t/01_server_side.t line 131
	main::__ANON__("client -> server: request without cookie", CODE(0x7ffa51832390)) called at t/01_server_side.t line 138
	main::__ANON__() called at /Users/petr/perl5/perlbrew/perls/perl-5.22.0/lib/5.22.0/Test/Builder.pm line 261
	Test::Builder::__ANON__() called at /Users/petr/perl5/perlbrew/perls/perl-5.22.0/lib/5.22.0/Test/Builder.pm line 266
	eval {...} called at /Users/petr/perl5/perlbrew/perls/perl-5.22.0/lib/5.22.0/Test/Builder.pm line 266
	Test::Builder::subtest(Test::Builder=HASH(0x7ffa5187efb0), "Logout", CODE(0x7ffa51bfaf90)) called at /Users/petr/perl5/perlbrew/perls/perl-5.22.0/lib/5.22.0/Test/More.pm line 771
	Test::More::subtest("Logout", CODE(0x7ffa51bfaf90)) called at t/01_server_side.t line 11
	main::scenario("Logout", CODE(0x7ffa51bfaf90)) called at t/01_server_side.t line 153
t/01_server_side.t .......... ok
Secret string too short at /Users/petr/.cpan/build/HTTP-Session2-1.09-qFpuPO/blib/lib/HTTP/Session2/Base.pm line 79.
	HTTP::Session2::Base::__ANON__(HTTP::Session2::ClientStore=HASH(0x7fb72a437e20), "s3cret") called at t/02_client_side.t line 17
	main::__ANON__("client -> server: request without cookie", CODE(0x7fb72a1ca9d8)) called at t/02_client_side.t line 22
	main::__ANON__() called at /Users/petr/perl5/perlbrew/perls/perl-5.22.0/lib/5.22.0/Test/Builder.pm line 261
	Test::Builder::__ANON__() called at /Users/petr/perl5/perlbrew/perls/perl-5.22.0/lib/5.22.0/Test/Builder.pm line 266
	eval {...} called at /Users/petr/perl5/perlbrew/perls/perl-5.22.0/lib/5.22.0/Test/Builder.pm line 266
	Test::Builder::subtest(Test::Builder=HASH(0x7fb72a07edb0), "First request", CODE(0x7fb72a0326c0)) called at /Users/petr/perl5/perlbrew/perls/perl-5.22.0/lib/5.22.0/Test/More.pm line 771
	Test::More::subtest("First request", CODE(0x7fb72a0326c0)) called at t/02_client_side.t line 9
	main::scenario("First request", CODE(0x7fb72a0326c0)) called at t/02_client_side.t line 28
Secret string too short at /Users/petr/.cpan/build/HTTP-Session2-1.09-qFpuPO/blib/lib/HTTP/Session2/Base.pm line 79.
	HTTP::Session2::Base::__ANON__(HTTP::Session2::ClientStore=HASH(0x7fb72a437d60), "s3cret") called at t/02_client_side.t line 33
	main::__ANON__("client -> server: request without cookie", CODE(0x7fb72a437c10)) called at t/02_client_side.t line 38
	main::__ANON__() called at /Users/petr/perl5/perlbrew/perls/perl-5.22.0/lib/5.22.0/Test/Builder.pm line 261
	Test::Builder::__ANON__() called at /Users/petr/perl5/perlbrew/perls/perl-5.22.0/lib/5.22.0/Test/Builder.pm line 266
	eval {...} called at /Users/petr/perl5/perlbrew/perls/perl-5.22.0/lib/5.22.0/Test/Builder.pm line 266
	Test::Builder::subtest(Test::Builder=HASH(0x7fb72a07edb0), "Store something without login", CODE(0x7fb72a1c9aa8)) called at /Users/petr/perl5/perlbrew/perls/perl-5.22.0/lib/5.22.0/Test/More.pm line 771
	Test::More::subtest("Store something without login", CODE(0x7fb72a1c9aa8)) called at t/02_client_side.t line 9
	main::scenario("Store something without login", CODE(0x7fb72a1c9aa8)) called at t/02_client_side.t line 54
Do not use HTTP::Session2::ClientStore. Use HTTP::Session2::ServerStore or HTTP::Session2::ClientStore2 instead. at /Users/petr/.cpan/build/HTTP-Session2-1.09-qFpuPO/blib/lib/HTTP/Session2/ClientStore.pm line 25.
Secret string too short at /Users/petr/.cpan/build/HTTP-Session2-1.09-qFpuPO/blib/lib/HTTP/Session2/Base.pm line 79.
	HTTP::Session2::Base::__ANON__(HTTP::Session2::ClientStore=HASH(0x7fb72a438198), "s3cret") called at t/02_client_side.t line 60
	main::__ANON__("client -> server: request without cookie", CODE(0x7fb72a031c10)) called at t/02_client_side.t line 66
	main::__ANON__() called at /Users/petr/perl5/perlbrew/perls/perl-5.22.0/lib/5.22.0/Test/Builder.pm line 261
	Test::Builder::__ANON__() called at /Users/petr/perl5/perlbrew/perls/perl-5.22.0/lib/5.22.0/Test/Builder.pm line 266
	eval {...} called at /Users/petr/perl5/perlbrew/perls/perl-5.22.0/lib/5.22.0/Test/Builder.pm line 266
	Test::Builder::subtest(Test::Builder=HASH(0x7fb72a07edb0), "Login", CODE(0x7fb72a1c9cd0)) called at /Users/petr/perl5/perlbrew/perls/perl-5.22.0/lib/5.22.0/Test/More.pm line 771
	Test::More::subtest("Login", CODE(0x7fb72a1c9cd0)) called at t/02_client_side.t line 9
	main::scenario("Login", CODE(0x7fb72a1c9cd0)) called at t/02_client_side.t line 86
Do not use HTTP::Session2::ClientStore. Use HTTP::Session2::ServerStore or HTTP::Session2::ClientStore2 instead. at /Users/petr/.cpan/build/HTTP-Session2-1.09-qFpuPO/blib/lib/HTTP/Session2/ClientStore.pm line 35.
Do not use HTTP::Session2::ClientStore. Use HTTP::Session2::ServerStore or HTTP::Session2::ClientStore2 instead. at /Users/petr/.cpan/build/HTTP-Session2-1.09-qFpuPO/blib/lib/HTTP/Session2/ClientStore.pm line 25.
Secret string too short at /Users/petr/.cpan/build/HTTP-Session2-1.09-qFpuPO/blib/lib/HTTP/Session2/Base.pm line 79.
	HTTP::Session2::Base::__ANON__(HTTP::Session2::ClientStore=HASH(0x7fb72a437d60), "s3cret") called at t/02_client_side.t line 92
	main::__ANON__("client -> server: request without cookie", CODE(0x7fb72a4389c0)) called at t/02_client_side.t line 98
	main::__ANON__() called at /Users/petr/perl5/perlbrew/perls/perl-5.22.0/lib/5.22.0/Test/Builder.pm line 261
	Test::Builder::__ANON__() called at /Users/petr/perl5/perlbrew/perls/perl-5.22.0/lib/5.22.0/Test/Builder.pm line 266
	eval {...} called at /Users/petr/perl5/perlbrew/perls/perl-5.22.0/lib/5.22.0/Test/Builder.pm line 266
	Test::Builder::subtest(Test::Builder=HASH(0x7fb72a07edb0), "In a login session", CODE(0x7fb72a1ca198)) called at /Users/petr/perl5/perlbrew/perls/perl-5.22.0/lib/5.22.0/Test/More.pm line 771
	Test::More::subtest("In a login session", CODE(0x7fb72a1ca198)) called at t/02_client_side.t line 9
	main::scenario("In a login session", CODE(0x7fb72a1ca198)) called at t/02_client_side.t line 107
Do not use HTTP::Session2::ClientStore. Use HTTP::Session2::ServerStore or HTTP::Session2::ClientStore2 instead. at /Users/petr/.cpan/build/HTTP-Session2-1.09-qFpuPO/blib/lib/HTTP/Session2/ClientStore.pm line 35.
Do not use HTTP::Session2::ClientStore. Use HTTP::Session2::ServerStore or HTTP::Session2::ClientStore2 instead. at /Users/petr/.cpan/build/HTTP-Session2-1.09-qFpuPO/blib/lib/HTTP/Session2/ClientStore.pm line 25.
Secret string too short at /Users/petr/.cpan/build/HTTP-Session2-1.09-qFpuPO/blib/lib/HTTP/Session2/Base.pm line 79.
	HTTP::Session2::Base::__ANON__(HTTP::Session2::ClientStore=HASH(0x7fb72a4385b8), "s3cret") called at t/02_client_side.t line 112
	main::__ANON__("client -> server: request without cookie", CODE(0x7fb72a437dd8)) called at t/02_client_side.t line 118
	main::__ANON__() called at /Users/petr/perl5/perlbrew/perls/perl-5.22.0/lib/5.22.0/Test/Builder.pm line 261
	Test::Builder::__ANON__() called at /Users/petr/perl5/perlbrew/perls/perl-5.22.0/lib/5.22.0/Test/Builder.pm line 266
	eval {...} called at /Users/petr/perl5/perlbrew/perls/perl-5.22.0/lib/5.22.0/Test/Builder.pm line 266
	Test::Builder::subtest(Test::Builder=HASH(0x7fb72a07edb0), "Logout", CODE(0x7fb72a1ca210)) called at /Users/petr/perl5/perlbrew/perls/perl-5.22.0/lib/5.22.0/Test/More.pm line 771
	Test::More::subtest("Logout", CODE(0x7fb72a1ca210)) called at t/02_client_side.t line 9
	main::scenario("Logout", CODE(0x7fb72a1ca210)) called at t/02_client_side.t line 131
t/02_client_side.t .......... ok
Secret string too short at /Users/petr/.cpan/build/HTTP-Session2-1.09-qFpuPO/blib/lib/HTTP/Session2/Base.pm line 79.
	HTTP::Session2::Base::__ANON__(HTTP::Session2::ServerStore=HASH(0x7f8a5a8f9620), "s3cret") called at t/03_mech.t line 121
	main::server_session(HASH(0x7f8a5a802378)) called at t/03_mech.t line 17
	main::__ANON__(HASH(0x7f8a5a802378)) called at /Users/petr/.cpan/build/Test-WWW-Mechanize-PSGI-0.35-qntC0i/blib/lib/Test/WWW/Mechanize/PSGI.pm line 39
	Test::WWW::Mechanize::PSGI::__ANON__() called at /Users/petr/perl5/perlbrew/perls/perl-5.22.0/lib/site_perl/5.22.0/Try/Tiny.pm line 81
	eval {...} called at /Users/petr/perl5/perlbrew/perls/perl-5.22.0/lib/site_perl/5.22.0/Try/Tiny.pm line 72
	Try::Tiny::try(CODE(0x7f8a5a879ea0), Try::Tiny::Catch=REF(0x7f8a5890c430)) called at /Users/petr/.cpan/build/Test-WWW-Mechanize-PSGI-0.35-qntC0i/blib/lib/Test/WWW/Mechanize/PSGI.pm line 46
	Test::WWW::Mechanize::PSGI::simple_request(Test::WWW::Mechanize::PSGI=HASH(0x7f8a5a61a9d8), HTTP::Request=HASH(0x7f8a5a802ac8), undef, undef) called at /Users/petr/perl5/perlbrew/perls/perl-5.22.0/lib/site_perl/5.22.0/LWP/UserAgent.pm line 282
	LWP::UserAgent::request(Test::WWW::Mechanize::PSGI=HASH(0x7f8a5a61a9d8), HTTP::Request=HASH(0x7f8a5a802ac8)) called at /Users/petr/.cpan/build/WWW-Mechanize-1.75-vl4S65/blib/lib/WWW/Mechanize.pm line 2598
	WWW::Mechanize::_make_request(Test::WWW::Mechanize::PSGI=HASH(0x7f8a5a61a9d8), HTTP::Request=HASH(0x7f8a5a802ac8)) called at /Users/petr/.cpan/build/WWW-Mechanize-1.75-vl4S65/blib/lib/WWW/Mechanize.pm line 2312
	WWW::Mechanize::request(Test::WWW::Mechanize::PSGI=HASH(0x7f8a5a61a9d8), HTTP::Request=HASH(0x7f8a5a802ac8)) called at /Users/petr/perl5/perlbrew/perls/perl-5.22.0/lib/site_perl/5.22.0/LWP/UserAgent.pm line 411
	LWP::UserAgent::get(Test::WWW::Mechanize::PSGI=HASH(0x7f8a5a61a9d8), "/") called at /Users/petr/.cpan/build/WWW-Mechanize-1.75-vl4S65/blib/lib/WWW/Mechanize.pm line 407
	WWW::Mechanize::get(Test::WWW::Mechanize::PSGI=HASH(0x7f8a5a61a9d8), "/") called at /Users/petr/.cpan/build/Test-WWW-Mechanize-1.44-H1Tb2Y/blib/lib/Test/WWW/Mechanize.pm line 159
	Test::WWW::Mechanize::get_ok(Test::WWW::Mechanize::PSGI=HASH(0x7f8a5a61a9d8), "/") called at t/03_mech.t line 74
Secret string too short at /Users/petr/.cpan/build/HTTP-Session2-1.09-qFpuPO/blib/lib/HTTP/Session2/Base.pm line 79.
	HTTP::Session2::Base::__ANON__(HTTP::Session2::ServerStore=HASH(0x7f8a5a8ae890), "s3cret") called at t/03_mech.t line 121
	main::server_session(HASH(0x7f8a5a8ae488)) called at t/03_mech.t line 17
	main::__ANON__(HASH(0x7f8a5a8ae488)) called at /Users/petr/.cpan/build/Test-WWW-Mechanize-PSGI-0.35-qntC0i/blib/lib/Test/WWW/Mechanize/PSGI.pm line 39
	Test::WWW::Mechanize::PSGI::__ANON__() called at /Users/petr/perl5/perlbrew/perls/perl-5.22.0/lib/site_perl/5.22.0/Try/Tiny.pm line 81
	eval {...} called at /Users/petr/perl5/perlbrew/perls/perl-5.22.0/lib/site_perl/5.22.0/Try/Tiny.pm line 72
	Try::Tiny::try(CODE(0x7f8a5a8ae500), Try::Tiny::Catch=REF(0x7f8a5a8a10e8)) called at /Users/petr/.cpan/build/Test-WWW-Mechanize-PSGI-0.35-qntC0i/blib/lib/Test/WWW/Mechanize/PSGI.pm line 46
	Test::WWW::Mechanize::PSGI::simple_request(Test::WWW::Mechanize::PSGI=HASH(0x7f8a5a61a9d8), HTTP::Request=HASH(0x7f8a5a8fa148), undef, undef) called at /Users/petr/perl5/perlbrew/perls/perl-5.22.0/lib/site_perl/5.22.0/LWP/UserAgent.pm line 282
	LWP::UserAgent::request(Test::WWW::Mechanize::PSGI=HASH(0x7f8a5a61a9d8), HTTP::Request=HASH(0x7f8a5a8fa148)) called at /Users/petr/.cpan/build/WWW-Mechanize-1.75-vl4S65/blib/lib/WWW/Mechanize.pm line 2598
	WWW::Mechanize::_make_request(Test::WWW::Mechanize::PSGI=HASH(0x7f8a5a61a9d8), HTTP::Request=HASH(0x7f8a5a8fa148)) called at /Users/petr/.cpan/build/WWW-Mechanize-1.75-vl4S65/blib/lib/WWW/Mechanize.pm line 2312
	WWW::Mechanize::request(Test::WWW::Mechanize::PSGI=HASH(0x7f8a5a61a9d8), HTTP::Request=HASH(0x7f8a5a8fa148)) called at /Users/petr/perl5/perlbrew/perls/perl-5.22.0/lib/site_perl/5.22.0/LWP/UserAgent.pm line 419
	LWP::UserAgent::post(Test::WWW::Mechanize::PSGI=HASH(0x7f8a5a61a9d8), "/wishlist?foo", HASH(0x7f8a5a57dad8)) called at /Users/petr/.cpan/build/Test-WWW-Mechanize-1.44-H1Tb2Y/blib/lib/Test/WWW/Mechanize.pm line 236
	Test::WWW::Mechanize::post_ok(Test::WWW::Mechanize::PSGI=HASH(0x7f8a5a61a9d8), "/wishlist?foo") called at t/03_mech.t line 75
Secret string too short at /Users/petr/.cpan/build/HTTP-Session2-1.09-qFpuPO/blib/lib/HTTP/Session2/Base.pm line 79.
	HTTP::Session2::Base::__ANON__(HTTP::Session2::ServerStore=HASH(0x7f8a5a90e7e0), "s3cret") called at t/03_mech.t line 121
	main::server_session(HASH(0x7f8a5a8ae8a8)) called at t/03_mech.t line 17
	main::__ANON__(HASH(0x7f8a5a8ae8a8)) called at /Users/petr/.cpan/build/Test-WWW-Mechanize-PSGI-0.35-qntC0i/blib/lib/Test/WWW/Mechanize/PSGI.pm line 39
	Test::WWW::Mechanize::PSGI::__ANON__() called at /Users/petr/perl5/perlbrew/perls/perl-5.22.0/lib/site_perl/5.22.0/Try/Tiny.pm line 81
	eval {...} called at /Users/petr/perl5/perlbrew/perls/perl-5.22.0/lib/site_perl/5.22.0/Try/Tiny.pm line 72
	Try::Tiny::try(CODE(0x7f8a5a886640), Try::Tiny::Catch=REF(0x7f8a5a8ae740)) called at /Users/petr/.cpan/build/Test-WWW-Mechanize-PSGI-0.35-qntC0i/blib/lib/Test/WWW/Mechanize/PSGI.pm line 46
	Test::WWW::Mechanize::PSGI::simple_request(Test::WWW::Mechanize::PSGI=HASH(0x7f8a5a61a9d8), HTTP::Request=HASH(0x7f8a5a802f60), undef, undef) called at /Users/petr/perl5/perlbrew/perls/perl-5.22.0/lib/site_perl/5.22.0/LWP/UserAgent.pm line 282
	LWP::UserAgent::request(Test::WWW::Mechanize::PSGI=HASH(0x7f8a5a61a9d8), HTTP::Request=HASH(0x7f8a5a802f60)) called at /Users/petr/.cpan/build/WWW-Mechanize-1.75-vl4S65/blib/lib/WWW/Mechanize.pm line 2598
	WWW::Mechanize::_make_request(Test::WWW::Mechanize::PSGI=HASH(0x7f8a5a61a9d8), HTTP::Request=HASH(0x7f8a5a802f60)) called at /Users/petr/.cpan/build/WWW-Mechanize-1.75-vl4S65/blib/lib/WWW/Mechanize.pm line 2312
	WWW::Mechanize::request(Test::WWW::Mechanize::PSGI=HASH(0x7f8a5a61a9d8), HTTP::Request=HASH(0x7f8a5a802f60)) called at /Users/petr/perl5/perlbrew/perls/perl-5.22.0/lib/site_perl/5.22.0/LWP/UserAgent.pm line 411
	LWP::UserAgent::get(Test::WWW::Mechanize::PSGI=HASH(0x7f8a5a61a9d8), "http://localhost/wishlist") called at /Users/petr/.cpan/build/WWW-Mechanize-1.75-vl4S65/blib/lib/WWW/Mechanize.pm line 407
	WWW::Mechanize::get(Test::WWW::Mechanize::PSGI=HASH(0x7f8a5a61a9d8), "/wishlist") called at /Users/petr/.cpan/build/Test-WWW-Mechanize-1.44-H1Tb2Y/blib/lib/Test/WWW/Mechanize.pm line 159
	Test::WWW::Mechanize::get_ok(Test::WWW::Mechanize::PSGI=HASH(0x7f8a5a61a9d8), "/wishlist") called at t/03_mech.t line 76
Secret string too short at /Users/petr/.cpan/build/HTTP-Session2-1.09-qFpuPO/blib/lib/HTTP/Session2/Base.pm line 79.
	HTTP::Session2::Base::__ANON__(HTTP::Session2::ServerStore=HASH(0x7f8a5b004118), "s3cret") called at t/03_mech.t line 121
	main::server_session(HASH(0x7f8a5b003e78)) called at t/03_mech.t line 17
	main::__ANON__(HASH(0x7f8a5b003e78)) called at /Users/petr/.cpan/build/Test-WWW-Mechanize-PSGI-0.35-qntC0i/blib/lib/Test/WWW/Mechanize/PSGI.pm line 39
	Test::WWW::Mechanize::PSGI::__ANON__() called at /Users/petr/perl5/perlbrew/perls/perl-5.22.0/lib/site_perl/5.22.0/Try/Tiny.pm line 81
	eval {...} called at /Users/petr/perl5/perlbrew/perls/perl-5.22.0/lib/site_perl/5.22.0/Try/Tiny.pm line 72
	Try::Tiny::try(CODE(0x7f8a5b003fe0), Try::Tiny::Catch=REF(0x7f8a5a90e678)) called at /Users/petr/.cpan/build/Test-WWW-Mechanize-PSGI-0.35-qntC0i/blib/lib/Test/WWW/Mechanize/PSGI.pm line 46
	Test::WWW::Mechanize::PSGI::simple_request(Test::WWW::Mechanize::PSGI=HASH(0x7f8a5a61a9d8), HTTP::Request=HASH(0x7f8a5a8ae410), undef, undef) called at /Users/petr/perl5/perlbrew/perls/perl-5.22.0/lib/site_perl/5.22.0/LWP/UserAgent.pm line 282
	LWP::UserAgent::request(Test::WWW::Mechanize::PSGI=HASH(0x7f8a5a61a9d8), HTTP::Request=HASH(0x7f8a5a8ae410)) called at /Users/petr/.cpan/build/WWW-Mechanize-1.75-vl4S65/blib/lib/WWW/Mechanize.pm line 2598
	WWW::Mechanize::_make_request(Test::WWW::Mechanize::PSGI=HASH(0x7f8a5a61a9d8), HTTP::Request=HASH(0x7f8a5a8ae410)) called at /Users/petr/.cpan/build/WWW-Mechanize-1.75-vl4S65/blib/lib/WWW/Mechanize.pm line 2312
	WWW::Mechanize::request(Test::WWW::Mechanize::PSGI=HASH(0x7f8a5a61a9d8), HTTP::Request=HASH(0x7f8a5a8ae410)) called at /Users/petr/perl5/perlbrew/perls/perl-5.22.0/lib/site_perl/5.22.0/LWP/UserAgent.pm line 419
	LWP::UserAgent::post(Test::WWW::Mechanize::PSGI=HASH(0x7f8a5a61a9d8), "/wishlist?bar") called at t/03_mech.t line 78
Secret string too short at /Users/petr/.cpan/build/HTTP-Session2-1.09-qFpuPO/blib/lib/HTTP/Session2/Base.pm line 79.
	HTTP::Session2::Base::__ANON__(HTTP::Session2::ServerStore=HASH(0x7f8a5b004598), "s3cret") called at t/03_mech.t line 121
	main::server_session(HASH(0x7f8a5b004370)) called at t/03_mech.t line 17
	main::__ANON__(HASH(0x7f8a5b004370)) called at /Users/petr/.cpan/build/Test-WWW-Mechanize-PSGI-0.35-qntC0i/blib/lib/Test/WWW/Mechanize/PSGI.pm line 39
	Test::WWW::Mechanize::PSGI::__ANON__() called at /Users/petr/perl5/perlbrew/perls/perl-5.22.0/lib/site_perl/5.22.0/Try/Tiny.pm line 81
	eval {...} called at /Users/petr/perl5/perlbrew/perls/perl-5.22.0/lib/site_perl/5.22.0/Try/Tiny.pm line 72
	Try::Tiny::try(CODE(0x7f8a5a90e7b0), Try::Tiny::Catch=REF(0x7f8a5b003ea8)) called at /Users/petr/.cpan/build/Test-WWW-Mechanize-PSGI-0.35-qntC0i/blib/lib/Test/WWW/Mechanize/PSGI.pm line 46
	Test::WWW::Mechanize::PSGI::simple_request(Test::WWW::Mechanize::PSGI=HASH(0x7f8a5a61a9d8), HTTP::Request=HASH(0x7f8a5a90e990), undef, undef) called at /Users/petr/perl5/perlbrew/perls/perl-5.22.0/lib/site_perl/5.22.0/LWP/UserAgent.pm line 282
	LWP::UserAgent::request(Test::WWW::Mechanize::PSGI=HASH(0x7f8a5a61a9d8), HTTP::Request=HASH(0x7f8a5a90e990)) called at /Users/petr/.cpan/build/WWW-Mechanize-1.75-vl4S65/blib/lib/WWW/Mechanize.pm line 2598
	WWW::Mechanize::_make_request(Test::WWW::Mechanize::PSGI=HASH(0x7f8a5a61a9d8), HTTP::Request=HASH(0x7f8a5a90e990)) called at /Users/petr/.cpan/build/WWW-Mechanize-1.75-vl4S65/blib/lib/WWW/Mechanize.pm line 2312
	WWW::Mechanize::request(Test::WWW::Mechanize::PSGI=HASH(0x7f8a5a61a9d8), HTTP::Request=HASH(0x7f8a5a90e990)) called at /Users/petr/perl5/perlbrew/perls/perl-5.22.0/lib/site_perl/5.22.0/LWP/UserAgent.pm line 419
	LWP::UserAgent::post(Test::WWW::Mechanize::PSGI=HASH(0x7f8a5a61a9d8), "/wishlist?bar", HASH(0x7f8a5a57dad8)) called at /Users/petr/.cpan/build/Test-WWW-Mechanize-1.44-H1Tb2Y/blib/lib/Test/WWW/Mechanize.pm line 236
	Test::WWW::Mechanize::post_ok(Test::WWW::Mechanize::PSGI=HASH(0x7f8a5a61a9d8), "/wishlist?bar") called at t/03_mech.t line 81
Secret string too short at /Users/petr/.cpan/build/HTTP-Session2-1.09-qFpuPO/blib/lib/HTTP/Session2/Base.pm line 79.
	HTTP::Session2::Base::__ANON__(HTTP::Session2::ServerStore=HASH(0x7f8a5b004aa8), "s3cret") called at t/03_mech.t line 121
	main::server_session(HASH(0x7f8a5b003f98)) called at t/03_mech.t line 17
	main::__ANON__(HASH(0x7f8a5b003f98)) called at /Users/petr/.cpan/build/Test-WWW-Mechanize-PSGI-0.35-qntC0i/blib/lib/Test/WWW/Mechanize/PSGI.pm line 39
	Test::WWW::Mechanize::PSGI::__ANON__() called at /Users/petr/perl5/perlbrew/perls/perl-5.22.0/lib/site_perl/5.22.0/Try/Tiny.pm line 81
	eval {...} called at /Users/petr/perl5/perlbrew/perls/perl-5.22.0/lib/site_perl/5.22.0/Try/Tiny.pm line 72
	Try::Tiny::try(CODE(0x7f8a5b004178), Try::Tiny::Catch=REF(0x7f8a5b003f80)) called at /Users/petr/.cpan/build/Test-WWW-Mechanize-PSGI-0.35-qntC0i/blib/lib/Test/WWW/Mechanize/PSGI.pm line 46
	Test::WWW::Mechanize::PSGI::simple_request(Test::WWW::Mechanize::PSGI=HASH(0x7f8a5a61a9d8), HTTP::Request=HASH(0x7f8a5b0040d0), undef, undef) called at /Users/petr/perl5/perlbrew/perls/perl-5.22.0/lib/site_perl/5.22.0/LWP/UserAgent.pm line 282
	LWP::UserAgent::request(Test::WWW::Mechanize::PSGI=HASH(0x7f8a5a61a9d8), HTTP::Request=HASH(0x7f8a5b0040d0)) called at /Users/petr/.cpan/build/WWW-Mechanize-1.75-vl4S65/blib/lib/WWW/Mechanize.pm line 2598
	WWW::Mechanize::_make_request(Test::WWW::Mechanize::PSGI=HASH(0x7f8a5a61a9d8), HTTP::Request=HASH(0x7f8a5b0040d0)) called at /Users/petr/.cpan/build/WWW-Mechanize-1.75-vl4S65/blib/lib/WWW/Mechanize.pm line 2312
	WWW::Mechanize::request(Test::WWW::Mechanize::PSGI=HASH(0x7f8a5a61a9d8), HTTP::Request=HASH(0x7f8a5b0040d0)) called at /Users/petr/perl5/perlbrew/perls/perl-5.22.0/lib/site_perl/5.22.0/LWP/UserAgent.pm line 411
	LWP::UserAgent::get(Test::WWW::Mechanize::PSGI=HASH(0x7f8a5a61a9d8), "http://localhost/wishlist") called at /Users/petr/.cpan/build/WWW-Mechanize-1.75-vl4S65/blib/lib/WWW/Mechanize.pm line 407
	WWW::Mechanize::get(Test::WWW::Mechanize::PSGI=HASH(0x7f8a5a61a9d8), "/wishlist") called at /Users/petr/.cpan/build/Test-WWW-Mechanize-1.44-H1Tb2Y/blib/lib/Test/WWW/Mechanize.pm line 159
	Test::WWW::Mechanize::get_ok(Test::WWW::Mechanize::PSGI=HASH(0x7f8a5a61a9d8), "/wishlist") called at t/03_mech.t line 82
Secret string too short at /Users/petr/.cpan/build/HTTP-Session2-1.09-qFpuPO/blib/lib/HTTP/Session2/Base.pm line 79.
	HTTP::Session2::Base::__ANON__(HTTP::Session2::ServerStore=HASH(0x7f8a5b006b38), "s3cret") called at t/03_mech.t line 121
	main::server_session(HASH(0x7f8a5b0047f0)) called at t/03_mech.t line 17
	main::__ANON__(HASH(0x7f8a5b0047f0)) called at /Users/petr/.cpan/build/Test-WWW-Mechanize-PSGI-0.35-qntC0i/blib/lib/Test/WWW/Mechanize/PSGI.pm line 39
	Test::WWW::Mechanize::PSGI::__ANON__() called at /Users/petr/perl5/perlbrew/perls/perl-5.22.0/lib/site_perl/5.22.0/Try/Tiny.pm line 81
	eval {...} called at /Users/petr/perl5/perlbrew/perls/perl-5.22.0/lib/site_perl/5.22.0/Try/Tiny.pm line 72
	Try::Tiny::try(CODE(0x7f8a5b004910), Try::Tiny::Catch=REF(0x7f8a5b004718)) called at /Users/petr/.cpan/build/Test-WWW-Mechanize-PSGI-0.35-qntC0i/blib/lib/Test/WWW/Mechanize/PSGI.pm line 46
	Test::WWW::Mechanize::PSGI::simple_request(Test::WWW::Mechanize::PSGI=HASH(0x7f8a5a61a9d8), HTTP::Request=HASH(0x7f8a5b004a48), undef, undef) called at /Users/petr/perl5/perlbrew/perls/perl-5.22.0/lib/site_perl/5.22.0/LWP/UserAgent.pm line 282
	LWP::UserAgent::request(Test::WWW::Mechanize::PSGI=HASH(0x7f8a5a61a9d8), HTTP::Request=HASH(0x7f8a5b004a48)) called at /Users/petr/.cpan/build/WWW-Mechanize-1.75-vl4S65/blib/lib/WWW/Mechanize.pm line 2598
	WWW::Mechanize::_make_request(Test::WWW::Mechanize::PSGI=HASH(0x7f8a5a61a9d8), HTTP::Request=HASH(0x7f8a5b004a48)) called at /Users/petr/.cpan/build/WWW-Mechanize-1.75-vl4S65/blib/lib/WWW/Mechanize.pm line 2312
	WWW::Mechanize::request(Test::WWW::Mechanize::PSGI=HASH(0x7f8a5a61a9d8), HTTP::Request=HASH(0x7f8a5b004a48)) called at /Users/petr/perl5/perlbrew/perls/perl-5.22.0/lib/site_perl/5.22.0/LWP/UserAgent.pm line 419
	LWP::UserAgent::post(Test::WWW::Mechanize::PSGI=HASH(0x7f8a5a61a9d8), "/account/login?john", HASH(0x7f8a5a57dad8)) called at /Users/petr/.cpan/build/Test-WWW-Mechanize-1.44-H1Tb2Y/blib/lib/Test/WWW/Mechanize.pm line 236
	Test::WWW::Mechanize::post_ok(Test::WWW::Mechanize::PSGI=HASH(0x7f8a5a61a9d8), "/account/login?john") called at t/03_mech.t line 84
Secret string too short at /Users/petr/.cpan/build/HTTP-Session2-1.09-qFpuPO/blib/lib/HTTP/Session2/Base.pm line 79.
	HTTP::Session2::Base::__ANON__(HTTP::Session2::ServerStore=HASH(0x7f8a5b006d60), "s3cret") called at t/03_mech.t line 121
	main::server_session(HASH(0x7f8a5b004c28)) called at t/03_mech.t line 17
	main::__ANON__(HASH(0x7f8a5b004c28)) called at /Users/petr/.cpan/build/Test-WWW-Mechanize-PSGI-0.35-qntC0i/blib/lib/Test/WWW/Mechanize/PSGI.pm line 39
	Test::WWW::Mechanize::PSGI::__ANON__() called at /Users/petr/perl5/perlbrew/perls/perl-5.22.0/lib/site_perl/5.22.0/Try/Tiny.pm line 81
	eval {...} called at /Users/petr/perl5/perlbrew/perls/perl-5.22.0/lib/site_perl/5.22.0/Try/Tiny.pm line 72
	Try::Tiny::try(CODE(0x7f8a5b006fd0), Try::Tiny::Catch=REF(0x7f8a5b004d30)) called at /Users/petr/.cpan/build/Test-WWW-Mechanize-PSGI-0.35-qntC0i/blib/lib/Test/WWW/Mechanize/PSGI.pm line 46
	Test::WWW::Mechanize::PSGI::simple_request(Test::WWW::Mechanize::PSGI=HASH(0x7f8a5a61a9d8), HTTP::Request=HASH(0x7f8a5b0049e8), undef, undef) called at /Users/petr/perl5/perlbrew/perls/perl-5.22.0/lib/site_perl/5.22.0/LWP/UserAgent.pm line 282
	LWP::UserAgent::request(Test::WWW::Mechanize::PSGI=HASH(0x7f8a5a61a9d8), HTTP::Request=HASH(0x7f8a5b0049e8)) called at /Users/petr/.cpan/build/WWW-Mechanize-1.75-vl4S65/blib/lib/WWW/Mechanize.pm line 2598
	WWW::Mechanize::_make_request(Test::WWW::Mechanize::PSGI=HASH(0x7f8a5a61a9d8), HTTP::Request=HASH(0x7f8a5b0049e8)) called at /Users/petr/.cpan/build/WWW-Mechanize-1.75-vl4S65/blib/lib/WWW/Mechanize.pm line 2312
	WWW::Mechanize::request(Test::WWW::Mechanize::PSGI=HASH(0x7f8a5a61a9d8), HTTP::Request=HASH(0x7f8a5b0049e8)) called at /Users/petr/perl5/perlbrew/perls/perl-5.22.0/lib/site_perl/5.22.0/LWP/UserAgent.pm line 411
	LWP::UserAgent::get(Test::WWW::Mechanize::PSGI=HASH(0x7f8a5a61a9d8), "http://localhost/wishlist") called at /Users/petr/.cpan/build/WWW-Mechanize-1.75-vl4S65/blib/lib/WWW/Mechanize.pm line 407
	WWW::Mechanize::get(Test::WWW::Mechanize::PSGI=HASH(0x7f8a5a61a9d8), "/wishlist") called at /Users/petr/.cpan/build/Test-WWW-Mechanize-1.44-H1Tb2Y/blib/lib/Test/WWW/Mechanize.pm line 159
	Test::WWW::Mechanize::get_ok(Test::WWW::Mechanize::PSGI=HASH(0x7f8a5a61a9d8), "/wishlist", "Wishlist is still available") called at t/03_mech.t line 85
Secret string too short at /Users/petr/.cpan/build/HTTP-Session2-1.09-qFpuPO/blib/lib/HTTP/Session2/Base.pm line 79.
	HTTP::Session2::Base::__ANON__(HTTP::Session2::ServerStore=HASH(0x7f8a5b0074f8), "s3cret") called at t/03_mech.t line 121
	main::server_session(HASH(0x7f8a5b006f10)) called at t/03_mech.t line 17
	main::__ANON__(HASH(0x7f8a5b006f10)) called at /Users/petr/.cpan/build/Test-WWW-Mechanize-PSGI-0.35-qntC0i/blib/lib/Test/WWW/Mechanize/PSGI.pm line 39
	Test::WWW::Mechanize::PSGI::__ANON__() called at /Users/petr/perl5/perlbrew/perls/perl-5.22.0/lib/site_perl/5.22.0/Try/Tiny.pm line 81
	eval {...} called at /Users/petr/perl5/perlbrew/perls/perl-5.22.0/lib/site_perl/5.22.0/Try/Tiny.pm line 72
	Try::Tiny::try(CODE(0x7f8a5b007060), Try::Tiny::Catch=REF(0x7f8a5b006da8)) called at /Users/petr/.cpan/build/Test-WWW-Mechanize-PSGI-0.35-qntC0i/blib/lib/Test/WWW/Mechanize/PSGI.pm line 46
	Test::WWW::Mechanize::PSGI::simple_request(Test::WWW::Mechanize::PSGI=HASH(0x7f8a5a61a9d8), HTTP::Request=HASH(0x7f8a5b004190), undef, undef) called at /Users/petr/perl5/perlbrew/perls/perl-5.22.0/lib/site_perl/5.22.0/LWP/UserAgent.pm line 282
	LWP::UserAgent::request(Test::WWW::Mechanize::PSGI=HASH(0x7f8a5a61a9d8), HTTP::Request=HASH(0x7f8a5b004190)) called at /Users/petr/.cpan/build/WWW-Mechanize-1.75-vl4S65/blib/lib/WWW/Mechanize.pm line 2598
	WWW::Mechanize::_make_request(Test::WWW::Mechanize::PSGI=HASH(0x7f8a5a61a9d8), HTTP::Request=HASH(0x7f8a5b004190)) called at /Users/petr/.cpan/build/WWW-Mechanize-1.75-vl4S65/blib/lib/WWW/Mechanize.pm line 2312
	WWW::Mechanize::request(Test::WWW::Mechanize::PSGI=HASH(0x7f8a5a61a9d8), HTTP::Request=HASH(0x7f8a5b004190)) called at /Users/petr/perl5/perlbrew/perls/perl-5.22.0/lib/site_perl/5.22.0/LWP/UserAgent.pm line 419
	LWP::UserAgent::post(Test::WWW::Mechanize::PSGI=HASH(0x7f8a5a61a9d8), "/wishlist?baz") called at t/03_mech.t line 87
Secret string too short at /Users/petr/.cpan/build/HTTP-Session2-1.09-qFpuPO/blib/lib/HTTP/Session2/Base.pm line 79.
	HTTP::Session2::Base::__ANON__(HTTP::Session2::ServerStore=HASH(0x7f8a5b007930), "s3cret") called at t/03_mech.t line 121
	main::server_session(HASH(0x7f8a5a9047e0)) called at t/03_mech.t line 17
	main::__ANON__(HASH(0x7f8a5a9047e0)) called at /Users/petr/.cpan/build/Test-WWW-Mechanize-PSGI-0.35-qntC0i/blib/lib/Test/WWW/Mechanize/PSGI.pm line 39
	Test::WWW::Mechanize::PSGI::__ANON__() called at /Users/petr/perl5/perlbrew/perls/perl-5.22.0/lib/site_perl/5.22.0/Try/Tiny.pm line 81
	eval {...} called at /Users/petr/perl5/perlbrew/perls/perl-5.22.0/lib/site_perl/5.22.0/Try/Tiny.pm line 72
	Try::Tiny::try(CODE(0x7f8a5b0071b0), Try::Tiny::Catch=REF(0x7f8a5b007348)) called at /Users/petr/.cpan/build/Test-WWW-Mechanize-PSGI-0.35-qntC0i/blib/lib/Test/WWW/Mechanize/PSGI.pm line 46
	Test::WWW::Mechanize::PSGI::simple_request(Test::WWW::Mechanize::PSGI=HASH(0x7f8a5a61a9d8), HTTP::Request=HASH(0x7f8a5b006cd0), undef, undef) called at /Users/petr/perl5/perlbrew/perls/perl-5.22.0/lib/site_perl/5.22.0/LWP/UserAgent.pm line 282
	LWP::UserAgent::request(Test::WWW::Mechanize::PSGI=HASH(0x7f8a5a61a9d8), HTTP::Request=HASH(0x7f8a5b006cd0)) called at /Users/petr/.cpan/build/WWW-Mechanize-1.75-vl4S65/blib/lib/WWW/Mechanize.pm line 2598
	WWW::Mechanize::_make_request(Test::WWW::Mechanize::PSGI=HASH(0x7f8a5a61a9d8), HTTP::Request=HASH(0x7f8a5b006cd0)) called at /Users/petr/.cpan/build/WWW-Mechanize-1.75-vl4S65/blib/lib/WWW/Mechanize.pm line 2312
	WWW::Mechanize::request(Test::WWW::Mechanize::PSGI=HASH(0x7f8a5a61a9d8), HTTP::Request=HASH(0x7f8a5b006cd0)) called at /Users/petr/perl5/perlbrew/perls/perl-5.22.0/lib/site_perl/5.22.0/LWP/UserAgent.pm line 419
	LWP::UserAgent::post(Test::WWW::Mechanize::PSGI=HASH(0x7f8a5a61a9d8), "/wishlist?baz", HASH(0x7f8a5a57dad8)) called at /Users/petr/.cpan/build/Test-WWW-Mechanize-1.44-H1Tb2Y/blib/lib/Test/WWW/Mechanize.pm line 236
	Test::WWW::Mechanize::post_ok(Test::WWW::Mechanize::PSGI=HASH(0x7f8a5a61a9d8), "/wishlist?baz") called at t/03_mech.t line 90
Secret string too short at /Users/petr/.cpan/build/HTTP-Session2-1.09-qFpuPO/blib/lib/HTTP/Session2/Base.pm line 79.
	HTTP::Session2::Base::__ANON__(HTTP::Session2::ServerStore=HASH(0x7f8a5b00a8c8), "s3cret") called at t/03_mech.t line 121
	main::server_session(HASH(0x7f8a5b006bc8)) called at t/03_mech.t line 17
	main::__ANON__(HASH(0x7f8a5b006bc8)) called at /Users/petr/.cpan/build/Test-WWW-Mechanize-PSGI-0.35-qntC0i/blib/lib/Test/WWW/Mechanize/PSGI.pm line 39
	Test::WWW::Mechanize::PSGI::__ANON__() called at /Users/petr/perl5/perlbrew/perls/perl-5.22.0/lib/site_perl/5.22.0/Try/Tiny.pm line 81
	eval {...} called at /Users/petr/perl5/perlbrew/perls/perl-5.22.0/lib/site_perl/5.22.0/Try/Tiny.pm line 72
	Try::Tiny::try(CODE(0x7f8a5b0077e0), Try::Tiny::Catch=REF(0x7f8a5b007618)) called at /Users/petr/.cpan/build/Test-WWW-Mechanize-PSGI-0.35-qntC0i/blib/lib/Test/WWW/Mechanize/PSGI.pm line 46
	Test::WWW::Mechanize::PSGI::simple_request(Test::WWW::Mechanize::PSGI=HASH(0x7f8a5a61a9d8), HTTP::Request=HASH(0x7f8a5b007378), undef, undef) called at /Users/petr/perl5/perlbrew/perls/perl-5.22.0/lib/site_perl/5.22.0/LWP/UserAgent.pm line 282
	LWP::UserAgent::request(Test::WWW::Mechanize::PSGI=HASH(0x7f8a5a61a9d8), HTTP::Request=HASH(0x7f8a5b007378)) called at /Users/petr/.cpan/build/WWW-Mechanize-1.75-vl4S65/blib/lib/WWW/Mechanize.pm line 2598
	WWW::Mechanize::_make_request(Test::WWW::Mechanize::PSGI=HASH(0x7f8a5a61a9d8), HTTP::Request=HASH(0x7f8a5b007378)) called at /Users/petr/.cpan/build/WWW-Mechanize-1.75-vl4S65/blib/lib/WWW/Mechanize.pm line 2312
	WWW::Mechanize::request(Test::WWW::Mechanize::PSGI=HASH(0x7f8a5a61a9d8), HTTP::Request=HASH(0x7f8a5b007378)) called at /Users/petr/perl5/perlbrew/perls/perl-5.22.0/lib/site_perl/5.22.0/LWP/UserAgent.pm line 411
	LWP::UserAgent::get(Test::WWW::Mechanize::PSGI=HASH(0x7f8a5a61a9d8), "http://localhost/wishlist") called at /Users/petr/.cpan/build/WWW-Mechanize-1.75-vl4S65/blib/lib/WWW/Mechanize.pm line 407
	WWW::Mechanize::get(Test::WWW::Mechanize::PSGI=HASH(0x7f8a5a61a9d8), "/wishlist") called at /Users/petr/.cpan/build/Test-WWW-Mechanize-1.44-H1Tb2Y/blib/lib/Test/WWW/Mechanize.pm line 159
	Test::WWW::Mechanize::get_ok(Test::WWW::Mechanize::PSGI=HASH(0x7f8a5a61a9d8), "/wishlist", "Wishlist is still available") called at t/03_mech.t line 91
Secret string too short at /Users/petr/.cpan/build/HTTP-Session2-1.09-qFpuPO/blib/lib/HTTP/Session2/Base.pm line 79.
	HTTP::Session2::Base::__ANON__(HTTP::Session2::ServerStore=HASH(0x7f8a5b00add8), "s3cret") called at t/03_mech.t line 121
	main::server_session(HASH(0x7f8a5b00a418)) called at t/03_mech.t line 17
	main::__ANON__(HASH(0x7f8a5b00a418)) called at /Users/petr/.cpan/build/Test-WWW-Mechanize-PSGI-0.35-qntC0i/blib/lib/Test/WWW/Mechanize/PSGI.pm line 39
	Test::WWW::Mechanize::PSGI::__ANON__() called at /Users/petr/perl5/perlbrew/perls/perl-5.22.0/lib/site_perl/5.22.0/Try/Tiny.pm line 81
	eval {...} called at /Users/petr/perl5/perlbrew/perls/perl-5.22.0/lib/site_perl/5.22.0/Try/Tiny.pm line 72
	Try::Tiny::try(CODE(0x7f8a5b007210), Try::Tiny::Catch=REF(0x7f8a5b00a4c0)) called at /Users/petr/.cpan/build/Test-WWW-Mechanize-PSGI-0.35-qntC0i/blib/lib/Test/WWW/Mechanize/PSGI.pm line 46
	Test::WWW::Mechanize::PSGI::simple_request(Test::WWW::Mechanize::PSGI=HASH(0x7f8a5a61a9d8), HTTP::Request=HASH(0x7f8a5b00a5c8), undef, undef) called at /Users/petr/perl5/perlbrew/perls/perl-5.22.0/lib/site_perl/5.22.0/LWP/UserAgent.pm line 282
	LWP::UserAgent::request(Test::WWW::Mechanize::PSGI=HASH(0x7f8a5a61a9d8), HTTP::Request=HASH(0x7f8a5b00a5c8)) called at /Users/petr/.cpan/build/WWW-Mechanize-1.75-vl4S65/blib/lib/WWW/Mechanize.pm line 2598
	WWW::Mechanize::_make_request(Test::WWW::Mechanize::PSGI=HASH(0x7f8a5a61a9d8), HTTP::Request=HASH(0x7f8a5b00a5c8)) called at /Users/petr/.cpan/build/WWW-Mechanize-1.75-vl4S65/blib/lib/WWW/Mechanize.pm line 2312
	WWW::Mechanize::request(Test::WWW::Mechanize::PSGI=HASH(0x7f8a5a61a9d8), HTTP::Request=HASH(0x7f8a5b00a5c8)) called at /Users/petr/perl5/perlbrew/perls/perl-5.22.0/lib/site_perl/5.22.0/LWP/UserAgent.pm line 411
	LWP::UserAgent::get(Test::WWW::Mechanize::PSGI=HASH(0x7f8a5a61a9d8), "http://localhost/my/name") called at /Users/petr/.cpan/build/WWW-Mechanize-1.75-vl4S65/blib/lib/WWW/Mechanize.pm line 407
	WWW::Mechanize::get(Test::WWW::Mechanize::PSGI=HASH(0x7f8a5a61a9d8), "/my/name") called at /Users/petr/.cpan/build/Test-WWW-Mechanize-1.44-H1Tb2Y/blib/lib/Test/WWW/Mechanize.pm line 159
	Test::WWW::Mechanize::get_ok(Test::WWW::Mechanize::PSGI=HASH(0x7f8a5a61a9d8), "/my/name") called at t/03_mech.t line 93
Secret string too short at /Users/petr/.cpan/build/HTTP-Session2-1.09-qFpuPO/blib/lib/HTTP/Session2/Base.pm line 79.
	HTTP::Session2::Base::__ANON__(HTTP::Session2::ServerStore=HASH(0x7f8a5b00b2a0), "s3cret") called at t/03_mech.t line 121
	main::server_session(HASH(0x7f8a5b00b0c0)) called at t/03_mech.t line 17
	main::__ANON__(HASH(0x7f8a5b00b0c0)) called at /Users/petr/.cpan/build/Test-WWW-Mechanize-PSGI-0.35-qntC0i/blib/lib/Test/WWW/Mechanize/PSGI.pm line 39
	Test::WWW::Mechanize::PSGI::__ANON__() called at /Users/petr/perl5/perlbrew/perls/perl-5.22.0/lib/site_perl/5.22.0/Try/Tiny.pm line 81
	eval {...} called at /Users/petr/perl5/perlbrew/perls/perl-5.22.0/lib/site_perl/5.22.0/Try/Tiny.pm line 72
	Try::Tiny::try(CODE(0x7f8a5b00afd0), Try::Tiny::Catch=REF(0x7f8a5b00ab38)) called at /Users/petr/.cpan/build/Test-WWW-Mechanize-PSGI-0.35-qntC0i/blib/lib/Test/WWW/Mechanize/PSGI.pm line 46
	Test::WWW::Mechanize::PSGI::simple_request(Test::WWW::Mechanize::PSGI=HASH(0x7f8a5a61a9d8), HTTP::Request=HASH(0x7f8a5b007990), undef, undef) called at /Users/petr/perl5/perlbrew/perls/perl-5.22.0/lib/site_perl/5.22.0/LWP/UserAgent.pm line 282
	LWP::UserAgent::request(Test::WWW::Mechanize::PSGI=HASH(0x7f8a5a61a9d8), HTTP::Request=HASH(0x7f8a5b007990)) called at /Users/petr/.cpan/build/WWW-Mechanize-1.75-vl4S65/blib/lib/WWW/Mechanize.pm line 2598
	WWW::Mechanize::_make_request(Test::WWW::Mechanize::PSGI=HASH(0x7f8a5a61a9d8), HTTP::Request=HASH(0x7f8a5b007990)) called at /Users/petr/.cpan/build/WWW-Mechanize-1.75-vl4S65/blib/lib/WWW/Mechanize.pm line 2312
	WWW::Mechanize::request(Test::WWW::Mechanize::PSGI=HASH(0x7f8a5a61a9d8), HTTP::Request=HASH(0x7f8a5b007990)) called at /Users/petr/perl5/perlbrew/perls/perl-5.22.0/lib/site_perl/5.22.0/LWP/UserAgent.pm line 419
	LWP::UserAgent::post(Test::WWW::Mechanize::PSGI=HASH(0x7f8a5a61a9d8), "/account/logout?john") called at t/03_mech.t line 97
Secret string too short at /Users/petr/.cpan/build/HTTP-Session2-1.09-qFpuPO/blib/lib/HTTP/Session2/Base.pm line 79.
	HTTP::Session2::Base::__ANON__(HTTP::Session2::ClientStore=HASH(0x7f8a5a90e9d8), "s3cret") called at t/03_mech.t line 127
	main::client_session(HASH(0x7f8a5b00b1f8)) called at t/03_mech.t line 17
	main::__ANON__(HASH(0x7f8a5b00b1f8)) called at /Users/petr/.cpan/build/Test-WWW-Mechanize-PSGI-0.35-qntC0i/blib/lib/Test/WWW/Mechanize/PSGI.pm line 39
	Test::WWW::Mechanize::PSGI::__ANON__() called at /Users/petr/perl5/perlbrew/perls/perl-5.22.0/lib/site_perl/5.22.0/Try/Tiny.pm line 81
	eval {...} called at /Users/petr/perl5/perlbrew/perls/perl-5.22.0/lib/site_perl/5.22.0/Try/Tiny.pm line 72
	Try::Tiny::try(CODE(0x7f8a5a90e5d0), Try::Tiny::Catch=REF(0x7f8a5b00b2b8)) called at /Users/petr/.cpan/build/Test-WWW-Mechanize-PSGI-0.35-qntC0i/blib/lib/Test/WWW/Mechanize/PSGI.pm line 46
	Test::WWW::Mechanize::PSGI::simple_request(Test::WWW::Mechanize::PSGI=HASH(0x7f8a5a8a0848), HTTP::Request=HASH(0x7f8a5a8029c0), undef, undef) called at /Users/petr/perl5/perlbrew/perls/perl-5.22.0/lib/site_perl/5.22.0/LWP/UserAgent.pm line 282
	LWP::UserAgent::request(Test::WWW::Mechanize::PSGI=HASH(0x7f8a5a8a0848), HTTP::Request=HASH(0x7f8a5a8029c0)) called at /Users/petr/.cpan/build/WWW-Mechanize-1.75-vl4S65/blib/lib/WWW/Mechanize.pm line 2598
	WWW::Mechanize::_make_request(Test::WWW::Mechanize::PSGI=HASH(0x7f8a5a8a0848), HTTP::Request=HASH(0x7f8a5a8029c0)) called at /Users/petr/.cpan/build/WWW-Mechanize-1.75-vl4S65/blib/lib/WWW/Mechanize.pm line 2312
	WWW::Mechanize::request(Test::WWW::Mechanize::PSGI=HASH(0x7f8a5a8a0848), HTTP::Request=HASH(0x7f8a5a8029c0)) called at /Users/petr/perl5/perlbrew/perls/perl-5.22.0/lib/site_perl/5.22.0/LWP/UserAgent.pm line 411
	LWP::UserAgent::get(Test::WWW::Mechanize::PSGI=HASH(0x7f8a5a8a0848), "/") called at /Users/petr/.cpan/build/WWW-Mechanize-1.75-vl4S65/blib/lib/WWW/Mechanize.pm line 407
	WWW::Mechanize::get(Test::WWW::Mechanize::PSGI=HASH(0x7f8a5a8a0848), "/") called at /Users/petr/.cpan/build/Test-WWW-Mechanize-1.44-H1Tb2Y/blib/lib/Test/WWW/Mechanize.pm line 159
	Test::WWW::Mechanize::get_ok(Test::WWW::Mechanize::PSGI=HASH(0x7f8a5a8a0848), "/") called at t/03_mech.t line 74
Secret string too short at /Users/petr/.cpan/build/HTTP-Session2-1.09-qFpuPO/blib/lib/HTTP/Session2/Base.pm line 79.
	HTTP::Session2::Base::__ANON__(HTTP::Session2::ClientStore=HASH(0x7f8a5b004808), "s3cret") called at t/03_mech.t line 127
	main::client_session(HASH(0x7f8a5b004a30)) called at t/03_mech.t line 17
	main::__ANON__(HASH(0x7f8a5b004a30)) called at /Users/petr/.cpan/build/Test-WWW-Mechanize-PSGI-0.35-qntC0i/blib/lib/Test/WWW/Mechanize/PSGI.pm line 39
	Test::WWW::Mechanize::PSGI::__ANON__() called at /Users/petr/perl5/perlbrew/perls/perl-5.22.0/lib/site_perl/5.22.0/Try/Tiny.pm line 81
	eval {...} called at /Users/petr/perl5/perlbrew/perls/perl-5.22.0/lib/site_perl/5.22.0/Try/Tiny.pm line 72
	Try::Tiny::try(CODE(0x7f8a5a90e870), Try::Tiny::Catch=REF(0x7f8a5a90e660)) called at /Users/petr/.cpan/build/Test-WWW-Mechanize-PSGI-0.35-qntC0i/blib/lib/Test/WWW/Mechanize/PSGI.pm line 46
	Test::WWW::Mechanize::PSGI::simple_request(Test::WWW::Mechanize::PSGI=HASH(0x7f8a5a8a0848), HTTP::Request=HASH(0x7f8a5a8ae740), undef, undef) called at /Users/petr/perl5/perlbrew/perls/perl-5.22.0/lib/site_perl/5.22.0/LWP/UserAgent.pm line 282
	LWP::UserAgent::request(Test::WWW::Mechanize::PSGI=HASH(0x7f8a5a8a0848), HTTP::Request=HASH(0x7f8a5a8ae740)) called at /Users/petr/.cpan/build/WWW-Mechanize-1.75-vl4S65/blib/lib/WWW/Mechanize.pm line 2598
	WWW::Mechanize::_make_request(Test::WWW::Mechanize::PSGI=HASH(0x7f8a5a8a0848), HTTP::Request=HASH(0x7f8a5a8ae740)) called at /Users/petr/.cpan/build/WWW-Mechanize-1.75-vl4S65/blib/lib/WWW/Mechanize.pm line 2312
	WWW::Mechanize::request(Test::WWW::Mechanize::PSGI=HASH(0x7f8a5a8a0848), HTTP::Request=HASH(0x7f8a5a8ae740)) called at /Users/petr/perl5/perlbrew/perls/perl-5.22.0/lib/site_perl/5.22.0/LWP/UserAgent.pm line 419
	LWP::UserAgent::post(Test::WWW::Mechanize::PSGI=HASH(0x7f8a5a8a0848), "/wishlist?foo", HASH(0x7f8a5a57dad8)) called at /Users/petr/.cpan/build/Test-WWW-Mechanize-1.44-H1Tb2Y/blib/lib/Test/WWW/Mechanize.pm line 236
	Test::WWW::Mechanize::post_ok(Test::WWW::Mechanize::PSGI=HASH(0x7f8a5a8a0848), "/wishlist?foo") called at t/03_mech.t line 75
Do not use HTTP::Session2::ClientStore. Use HTTP::Session2::ServerStore or HTTP::Session2::ClientStore2 instead. at /Users/petr/.cpan/build/HTTP-Session2-1.09-qFpuPO/blib/lib/HTTP/Session2/ClientStore.pm line 25.
Secret string too short at /Users/petr/.cpan/build/HTTP-Session2-1.09-qFpuPO/blib/lib/HTTP/Session2/Base.pm line 79.
	HTTP::Session2::Base::__ANON__(HTTP::Session2::ClientStore=HASH(0x7f8a5b006c10), "s3cret") called at t/03_mech.t line 127
	main::client_session(HASH(0x7f8a5b004268)) called at t/03_mech.t line 17
	main::__ANON__(HASH(0x7f8a5b004268)) called at /Users/petr/.cpan/build/Test-WWW-Mechanize-PSGI-0.35-qntC0i/blib/lib/Test/WWW/Mechanize/PSGI.pm line 39
	Test::WWW::Mechanize::PSGI::__ANON__() called at /Users/petr/perl5/perlbrew/perls/perl-5.22.0/lib/site_perl/5.22.0/Try/Tiny.pm line 81
	eval {...} called at /Users/petr/perl5/perlbrew/perls/perl-5.22.0/lib/site_perl/5.22.0/Try/Tiny.pm line 72
	Try::Tiny::try(CODE(0x7f8a5b004cb8), Try::Tiny::Catch=REF(0x7f8a5a90e678)) called at /Users/petr/.cpan/build/Test-WWW-Mechanize-PSGI-0.35-qntC0i/blib/lib/Test/WWW/Mechanize/PSGI.pm line 46
	Test::WWW::Mechanize::PSGI::simple_request(Test::WWW::Mechanize::PSGI=HASH(0x7f8a5a8a0848), HTTP::Request=HASH(0x7f8a5a802258), undef, undef) called at /Users/petr/perl5/perlbrew/perls/perl-5.22.0/lib/site_perl/5.22.0/LWP/UserAgent.pm line 282
	LWP::UserAgent::request(Test::WWW::Mechanize::PSGI=HASH(0x7f8a5a8a0848), HTTP::Request=HASH(0x7f8a5a802258)) called at /Users/petr/.cpan/build/WWW-Mechanize-1.75-vl4S65/blib/lib/WWW/Mechanize.pm line 2598
	WWW::Mechanize::_make_request(Test::WWW::Mechanize::PSGI=HASH(0x7f8a5a8a0848), HTTP::Request=HASH(0x7f8a5a802258)) called at /Users/petr/.cpan/build/WWW-Mechanize-1.75-vl4S65/blib/lib/WWW/Mechanize.pm line 2312
	WWW::Mechanize::request(Test::WWW::Mechanize::PSGI=HASH(0x7f8a5a8a0848), HTTP::Request=HASH(0x7f8a5a802258)) called at /Users/petr/perl5/perlbrew/perls/perl-5.22.0/lib/site_perl/5.22.0/LWP/UserAgent.pm line 411
	LWP::UserAgent::get(Test::WWW::Mechanize::PSGI=HASH(0x7f8a5a8a0848), "http://localhost/wishlist") called at /Users/petr/.cpan/build/WWW-Mechanize-1.75-vl4S65/blib/lib/WWW/Mechanize.pm line 407
	WWW::Mechanize::get(Test::WWW::Mechanize::PSGI=HASH(0x7f8a5a8a0848), "/wishlist") called at /Users/petr/.cpan/build/Test-WWW-Mechanize-1.44-H1Tb2Y/blib/lib/Test/WWW/Mechanize.pm line 159
	Test::WWW::Mechanize::get_ok(Test::WWW::Mechanize::PSGI=HASH(0x7f8a5a8a0848), "/wishlist") called at t/03_mech.t line 76
Do not use HTTP::Session2::ClientStore. Use HTTP::Session2::ServerStore or HTTP::Session2::ClientStore2 instead. at /Users/petr/.cpan/build/HTTP-Session2-1.09-qFpuPO/blib/lib/HTTP/Session2/ClientStore.pm line 35.
Secret string too short at /Users/petr/.cpan/build/HTTP-Session2-1.09-qFpuPO/blib/lib/HTTP/Session2/Base.pm line 79.
	HTTP::Session2::Base::__ANON__(HTTP::Session2::ClientStore=HASH(0x7f8a5b007558), "s3cret") called at t/03_mech.t line 127
	main::client_session(HASH(0x7f8a5a90e678)) called at t/03_mech.t line 17
	main::__ANON__(HASH(0x7f8a5a90e678)) called at /Users/petr/.cpan/build/Test-WWW-Mechanize-PSGI-0.35-qntC0i/blib/lib/Test/WWW/Mechanize/PSGI.pm line 39
	Test::WWW::Mechanize::PSGI::__ANON__() called at /Users/petr/perl5/perlbrew/perls/perl-5.22.0/lib/site_perl/5.22.0/Try/Tiny.pm line 81
	eval {...} called at /Users/petr/perl5/perlbrew/perls/perl-5.22.0/lib/site_perl/5.22.0/Try/Tiny.pm line 72
	Try::Tiny::try(CODE(0x7f8a5a8ae818), Try::Tiny::Catch=REF(0x7f8a5b004ca0)) called at /Users/petr/.cpan/build/Test-WWW-Mechanize-PSGI-0.35-qntC0i/blib/lib/Test/WWW/Mechanize/PSGI.pm line 46
	Test::WWW::Mechanize::PSGI::simple_request(Test::WWW::Mechanize::PSGI=HASH(0x7f8a5a8a0848), HTTP::Request=HASH(0x7f8a5b0048c8), undef, undef) called at /Users/petr/perl5/perlbrew/perls/perl-5.22.0/lib/site_perl/5.22.0/LWP/UserAgent.pm line 282
	LWP::UserAgent::request(Test::WWW::Mechanize::PSGI=HASH(0x7f8a5a8a0848), HTTP::Request=HASH(0x7f8a5b0048c8)) called at /Users/petr/.cpan/build/WWW-Mechanize-1.75-vl4S65/blib/lib/WWW/Mechanize.pm line 2598
	WWW::Mechanize::_make_request(Test::WWW::Mechanize::PSGI=HASH(0x7f8a5a8a0848), HTTP::Request=HASH(0x7f8a5b0048c8)) called at /Users/petr/.cpan/build/WWW-Mechanize-1.75-vl4S65/blib/lib/WWW/Mechanize.pm line 2312
	WWW::Mechanize::request(Test::WWW::Mechanize::PSGI=HASH(0x7f8a5a8a0848), HTTP::Request=HASH(0x7f8a5b0048c8)) called at /Users/petr/perl5/perlbrew/perls/perl-5.22.0/lib/site_perl/5.22.0/LWP/UserAgent.pm line 419
	LWP::UserAgent::post(Test::WWW::Mechanize::PSGI=HASH(0x7f8a5a8a0848), "/wishlist?bar") called at t/03_mech.t line 78
Do not use HTTP::Session2::ClientStore. Use HTTP::Session2::ServerStore or HTTP::Session2::ClientStore2 instead. at /Users/petr/.cpan/build/HTTP-Session2-1.09-qFpuPO/blib/lib/HTTP/Session2/ClientStore.pm line 35.
Secret string too short at /Users/petr/.cpan/build/HTTP-Session2-1.09-qFpuPO/blib/lib/HTTP/Session2/Base.pm line 79.
	HTTP::Session2::Base::__ANON__(HTTP::Session2::ClientStore=HASH(0x7f8a5b007120), "s3cret") called at t/03_mech.t line 127
	main::client_session(HASH(0x7f8a5a904570)) called at t/03_mech.t line 17
	main::__ANON__(HASH(0x7f8a5a904570)) called at /Users/petr/.cpan/build/Test-WWW-Mechanize-PSGI-0.35-qntC0i/blib/lib/Test/WWW/Mechanize/PSGI.pm line 39
	Test::WWW::Mechanize::PSGI::__ANON__() called at /Users/petr/perl5/perlbrew/perls/perl-5.22.0/lib/site_perl/5.22.0/Try/Tiny.pm line 81
	eval {...} called at /Users/petr/perl5/perlbrew/perls/perl-5.22.0/lib/site_perl/5.22.0/Try/Tiny.pm line 72
	Try::Tiny::try(CODE(0x7f8a5b004718), Try::Tiny::Catch=REF(0x7f8a5b0074b0)) called at /Users/petr/.cpan/build/Test-WWW-Mechanize-PSGI-0.35-qntC0i/blib/lib/Test/WWW/Mechanize/PSGI.pm line 46
	Test::WWW::Mechanize::PSGI::simple_request(Test::WWW::Mechanize::PSGI=HASH(0x7f8a5a8a0848), HTTP::Request=HASH(0x7f8a5b006c70), undef, undef) called at /Users/petr/perl5/perlbrew/perls/perl-5.22.0/lib/site_perl/5.22.0/LWP/UserAgent.pm line 282
	LWP::UserAgent::request(Test::WWW::Mechanize::PSGI=HASH(0x7f8a5a8a0848), HTTP::Request=HASH(0x7f8a5b006c70)) called at /Users/petr/.cpan/build/WWW-Mechanize-1.75-vl4S65/blib/lib/WWW/Mechanize.pm line 2598
	WWW::Mechanize::_make_request(Test::WWW::Mechanize::PSGI=HASH(0x7f8a5a8a0848), HTTP::Request=HASH(0x7f8a5b006c70)) called at /Users/petr/.cpan/build/WWW-Mechanize-1.75-vl4S65/blib/lib/WWW/Mechanize.pm line 2312
	WWW::Mechanize::request(Test::WWW::Mechanize::PSGI=HASH(0x7f8a5a8a0848), HTTP::Request=HASH(0x7f8a5b006c70)) called at /Users/petr/perl5/perlbrew/perls/perl-5.22.0/lib/site_perl/5.22.0/LWP/UserAgent.pm line 419
	LWP::UserAgent::post(Test::WWW::Mechanize::PSGI=HASH(0x7f8a5a8a0848), "/wishlist?bar", HASH(0x7f8a5a57dad8)) called at /Users/petr/.cpan/build/Test-WWW-Mechanize-1.44-H1Tb2Y/blib/lib/Test/WWW/Mechanize.pm line 236
	Test::WWW::Mechanize::post_ok(Test::WWW::Mechanize::PSGI=HASH(0x7f8a5a8a0848), "/wishlist?bar") called at t/03_mech.t line 81
Do not use HTTP::Session2::ClientStore. Use HTTP::Session2::ServerStore or HTTP::Session2::ClientStore2 instead. at /Users/petr/.cpan/build/HTTP-Session2-1.09-qFpuPO/blib/lib/HTTP/Session2/ClientStore.pm line 35.
Do not use HTTP::Session2::ClientStore. Use HTTP::Session2::ServerStore or HTTP::Session2::ClientStore2 instead. at /Users/petr/.cpan/build/HTTP-Session2-1.09-qFpuPO/blib/lib/HTTP/Session2/ClientStore.pm line 25.
Secret string too short at /Users/petr/.cpan/build/HTTP-Session2-1.09-qFpuPO/blib/lib/HTTP/Session2/Base.pm line 79.
	HTTP::Session2::Base::__ANON__(HTTP::Session2::ClientStore=HASH(0x7f8a5b0072a0), "s3cret") called at t/03_mech.t line 127
	main::client_session(HASH(0x7f8a5b007288)) called at t/03_mech.t line 17
	main::__ANON__(HASH(0x7f8a5b007288)) called at /Users/petr/.cpan/build/Test-WWW-Mechanize-PSGI-0.35-qntC0i/blib/lib/Test/WWW/Mechanize/PSGI.pm line 39
	Test::WWW::Mechanize::PSGI::__ANON__() called at /Users/petr/perl5/perlbrew/perls/perl-5.22.0/lib/site_perl/5.22.0/Try/Tiny.pm line 81
	eval {...} called at /Users/petr/perl5/perlbrew/perls/perl-5.22.0/lib/site_perl/5.22.0/Try/Tiny.pm line 72
	Try::Tiny::try(CODE(0x7f8a5b007720), Try::Tiny::Catch=REF(0x7f8a5b00a688)) called at /Users/petr/.cpan/build/Test-WWW-Mechanize-PSGI-0.35-qntC0i/blib/lib/Test/WWW/Mechanize/PSGI.pm line 46
	Test::WWW::Mechanize::PSGI::simple_request(Test::WWW::Mechanize::PSGI=HASH(0x7f8a5a8a0848), HTTP::Request=HASH(0x7f8a5a8ae9f8), undef, undef) called at /Users/petr/perl5/perlbrew/perls/perl-5.22.0/lib/site_perl/5.22.0/LWP/UserAgent.pm line 282
	LWP::UserAgent::request(Test::WWW::Mechanize::PSGI=HASH(0x7f8a5a8a0848), HTTP::Request=HASH(0x7f8a5a8ae9f8)) called at /Users/petr/.cpan/build/WWW-Mechanize-1.75-vl4S65/blib/lib/WWW/Mechanize.pm line 2598
	WWW::Mechanize::_make_request(Test::WWW::Mechanize::PSGI=HASH(0x7f8a5a8a0848), HTTP::Request=HASH(0x7f8a5a8ae9f8)) called at /Users/petr/.cpan/build/WWW-Mechanize-1.75-vl4S65/blib/lib/WWW/Mechanize.pm line 2312
	WWW::Mechanize::request(Test::WWW::Mechanize::PSGI=HASH(0x7f8a5a8a0848), HTTP::Request=HASH(0x7f8a5a8ae9f8)) called at /Users/petr/perl5/perlbrew/perls/perl-5.22.0/lib/site_perl/5.22.0/LWP/UserAgent.pm line 411
	LWP::UserAgent::get(Test::WWW::Mechanize::PSGI=HASH(0x7f8a5a8a0848), "http://localhost/wishlist") called at /Users/petr/.cpan/build/WWW-Mechanize-1.75-vl4S65/blib/lib/WWW/Mechanize.pm line 407
	WWW::Mechanize::get(Test::WWW::Mechanize::PSGI=HASH(0x7f8a5a8a0848), "/wishlist") called at /Users/petr/.cpan/build/Test-WWW-Mechanize-1.44-H1Tb2Y/blib/lib/Test/WWW/Mechanize.pm line 159
	Test::WWW::Mechanize::get_ok(Test::WWW::Mechanize::PSGI=HASH(0x7f8a5a8a0848), "/wishlist") called at t/03_mech.t line 82
Do not use HTTP::Session2::ClientStore. Use HTTP::Session2::ServerStore or HTTP::Session2::ClientStore2 instead. at /Users/petr/.cpan/build/HTTP-Session2-1.09-qFpuPO/blib/lib/HTTP/Session2/ClientStore.pm line 35.
Secret string too short at /Users/petr/.cpan/build/HTTP-Session2-1.09-qFpuPO/blib/lib/HTTP/Session2/Base.pm line 79.
	HTTP::Session2::Base::__ANON__(HTTP::Session2::ClientStore=HASH(0x7f8a5a802690), "s3cret") called at t/03_mech.t line 127
	main::client_session(HASH(0x7f8a5b00a8c8)) called at t/03_mech.t line 17
	main::__ANON__(HASH(0x7f8a5b00a8c8)) called at /Users/petr/.cpan/build/Test-WWW-Mechanize-PSGI-0.35-qntC0i/blib/lib/Test/WWW/Mechanize/PSGI.pm line 39
	Test::WWW::Mechanize::PSGI::__ANON__() called at /Users/petr/perl5/perlbrew/perls/perl-5.22.0/lib/site_perl/5.22.0/Try/Tiny.pm line 81
	eval {...} called at /Users/petr/perl5/perlbrew/perls/perl-5.22.0/lib/site_perl/5.22.0/Try/Tiny.pm line 72
	Try::Tiny::try(CODE(0x7f8a5b007090), Try::Tiny::Catch=REF(0x7f8a5b00a940)) called at /Users/petr/.cpan/build/Test-WWW-Mechanize-PSGI-0.35-qntC0i/blib/lib/Test/WWW/Mechanize/PSGI.pm line 46
	Test::WWW::Mechanize::PSGI::simple_request(Test::WWW::Mechanize::PSGI=HASH(0x7f8a5a8a0848), HTTP::Request=HASH(0x7f8a5b0041a8), undef, undef) called at /Users/petr/perl5/perlbrew/perls/perl-5.22.0/lib/site_perl/5.22.0/LWP/UserAgent.pm line 282
	LWP::UserAgent::request(Test::WWW::Mechanize::PSGI=HASH(0x7f8a5a8a0848), HTTP::Request=HASH(0x7f8a5b0041a8)) called at /Users/petr/.cpan/build/WWW-Mechanize-1.75-vl4S65/blib/lib/WWW/Mechanize.pm line 2598
	WWW::Mechanize::_make_request(Test::WWW::Mechanize::PSGI=HASH(0x7f8a5a8a0848), HTTP::Request=HASH(0x7f8a5b0041a8)) called at /Users/petr/.cpan/build/WWW-Mechanize-1.75-vl4S65/blib/lib/WWW/Mechanize.pm line 2312
	WWW::Mechanize::request(Test::WWW::Mechanize::PSGI=HASH(0x7f8a5a8a0848), HTTP::Request=HASH(0x7f8a5b0041a8)) called at /Users/petr/perl5/perlbrew/perls/perl-5.22.0/lib/site_perl/5.22.0/LWP/UserAgent.pm line 419
	LWP::UserAgent::post(Test::WWW::Mechanize::PSGI=HASH(0x7f8a5a8a0848), "/account/login?john", HASH(0x7f8a5a57dad8)) called at /Users/petr/.cpan/build/Test-WWW-Mechanize-1.44-H1Tb2Y/blib/lib/Test/WWW/Mechanize.pm line 236
	Test::WWW::Mechanize::post_ok(Test::WWW::Mechanize::PSGI=HASH(0x7f8a5a8a0848), "/account/login?john") called at t/03_mech.t line 84
Do not use HTTP::Session2::ClientStore. Use HTTP::Session2::ServerStore or HTTP::Session2::ClientStore2 instead. at /Users/petr/.cpan/build/HTTP-Session2-1.09-qFpuPO/blib/lib/HTTP/Session2/ClientStore.pm line 35.
Do not use HTTP::Session2::ClientStore. Use HTTP::Session2::ServerStore or HTTP::Session2::ClientStore2 instead. at /Users/petr/.cpan/build/HTTP-Session2-1.09-qFpuPO/blib/lib/HTTP/Session2/ClientStore.pm line 35.
Do not use HTTP::Session2::ClientStore. Use HTTP::Session2::ServerStore or HTTP::Session2::ClientStore2 instead. at /Users/petr/.cpan/build/HTTP-Session2-1.09-qFpuPO/blib/lib/HTTP/Session2/ClientStore.pm line 25.
Secret string too short at /Users/petr/.cpan/build/HTTP-Session2-1.09-qFpuPO/blib/lib/HTTP/Session2/Base.pm line 79.
	HTTP::Session2::Base::__ANON__(HTTP::Session2::ClientStore=HASH(0x7f8a5a802648), "s3cret") called at t/03_mech.t line 127
	main::client_session(HASH(0x7f8a5a802420)) called at t/03_mech.t line 17
	main::__ANON__(HASH(0x7f8a5a802420)) called at /Users/petr/.cpan/build/Test-WWW-Mechanize-PSGI-0.35-qntC0i/blib/lib/Test/WWW/Mechanize/PSGI.pm line 39
	Test::WWW::Mechanize::PSGI::__ANON__() called at /Users/petr/perl5/perlbrew/perls/perl-5.22.0/lib/site_perl/5.22.0/Try/Tiny.pm line 81
	eval {...} called at /Users/petr/perl5/perlbrew/perls/perl-5.22.0/lib/site_perl/5.22.0/Try/Tiny.pm line 72
	Try::Tiny::try(CODE(0x7f8a5b00ab20), Try::Tiny::Catch=REF(0x7f8a5a802528)) called at /Users/petr/.cpan/build/Test-WWW-Mechanize-PSGI-0.35-qntC0i/blib/lib/Test/WWW/Mechanize/PSGI.pm line 46
	Test::WWW::Mechanize::PSGI::simple_request(Test::WWW::Mechanize::PSGI=HASH(0x7f8a5a8a0848), HTTP::Request=HASH(0x7f8a5b007108), undef, undef) called at /Users/petr/perl5/perlbrew/perls/perl-5.22.0/lib/site_perl/5.22.0/LWP/UserAgent.pm line 282
	LWP::UserAgent::request(Test::WWW::Mechanize::PSGI=HASH(0x7f8a5a8a0848), HTTP::Request=HASH(0x7f8a5b007108)) called at /Users/petr/.cpan/build/WWW-Mechanize-1.75-vl4S65/blib/lib/WWW/Mechanize.pm line 2598
	WWW::Mechanize::_make_request(Test::WWW::Mechanize::PSGI=HASH(0x7f8a5a8a0848), HTTP::Request=HASH(0x7f8a5b007108)) called at /Users/petr/.cpan/build/WWW-Mechanize-1.75-vl4S65/blib/lib/WWW/Mechanize.pm line 2312
	WWW::Mechanize::request(Test::WWW::Mechanize::PSGI=HASH(0x7f8a5a8a0848), HTTP::Request=HASH(0x7f8a5b007108)) called at /Users/petr/perl5/perlbrew/perls/perl-5.22.0/lib/site_perl/5.22.0/LWP/UserAgent.pm line 411
	LWP::UserAgent::get(Test::WWW::Mechanize::PSGI=HASH(0x7f8a5a8a0848), "http://localhost/wishlist") called at /Users/petr/.cpan/build/WWW-Mechanize-1.75-vl4S65/blib/lib/WWW/Mechanize.pm line 407
	WWW::Mechanize::get(Test::WWW::Mechanize::PSGI=HASH(0x7f8a5a8a0848), "/wishlist") called at /Users/petr/.cpan/build/Test-WWW-Mechanize-1.44-H1Tb2Y/blib/lib/Test/WWW/Mechanize.pm line 159
	Test::WWW::Mechanize::get_ok(Test::WWW::Mechanize::PSGI=HASH(0x7f8a5a8a0848), "/wishlist", "Wishlist is still available") called at t/03_mech.t line 85
Do not use HTTP::Session2::ClientStore. Use HTTP::Session2::ServerStore or HTTP::Session2::ClientStore2 instead. at /Users/petr/.cpan/build/HTTP-Session2-1.09-qFpuPO/blib/lib/HTTP/Session2/ClientStore.pm line 35.
Secret string too short at /Users/petr/.cpan/build/HTTP-Session2-1.09-qFpuPO/blib/lib/HTTP/Session2/Base.pm line 79.
	HTTP::Session2::Base::__ANON__(HTTP::Session2::ClientStore=HASH(0x7f8a5a9047e0), "s3cret") called at t/03_mech.t line 127
	main::client_session(HASH(0x7f8a5a802528)) called at t/03_mech.t line 17
	main::__ANON__(HASH(0x7f8a5a802528)) called at /Users/petr/.cpan/build/Test-WWW-Mechanize-PSGI-0.35-qntC0i/blib/lib/Test/WWW/Mechanize/PSGI.pm line 39
	Test::WWW::Mechanize::PSGI::__ANON__() called at /Users/petr/perl5/perlbrew/perls/perl-5.22.0/lib/site_perl/5.22.0/Try/Tiny.pm line 81
	eval {...} called at /Users/petr/perl5/perlbrew/perls/perl-5.22.0/lib/site_perl/5.22.0/Try/Tiny.pm line 72
	Try::Tiny::try(CODE(0x7f8a5a802720), Try::Tiny::Catch=REF(0x7f8a5b00e4c8)) called at /Users/petr/.cpan/build/Test-WWW-Mechanize-PSGI-0.35-qntC0i/blib/lib/Test/WWW/Mechanize/PSGI.pm line 46
	Test::WWW::Mechanize::PSGI::simple_request(Test::WWW::Mechanize::PSGI=HASH(0x7f8a5a8a0848), HTTP::Request=HASH(0x7f8a5b00e468), undef, undef) called at /Users/petr/perl5/perlbrew/perls/perl-5.22.0/lib/site_perl/5.22.0/LWP/UserAgent.pm line 282
	LWP::UserAgent::request(Test::WWW::Mechanize::PSGI=HASH(0x7f8a5a8a0848), HTTP::Request=HASH(0x7f8a5b00e468)) called at /Users/petr/.cpan/build/WWW-Mechanize-1.75-vl4S65/blib/lib/WWW/Mechanize.pm line 2598
	WWW::Mechanize::_make_request(Test::WWW::Mechanize::PSGI=HASH(0x7f8a5a8a0848), HTTP::Request=HASH(0x7f8a5b00e468)) called at /Users/petr/.cpan/build/WWW-Mechanize-1.75-vl4S65/blib/lib/WWW/Mechanize.pm line 2312
	WWW::Mechanize::request(Test::WWW::Mechanize::PSGI=HASH(0x7f8a5a8a0848), HTTP::Request=HASH(0x7f8a5b00e468)) called at /Users/petr/perl5/perlbrew/perls/perl-5.22.0/lib/site_perl/5.22.0/LWP/UserAgent.pm line 419
	LWP::UserAgent::post(Test::WWW::Mechanize::PSGI=HASH(0x7f8a5a8a0848), "/wishlist?baz") called at t/03_mech.t line 87
Do not use HTTP::Session2::ClientStore. Use HTTP::Session2::ServerStore or HTTP::Session2::ClientStore2 instead. at /Users/petr/.cpan/build/HTTP-Session2-1.09-qFpuPO/blib/lib/HTTP/Session2/ClientStore.pm line 35.
Secret string too short at /Users/petr/.cpan/build/HTTP-Session2-1.09-qFpuPO/blib/lib/HTTP/Session2/Base.pm line 79.
	HTTP::Session2::Base::__ANON__(HTTP::Session2::ClientStore=HASH(0x7f8a5a891a70), "s3cret") called at t/03_mech.t line 127
	main::client_session(HASH(0x7f8a5b0073f0)) called at t/03_mech.t line 17
	main::__ANON__(HASH(0x7f8a5b0073f0)) called at /Users/petr/.cpan/build/Test-WWW-Mechanize-PSGI-0.35-qntC0i/blib/lib/Test/WWW/Mechanize/PSGI.pm line 39
	Test::WWW::Mechanize::PSGI::__ANON__() called at /Users/petr/perl5/perlbrew/perls/perl-5.22.0/lib/site_perl/5.22.0/Try/Tiny.pm line 81
	eval {...} called at /Users/petr/perl5/perlbrew/perls/perl-5.22.0/lib/site_perl/5.22.0/Try/Tiny.pm line 72
	Try::Tiny::try(CODE(0x7f8a5a802678), Try::Tiny::Catch=REF(0x7f8a5a803408)) called at /Users/petr/.cpan/build/Test-WWW-Mechanize-PSGI-0.35-qntC0i/blib/lib/Test/WWW/Mechanize/PSGI.pm line 46
	Test::WWW::Mechanize::PSGI::simple_request(Test::WWW::Mechanize::PSGI=HASH(0x7f8a5a8a0848), HTTP::Request=HASH(0x7f8a5b006fb8), undef, undef) called at /Users/petr/perl5/perlbrew/perls/perl-5.22.0/lib/site_perl/5.22.0/LWP/UserAgent.pm line 282
	LWP::UserAgent::request(Test::WWW::Mechanize::PSGI=HASH(0x7f8a5a8a0848), HTTP::Request=HASH(0x7f8a5b006fb8)) called at /Users/petr/.cpan/build/WWW-Mechanize-1.75-vl4S65/blib/lib/WWW/Mechanize.pm line 2598
	WWW::Mechanize::_make_request(Test::WWW::Mechanize::PSGI=HASH(0x7f8a5a8a0848), HTTP::Request=HASH(0x7f8a5b006fb8)) called at /Users/petr/.cpan/build/WWW-Mechanize-1.75-vl4S65/blib/lib/WWW/Mechanize.pm line 2312
	WWW::Mechanize::request(Test::WWW::Mechanize::PSGI=HASH(0x7f8a5a8a0848), HTTP::Request=HASH(0x7f8a5b006fb8)) called at /Users/petr/perl5/perlbrew/perls/perl-5.22.0/lib/site_perl/5.22.0/LWP/UserAgent.pm line 419
	LWP::UserAgent::post(Test::WWW::Mechanize::PSGI=HASH(0x7f8a5a8a0848), "/wishlist?baz", HASH(0x7f8a5a57dad8)) called at /Users/petr/.cpan/build/Test-WWW-Mechanize-1.44-H1Tb2Y/blib/lib/Test/WWW/Mechanize.pm line 236
	Test::WWW::Mechanize::post_ok(Test::WWW::Mechanize::PSGI=HASH(0x7f8a5a8a0848), "/wishlist?baz") called at t/03_mech.t line 90
Do not use HTTP::Session2::ClientStore. Use HTTP::Session2::ServerStore or HTTP::Session2::ClientStore2 instead. at /Users/petr/.cpan/build/HTTP-Session2-1.09-qFpuPO/blib/lib/HTTP/Session2/ClientStore.pm line 35.
Do not use HTTP::Session2::ClientStore. Use HTTP::Session2::ServerStore or HTTP::Session2::ClientStore2 instead. at /Users/petr/.cpan/build/HTTP-Session2-1.09-qFpuPO/blib/lib/HTTP/Session2/ClientStore.pm line 25.
Secret string too short at /Users/petr/.cpan/build/HTTP-Session2-1.09-qFpuPO/blib/lib/HTTP/Session2/Base.pm line 79.
	HTTP::Session2::Base::__ANON__(HTTP::Session2::ClientStore=HASH(0x7f8a5b00e0a8), "s3cret") called at t/03_mech.t line 127
	main::client_session(HASH(0x7f8a5b00e150)) called at t/03_mech.t line 17
	main::__ANON__(HASH(0x7f8a5b00e150)) called at /Users/petr/.cpan/build/Test-WWW-Mechanize-PSGI-0.35-qntC0i/blib/lib/Test/WWW/Mechanize/PSGI.pm line 39
	Test::WWW::Mechanize::PSGI::__ANON__() called at /Users/petr/perl5/perlbrew/perls/perl-5.22.0/lib/site_perl/5.22.0/Try/Tiny.pm line 81
	eval {...} called at /Users/petr/perl5/perlbrew/perls/perl-5.22.0/lib/site_perl/5.22.0/Try/Tiny.pm line 72
	Try::Tiny::try(CODE(0x7f8a5b00af58), Try::Tiny::Catch=REF(0x7f8a5b006e50)) called at /Users/petr/.cpan/build/Test-WWW-Mechanize-PSGI-0.35-qntC0i/blib/lib/Test/WWW/Mechanize/PSGI.pm line 46
	Test::WWW::Mechanize::PSGI::simple_request(Test::WWW::Mechanize::PSGI=HASH(0x7f8a5a8a0848), HTTP::Request=HASH(0x7f8a5a802948), undef, undef) called at /Users/petr/perl5/perlbrew/perls/perl-5.22.0/lib/site_perl/5.22.0/LWP/UserAgent.pm line 282
	LWP::UserAgent::request(Test::WWW::Mechanize::PSGI=HASH(0x7f8a5a8a0848), HTTP::Request=HASH(0x7f8a5a802948)) called at /Users/petr/.cpan/build/WWW-Mechanize-1.75-vl4S65/blib/lib/WWW/Mechanize.pm line 2598
	WWW::Mechanize::_make_request(Test::WWW::Mechanize::PSGI=HASH(0x7f8a5a8a0848), HTTP::Request=HASH(0x7f8a5a802948)) called at /Users/petr/.cpan/build/WWW-Mechanize-1.75-vl4S65/blib/lib/WWW/Mechanize.pm line 2312
	WWW::Mechanize::request(Test::WWW::Mechanize::PSGI=HASH(0x7f8a5a8a0848), HTTP::Request=HASH(0x7f8a5a802948)) called at /Users/petr/perl5/perlbrew/perls/perl-5.22.0/lib/site_perl/5.22.0/LWP/UserAgent.pm line 411
	LWP::UserAgent::get(Test::WWW::Mechanize::PSGI=HASH(0x7f8a5a8a0848), "http://localhost/wishlist") called at /Users/petr/.cpan/build/WWW-Mechanize-1.75-vl4S65/blib/lib/WWW/Mechanize.pm line 407
	WWW::Mechanize::get(Test::WWW::Mechanize::PSGI=HASH(0x7f8a5a8a0848), "/wishlist") called at /Users/petr/.cpan/build/Test-WWW-Mechanize-1.44-H1Tb2Y/blib/lib/Test/WWW/Mechanize.pm line 159
	Test::WWW::Mechanize::get_ok(Test::WWW::Mechanize::PSGI=HASH(0x7f8a5a8a0848), "/wishlist", "Wishlist is still available") called at t/03_mech.t line 91
Do not use HTTP::Session2::ClientStore. Use HTTP::Session2::ServerStore or HTTP::Session2::ClientStore2 instead. at /Users/petr/.cpan/build/HTTP-Session2-1.09-qFpuPO/blib/lib/HTTP/Session2/ClientStore.pm line 35.
Secret string too short at /Users/petr/.cpan/build/HTTP-Session2-1.09-qFpuPO/blib/lib/HTTP/Session2/Base.pm line 79.
	HTTP::Session2::Base::__ANON__(HTTP::Session2::ClientStore=HASH(0x7f8a5b00b288), "s3cret") called at t/03_mech.t line 127
	main::client_session(HASH(0x7f8a5b0047c0)) called at t/03_mech.t line 17
	main::__ANON__(HASH(0x7f8a5b0047c0)) called at /Users/petr/.cpan/build/Test-WWW-Mechanize-PSGI-0.35-qntC0i/blib/lib/Test/WWW/Mechanize/PSGI.pm line 39
	Test::WWW::Mechanize::PSGI::__ANON__() called at /Users/petr/perl5/perlbrew/perls/perl-5.22.0/lib/site_perl/5.22.0/Try/Tiny.pm line 81
	eval {...} called at /Users/petr/perl5/perlbrew/perls/perl-5.22.0/lib/site_perl/5.22.0/Try/Tiny.pm line 72
	Try::Tiny::try(CODE(0x7f8a5b00e660), Try::Tiny::Catch=REF(0x7f8a5b00e5e8)) called at /Users/petr/.cpan/build/Test-WWW-Mechanize-PSGI-0.35-qntC0i/blib/lib/Test/WWW/Mechanize/PSGI.pm line 46
	Test::WWW::Mechanize::PSGI::simple_request(Test::WWW::Mechanize::PSGI=HASH(0x7f8a5a8a0848), HTTP::Request=HASH(0x7f8a5b007150), undef, undef) called at /Users/petr/perl5/perlbrew/perls/perl-5.22.0/lib/site_perl/5.22.0/LWP/UserAgent.pm line 282
	LWP::UserAgent::request(Test::WWW::Mechanize::PSGI=HASH(0x7f8a5a8a0848), HTTP::Request=HASH(0x7f8a5b007150)) called at /Users/petr/.cpan/build/WWW-Mechanize-1.75-vl4S65/blib/lib/WWW/Mechanize.pm line 2598
	WWW::Mechanize::_make_request(Test::WWW::Mechanize::PSGI=HASH(0x7f8a5a8a0848), HTTP::Request=HASH(0x7f8a5b007150)) called at /Users/petr/.cpan/build/WWW-Mechanize-1.75-vl4S65/blib/lib/WWW/Mechanize.pm line 2312
	WWW::Mechanize::request(Test::WWW::Mechanize::PSGI=HASH(0x7f8a5a8a0848), HTTP::Request=HASH(0x7f8a5b007150)) called at /Users/petr/perl5/perlbrew/perls/perl-5.22.0/lib/site_perl/5.22.0/LWP/UserAgent.pm line 411
	LWP::UserAgent::get(Test::WWW::Mechanize::PSGI=HASH(0x7f8a5a8a0848), "http://localhost/my/name") called at /Users/petr/.cpan/build/WWW-Mechanize-1.75-vl4S65/blib/lib/WWW/Mechanize.pm line 407
	WWW::Mechanize::get(Test::WWW::Mechanize::PSGI=HASH(0x7f8a5a8a0848), "/my/name") called at /Users/petr/.cpan/build/Test-WWW-Mechanize-1.44-H1Tb2Y/blib/lib/Test/WWW/Mechanize.pm line 159
	Test::WWW::Mechanize::get_ok(Test::WWW::Mechanize::PSGI=HASH(0x7f8a5a8a0848), "/my/name") called at t/03_mech.t line 93
Do not use HTTP::Session2::ClientStore. Use HTTP::Session2::ServerStore or HTTP::Session2::ClientStore2 instead. at /Users/petr/.cpan/build/HTTP-Session2-1.09-qFpuPO/blib/lib/HTTP/Session2/ClientStore.pm line 35.
Secret string too short at /Users/petr/.cpan/build/HTTP-Session2-1.09-qFpuPO/blib/lib/HTTP/Session2/Base.pm line 79.
	HTTP::Session2::Base::__ANON__(HTTP::Session2::ClientStore=HASH(0x7f8a5b0146d8), "s3cret") called at t/03_mech.t line 127
	main::client_session(HASH(0x7f8a5b00efd8)) called at t/03_mech.t line 17
	main::__ANON__(HASH(0x7f8a5b00efd8)) called at /Users/petr/.cpan/build/Test-WWW-Mechanize-PSGI-0.35-qntC0i/blib/lib/Test/WWW/Mechanize/PSGI.pm line 39
	Test::WWW::Mechanize::PSGI::__ANON__() called at /Users/petr/perl5/perlbrew/perls/perl-5.22.0/lib/site_perl/5.22.0/Try/Tiny.pm line 81
	eval {...} called at /Users/petr/perl5/perlbrew/perls/perl-5.22.0/lib/site_perl/5.22.0/Try/Tiny.pm line 72
	Try::Tiny::try(CODE(0x7f8a5b014660), Try::Tiny::Catch=REF(0x7f8a5b00ea80)) called at /Users/petr/.cpan/build/Test-WWW-Mechanize-PSGI-0.35-qntC0i/blib/lib/Test/WWW/Mechanize/PSGI.pm line 46
	Test::WWW::Mechanize::PSGI::simple_request(Test::WWW::Mechanize::PSGI=HASH(0x7f8a5a8a0848), HTTP::Request=HASH(0x7f8a5b00e7e0), undef, undef) called at /Users/petr/perl5/perlbrew/perls/perl-5.22.0/lib/site_perl/5.22.0/LWP/UserAgent.pm line 282
	LWP::UserAgent::request(Test::WWW::Mechanize::PSGI=HASH(0x7f8a5a8a0848), HTTP::Request=HASH(0x7f8a5b00e7e0)) called at /Users/petr/.cpan/build/WWW-Mechanize-1.75-vl4S65/blib/lib/WWW/Mechanize.pm line 2598
	WWW::Mechanize::_make_request(Test::WWW::Mechanize::PSGI=HASH(0x7f8a5a8a0848), HTTP::Request=HASH(0x7f8a5b00e7e0)) called at /Users/petr/.cpan/build/WWW-Mechanize-1.75-vl4S65/blib/lib/WWW/Mechanize.pm line 2312
	WWW::Mechanize::request(Test::WWW::Mechanize::PSGI=HASH(0x7f8a5a8a0848), HTTP::Request=HASH(0x7f8a5b00e7e0)) called at /Users/petr/perl5/perlbrew/perls/perl-5.22.0/lib/site_perl/5.22.0/LWP/UserAgent.pm line 419
	LWP::UserAgent::post(Test::WWW::Mechanize::PSGI=HASH(0x7f8a5a8a0848), "/account/logout?john") called at t/03_mech.t line 97
Do not use HTTP::Session2::ClientStore. Use HTTP::Session2::ServerStore or HTTP::Session2::ClientStore2 instead. at /Users/petr/.cpan/build/HTTP-Session2-1.09-qFpuPO/blib/lib/HTTP/Session2/ClientStore.pm line 35.
Do not use HTTP::Session2::ClientStore. Use HTTP::Session2::ServerStore or HTTP::Session2::ClientStore2 instead. at /Users/petr/.cpan/build/HTTP-Session2-1.09-qFpuPO/blib/lib/HTTP/Session2/ClientStore.pm line 35.
t/03_mech.t ................. ok
Do not use HTTP::Session2::ClientStore. Use HTTP::Session2::ServerStore or HTTP::Session2::ClientStore2 instead. at /Users/petr/.cpan/build/HTTP-Session2-1.09-qFpuPO/blib/lib/HTTP/Session2/ClientStore.pm line 25.
t/04_plack_response.t ....... ok
Secret string too short at /Users/petr/.cpan/build/HTTP-Session2-1.09-qFpuPO/blib/lib/HTTP/Session2/Base.pm line 79.
	HTTP::Session2::Base::__ANON__(HTTP::Session2::ClientStore=HASH(0x7f867c415148), "s3cret") called at t/05_keep_me_signed_in.t line 20
Do not use HTTP::Session2::ClientStore. Use HTTP::Session2::ServerStore or HTTP::Session2::ClientStore2 instead. at /Users/petr/.cpan/build/HTTP-Session2-1.09-qFpuPO/blib/lib/HTTP/Session2/ClientStore.pm line 25.
t/05_keep_me_signed_in.t .... ok
Secret string too short at /Users/petr/.cpan/build/HTTP-Session2-1.09-qFpuPO/blib/lib/HTTP/Session2/Base.pm line 79.
	HTTP::Session2::Base::__ANON__(HTTP::Session2::Base=HASH(0x7fe3eb831bf8), "i am secret") called at t/06_base_abstract.t line 7
t/06_base_abstract.t ........ ok
Secret string too short at /Users/petr/.cpan/build/HTTP-Session2-1.09-qFpuPO/blib/lib/HTTP/Session2/Base.pm line 79.
	HTTP::Session2::Base::__ANON__(HTTP::Session2::ClientStore=HASH(0x7f80e27a1f08), "secret") called at t/07_client_store.t line 23
	main::__ANON__() called at /Users/petr/perl5/perlbrew/perls/perl-5.22.0/lib/5.22.0/Test/Builder.pm line 261
	Test::Builder::__ANON__() called at /Users/petr/perl5/perlbrew/perls/perl-5.22.0/lib/5.22.0/Test/Builder.pm line 266
	eval {...} called at /Users/petr/perl5/perlbrew/perls/perl-5.22.0/lib/5.22.0/Test/Builder.pm line 266
	Test::Builder::subtest(Test::Builder=HASH(0x7f80e207e888), "get/set/remove", CODE(0x7f80e2415b98)) called at /Users/petr/perl5/perlbrew/perls/perl-5.22.0/lib/5.22.0/Test/More.pm line 771
	Test::More::subtest("get/set/remove", CODE(0x7f80e2415b98)) called at t/07_client_store.t line 31
Secret string too short at /Users/petr/.cpan/build/HTTP-Session2-1.09-qFpuPO/blib/lib/HTTP/Session2/Base.pm line 79.
	HTTP::Session2::Base::__ANON__(HTTP::Session2::ClientStore=HASH(0x7f80e2031d18), "secret") called at t/07_client_store.t line 35
	main::__ANON__() called at /Users/petr/perl5/perlbrew/perls/perl-5.22.0/lib/5.22.0/Test/Builder.pm line 261
	Test::Builder::__ANON__() called at /Users/petr/perl5/perlbrew/perls/perl-5.22.0/lib/5.22.0/Test/Builder.pm line 266
	eval {...} called at /Users/petr/perl5/perlbrew/perls/perl-5.22.0/lib/5.22.0/Test/Builder.pm line 266
	Test::Builder::subtest(Test::Builder=HASH(0x7f80e207e888), "validate_token", CODE(0x7f80e2415ef8)) called at /Users/petr/perl5/perlbrew/perls/perl-5.22.0/lib/5.22.0/Test/More.pm line 771
	Test::More::subtest("validate_token", CODE(0x7f80e2415ef8)) called at t/07_client_store.t line 71
Do not use HTTP::Session2::ClientStore. Use HTTP::Session2::ServerStore or HTTP::Session2::ClientStore2 instead. at /Users/petr/.cpan/build/HTTP-Session2-1.09-qFpuPO/blib/lib/HTTP/Session2/ClientStore.pm line 25.
Secret string too short at /Users/petr/.cpan/build/HTTP-Session2-1.09-qFpuPO/blib/lib/HTTP/Session2/Base.pm line 79.
	HTTP::Session2::Base::__ANON__(HTTP::Session2::ClientStore=HASH(0x7f80e2039930), "secret") called at t/07_client_store.t line 51
	main::__ANON__() called at /Users/petr/perl5/perlbrew/perls/perl-5.22.0/lib/5.22.0/Test/Builder.pm line 261
	Test::Builder::__ANON__() called at /Users/petr/perl5/perlbrew/perls/perl-5.22.0/lib/5.22.0/Test/Builder.pm line 266
	eval {...} called at /Users/petr/perl5/perlbrew/perls/perl-5.22.0/lib/5.22.0/Test/Builder.pm line 266
	Test::Builder::subtest(Test::Builder=HASH(0x7f80e207e888), "bad", CODE(0x7f80e2039390)) called at /Users/petr/perl5/perlbrew/perls/perl-5.22.0/lib/5.22.0/Test/More.pm line 771
	Test::More::subtest("bad", CODE(0x7f80e2039390)) called at t/07_client_store.t line 57
	main::__ANON__() called at /Users/petr/perl5/perlbrew/perls/perl-5.22.0/lib/5.22.0/Test/Builder.pm line 261
	Test::Builder::__ANON__() called at /Users/petr/perl5/perlbrew/perls/perl-5.22.0/lib/5.22.0/Test/Builder.pm line 266
	eval {...} called at /Users/petr/perl5/perlbrew/perls/perl-5.22.0/lib/5.22.0/Test/Builder.pm line 266
	Test::Builder::subtest(Test::Builder=HASH(0x7f80e207e888), "validate_token", CODE(0x7f80e2415ef8)) called at /Users/petr/perl5/perlbrew/perls/perl-5.22.0/lib/5.22.0/Test/More.pm line 771
	Test::More::subtest("validate_token", CODE(0x7f80e2415ef8)) called at t/07_client_store.t line 71
Do not use HTTP::Session2::ClientStore. Use HTTP::Session2::ServerStore or HTTP::Session2::ClientStore2 instead. at /Users/petr/.cpan/build/HTTP-Session2-1.09-qFpuPO/blib/lib/HTTP/Session2/ClientStore.pm line 35.
Secret string too short at /Users/petr/.cpan/build/HTTP-Session2-1.09-qFpuPO/blib/lib/HTTP/Session2/Base.pm line 79.
	HTTP::Session2::Base::__ANON__(HTTP::Session2::ClientStore=HASH(0x7f80e27b5720), "secret") called at t/07_client_store.t line 65
	main::__ANON__() called at /Users/petr/perl5/perlbrew/perls/perl-5.22.0/lib/5.22.0/Test/Builder.pm line 261
	Test::Builder::__ANON__() called at /Users/petr/perl5/perlbrew/perls/perl-5.22.0/lib/5.22.0/Test/Builder.pm line 266
	eval {...} called at /Users/petr/perl5/perlbrew/perls/perl-5.22.0/lib/5.22.0/Test/Builder.pm line 266
	Test::Builder::subtest(Test::Builder=HASH(0x7f80e207e888), "good", CODE(0x7f80e2039390)) called at /Users/petr/perl5/perlbrew/perls/perl-5.22.0/lib/5.22.0/Test/More.pm line 771
	Test::More::subtest("good", CODE(0x7f80e2039390)) called at t/07_client_store.t line 70
	main::__ANON__() called at /Users/petr/perl5/perlbrew/perls/perl-5.22.0/lib/5.22.0/Test/Builder.pm line 261
	Test::Builder::__ANON__() called at /Users/petr/perl5/perlbrew/perls/perl-5.22.0/lib/5.22.0/Test/Builder.pm line 266
	eval {...} called at /Users/petr/perl5/perlbrew/perls/perl-5.22.0/lib/5.22.0/Test/Builder.pm line 266
	Test::Builder::subtest(Test::Builder=HASH(0x7f80e207e888), "validate_token", CODE(0x7f80e2415ef8)) called at /Users/petr/perl5/perlbrew/perls/perl-5.22.0/lib/5.22.0/Test/More.pm line 771
	Test::More::subtest("validate_token", CODE(0x7f80e2415ef8)) called at t/07_client_store.t line 71
Do not use HTTP::Session2::ClientStore. Use HTTP::Session2::ServerStore or HTTP::Session2::ClientStore2 instead. at /Users/petr/.cpan/build/HTTP-Session2-1.09-qFpuPO/blib/lib/HTTP/Session2/ClientStore.pm line 35.
Secret string too short at /Users/petr/.cpan/build/HTTP-Session2-1.09-qFpuPO/blib/lib/HTTP/Session2/Base.pm line 79.
	HTTP::Session2::Base::__ANON__(HTTP::Session2::ClientStore=HASH(0x7f80e2038fb8), "secret") called at t/07_client_store.t line 76
	main::__ANON__() called at /Users/petr/perl5/perlbrew/perls/perl-5.22.0/lib/5.22.0/Test/Builder.pm line 261
	Test::Builder::__ANON__() called at /Users/petr/perl5/perlbrew/perls/perl-5.22.0/lib/5.22.0/Test/Builder.pm line 266
	eval {...} called at /Users/petr/perl5/perlbrew/perls/perl-5.22.0/lib/5.22.0/Test/Builder.pm line 266
	Test::Builder::subtest(Test::Builder=HASH(0x7f80e207e888), "ignore_old", CODE(0x7f80e241caa8)) called at /Users/petr/perl5/perlbrew/perls/perl-5.22.0/lib/5.22.0/Test/More.pm line 771
	Test::More::subtest("ignore_old", CODE(0x7f80e241caa8)) called at t/07_client_store.t line 106
Do not use HTTP::Session2::ClientStore. Use HTTP::Session2::ServerStore or HTTP::Session2::ClientStore2 instead. at /Users/petr/.cpan/build/HTTP-Session2-1.09-qFpuPO/blib/lib/HTTP/Session2/ClientStore.pm line 25.
Secret string too short at /Users/petr/.cpan/build/HTTP-Session2-1.09-qFpuPO/blib/lib/HTTP/Session2/Base.pm line 79.
	HTTP::Session2::Base::__ANON__(HTTP::Session2::ClientStore=HASH(0x7f80e2039750), "secret") called at t/07_client_store.t line 87
	main::__ANON__() called at /Users/petr/perl5/perlbrew/perls/perl-5.22.0/lib/5.22.0/Test/Builder.pm line 261
	Test::Builder::__ANON__() called at /Users/petr/perl5/perlbrew/perls/perl-5.22.0/lib/5.22.0/Test/Builder.pm line 266
	eval {...} called at /Users/petr/perl5/perlbrew/perls/perl-5.22.0/lib/5.22.0/Test/Builder.pm line 266
	Test::Builder::subtest(Test::Builder=HASH(0x7f80e207e888), "ignore_old disabled", CODE(0x7f80e27b5768)) called at /Users/petr/perl5/perlbrew/perls/perl-5.22.0/lib/5.22.0/Test/More.pm line 771
	Test::More::subtest("ignore_old disabled", CODE(0x7f80e27b5768)) called at t/07_client_store.t line 95
	main::__ANON__() called at /Users/petr/perl5/perlbrew/perls/perl-5.22.0/lib/5.22.0/Test/Builder.pm line 261
	Test::Builder::__ANON__() called at /Users/petr/perl5/perlbrew/perls/perl-5.22.0/lib/5.22.0/Test/Builder.pm line 266
	eval {...} called at /Users/petr/perl5/perlbrew/perls/perl-5.22.0/lib/5.22.0/Test/Builder.pm line 266
	Test::Builder::subtest(Test::Builder=HASH(0x7f80e207e888), "ignore_old", CODE(0x7f80e241caa8)) called at /Users/petr/perl5/perlbrew/perls/perl-5.22.0/lib/5.22.0/Test/More.pm line 771
	Test::More::subtest("ignore_old", CODE(0x7f80e241caa8)) called at t/07_client_store.t line 106
Do not use HTTP::Session2::ClientStore. Use HTTP::Session2::ServerStore or HTTP::Session2::ClientStore2 instead. at /Users/petr/.cpan/build/HTTP-Session2-1.09-qFpuPO/blib/lib/HTTP/Session2/ClientStore.pm line 35.
Secret string too short at /Users/petr/.cpan/build/HTTP-Session2-1.09-qFpuPO/blib/lib/HTTP/Session2/Base.pm line 79.
	HTTP::Session2::Base::__ANON__(HTTP::Session2::ClientStore=HASH(0x7f80e20398a0), "secret") called at t/07_client_store.t line 97
	main::__ANON__() called at /Users/petr/perl5/perlbrew/perls/perl-5.22.0/lib/5.22.0/Test/Builder.pm line 261
	Test::Builder::__ANON__() called at /Users/petr/perl5/perlbrew/perls/perl-5.22.0/lib/5.22.0/Test/Builder.pm line 266
	eval {...} called at /Users/petr/perl5/perlbrew/perls/perl-5.22.0/lib/5.22.0/Test/Builder.pm line 266
	Test::Builder::subtest(Test::Builder=HASH(0x7f80e207e888), "ignore_old enabled", CODE(0x7f80e27b5768)) called at /Users/petr/perl5/perlbrew/perls/perl-5.22.0/lib/5.22.0/Test/More.pm line 771
	Test::More::subtest("ignore_old enabled", CODE(0x7f80e27b5768)) called at t/07_client_store.t line 105
	main::__ANON__() called at /Users/petr/perl5/perlbrew/perls/perl-5.22.0/lib/5.22.0/Test/Builder.pm line 261
	Test::Builder::__ANON__() called at /Users/petr/perl5/perlbrew/perls/perl-5.22.0/lib/5.22.0/Test/Builder.pm line 266
	eval {...} called at /Users/petr/perl5/perlbrew/perls/perl-5.22.0/lib/5.22.0/Test/Builder.pm line 266
	Test::Builder::subtest(Test::Builder=HASH(0x7f80e207e888), "ignore_old", CODE(0x7f80e241caa8)) called at /Users/petr/perl5/perlbrew/perls/perl-5.22.0/lib/5.22.0/Test/More.pm line 771
	Test::More::subtest("ignore_old", CODE(0x7f80e241caa8)) called at t/07_client_store.t line 106
t/07_client_store.t ......... ok
Secret string too short at /Users/petr/.cpan/build/HTTP-Session2-1.09-qFpuPO/blib/lib/HTTP/Session2/Base.pm line 79.
	HTTP::Session2::Base::__ANON__(HTTP::Session2::Expired=HASH(0x7fb7db03c9a8), 33333) called at t/08_expired.t line 7
t/08_expired.t .............. ok
# /dev/urandom available
# /dev/urandom(1): EshX_3Y9eVk3sAi9p2_Ml6ak5-bZHR_
# /dev/urandom(2): UH_3J4ETDHevVgaH7dJ6kRh6QsIoros
# perl:            f5fb7a6c60f3fbfb7846bfde0201116
t/09_random.t ............... ok
t/11_secret_string.t ........ ok
Secret string too short at /Users/petr/.cpan/build/HTTP-Session2-1.09-qFpuPO/blib/lib/HTTP/Session2/Base.pm line 79.
	HTTP::Session2::Base::__ANON__(HTTP::Session2::ClientStore2=HASH(0x7f852903a410), "s3cret") called at t/client_store2/01_basic.t line 24
	main::__ANON__("client -> server: request without cookie", CODE(0x7f8529487f68)) called at t/client_store2/01_basic.t line 30
	main::__ANON__() called at /Users/petr/perl5/perlbrew/perls/perl-5.22.0/lib/5.22.0/Test/Builder.pm line 261
	Test::Builder::__ANON__() called at /Users/petr/perl5/perlbrew/perls/perl-5.22.0/lib/5.22.0/Test/Builder.pm line 266
	eval {...} called at /Users/petr/perl5/perlbrew/perls/perl-5.22.0/lib/5.22.0/Test/Builder.pm line 266
	Test::Builder::subtest(Test::Builder=HASH(0x7f852907ee28), "First request", CODE(0x7f8529004f28)) called at /Users/petr/perl5/perlbrew/perls/perl-5.22.0/lib/5.22.0/Test/More.pm line 771
	Test::More::subtest("First request", CODE(0x7f8529004f28)) called at t/client_store2/01_basic.t line 9
	main::scenario("First request", CODE(0x7f8529004f28)) called at t/client_store2/01_basic.t line 36
Secret string too short at /Users/petr/.cpan/build/HTTP-Session2-1.09-qFpuPO/blib/lib/HTTP/Session2/Base.pm line 79.
	HTTP::Session2::Base::__ANON__(HTTP::Session2::ClientStore2=HASH(0x7f8529488178), "s3cret") called at t/client_store2/01_basic.t line 41
	main::__ANON__("client -> server: request without cookie", CODE(0x7f852903a2d8)) called at t/client_store2/01_basic.t line 47
	main::__ANON__() called at /Users/petr/perl5/perlbrew/perls/perl-5.22.0/lib/5.22.0/Test/Builder.pm line 261
	Test::Builder::__ANON__() called at /Users/petr/perl5/perlbrew/perls/perl-5.22.0/lib/5.22.0/Test/Builder.pm line 266
	eval {...} called at /Users/petr/perl5/perlbrew/perls/perl-5.22.0/lib/5.22.0/Test/Builder.pm line 266
	Test::Builder::subtest(Test::Builder=HASH(0x7f852907ee28), "Store something without login", CODE(0x7f8529004f28)) called at /Users/petr/perl5/perlbrew/perls/perl-5.22.0/lib/5.22.0/Test/More.pm line 771
	Test::More::subtest("Store something without login", CODE(0x7f8529004f28)) called at t/client_store2/01_basic.t line 9
	main::scenario("Store something without login", CODE(0x7f8529004f28)) called at t/client_store2/01_basic.t line 63
Secret string too short at /Users/petr/.cpan/build/HTTP-Session2-1.09-qFpuPO/blib/lib/HTTP/Session2/Base.pm line 79.
	HTTP::Session2::Base::__ANON__(HTTP::Session2::ClientStore2=HASH(0x7f8529487f98), "s3cret") called at t/client_store2/01_basic.t line 69
	main::__ANON__("client -> server: request without cookie", CODE(0x7f8529487cc8)) called at t/client_store2/01_basic.t line 76
	main::__ANON__() called at /Users/petr/perl5/perlbrew/perls/perl-5.22.0/lib/5.22.0/Test/Builder.pm line 261
	Test::Builder::__ANON__() called at /Users/petr/perl5/perlbrew/perls/perl-5.22.0/lib/5.22.0/Test/Builder.pm line 266
	eval {...} called at /Users/petr/perl5/perlbrew/perls/perl-5.22.0/lib/5.22.0/Test/Builder.pm line 266
	Test::Builder::subtest(Test::Builder=HASH(0x7f852907ee28), "Login", CODE(0x7f8529004f28)) called at /Users/petr/perl5/perlbrew/perls/perl-5.22.0/lib/5.22.0/Test/More.pm line 771
	Test::More::subtest("Login", CODE(0x7f8529004f28)) called at t/client_store2/01_basic.t line 9
	main::scenario("Login", CODE(0x7f8529004f28)) called at t/client_store2/01_basic.t line 96
Ciphertext does not begin with a valid header for 'salt' header mode at /Users/petr/.cpan/build/HTTP-Session2-1.09-qFpuPO/blib/lib/HTTP/Session2/ClientStore2.pm line 81.
Ciphertext does not begin with a valid header for 'salt' header mode at /Users/petr/.cpan/build/HTTP-Session2-1.09-qFpuPO/blib/lib/HTTP/Session2/ClientStore2.pm line 81.
Secret string too short at /Users/petr/.cpan/build/HTTP-Session2-1.09-qFpuPO/blib/lib/HTTP/Session2/Base.pm line 79.
	HTTP::Session2::Base::__ANON__(HTTP::Session2::ClientStore2=HASH(0x7f852949d338), "s3cret") called at t/client_store2/01_basic.t line 102
	main::__ANON__("client -> server: request without cookie", CODE(0x7f852903a5c0)) called at t/client_store2/01_basic.t line 109
	main::__ANON__() called at /Users/petr/perl5/perlbrew/perls/perl-5.22.0/lib/5.22.0/Test/Builder.pm line 261
	Test::Builder::__ANON__() called at /Users/petr/perl5/perlbrew/perls/perl-5.22.0/lib/5.22.0/Test/Builder.pm line 266
	eval {...} called at /Users/petr/perl5/perlbrew/perls/perl-5.22.0/lib/5.22.0/Test/Builder.pm line 266
	Test::Builder::subtest(Test::Builder=HASH(0x7f852907ee28), "In a login session", CODE(0x7f8529004f28)) called at /Users/petr/perl5/perlbrew/perls/perl-5.22.0/lib/5.22.0/Test/More.pm line 771
	Test::More::subtest("In a login session", CODE(0x7f8529004f28)) called at t/client_store2/01_basic.t line 9
	main::scenario("In a login session", CODE(0x7f8529004f28)) called at t/client_store2/01_basic.t line 118
Ciphertext does not begin with a valid header for 'salt' header mode at /Users/petr/.cpan/build/HTTP-Session2-1.09-qFpuPO/blib/lib/HTTP/Session2/ClientStore2.pm line 81.
Secret string too short at /Users/petr/.cpan/build/HTTP-Session2-1.09-qFpuPO/blib/lib/HTTP/Session2/Base.pm line 79.
	HTTP::Session2::Base::__ANON__(HTTP::Session2::ClientStore2=HASH(0x7f852949d6e0), "s3cret") called at t/client_store2/01_basic.t line 123
	main::__ANON__("client -> server: request without cookie", CODE(0x7f8529487ef0)) called at t/client_store2/01_basic.t line 130
	main::__ANON__() called at /Users/petr/perl5/perlbrew/perls/perl-5.22.0/lib/5.22.0/Test/Builder.pm line 261
	Test::Builder::__ANON__() called at /Users/petr/perl5/perlbrew/perls/perl-5.22.0/lib/5.22.0/Test/Builder.pm line 266
	eval {...} called at /Users/petr/perl5/perlbrew/perls/perl-5.22.0/lib/5.22.0/Test/Builder.pm line 266
	Test::Builder::subtest(Test::Builder=HASH(0x7f852907ee28), "Logout", CODE(0x7f8529004f28)) called at /Users/petr/perl5/perlbrew/perls/perl-5.22.0/lib/5.22.0/Test/More.pm line 771
	Test::More::subtest("Logout", CODE(0x7f8529004f28)) called at t/client_store2/01_basic.t line 9
	main::scenario("Logout", CODE(0x7f8529004f28)) called at t/client_store2/01_basic.t line 143
Ciphertext does not begin with a valid header for 'salt' header mode at /Users/petr/.cpan/build/HTTP-Session2-1.09-qFpuPO/blib/lib/HTTP/Session2/ClientStore2.pm line 81.
t/client_store2/01_basic.t .. ok
t/client_store2/02_mech.t ... ok
t/client_store2/03_colon.t .. ok
All tests successful.
Files=14, Tests=83,  4 wallclock secs ( 0.13 usr  0.09 sys +  1.95 cusr  2.02 csys =  4.19 CPU)
Result: PASS

------------------------------
PREREQUISITES
------------------------------

Prerequisite modules loaded:

requires:

    Module                     Need     Have    
    -------------------------- -------- --------
    Cookie::Baker              0        0.06    
    Crypt::CBC                 0        2.33    
    Data::MessagePack          0        0.49    
    Digest::HMAC               0        1.03    
    Digest::SHA                0        5.95    
    Digest::SHA1               0        2.13    
    MIME::Base64               3.11     3.15    
    Mouse                      0        v2.4.5  
    parent                     0        0.232   
    perl                       5.008005 5.022000
    Time::HiRes                0        1.9726  

build_requires:

    Module                     Need     Have    
    -------------------------- -------- --------
    Crypt::Rijndael            0        1.13    
    Plack::Request             0        1.0038  
    Plack::Response            0        1.0038  
    Test::More                 0.98     1.001014
    Test::WWW::Mechanize::PSGI 0        0.35    

configure_requires:

    Module                     Need     Have    
    -------------------------- -------- --------
    Module::Build              0.38     0.4214  


------------------------------
ENVIRONMENT AND OTHER CONTEXT
------------------------------

Environment variables:

    AUTOMATED_TESTING = 1
    LANG = cs_CZ.UTF-8
    PATH = /Users/petr/perl5/perlbrew/bin:/Users/petr/perl5/perlbrew/perls/perl-5.22.0/bin:/usr/local/bin:/usr/bin:/bin:/usr/sbin:/sbin
    PERL5LIB = /Users/petr/.cpan/build/Mouse-v2.4.5-B8er7_/blib/arch:/Users/petr/.cpan/build/Mouse-v2.4.5-B8er7_/blib/lib:/Users/petr/.cpan/build/Test-Output-1.03-vrQcKt/blib/arch:/Users/petr/.cpan/build/Test-Output-1.03-vrQcKt/blib/lib:/Users/petr/.cpan/build/Test-LeakTrace-0.15-3VV2zs/blib/arch:/Users/petr/.cpan/build/Test-LeakTrace-0.15-3VV2zs/blib/lib:/Users/petr/.cpan/build/Module-Build-XSUtil-0.16-DFGPsW/blib/arch:/Users/petr/.cpan/build/Module-Build-XSUtil-0.16-DFGPsW/blib/lib:/Users/petr/.cpan/build/Cwd-Guard-0.04-uU9wWu/blib/arch:/Users/petr/.cpan/build/Cwd-Guard-0.04-uU9wWu/blib/lib:/Users/petr/.cpan/build/Devel-CheckCompiler-0.06-hvhcuW/blib/arch:/Users/petr/.cpan/build/Devel-CheckCompiler-0.06-hvhcuW/blib/lib:/Users/petr/.cpan/build/Crypt-CBC-2.33-YX0Iu1/blib/arch:/Users/petr/.cpan/build/Crypt-CBC-2.33-YX0Iu1/blib/lib:/Users/petr/.cpan/build/Crypt-Rijndael-1.13-8vb8CJ/blib/arch:/Users/petr/.cpan/build/Crypt-Rijndael-1.13-8vb8CJ/blib/lib:/Users/petr/.cpan/build/Data-MessagePack-0.49-tVSjPq/blib/arch:/Users/petr/.cpan/build/Data-MessagePack-0.49-tVSjPq/blib/lib:/Users/petr/.cpan/build/HTML-FillInForm-Lite-1.13-9L75uX/blib/arch:/Users/petr/.cpan/build/HTML-FillInForm-Lite-1.13-9L75uX/blib/lib:/Users/petr/.cpan/build/MRO-Compat-0.12-faDfbw/blib/arch:/Users/petr/.cpan/build/MRO-Compat-0.12-faDfbw/blib/lib:/Users/petr/.cpan/build/Plack-Middleware-Session-0.30-Mm1rVU/blib/arch:/Users/petr/.cpan/build/Plack-Middleware-Session-0.30-Mm1rVU/blib/lib:/Users/petr/.cpan/build/Digest-SHA1-2.13-LU313y/blib/arch:/Users/petr/.cpan/build/Digest-SHA1-2.13-LU313y/blib/lib:/Users/petr/.cpan/build/Module-Build-Tiny-0.039-bOPuU4/blib/arch:/Users/petr/.cpan/build/Module-Build-Tiny-0.039-bOPuU4/blib/lib:/Users/petr/.cpan/build/ExtUtils-InstallPaths-0.011-rxOM13/blib/arch:/Users/petr/.cpan/build/ExtUtils-InstallPaths-0.011-rxOM13/blib/lib:/Users/petr/.cpan/build/ExtUtils-Config-0.008-nSzGUO/blib/arch:/Users/petr/.cpan/build/ExtUtils-Config-0.008-nSzGUO/blib/lib:/Users/petr/.cpan/build/ExtUtils-Helpers-0.022-uSNRfd/blib/arch:/Users/petr/.cpan/build/ExtUtils-Helpers-0.022-uSNRfd/blib/lib:/Users/petr/.cpan/build/Router-Boom-1.02-eJ9yQY/blib/arch:/Users/petr/.cpan/build/Router-Boom-1.02-eJ9yQY/blib/lib:/Users/petr/.cpan/build/Class-Accessor-Lite-0.08-80AM7w/blib/arch:/Users/petr/.cpan/build/Class-Accessor-Lite-0.08-80AM7w/blib/lib:/Users/petr/.cpan/build/Test-WWW-Mechanize-PSGI-0.35-qntC0i/blib/arch:/Users/petr/.cpan/build/Test-WWW-Mechanize-PSGI-0.35-qntC0i/blib/lib:/Users/petr/.cpan/build/Test-WWW-Mechanize-1.44-H1Tb2Y/blib/arch:/Users/petr/.cpan/build/Test-WWW-Mechanize-1.44-H1Tb2Y/blib/lib:/Users/petr/.cpan/build/WWW-Mechanize-1.75-vl4S65/blib/arch:/Users/petr/.cpan/build/WWW-Mechanize-1.75-vl4S65/blib/lib:/Users/petr/.cpan/build/HTML-Form-6.03-0V2XXI/blib/arch:/Users/petr/.cpan/build/HTML-Form-6.03-0V2XXI/blib/lib:/Users/petr/.cpan/build/HTTP-Server-Simple-0.51-hsFhvk/blib/arch:/Users/petr/.cpan/build/HTTP-Server-Simple-0.51-hsFhvk/blib/lib:/Users/petr/.cpan/build/CGI-4.22-8WSU_6/blib/arch:/Users/petr/.cpan/build/CGI-4.22-8WSU_6/blib/lib:/Users/petr/.cpan/build/Test-NoWarnings-1.04-c2vjZL/blib/arch:/Users/petr/.cpan/build/Test-NoWarnings-1.04-c2vjZL/blib/lib:/Users/petr/.cpan/build/Test-Warn-0.30-6rQk4o/blib/arch:/Users/petr/.cpan/build/Test-Warn-0.30-6rQk4o/blib/lib:/Users/petr/.cpan/build/Carp-Assert-More-1.14-4oBXRP/blib/arch:/Users/petr/.cpan/build/Carp-Assert-More-1.14-4oBXRP/blib/lib:/Users/petr/.cpan/build/Carp-Assert-0.21-uxzs32/blib/arch:/Users/petr/.cpan/build/Carp-Assert-0.21-uxzs32/blib/lib:/Users/petr/.cpan/build/Test-LongString-0.17-pkztUg/blib/arch:/Users/petr/.cpan/build/Test-LongString-0.17-pkztUg/blib/lib:/Users/petr/.cpan/build/HTML-Formatter-2.14-Zjxmvu/blib/arch:/Users/petr/.cpan/build/HTML-Formatter-2.14-Zjxmvu/blib/lib:/Users/petr/.cpan/build/PerlIO-utf8_strict-0.006-8Iu1HJ/blib/arch:/Users/petr/.cpan/build/PerlIO-utf8_strict-0.006-8Iu1HJ/blib/lib:/Users/petr/.cpan/build/Test-Exception-0.40-Sz8B8F/blib/arch:/Users/petr/.cpan/build/Test-Exception-0.40-Sz8B8F/blib/lib:/Users/petr/.cpan/build/Sub-Uplevel-0.25-KbQjrc/blib/arch:/Users/petr/.cpan/build/Sub-Uplevel-0.25-KbQjrc/blib/lib:/Users/petr/.cpan/build/File-Slurper-0.008-YDAorU/blib/arch:/Users/petr/.cpan/build/File-Slurper-0.008-YDAorU/blib/lib:/Users/petr/.cpan/build/Test-EOL-1.6-3bvkxh/blib/arch:/Users/petr/.cpan/build/Test-EOL-1.6-3bvkxh/blib/lib:/Users/petr/.cpan/build/Test-CPAN-Meta-JSON-0.16-Gu7SJd/blib/arch:/Users/petr/.cpan/build/Test-CPAN-Meta-JSON-0.16-Gu7SJd/blib/lib:/Users/petr/.cpan/build/Test-Pod-1.51-H9jd9m/blib/arch:/Users/petr/.cpan/build/Test-Pod-1.51-H9jd9m/blib/lib:/Users/petr/.cpan/build/Test-Pod-Coverage-1.10-6aQTvO/blib/arch:/Users/petr/.cpan/build/Test-Pod-Coverage-1.10-6aQTvO/blib/lib:/Users/petr/.cpan/build/Pod-Coverage-0.23-ExbxL1/blib/arch:/Users/petr/.cpan/build/Pod-Coverage-0.23-ExbxL1/blib/lib:/Users/petr/.cpan/build/Devel-Symdump-2.15-VgJstX/blib/arch:/Users/petr/.cpan/build/Devel-Symdump-2.15-VgJstX/blib/lib:/Users/petr/.cpan/build/Test-CPAN-Meta-0.25-uyjweD/blib/arch:/Users/petr/.cpan/build/Test-CPAN-Meta-0.25-uyjweD/blib/lib:/Users/petr/.cpan/build/Test-NoTabs-1.4-0gRboo/blib/arch:/Users/petr/.cpan/build/Test-NoTabs-1.4-0gRboo/blib/lib:/Users/petr/.cpan/build/Font-AFM-1.20-rvCRV_/blib/arch:/Users/petr/.cpan/build/Font-AFM-1.20-rvCRV_/blib/lib:/Users/petr/.cpan/build/HTML-Tree-5.03-Npxn0d/blib/arch:/Users/petr/.cpan/build/HTML-Tree-5.03-Npxn0d/blib/lib:/Users/petr/.cpan/build/Plack-1.0038-Spp03d/blib/arch:/Users/petr/.cpan/build/Plack-1.0038-Spp03d/blib/lib:/Users/petr/.cpan/build/Hash-MultiValue-0.16-o0EZOk/blib/arch:/Users/petr/.cpan/build/Hash-MultiValue-0.16-o0EZOk/blib/lib:/Users/petr/.cpan/build/File-ShareDir-1.102-SCZGUQ/blib/arch:/Users/petr/.cpan/build/File-ShareDir-1.102-SCZGUQ/blib/lib:/Users/petr/.cpan/build/Class-Inspector-1.28-6Nbk5g/blib/arch:/Users/petr/.cpan/build/Class-Inspector-1.28-6Nbk5g/blib/lib:/Users/petr/.cpan/build/Test-TCP-2.14-K9qknx/blib/arch:/Users/petr/.cpan/build/Test-TCP-2.14-K9qknx/blib/lib:/Users/petr/.cpan/build/HTTP-Body-1.22-p7tHII/blib/arch:/Users/petr/.cpan/build/HTTP-Body-1.22-p7tHII/blib/lib:/Users/petr/.cpan/build/Test-Deep-1.120-X8Bj7l/blib/arch:/Users/petr/.cpan/build/Test-Deep-1.120-X8Bj7l/blib/lib:/Users/petr/.cpan/build/Apache-LogFormat-Compiler-0.32-ki_etg/blib/arch:/Users/petr/.cpan/build/Apache-LogFormat-Compiler-0.32-ki_etg/blib/lib:/Users/petr/.cpan/build/POSIX-strftime-Compiler-0.41-sxo_IN/blib/arch:/Users/petr/.cpan/build/POSIX-strftime-Compiler-0.41-sxo_IN/blib/lib:/Users/petr/.cpan/build/Test-MockTime-0.15-dF9Xgw/blib/arch:/Users/petr/.cpan/build/Test-MockTime-0.15-dF9Xgw/blib/lib:/Users/petr/.cpan/build/Stream-Buffered-0.03-MfYrf_/blib/arch:/Users/petr/.cpan/build/Stream-Buffered-0.03-MfYrf_/blib/lib:/Users/petr/.cpan/build/HTTP-Headers-Fast-0.20-ZuUP91/blib/arch:/Users/petr/.cpan/build/HTTP-Headers-Fast-0.20-ZuUP91/blib/lib:/Users/petr/.cpan/build/Devel-StackTrace-AsHTML-0.14-Bwus91/blib/arch:/Users/petr/.cpan/build/Devel-StackTrace-AsHTML-0.14-Bwus91/blib/lib:/Users/petr/.cpan/build/Devel-StackTrace-2.00-ObaEFZ/blib/arch:/Users/petr/.cpan/build/Devel-StackTrace-2.00-ObaEFZ/blib/lib:/Users/petr/.cpan/build/Filesys-Notify-Simple-0.12-aYq0D8/blib/arch:/Users/petr/.cpan/build/Filesys-Notify-Simple-0.12-aYq0D8/blib/lib:/Users/petr/.cpan/build/Test-SharedFork-0.34-djBLzh/blib/arch:/Users/petr/.cpan/build/Test-SharedFork-0.34-djBLzh/blib/lib:/Users/petr/.cpan/build/Cookie-Baker-0.06-raPIZb/blib/arch:/Users/petr/.cpan/build/Cookie-Baker-0.06-raPIZb/blib/lib:/Users/petr/.cpan/build/Test-Time-0.04-mZM88i/blib/arch:/Users/petr/.cpan/build/Test-Time-0.04-mZM88i/blib/lib:/Users/petr/.cpan/build/Test-Name-FromLine-0.13-8vwxdj/blib/arch:/Users/petr/.cpan/build/Test-Name-FromLine-0.13-8vwxdj/blib/lib:/Users/petr/.cpan/build/File-Slurp-9999.19-hTxKMA/blib/arch:/Users/petr/.cpan/build/File-Slurp-9999.19-hTxKMA/blib/lib:/Users/petr/.cpan/build/Test-Differences-0.64-Qy6RTj/blib/arch:/Users/petr/.cpan/build/Test-Differences-0.64-Qy6RTj/blib/lib:/Users/petr/.cpan/build/File-ShareDir-Install-0.10-aZB75U/blib/arch:/Users/petr/.cpan/build/File-ShareDir-Install-0.10-aZB75U/blib/lib:/Users/petr/.cpan/build/Woothee-1.2.0-QPaD6e/blib/arch:/Users/petr/.cpan/build/Woothee-1.2.0-QPaD6e/blib/lib:/Users/petr/.cpan/build/Test-Requires-0.10-AoMwJV/blib/arch:/Users/petr/.cpan/build/Test-Requires-0.10-AoMwJV/blib/lib
    PERL5OPT = 
    PERL5_CPANPLUS_IS_RUNNING = 54838
    PERL5_CPAN_IS_RUNNING = 54838
    PERL5_CPAN_IS_RUNNING_IN_RECURSION = 475,54838
    PERLBREW_BASHRC_VERSION = 0.74
    PERLBREW_HOME = /Users/petr/.perlbrew
    PERLBREW_MANPATH = /Users/petr/perl5/perlbrew/perls/perl-5.22.0/man
    PERLBREW_PATH = /Users/petr/perl5/perlbrew/bin:/Users/petr/perl5/perlbrew/perls/perl-5.22.0/bin
    PERLBREW_PERL = perl-5.22.0
    PERLBREW_ROOT = /Users/petr/perl5/perlbrew
    PERLBREW_VERSION = 0.74
    PERL_CR_SMOKER_CURRENT = Amon2-Plugin-Web-Woothee-0.02
    PERL_EXTUTILS_AUTOINSTALL = --defaultdeps
    PERL_MM_USE_DEFAULT = 1
    SHELL = /bin/bash
    TERM = xterm-256color
    TMPDIR = /var/folders/x5/mbl5nhls3z779qkgqvdxmbqc0000gn/T/

Perl special variables (and OS-specific diagnostics, for MSWin32):

    $^X = /Users/petr/perl5/perlbrew/perls/perl-5.22.0/bin/perl
    $UID/$EUID = 501 / 501
    $GID = 20 20 701 12 61 79 80 81 98 33 100 204 395 398 399
    $EGID = 20 20 701 12 61 79 80 81 98 33 100 204 395 398 399

Perl module toolchain versions installed:

    Module              Have    
    ------------------- --------
    CPAN                2.11    
    CPAN::Meta          2.150001
    Cwd                 3.56    
    ExtUtils::CBuilder  0.280221
    ExtUtils::Command   1.20    
    ExtUtils::Install   2.04    
    ExtUtils::MakeMaker 7.04_01 
    ExtUtils::Manifest  1.70    
    ExtUtils::ParseXS   3.28    
    File::Spec          3.56    
    JSON                2.90    
    JSON::PP            2.27300 
    Module::Build       0.4214  
    Module::Signature   n/a     
    Parse::CPAN::Meta   1.4414  
    Test::Harness       3.35    
    Test::More          1.001014
    YAML                1.15    
    YAML::Syck          1.29    
    version             0.9909  


--

Summary of my perl5 (revision 5 version 22 subversion 0) configuration:
   
  Platform:
    osname=darwin, osvers=15.0.0, archname=darwin-2level
    uname='darwin petrs-macbook-pro.local 15.0.0 darwin kernel version 15.0.0: sat sep 19 15:53:46 pdt 2015; root:xnu-3247.10.11~1release_x86_64 x86_64 '
    config_args='-de -Dprefix=/Users/petr/perl5/perlbrew/perls/perl-5.22.0 -Aeval:scriptdir=/Users/petr/perl5/perlbrew/perls/perl-5.22.0/bin'
    hint=recommended, useposix=true, d_sigaction=define
    useithreads=undef, usemultiplicity=undef
    use64bitint=define, use64bitall=define, uselongdouble=undef
    usemymalloc=n, bincompat5005=undef
  Compiler:
    cc='cc', ccflags ='-fno-common -DPERL_DARWIN -fno-strict-aliasing -pipe -fstack-protector-strong',
    optimize='-O3',
    cppflags='-fno-common -DPERL_DARWIN -fno-strict-aliasing -pipe -fstack-protector-strong'
    ccversion='', gccversion='4.2.1 Compatible Apple LLVM 7.0.0 (clang-700.1.76)', gccosandvers=''
    intsize=4, longsize=8, ptrsize=8, doublesize=8, byteorder=12345678, doublekind=3
    d_longlong=define, longlongsize=8, d_longdbl=define, longdblsize=16, longdblkind=3
    ivtype='long', ivsize=8, nvtype='double', nvsize=8, Off_t='off_t', lseeksize=8
    alignbytes=8, prototype=define
  Linker and Libraries:
    ld='env MACOSX_DEPLOYMENT_TARGET=10.3 cc', ldflags =' -fstack-protector-strong'
    libpth=/Library/Developer/CommandLineTools/usr/bin/../lib/clang/7.0.0/lib /Library/Developer/CommandLineTools/usr/lib /usr/lib
    libs=-lpthread -ldbm -ldl -lm -lutil -lc
    perllibs=-lpthread -ldl -lm -lutil -lc
    libc=, so=dylib, useshrplib=false, libperl=libperl.a
    gnulibc_version=''
  Dynamic Linking:
    dlsrc=dl_dlopen.xs, dlext=bundle, d_dlsymun=undef, ccdlflags=' '
    cccdlflags=' ', lddlflags=' -bundle -undefined dynamic_lookup -fstack-protector-strong'


Characteristics of this binary (from libperl): 
  Compile-time options: HAS_TIMES PERLIO_LAYERS PERL_DONT_CREATE_GVSV
                        PERL_HASH_FUNC_ONE_AT_A_TIME_HARD PERL_MALLOC_WRAP
                        PERL_NEW_COPY_ON_WRITE PERL_PRESERVE_IVUV
                        USE_64_BIT_ALL USE_64_BIT_INT USE_LARGE_FILES
                        USE_LOCALE USE_LOCALE_COLLATE USE_LOCALE_CTYPE
                        USE_LOCALE_NUMERIC USE_LOCALE_TIME USE_PERLIO
                        USE_PERL_ATOF
  Locally applied patches:
	Devel::PatchPerl 1.38
  Built under darwin
  Compiled at Nov 26 2015 13:23:50
  %ENV:
    PERL5LIB="/Users/petr/.cpan/build/Mouse-v2.4.5-B8er7_/blib/arch:/Users/petr/.cpan/build/Mouse-v2.4.5-B8er7_/blib/lib:/Users/petr/.cpan/build/Test-Output-1.03-vrQcKt/blib/arch:/Users/petr/.cpan/build/Test-Output-1.03-vrQcKt/blib/lib:/Users/petr/.cpan/build/Test-LeakTrace-0.15-3VV2zs/blib/arch:/Users/petr/.cpan/build/Test-LeakTrace-0.15-3VV2zs/blib/lib:/Users/petr/.cpan/build/Module-Build-XSUtil-0.16-DFGPsW/blib/arch:/Users/petr/.cpan/build/Module-Build-XSUtil-0.16-DFGPsW/blib/lib:/Users/petr/.cpan/build/Cwd-Guard-0.04-uU9wWu/blib/arch:/Users/petr/.cpan/build/Cwd-Guard-0.04-uU9wWu/blib/lib:/Users/petr/.cpan/build/Devel-CheckCompiler-0.06-hvhcuW/blib/arch:/Users/petr/.cpan/build/Devel-CheckCompiler-0.06-hvhcuW/blib/lib:/Users/petr/.cpan/build/Crypt-CBC-2.33-YX0Iu1/blib/arch:/Users/petr/.cpan/build/Crypt-CBC-2.33-YX0Iu1/blib/lib:/Users/petr/.cpan/build/Crypt-Rijndael-1.13-8vb8CJ/blib/arch:/Users/petr/.cpan/build/Crypt-Rijndael-1.13-8vb8CJ/blib/lib:/Users/petr/.cpan/build/Data-MessagePack-0.49-tVSjPq/blib/arch:/Users/petr/.cpan/build/Data-MessagePack-0.49-tVSjPq/blib/lib:/Users/petr/.cpan/build/HTML-FillInForm-Lite-1.13-9L75uX/blib/arch:/Users/petr/.cpan/build/HTML-FillInForm-Lite-1.13-9L75uX/blib/lib:/Users/petr/.cpan/build/MRO-Compat-0.12-faDfbw/blib/arch:/Users/petr/.cpan/build/MRO-Compat-0.12-faDfbw/blib/lib:/Users/petr/.cpan/build/Plack-Middleware-Session-0.30-Mm1rVU/blib/arch:/Users/petr/.cpan/build/Plack-Middleware-Session-0.30-Mm1rVU/blib/lib:/Users/petr/.cpan/build/Digest-SHA1-2.13-LU313y/blib/arch:/Users/petr/.cpan/build/Digest-SHA1-2.13-LU313y/blib/lib:/Users/petr/.cpan/build/Module-Build-Tiny-0.039-bOPuU4/blib/arch:/Users/petr/.cpan/build/Module-Build-Tiny-0.039-bOPuU4/blib/lib:/Users/petr/.cpan/build/ExtUtils-InstallPaths-0.011-rxOM13/blib/arch:/Users/petr/.cpan/build/ExtUtils-InstallPaths-0.011-rxOM13/blib/lib:/Users/petr/.cpan/build/ExtUtils-Config-0.008-nSzGUO/blib/arch:/Users/petr/.cpan/build/ExtUtils-Config-0.008-nSzGUO/blib/lib:/Users/petr/.cpan/build/ExtUtils-Helpers-0.022-uSNRfd/blib/arch:/Users/petr/.cpan/build/ExtUtils-Helpers-0.022-uSNRfd/blib/lib:/Users/petr/.cpan/build/Router-Boom-1.02-eJ9yQY/blib/arch:/Users/petr/.cpan/build/Router-Boom-1.02-eJ9yQY/blib/lib:/Users/petr/.cpan/build/Class-Accessor-Lite-0.08-80AM7w/blib/arch:/Users/petr/.cpan/build/Class-Accessor-Lite-0.08-80AM7w/blib/lib:/Users/petr/.cpan/build/Test-WWW-Mechanize-PSGI-0.35-qntC0i/blib/arch:/Users/petr/.cpan/build/Test-WWW-Mechanize-PSGI-0.35-qntC0i/blib/lib:/Users/petr/.cpan/build/Test-WWW-Mechanize-1.44-H1Tb2Y/blib/arch:/Users/petr/.cpan/build/Test-WWW-Mechanize-1.44-H1Tb2Y/blib/lib:/Users/petr/.cpan/build/WWW-Mechanize-1.75-vl4S65/blib/arch:/Users/petr/.cpan/build/WWW-Mechanize-1.75-vl4S65/blib/lib:/Users/petr/.cpan/build/HTML-Form-6.03-0V2XXI/blib/arch:/Users/petr/.cpan/build/HTML-Form-6.03-0V2XXI/blib/lib:/Users/petr/.cpan/build/HTTP-Server-Simple-0.51-hsFhvk/blib/arch:/Users/petr/.cpan/build/HTTP-Server-Simple-0.51-hsFhvk/blib/lib:/Users/petr/.cpan/build/CGI-4.22-8WSU_6/blib/arch:/Users/petr/.cpan/build/CGI-4.22-8WSU_6/blib/lib:/Users/petr/.cpan/build/Test-NoWarnings-1.04-c2vjZL/blib/arch:/Users/petr/.cpan/build/Test-NoWarnings-1.04-c2vjZL/blib/lib:/Users/petr/.cpan/build/Test-Warn-0.30-6rQk4o/blib/arch:/Users/petr/.cpan/build/Test-Warn-0.30-6rQk4o/blib/lib:/Users/petr/.cpan/build/Carp-Assert-More-1.14-4oBXRP/blib/arch:/Users/petr/.cpan/build/Carp-Assert-More-1.14-4oBXRP/blib/lib:/Users/petr/.cpan/build/Carp-Assert-0.21-uxzs32/blib/arch:/Users/petr/.cpan/build/Carp-Assert-0.21-uxzs32/blib/lib:/Users/petr/.cpan/build/Test-LongString-0.17-pkztUg/blib/arch:/Users/petr/.cpan/build/Test-LongString-0.17-pkztUg/blib/lib:/Users/petr/.cpan/build/HTML-Formatter-2.14-Zjxmvu/blib/arch:/Users/petr/.cpan/build/HTML-Formatter-2.14-Zjxmvu/blib/lib:/Users/petr/.cpan/build/PerlIO-utf8_strict-0.006-8Iu1HJ/blib/arch:/Users/petr/.cpan/build/PerlIO-utf8_strict-0.006-8Iu1HJ/blib/lib:/Users/petr/.cpan/build/Test-Exception-0.40-Sz8B8F/blib/arch:/Users/petr/.cpan/build/Test-Exception-0.40-Sz8B8F/blib/lib:/Users/petr/.cpan/build/Sub-Uplevel-0.25-KbQjrc/blib/arch:/Users/petr/.cpan/build/Sub-Uplevel-0.25-KbQjrc/blib/lib:/Users/petr/.cpan/build/File-Slurper-0.008-YDAorU/blib/arch:/Users/petr/.cpan/build/File-Slurper-0.008-YDAorU/blib/lib:/Users/petr/.cpan/build/Test-EOL-1.6-3bvkxh/blib/arch:/Users/petr/.cpan/build/Test-EOL-1.6-3bvkxh/blib/lib:/Users/petr/.cpan/build/Test-CPAN-Meta-JSON-0.16-Gu7SJd/blib/arch:/Users/petr/.cpan/build/Test-CPAN-Meta-JSON-0.16-Gu7SJd/blib/lib:/Users/petr/.cpan/build/Test-Pod-1.51-H9jd9m/blib/arch:/Users/petr/.cpan/build/Test-Pod-1.51-H9jd9m/blib/lib:/Users/petr/.cpan/build/Test-Pod-Coverage-1.10-6aQTvO/blib/arch:/Users/petr/.cpan/build/Test-Pod-Coverage-1.10-6aQTvO/blib/lib:/Users/petr/.cpan/build/Pod-Coverage-0.23-ExbxL1/blib/arch:/Users/petr/.cpan/build/Pod-Coverage-0.23-ExbxL1/blib/lib:/Users/petr/.cpan/build/Devel-Symdump-2.15-VgJstX/blib/arch:/Users/petr/.cpan/build/Devel-Symdump-2.15-VgJstX/blib/lib:/Users/petr/.cpan/build/Test-CPAN-Meta-0.25-uyjweD/blib/arch:/Users/petr/.cpan/build/Test-CPAN-Meta-0.25-uyjweD/blib/lib:/Users/petr/.cpan/build/Test-NoTabs-1.4-0gRboo/blib/arch:/Users/petr/.cpan/build/Test-NoTabs-1.4-0gRboo/blib/lib:/Users/petr/.cpan/build/Font-AFM-1.20-rvCRV_/blib/arch:/Users/petr/.cpan/build/Font-AFM-1.20-rvCRV_/blib/lib:/Users/petr/.cpan/build/HTML-Tree-5.03-Npxn0d/blib/arch:/Users/petr/.cpan/build/HTML-Tree-5.03-Npxn0d/blib/lib:/Users/petr/.cpan/build/Plack-1.0038-Spp03d/blib/arch:/Users/petr/.cpan/build/Plack-1.0038-Spp03d/blib/lib:/Users/petr/.cpan/build/Hash-MultiValue-0.16-o0EZOk/blib/arch:/Users/petr/.cpan/build/Hash-MultiValue-0.16-o0EZOk/blib/lib:/Users/petr/.cpan/build/File-ShareDir-1.102-SCZGUQ/blib/arch:/Users/petr/.cpan/build/File-ShareDir-1.102-SCZGUQ/blib/lib:/Users/petr/.cpan/build/Class-Inspector-1.28-6Nbk5g/blib/arch:/Users/petr/.cpan/build/Class-Inspector-1.28-6Nbk5g/blib/lib:/Users/petr/.cpan/build/Test-TCP-2.14-K9qknx/blib/arch:/Users/petr/.cpan/build/Test-TCP-2.14-K9qknx/blib/lib:/Users/petr/.cpan/build/HTTP-Body-1.22-p7tHII/blib/arch:/Users/petr/.cpan/build/HTTP-Body-1.22-p7tHII/blib/lib:/Users/petr/.cpan/build/Test-Deep-1.120-X8Bj7l/blib/arch:/Users/petr/.cpan/build/Test-Deep-1.120-X8Bj7l/blib/lib:/Users/petr/.cpan/build/Apache-LogFormat-Compiler-0.32-ki_etg/blib/arch:/Users/petr/.cpan/build/Apache-LogFormat-Compiler-0.32-ki_etg/blib/lib:/Users/petr/.cpan/build/POSIX-strftime-Compiler-0.41-sxo_IN/blib/arch:/Users/petr/.cpan/build/POSIX-strftime-Compiler-0.41-sxo_IN/blib/lib:/Users/petr/.cpan/build/Test-MockTime-0.15-dF9Xgw/blib/arch:/Users/petr/.cpan/build/Test-MockTime-0.15-dF9Xgw/blib/lib:/Users/petr/.cpan/build/Stream-Buffered-0.03-MfYrf_/blib/arch:/Users/petr/.cpan/build/Stream-Buffered-0.03-MfYrf_/blib/lib:/Users/petr/.cpan/build/HTTP-Headers-Fast-0.20-ZuUP91/blib/arch:/Users/petr/.cpan/build/HTTP-Headers-Fast-0.20-ZuUP91/blib/lib:/Users/petr/.cpan/build/Devel-StackTrace-AsHTML-0.14-Bwus91/blib/arch:/Users/petr/.cpan/build/Devel-StackTrace-AsHTML-0.14-Bwus91/blib/lib:/Users/petr/.cpan/build/Devel-StackTrace-2.00-ObaEFZ/blib/arch:/Users/petr/.cpan/build/Devel-StackTrace-2.00-ObaEFZ/blib/lib:/Users/petr/.cpan/build/Filesys-Notify-Simple-0.12-aYq0D8/blib/arch:/Users/petr/.cpan/build/Filesys-Notify-Simple-0.12-aYq0D8/blib/lib:/Users/petr/.cpan/build/Test-SharedFork-0.34-djBLzh/blib/arch:/Users/petr/.cpan/build/Test-SharedFork-0.34-djBLzh/blib/lib:/Users/petr/.cpan/build/Cookie-Baker-0.06-raPIZb/blib/arch:/Users/petr/.cpan/build/Cookie-Baker-0.06-raPIZb/blib/lib:/Users/petr/.cpan/build/Test-Time-0.04-mZM88i/blib/arch:/Users/petr/.cpan/build/Test-Time-0.04-mZM88i/blib/lib:/Users/petr/.cpan/build/Test-Name-FromLine-0.13-8vwxdj/blib/arch:/Users/petr/.cpan/build/Test-Name-FromLine-0.13-8vwxdj/blib/lib:/Users/petr/.cpan/build/File-Slurp-9999.19-hTxKMA/blib/arch:/Users/petr/.cpan/build/File-Slurp-9999.19-hTxKMA/blib/lib:/Users/petr/.cpan/build/Test-Differences-0.64-Qy6RTj/blib/arch:/Users/petr/.cpan/build/Test-Differences-0.64-Qy6RTj/blib/lib:/Users/petr/.cpan/build/File-ShareDir-Install-0.10-aZB75U/blib/arch:/Users/petr/.cpan/build/File-ShareDir-Install-0.10-aZB75U/blib/lib:/Users/petr/.cpan/build/Woothee-1.2.0-QPaD6e/blib/arch:/Users/petr/.cpan/build/Woothee-1.2.0-QPaD6e/blib/lib:/Users/petr/.cpan/build/Test-Requires-0.10-AoMwJV/blib/arch:/Users/petr/.cpan/build/Test-Requires-0.10-AoMwJV/blib/lib"
    PERL5OPT=""
    PERL5_CPANPLUS_IS_RUNNING="54838"
    PERL5_CPAN_IS_RUNNING="54838"
    PERL5_CPAN_IS_RUNNING_IN_RECURSION="475,54838"
    PERLBREW_BASHRC_VERSION="0.74"
    PERLBREW_HOME="/Users/petr/.perlbrew"
    PERLBREW_MANPATH="/Users/petr/perl5/perlbrew/perls/perl-5.22.0/man"
    PERLBREW_PATH="/Users/petr/perl5/perlbrew/bin:/Users/petr/perl5/perlbrew/perls/perl-5.22.0/bin"
    PERLBREW_PERL="perl-5.22.0"
    PERLBREW_ROOT="/Users/petr/perl5/perlbrew"
    PERLBREW_VERSION="0.74"
    PERL_CR_SMOKER_CURRENT="Amon2-Plugin-Web-Woothee-0.02"
    PERL_EXTUTILS_AUTOINSTALL="--defaultdeps"
    PERL_MM_USE_DEFAULT="1"
  @INC:
    /Users/petr/.cpan/build/Mouse-v2.4.5-B8er7_/blib/arch
    /Users/petr/.cpan/build/Mouse-v2.4.5-B8er7_/blib/lib
    /Users/petr/.cpan/build/Test-Output-1.03-vrQcKt/blib/arch
    /Users/petr/.cpan/build/Test-Output-1.03-vrQcKt/blib/lib
    /Users/petr/.cpan/build/Test-LeakTrace-0.15-3VV2zs/blib/arch
    /Users/petr/.cpan/build/Test-LeakTrace-0.15-3VV2zs/blib/lib
    /Users/petr/.cpan/build/Module-Build-XSUtil-0.16-DFGPsW/blib/arch
    /Users/petr/.cpan/build/Module-Build-XSUtil-0.16-DFGPsW/blib/lib
    /Users/petr/.cpan/build/Cwd-Guard-0.04-uU9wWu/blib/arch
    /Users/petr/.cpan/build/Cwd-Guard-0.04-uU9wWu/blib/lib
    /Users/petr/.cpan/build/Devel-CheckCompiler-0.06-hvhcuW/blib/arch
    /Users/petr/.cpan/build/Devel-CheckCompiler-0.06-hvhcuW/blib/lib
    /Users/petr/.cpan/build/Crypt-CBC-2.33-YX0Iu1/blib/arch
    /Users/petr/.cpan/build/Crypt-CBC-2.33-YX0Iu1/blib/lib
    /Users/petr/.cpan/build/Crypt-Rijndael-1.13-8vb8CJ/blib/arch
    /Users/petr/.cpan/build/Crypt-Rijndael-1.13-8vb8CJ/blib/lib
    /Users/petr/.cpan/build/Data-MessagePack-0.49-tVSjPq/blib/arch
    /Users/petr/.cpan/build/Data-MessagePack-0.49-tVSjPq/blib/lib
    /Users/petr/.cpan/build/HTML-FillInForm-Lite-1.13-9L75uX/blib/arch
    /Users/petr/.cpan/build/HTML-FillInForm-Lite-1.13-9L75uX/blib/lib
    /Users/petr/.cpan/build/MRO-Compat-0.12-faDfbw/blib/arch
    /Users/petr/.cpan/build/MRO-Compat-0.12-faDfbw/blib/lib
    /Users/petr/.cpan/build/Plack-Middleware-Session-0.30-Mm1rVU/blib/arch
    /Users/petr/.cpan/build/Plack-Middleware-Session-0.30-Mm1rVU/blib/lib
    /Users/petr/.cpan/build/Digest-SHA1-2.13-LU313y/blib/arch
    /Users/petr/.cpan/build/Digest-SHA1-2.13-LU313y/blib/lib
    /Users/petr/.cpan/build/Module-Build-Tiny-0.039-bOPuU4/blib/arch
    /Users/petr/.cpan/build/Module-Build-Tiny-0.039-bOPuU4/blib/lib
    /Users/petr/.cpan/build/ExtUtils-InstallPaths-0.011-rxOM13/blib/arch
    /Users/petr/.cpan/build/ExtUtils-InstallPaths-0.011-rxOM13/blib/lib
    /Users/petr/.cpan/build/ExtUtils-Config-0.008-nSzGUO/blib/arch
    /Users/petr/.cpan/build/ExtUtils-Config-0.008-nSzGUO/blib/lib
    /Users/petr/.cpan/build/ExtUtils-Helpers-0.022-uSNRfd/blib/arch
    /Users/petr/.cpan/build/ExtUtils-Helpers-0.022-uSNRfd/blib/lib
    /Users/petr/.cpan/build/Router-Boom-1.02-eJ9yQY/blib/arch
    /Users/petr/.cpan/build/Router-Boom-1.02-eJ9yQY/blib/lib
    /Users/petr/.cpan/build/Class-Accessor-Lite-0.08-80AM7w/blib/arch
    /Users/petr/.cpan/build/Class-Accessor-Lite-0.08-80AM7w/blib/lib
    /Users/petr/.cpan/build/Test-WWW-Mechanize-PSGI-0.35-qntC0i/blib/arch
    /Users/petr/.cpan/build/Test-WWW-Mechanize-PSGI-0.35-qntC0i/blib/lib
    /Users/petr/.cpan/build/Test-WWW-Mechanize-1.44-H1Tb2Y/blib/arch
    /Users/petr/.cpan/build/Test-WWW-Mechanize-1.44-H1Tb2Y/blib/lib
    /Users/petr/.cpan/build/WWW-Mechanize-1.75-vl4S65/blib/arch
    /Users/petr/.cpan/build/WWW-Mechanize-1.75-vl4S65/blib/lib
    /Users/petr/.cpan/build/HTML-Form-6.03-0V2XXI/blib/arch
    /Users/petr/.cpan/build/HTML-Form-6.03-0V2XXI/blib/lib
    /Users/petr/.cpan/build/HTTP-Server-Simple-0.51-hsFhvk/blib/arch
    /Users/petr/.cpan/build/HTTP-Server-Simple-0.51-hsFhvk/blib/lib
    /Users/petr/.cpan/build/CGI-4.22-8WSU_6/blib/arch
    /Users/petr/.cpan/build/CGI-4.22-8WSU_6/blib/lib
    /Users/petr/.cpan/build/Test-NoWarnings-1.04-c2vjZL/blib/arch
    /Users/petr/.cpan/build/Test-NoWarnings-1.04-c2vjZL/blib/lib
    /Users/petr/.cpan/build/Test-Warn-0.30-6rQk4o/blib/arch
    /Users/petr/.cpan/build/Test-Warn-0.30-6rQk4o/blib/lib
    /Users/petr/.cpan/build/Carp-Assert-More-1.14-4oBXRP/blib/arch
    /Users/petr/.cpan/build/Carp-Assert-More-1.14-4oBXRP/blib/lib
    /Users/petr/.cpan/build/Carp-Assert-0.21-uxzs32/blib/arch
    /Users/petr/.cpan/build/Carp-Assert-0.21-uxzs32/blib/lib
    /Users/petr/.cpan/build/Test-LongString-0.17-pkztUg/blib/arch
    /Users/petr/.cpan/build/Test-LongString-0.17-pkztUg/blib/lib
    /Users/petr/.cpan/build/HTML-Formatter-2.14-Zjxmvu/blib/arch
    /Users/petr/.cpan/build/HTML-Formatter-2.14-Zjxmvu/blib/lib
    /Users/petr/.cpan/build/PerlIO-utf8_strict-0.006-8Iu1HJ/blib/arch
    /Users/petr/.cpan/build/PerlIO-utf8_strict-0.006-8Iu1HJ/blib/lib
    /Users/petr/.cpan/build/Test-Exception-0.40-Sz8B8F/blib/arch
    /Users/petr/.cpan/build/Test-Exception-0.40-Sz8B8F/blib/lib
    /Users/petr/.cpan/build/Sub-Uplevel-0.25-KbQjrc/blib/arch
    /Users/petr/.cpan/build/Sub-Uplevel-0.25-KbQjrc/blib/lib
    /Users/petr/.cpan/build/File-Slurper-0.008-YDAorU/blib/arch
    /Users/petr/.cpan/build/File-Slurper-0.008-YDAorU/blib/lib
    /Users/petr/.cpan/build/Test-EOL-1.6-3bvkxh/blib/arch
    /Users/petr/.cpan/build/Test-EOL-1.6-3bvkxh/blib/lib
    /Users/petr/.cpan/build/Test-CPAN-Meta-JSON-0.16-Gu7SJd/blib/arch
    /Users/petr/.cpan/build/Test-CPAN-Meta-JSON-0.16-Gu7SJd/blib/lib
    /Users/petr/.cpan/build/Test-Pod-1.51-H9jd9m/blib/arch
    /Users/petr/.cpan/build/Test-Pod-1.51-H9jd9m/blib/lib
    /Users/petr/.cpan/build/Test-Pod-Coverage-1.10-6aQTvO/blib/arch
    /Users/petr/.cpan/build/Test-Pod-Coverage-1.10-6aQTvO/blib/lib
    /Users/petr/.cpan/build/Pod-Coverage-0.23-ExbxL1/blib/arch
    /Users/petr/.cpan/build/Pod-Coverage-0.23-ExbxL1/blib/lib
    /Users/petr/.cpan/build/Devel-Symdump-2.15-VgJstX/blib/arch
    /Users/petr/.cpan/build/Devel-Symdump-2.15-VgJstX/blib/lib
    /Users/petr/.cpan/build/Test-CPAN-Meta-0.25-uyjweD/blib/arch
    /Users/petr/.cpan/build/Test-CPAN-Meta-0.25-uyjweD/blib/lib
    /Users/petr/.cpan/build/Test-NoTabs-1.4-0gRboo/blib/arch
    /Users/petr/.cpan/build/Test-NoTabs-1.4-0gRboo/blib/lib
    /Users/petr/.cpan/build/Font-AFM-1.20-rvCRV_/blib/arch
    /Users/petr/.cpan/build/Font-AFM-1.20-rvCRV_/blib/lib
    /Users/petr/.cpan/build/HTML-Tree-5.03-Npxn0d/blib/arch
    /Users/petr/.cpan/build/HTML-Tree-5.03-Npxn0d/blib/lib
    /Users/petr/.cpan/build/Plack-1.0038-Spp03d/blib/arch
    /Users/petr/.cpan/build/Plack-1.0038-Spp03d/blib/lib
    /Users/petr/.cpan/build/Hash-MultiValue-0.16-o0EZOk/blib/arch
    /Users/petr/.cpan/build/Hash-MultiValue-0.16-o0EZOk/blib/lib
    /Users/petr/.cpan/build/File-ShareDir-1.102-SCZGUQ/blib/arch
    /Users/petr/.cpan/build/File-ShareDir-1.102-SCZGUQ/blib/lib
    /Users/petr/.cpan/build/Class-Inspector-1.28-6Nbk5g/blib/arch
    /Users/petr/.cpan/build/Class-Inspector-1.28-6Nbk5g/blib/lib
    /Users/petr/.cpan/build/Test-TCP-2.14-K9qknx/blib/arch
    /Users/petr/.cpan/build/Test-TCP-2.14-K9qknx/blib/lib
    /Users/petr/.cpan/build/HTTP-Body-1.22-p7tHII/blib/arch
    /Users/petr/.cpan/build/HTTP-Body-1.22-p7tHII/blib/lib
    /Users/petr/.cpan/build/Test-Deep-1.120-X8Bj7l/blib/arch
    /Users/petr/.cpan/build/Test-Deep-1.120-X8Bj7l/blib/lib
    /Users/petr/.cpan/build/Apache-LogFormat-Compiler-0.32-ki_etg/blib/arch
    /Users/petr/.cpan/build/Apache-LogFormat-Compiler-0.32-ki_etg/blib/lib
    /Users/petr/.cpan/build/POSIX-strftime-Compiler-0.41-sxo_IN/blib/arch
    /Users/petr/.cpan/build/POSIX-strftime-Compiler-0.41-sxo_IN/blib/lib
    /Users/petr/.cpan/build/Test-MockTime-0.15-dF9Xgw/blib/arch
    /Users/petr/.cpan/build/Test-MockTime-0.15-dF9Xgw/blib/lib
    /Users/petr/.cpan/build/Stream-Buffered-0.03-MfYrf_/blib/arch
    /Users/petr/.cpan/build/Stream-Buffered-0.03-MfYrf_/blib/lib
    /Users/petr/.cpan/build/HTTP-Headers-Fast-0.20-ZuUP91/blib/arch
    /Users/petr/.cpan/build/HTTP-Headers-Fast-0.20-ZuUP91/blib/lib
    /Users/petr/.cpan/build/Devel-StackTrace-AsHTML-0.14-Bwus91/blib/arch
    /Users/petr/.cpan/build/Devel-StackTrace-AsHTML-0.14-Bwus91/blib/lib
    /Users/petr/.cpan/build/Devel-StackTrace-2.00-ObaEFZ/blib/arch
    /Users/petr/.cpan/build/Devel-StackTrace-2.00-ObaEFZ/blib/lib
    /Users/petr/.cpan/build/Filesys-Notify-Simple-0.12-aYq0D8/blib/arch
    /Users/petr/.cpan/build/Filesys-Notify-Simple-0.12-aYq0D8/blib/lib
    /Users/petr/.cpan/build/Test-SharedFork-0.34-djBLzh/blib/arch
    /Users/petr/.cpan/build/Test-SharedFork-0.34-djBLzh/blib/lib
    /Users/petr/.cpan/build/Cookie-Baker-0.06-raPIZb/blib/arch
    /Users/petr/.cpan/build/Cookie-Baker-0.06-raPIZb/blib/lib
    /Users/petr/.cpan/build/Test-Time-0.04-mZM88i/blib/arch
    /Users/petr/.cpan/build/Test-Time-0.04-mZM88i/blib/lib
    /Users/petr/.cpan/build/Test-Name-FromLine-0.13-8vwxdj/blib/arch
    /Users/petr/.cpan/build/Test-Name-FromLine-0.13-8vwxdj/blib/lib
    /Users/petr/.cpan/build/File-Slurp-9999.19-hTxKMA/blib/arch
    /Users/petr/.cpan/build/File-Slurp-9999.19-hTxKMA/blib/lib
    /Users/petr/.cpan/build/Test-Differences-0.64-Qy6RTj/blib/arch
    /Users/petr/.cpan/build/Test-Differences-0.64-Qy6RTj/blib/lib
    /Users/petr/.cpan/build/File-ShareDir-Install-0.10-aZB75U/blib/arch
    /Users/petr/.cpan/build/File-ShareDir-Install-0.10-aZB75U/blib/lib
    /Users/petr/.cpan/build/Woothee-1.2.0-QPaD6e/blib/arch
    /Users/petr/.cpan/build/Woothee-1.2.0-QPaD6e/blib/lib
    /Users/petr/.cpan/build/Test-Requires-0.10-AoMwJV/blib/arch
    /Users/petr/.cpan/build/Test-Requires-0.10-AoMwJV/blib/lib
    /Users/petr/perl5/perlbrew/perls/perl-5.22.0/lib/site_perl/5.22.0/darwin-2level
    /Users/petr/perl5/perlbrew/perls/perl-5.22.0/lib/site_perl/5.22.0
    /Users/petr/perl5/perlbrew/perls/perl-5.22.0/lib/5.22.0/darwin-2level
    /Users/petr/perl5/perlbrew/perls/perl-5.22.0/lib/5.22.0
    .