Back
From: metabase:user:cdea2bfa-bc2a-11e3-af89-ed5281c858b0
Subject: PASS Class-InsideOut-1.13 v5.14.4 GNU/Linux
Date: 2014-04-04T23:33:49Z
This distribution has been tested as part of the CPAN Testers
project, supporting the Perl programming language. See
http://wiki.cpantesters.org/ for more information or email
questions to cpan-testers-discuss@perl.org
--
Dear David Golden,
This is a computer-generated report for Class-InsideOut-1.13
on perl 5.14.4, created by CPAN-Reporter-1.2011.
Thank you for uploading your work to CPAN. Congratulations!
All tests were successful.
Sections of this report:
* Tester comments
* Program output
* Prerequisites
* Environment and other context
------------------------------
TESTER COMMENTS
------------------------------
Additional comments from tester:
none provided
------------------------------
PROGRAM OUTPUT
------------------------------
Output from '/usr/bin/make test':
PERL_DL_NONLAZY=1 /opt/perl5/perls/perl-5.14.4/bin/perl "-MExtUtils::Command::MM" "-MTest::Harness" "-e" "undef *Test::Harness::Switches; test_harness(0, 'blib/lib', 'blib/arch')" t/*.t
t/00-compile.t ..................... ok
# Prerequisite Report:
# Version Module
# -------- ---------------------
# 1.3301 Carp
# 0.36 Class::ISA
# undef Config
# 1.13 DynaLoader
# 5.64_03 Exporter
# 6.94 ExtUtils::MakeMaker
# 1.19 File::Find
# 3.33 File::Spec
# 3.33 File::Spec::Functions
# 0.22 File::Temp
# 1.15 IO::File
# 1.38 List::Util
# 1.38 Scalar::Util
# 2.27 Storable
# 1.001003 Test::More
# 0.13 XSLoader
# 1.13 overload
# 1.04 strict
# 1.83 threads
# 1.02 vars
# 1.12 warnings
t/00-report-prereqs.t .............. ok
t/01_load.t ........................ ok
t/02_register.t .................... ok
t/03_properties.t .................. ok
t/04_threaded.t .................... skipped: perl ithreads not available
t/05_forking.t ..................... ok
t/06_export_ok.t ................... ok
t/07_synopsis_obj.t ................ ok
t/08_DEMOLISH.t .................... ok
t/09_foreign.t ..................... ok
t/10_storable_values.t ............. ok
t/11_storable_refs.t ............... ok
t/12_storable_hooks.t .............. ok
t/13_options.t ..................... ok
t/14_accessor_hooks.t .............. ok
t/15_no_weaken_fallback.t .......... skipped: Your Scalar::Util is XS only
t/16_property_argument_checking.t .. ok
t/17_option_argument_checking.t .... ok
t/18_register_argument_checking.t .. ok
t/19_storable_singleton.t .......... ok
t/20_storable_singleton_error.t .... ok
t/21_optional_new.t ................ ok
t/22_readonly.t .................... ok
t/23_accessor_hooks_blessed.t ...... ok
t/24_accessor_hooks_overloaded.t ... ok
t/25_accessor_hooks_typetiny.t ..... ok
All tests successful.
Files=27, Tests=434, 2 wallclock secs ( 0.16 usr 0.16 sys + 0.93 cusr 0.28 csys = 1.53 CPU)
Result: PASS
------------------------------
PREREQUISITES
------------------------------
Prerequisite modules loaded:
requires:
Module Need Have
--------------------- ---- --------
Carp 0 1.3301
Class::ISA 0 0.36
Exporter 0 5.64_03
overload 0 1.13
Scalar::Util 1.09 1.38
Storable 0 2.27
strict 0 1.04
vars 0 1.02
build_requires:
Module Need Have
--------------------- ---- --------
Config 0 0
DynaLoader 0 1.13
ExtUtils::MakeMaker 0 6.94
File::Find 0 1.19
File::Spec 0 3.33
File::Spec::Functions 0 3.33
File::Temp 0 0.22
IO::File 0 1.15
List::Util 0 1.38
Test::More 0.45 1.001003
! threads 0 broken
warnings 0 1.12
XSLoader 0 0.13
configure_requires:
Module Need Have
--------------------- ---- --------
ExtUtils::MakeMaker 6.30 6.94
------------------------------
ENVIRONMENT AND OTHER CONTEXT
------------------------------
Environment variables:
LANG = en_US.UTF-8
PATH = /opt/perl5/bin:/opt/perl5/perls/perl-5.14.4/bin:/usr/local/sbin:/usr/local/bin:/usr/sbin:/usr/bin:/sbin:/bin
PERL5LIB =
PERL5OPT =
PERL5_CPANPLUS_IS_RUNNING = 31039
PERL5_CPAN_IS_RUNNING = 31039
PERLBREW_BASHRC_VERSION = 0.67
PERLBREW_HOME = /root/.perlbrew
PERLBREW_MANPATH = /opt/perl5/perls/perl-5.14.4/man
PERLBREW_PATH = /opt/perl5/bin:/opt/perl5/perls/perl-5.14.4/bin
PERLBREW_PERL = perl-5.14.4
PERLBREW_ROOT = /opt/perl5
PERLBREW_VERSION = 0.67
SHELL = /bin/bash
TERM = xterm
Perl special variables (and OS-specific diagnostics, for MSWin32):
$^X = /opt/perl5/perls/perl-5.14.4/bin/perl
$UID/$EUID = 0 / 0
$GID = 0 0
$EGID = 0 0
Perl module toolchain versions installed:
Module Have
------------------- ---------
CPAN 1.9600_01
CPAN::Meta 2.120351
Cwd 3.36
ExtUtils::CBuilder 0.280203
ExtUtils::Command 1.17
ExtUtils::Install 1.56
ExtUtils::MakeMaker 6.94
ExtUtils::Manifest 1.60
ExtUtils::ParseXS 3.24
File::Spec 3.33
JSON 2.90
JSON::PP 2.27203
Module::Build 0.4205
Module::Signature n/a
Parse::CPAN::Meta 1.4405
Test::Harness 3.30
Test::More 1.001003
YAML 0.90
YAML::Syck 1.27
version 0.88
--
Summary of my perl5 (revision 5 version 14 subversion 4) configuration:
Platform:
osname=linux, osvers=3.11.0-18-generic, archname=x86_64-linux
uname='linux ubuntu13 3.11.0-18-generic #32-ubuntu smp tue feb 18 21:11:14 utc 2014 x86_64 x86_64 x86_64 gnulinux '
config_args='-de -Dprefix=/opt/perl5/perls/perl-5.14.4 -Aeval:scriptdir=/opt/perl5/perls/perl-5.14.4/bin'
hint=recommended, useposix=true, d_sigaction=define
useithreads=undef, usemultiplicity=undef
useperlio=define, d_sfio=undef, uselargefiles=define, usesocks=undef
use64bitint=define, use64bitall=define, uselongdouble=undef
usemymalloc=n, bincompat5005=undef
Compiler:
cc='cc', ccflags ='-fno-strict-aliasing -pipe -fstack-protector -I/usr/local/include -D_LARGEFILE_SOURCE -D_FILE_OFFSET_BITS=64',
optimize='-O2',
cppflags='-fno-strict-aliasing -pipe -fstack-protector -I/usr/local/include'
ccversion='', gccversion='4.8.1', gccosandvers=''
intsize=4, longsize=8, ptrsize=8, doublesize=8, byteorder=12345678
d_longlong=define, longlongsize=8, d_longdbl=define, longdblsize=16
ivtype='long', ivsize=8, nvtype='double', nvsize=8, Off_t='off_t', lseeksize=8
alignbytes=8, prototype=define
Linker and Libraries:
ld='cc', ldflags =' -fstack-protector -L/usr/local/lib'
libpth=/usr/local/lib /lib/x86_64-linux-gnu /lib/../lib /usr/lib/x86_64-linux-gnu /usr/lib/../lib /lib /usr/lib
libs=-lnsl -ldl -lm -lcrypt -lutil -lc
perllibs=-lnsl -ldl -lm -lcrypt -lutil -lc
libc=libc-2.17.so, so=so, useshrplib=false, libperl=libperl.a
gnulibc_version='2.17'
Dynamic Linking:
dlsrc=dl_dlopen.xs, dlext=so, d_dlsymun=undef, ccdlflags='-Wl,-E'
cccdlflags='-fPIC', lddlflags='-shared -O2 -L/usr/local/lib -fstack-protector'
Characteristics of this binary (from libperl):
Compile-time options: PERL_DONT_CREATE_GVSV PERL_MALLOC_WRAP
PERL_PRESERVE_IVUV USE_64_BIT_ALL USE_64_BIT_INT
USE_LARGE_FILES USE_PERLIO USE_PERL_ATOF
Built under linux
Compiled at Apr 4 2014 11:56:07
%ENV:
PERL5LIB=""
PERL5OPT=""
PERL5_CPANPLUS_IS_RUNNING="31039"
PERL5_CPAN_IS_RUNNING="31039"
PERLBREW_BASHRC_VERSION="0.67"
PERLBREW_HOME="/root/.perlbrew"
PERLBREW_MANPATH="/opt/perl5/perls/perl-5.14.4/man"
PERLBREW_PATH="/opt/perl5/bin:/opt/perl5/perls/perl-5.14.4/bin"
PERLBREW_PERL="perl-5.14.4"
PERLBREW_ROOT="/opt/perl5"
PERLBREW_VERSION="0.67"
@INC:
/opt/perl5/perls/perl-5.14.4/lib/site_perl/5.14.4/x86_64-linux
/opt/perl5/perls/perl-5.14.4/lib/site_perl/5.14.4
/opt/perl5/perls/perl-5.14.4/lib/5.14.4/x86_64-linux
/opt/perl5/perls/perl-5.14.4/lib/5.14.4
.