HTML-Template-Bundle v2.9_01 Perl 5 v5.25.11 x86_64-linux-ld
- Status
- Pass
- From
- Andreas J. König (ANDK)
- Dist
-
HTML-Template-Bundle v2.9_01
- Platform
- Perl 5 v5.25.11 x86_64-linux-ld
- Date
- 2017-05-28 07:02:12
- ID
- 92bbc09c-4373-11e7-bd8c-6db91e6089db
This distribution has been tested as part of the CPAN Testers
project, supporting the Perl programming language. See
http://wiki.cpantesters.org/ for more information or email
questions to cpan-testers-discuss@perl.org
--
Dear Mathew Robertson,
This is a computer-generated report for HTML-Template-Bundle-2.9_01
on perl 5.25.11, created by CPAN-Reporter-1.2018.
Thank you for uploading your work to CPAN. Congratulations!
All tests were successful.
Sections of this report:
* Tester comments
* Program output
* Prerequisites
* Environment and other context
------------------------------
TESTER COMMENTS
------------------------------
Additional comments from tester:
this report is from an automated smoke testing program
and was not reviewed by a human for accuracy
------------------------------
PROGRAM OUTPUT
------------------------------
Output from '/usr/bin/make test':
PERL_DL_NONLAZY=1 "/home/sand/src/perl/repoperls/installed-perls/host/k93msid/v5.25.11/0a29/bin/perl" "-MExtUtils::Command::MM" "-MTest::Harness" "-e" "undef *Test::Harness::Switches; test_harness(0, 'blib/lib', 'blib/arch')" t/*.t
t/001-bad-args.t ............ ok
t/001coderefs.t ............. ok
t/002-parse.t ............... ok
t/002random.t ............... ok
t/003-associate.t ........... ok
t/003else_else_bug.t ........ ok
t/004-type-source.t ......... ok
t/004default_escape.t ....... ok
t/004default_with_escape.t .. ok
t/004no_taintmode.t ......... ok
t/005-blind-cache.t ......... ok
t/005force_untaint.t ........ ok
t/005nested_global.t ........ ok
t/006-file-cache-dir.t ...... ok
t/007-double-file-cache.t ... ok
t/008-cache-debug.t ......... ok
t/009-caching-precluded.t ... ok
t/010-param.t ............... ok
t/011-non-file-templates.t .. ok
t/099-old-test-pl.t ......... ok
t/100load.t ................. ok
t/101parse.t ................ ok
t/102basic.t ................ ok
t/103complex.t .............. ok
t/104register.t ............. ok
t/105cache.t ................ ok
t/106extra_attributes.t ..... ok
t/200load.t ................. ok
t/201parse.t ................ ok
t/202length.t ............... ok
t/203unset.t ................ ok
t/205elsif.t ................ ok
t/206require.t .............. ok
t/207hash-param.t ........... ok
t/208escape.t ............... ok
t/209filter.t ............... ok
t/210loop.t ................. ok
t/211recursive.t ............ ok
t/212intrinsic.t ............ ok
t/301parse.t ................ ok
t/302unary.t ................ ok
t/312intrinsic.t ............ ok
t/400load.t ................. ok
t/401debug.t ................ ok
t/402env.t .................. ok
t/403set.t .................. ok
t/404tmpl_render.t .......... ok
t/405features.t ............. ok
All tests successful.
Files=48, Tests=585, 13 wallclock secs ( 0.16 usr 0.24 sys + 5.53 cusr 0.79 csys = 6.72 CPU)
Result: PASS
------------------------------
PREREQUISITES
------------------------------
Prerequisite modules loaded:
requires:
Module Need Have
------------------- ---- --------
Carp 0 1.42
Digest::MD5 0 2.55
File::Spec 0.82 3.62
Scalar::Util 0 1.47
Test::More 0 1.302085
Time::HiRes 0 1.9742
build_requires:
Module Need Have
------------------- ---- --------
ExtUtils::MakeMaker 0 7.24
------------------------------
ENVIRONMENT AND OTHER CONTEXT
------------------------------
Environment variables:
AUTOMATED_TESTING = 1
LANG = en_US.UTF-8
PATH = /home/sand/bin:/usr/local/bin:/usr/bin:/bin:/usr/games:/usr/local/perl/bin:/usr/X11/bin:/sbin:/usr/sbin
PERL5LIB =
PERL5OPT =
PERL5_CPANPLUS_IS_RUNNING = 23840
PERL5_CPAN_IS_RUNNING = 23840
PERL_CANARY_STABILITY_NOPROMPT = 1
PERL_MM_USE_DEFAULT = 1
PERL_USE_UNSAFE_INC = 1
SHELL = /usr/bin/zsh
TERM = screen
Perl special variables (and OS-specific diagnostics, for MSWin32):
$^X = /home/sand/src/perl/repoperls/installed-perls/host/k93msid/v5.25.11/0a29/bin/perl
$UID/$EUID = 1005 / 1005
$GID = 1005 1005
$EGID = 1005 1005
Perl module toolchain versions installed:
Module Have
------------------- --------
CPAN 2.18
CPAN::Meta 2.150010
Cwd 3.62
ExtUtils::CBuilder 0.280225
ExtUtils::Command 7.24
ExtUtils::Install 2.12
ExtUtils::MakeMaker 7.24
ExtUtils::Manifest 1.70
ExtUtils::ParseXS 3.34
File::Spec 3.62
JSON 2.92
JSON::PP 2.93
Module::Build 0.42_23
Module::Signature 0.81
Parse::CPAN::Meta 2.150010
Test::Harness 3.39
Test::More 1.302085
YAML 1.23
YAML::Syck 1.29
version 0.9918
--
Summary of my perl5 (revision 5 version 25 subversion 11) configuration:
Commit id: 295d6d042a7c8bac9b1d5d201a473c7723b50d3f
Platform:
osname=linux
osvers=4.9.0-2-amd64
archname=x86_64-linux-ld
uname='linux k93msid 4.9.0-2-amd64 #1 smp debian 4.9.18-1 (2017-03-30) x86_64 gnulinux '
config_args='-Dprefix=/home/sand/src/perl/repoperls/installed-perls/host/k93msid/v5.25.11/0a29 -Dmyhostname=k93msid -Dinstallusrbinperl=n -Uversiononly -Dusedevel -des -Ui_db -Dlibswanted=cl pthread socket inet nsl gdbm dbm malloc dl ld sun m crypt sec util c cposix posix ucb BSD gdbm_compat -Uuseithreads -Duselongdouble -DDEBUGGING=both'
hint=recommended
useposix=true
d_sigaction=define
useithreads=undef
usemultiplicity=undef
use64bitint=define
use64bitall=define
uselongdouble=define
usemymalloc=n
default_inc_excludes_dot=define
bincompat5005=undef
Compiler:
cc='cc'
ccflags ='-fwrapv -DDEBUGGING -fno-strict-aliasing -pipe -fstack-protector-strong -I/usr/local/include -D_LARGEFILE_SOURCE -D_FILE_OFFSET_BITS=64'
optimize='-O2 -g'
cppflags='-fwrapv -DDEBUGGING -fno-strict-aliasing -pipe -fstack-protector-strong -I/usr/local/include'
ccversion=''
gccversion='6.3.0 20170406'
gccosandvers=''
intsize=4
longsize=8
ptrsize=8
doublesize=8
byteorder=12345678
doublekind=3
d_longlong=define
longlongsize=8
d_longdbl=define
longdblsize=16
longdblkind=3
ivtype='long'
ivsize=8
nvtype='long double'
nvsize=16
Off_t='off_t'
lseeksize=8
alignbytes=16
prototype=define
Linker and Libraries:
ld='cc'
ldflags =' -fstack-protector-strong -L/usr/local/lib'
libpth=/usr/local/lib /usr/lib/gcc/x86_64-linux-gnu/6/include-fixed /usr/include/x86_64-linux-gnu /usr/lib /lib/x86_64-linux-gnu /lib/../lib /usr/lib/x86_64-linux-gnu /usr/lib/../lib /lib
libs=-lpthread -lnsl -ldl -lm -lcrypt -lutil -lc
perllibs=-lpthread -lnsl -ldl -lm -lcrypt -lutil -lc
libc=libc-2.24.so
so=so
useshrplib=false
libperl=libperl.a
gnulibc_version='2.24'
Dynamic Linking:
dlsrc=dl_dlopen.xs
dlext=so
d_dlsymun=undef
ccdlflags='-Wl,-E'
cccdlflags='-fPIC'
lddlflags='-shared -O2 -g -L/usr/local/lib -fstack-protector-strong'
Characteristics of this binary (from libperl):
Compile-time options:
DEBUGGING
HAS_TIMES
PERLIO_LAYERS
PERL_COPY_ON_WRITE
PERL_DONT_CREATE_GVSV
PERL_MALLOC_WRAP
PERL_OP_PARENT
PERL_PRESERVE_IVUV
PERL_USE_DEVEL
USE_64_BIT_ALL
USE_64_BIT_INT
USE_LARGE_FILES
USE_LOCALE
USE_LOCALE_COLLATE
USE_LOCALE_CTYPE
USE_LOCALE_NUMERIC
USE_LOCALE_TIME
USE_LONG_DOUBLE
USE_PERLIO
USE_PERL_ATOF
Built under linux
Compiled at Apr 14 2017 16:56:35
%ENV:
PERL5LIB=""
PERL5OPT=""
PERL5_CPANPLUS_IS_RUNNING="23840"
PERL5_CPAN_IS_RUNNING="23840"
PERL_CANARY_STABILITY_NOPROMPT="1"
PERL_MM_USE_DEFAULT="1"
PERL_USE_UNSAFE_INC="1"
@INC:
/home/sand/src/perl/repoperls/installed-perls/host/k93msid/v5.25.11/0a29/lib/site_perl/5.25.11/x86_64-linux-ld
/home/sand/src/perl/repoperls/installed-perls/host/k93msid/v5.25.11/0a29/lib/site_perl/5.25.11
/home/sand/src/perl/repoperls/installed-perls/host/k93msid/v5.25.11/0a29/lib/5.25.11/x86_64-linux-ld
/home/sand/src/perl/repoperls/installed-perls/host/k93msid/v5.25.11/0a29/lib/5.25.11
.