Crypt-PKCS10 v2.005 Perl 5 v5.30.3 x86_64-linux-thread-multi-ld
- Status
- Pass
- From
- Andreas J. König (ANDK)
- Dist
-
Crypt-PKCS10 v2.005
- Platform
- Perl 5 v5.30.3 x86_64-linux-thread-multi-ld
- Date
- 2023-01-16 01:53:28
- ID
- 92817854-9540-11ed-bab9-5467133f339d
This distribution has been tested as part of the CPAN Testers
project, supporting the Perl programming language. See
http://wiki.cpantesters.org/ for more information or email
questions to cpan-testers-discuss@perl.org
--
Dear Scott T. Hardin,
This is a computer-generated report for Crypt-PKCS10-2.005
on perl 5.30.3, created by CPAN-Reporter-1.2018.
Thank you for uploading your work to CPAN. Congratulations!
All tests were successful.
Sections of this report:
* Tester comments
* Program output
* Prerequisites
* Environment and other context
------------------------------
TESTER COMMENTS
------------------------------
Additional comments from tester:
this report is from an automated smoke testing program
and was not reviewed by a human for accuracy
------------------------------
PROGRAM OUTPUT
------------------------------
Output from './Build test':
t/0-signature.t ..... skipped: Set the environment variable TEST_SIGNATURE to enable this test.
# Perl /home/sand/src/perl/repoperls/installed-perls/host/k93msid/v5.30.3/ac75/bin/perl version 5.30.3
# OpenSSL 3.0.7 1 Nov 2022 (Library: OpenSSL 3.0.7 1 Nov 2022)
# built on: Tue Nov 1 20:39:01 2022 UTC
# platform: debian-amd64
# options: bn(64,64)
# compiler: gcc -fPIC -pthread -m64 -Wa,--noexecstack -Wall
# -fzero-call-used-regs=used-gpr
# -DOPENSSL_TLS_SECURITY_LEVEL=2 -Wa,--noexecstack -g -O2
# -ffile-prefix-map=/build/openssl-vMVw8q/openssl-3.0.7=.
# -fstack-protector-strong -Wformat
# -Werror=format-security -DOPENSSL_USE_NODELETE
# -DL_ENDIAN -DOPENSSL_PIC -DOPENSSL_BUILDING_OPENSSL
# -DNDEBUG -Wdate-time -D_FORTIFY_SOURCE=2
# OPENSSLDIR: "/usr/lib/ssl"
# ENGINESDIR: "/usr/lib/x86_64-linux-gnu/engines-3"
# MODULESDIR: "/usr/lib/x86_64-linux-gnu/ossl-modules"
# Seeding source: os-specific
# CPUINFO: OPENSSL_ia32cap=0xfffab2234f8bffff:0x4009c4fbb
# ciphers: AES128-GCM-SHA256 AES128-SHA AES128-SHA256 AES256-GCM-SHA384 AES256-SHA
# AES256-SHA256 DHE-PSK-AES128-CBC-SHA
# DHE-PSK-AES128-CBC-SHA256 DHE-PSK-AES128-GCM-SHA256
# DHE-PSK-AES256-CBC-SHA DHE-PSK-AES256-CBC-SHA384
# DHE-PSK-AES256-GCM-SHA384 DHE-PSK-CHACHA20-POLY1305
# DHE-RSA-AES128-GCM-SHA256 DHE-RSA-AES128-SHA
# DHE-RSA-AES128-SHA256 DHE-RSA-AES256-GCM-SHA384
# DHE-RSA-AES256-SHA DHE-RSA-AES256-SHA256
# DHE-RSA-CHACHA20-POLY1305 ECDHE-ECDSA-AES128-GCM-SHA256
# ECDHE-ECDSA-AES128-SHA ECDHE-ECDSA-AES128-SHA256
# ECDHE-ECDSA-AES256-GCM-SHA384 ECDHE-ECDSA-AES256-SHA
# ECDHE-ECDSA-AES256-SHA384 ECDHE-ECDSA-CHACHA20-POLY1305
# ECDHE-PSK-AES128-CBC-SHA ECDHE-PSK-AES128-CBC-SHA256
# ECDHE-PSK-AES256-CBC-SHA ECDHE-PSK-AES256-CBC-SHA384
# ECDHE-PSK-CHACHA20-POLY1305 ECDHE-RSA-AES128-GCM-SHA256
# ECDHE-RSA-AES128-SHA ECDHE-RSA-AES128-SHA256
# ECDHE-RSA-AES256-GCM-SHA384 ECDHE-RSA-AES256-SHA
# ECDHE-RSA-AES256-SHA384 ECDHE-RSA-CHACHA20-POLY1305
# PSK-AES128-CBC-SHA PSK-AES128-CBC-SHA256
# PSK-AES128-GCM-SHA256 PSK-AES256-CBC-SHA
# PSK-AES256-CBC-SHA384 PSK-AES256-GCM-SHA384
# PSK-CHACHA20-POLY1305 RSA-PSK-AES128-CBC-SHA
# RSA-PSK-AES128-CBC-SHA256 RSA-PSK-AES128-GCM-SHA256
# RSA-PSK-AES256-CBC-SHA RSA-PSK-AES256-CBC-SHA384
# RSA-PSK-AES256-GCM-SHA384 RSA-PSK-CHACHA20-POLY1305
# SRP-AES-128-CBC-SHA SRP-AES-256-CBC-SHA
# SRP-RSA-AES-128-CBC-SHA SRP-RSA-AES-256-CBC-SHA
# TLS_AES_128_GCM_SHA256 TLS_AES_256_GCM_SHA384
# TLS_CHACHA20_POLY1305_SHA256
t/02_base.t ......... ok
# Perl /home/sand/src/perl/repoperls/installed-perls/host/k93msid/v5.30.3/ac75/bin/perl version 5.30.3
t/03_ecc.t .......... ok
t/04_complex_rdn.t .. ok
All tests successful.
Files=4, Tests=38, 1 wallclock secs ( 0.05 usr 0.01 sys + 0.97 cusr 0.14 csys = 1.17 CPU)
Result: PASS
------------------------------
PREREQUISITES
------------------------------
Prerequisite modules loaded:
requires:
Module Need Have
------------------- -------- --------
Convert::ASN1 0 0.33
Encode 0 3.19
MIME::Base64 0 3.16
perl 5.008001 5.030003
Scalar::Util 0 1.62
build_requires:
Module Need Have
------------------- -------- --------
Test::More 0.98 1.302191
configure_requires:
Module Need Have
------------------- -------- --------
Module::Build::Tiny 0.035 0.039
------------------------------
ENVIRONMENT AND OTHER CONTEXT
------------------------------
Environment variables:
AUTOMATED_TESTING = 1
LANG = en_US.UTF-8
LANGUAGE = en_US:en
PATH = /home/sand/bin:/usr/local/bin:/usr/bin:/bin:/usr/games:/usr/local/perl/bin:/usr/X11/bin:/sbin:/usr/sbin
PERL5LIB =
PERL5OPT =
PERL5_CPANPLUS_IS_RUNNING = 261754
PERL5_CPAN_IS_RUNNING = 261754
PERL_CANARY_STABILITY_NOPROMPT = 1
PERL_MM_USE_DEFAULT = 1
PERL_USE_UNSAFE_INC = 1
SHELL = /usr/bin/zsh
TERM = screen
Perl special variables (and OS-specific diagnostics, for MSWin32):
$^X = /home/sand/src/perl/repoperls/installed-perls/host/k93msid/v5.30.3/ac75/bin/perl
$UID/$EUID = 1005 / 1005
$GID = 1005 1005
$EGID = 1005 1005
Perl module toolchain versions installed:
Module Have
------------------- --------
CPAN 2.34
CPAN::Meta 2.150010
Cwd 3.78
ExtUtils::CBuilder 0.280236
ExtUtils::Command 7.64
ExtUtils::Install 2.14
ExtUtils::MakeMaker 7.64
ExtUtils::Manifest 1.72
ExtUtils::ParseXS 3.40
File::Spec 3.78
JSON 4.08
JSON::PP 4.12
Module::Build 0.4231
Module::Signature 0.88
Parse::CPAN::Meta 2.150010
Test::Harness 3.44
Test::More 1.302191
YAML 1.30
YAML::Syck 1.34
version 0.9929
--
Summary of my perl5 (revision 5 version 30 subversion 3) configuration:
Commit id: 65ddc30325817c6cd4df6ca1d4a1af2383875c3f
Platform:
osname=linux
osvers=5.16.0-5-amd64
archname=x86_64-linux-thread-multi-ld
uname='linux k93msid 5.16.0-5-amd64 #1 smp preempt debian 5.16.14-1 (2022-03-15) x86_64 gnulinux '
config_args='-Dprefix=/home/sand/src/perl/repoperls/installed-perls/host/k93msid/v5.30.3/ac75 -Dmyhostname=k93msid -Dinstallusrbinperl=n -Uversiononly -Dusedevel -des -Ui_db -Dlibswanted=cl pthread socket inet nsl gdbm dbm malloc dl ld sun m crypt sec util c cposix posix ucb BSD gdbm_compat -Duseithreads -Duselongdouble -DEBUGGING=both'
hint=recommended
useposix=true
d_sigaction=define
useithreads=define
usemultiplicity=define
use64bitint=define
use64bitall=define
uselongdouble=define
usemymalloc=n
default_inc_excludes_dot=define
bincompat5005=undef
Compiler:
cc='cc'
ccflags ='-D_REENTRANT -D_GNU_SOURCE -fwrapv -DDEBUGGING -fno-strict-aliasing -pipe -fstack-protector-strong -I/usr/local/include -D_LARGEFILE_SOURCE -D_FILE_OFFSET_BITS=64 -D_FORTIFY_SOURCE=2'
optimize='-O2 -g'
cppflags='-D_REENTRANT -D_GNU_SOURCE -fwrapv -DDEBUGGING -fno-strict-aliasing -pipe -fstack-protector-strong -I/usr/local/include'
ccversion=''
gccversion='11.2.0'
gccosandvers=''
intsize=4
longsize=8
ptrsize=8
doublesize=8
byteorder=12345678
doublekind=3
d_longlong=define
longlongsize=8
d_longdbl=define
longdblsize=16
longdblkind=3
ivtype='long'
ivsize=8
nvtype='long double'
nvsize=16
Off_t='off_t'
lseeksize=8
alignbytes=16
prototype=define
Linker and Libraries:
ld='cc'
ldflags =' -fstack-protector-strong -L/usr/local/lib'
libpth=/usr/local/lib /usr/include/x86_64-linux-gnu /usr/lib /lib/x86_64-linux-gnu /lib/../lib /usr/lib/x86_64-linux-gnu /usr/lib/../lib /lib
libs=-lpthread -lnsl -ldl -lm -lcrypt -lutil -lc
perllibs=-lpthread -lnsl -ldl -lm -lcrypt -lutil -lc
libc=libc-2.33.so
so=so
useshrplib=false
libperl=libperl.a
gnulibc_version='2.33'
Dynamic Linking:
dlsrc=dl_dlopen.xs
dlext=so
d_dlsymun=undef
ccdlflags='-Wl,-E'
cccdlflags='-fPIC'
lddlflags='-shared -O2 -g -L/usr/local/lib -fstack-protector-strong'
Characteristics of this binary (from libperl):
Compile-time options:
DEBUGGING
HAS_TIMES
MULTIPLICITY
PERLIO_LAYERS
PERL_COPY_ON_WRITE
PERL_DONT_CREATE_GVSV
PERL_IMPLICIT_CONTEXT
PERL_MALLOC_WRAP
PERL_OP_PARENT
PERL_PRESERVE_IVUV
PERL_TRACK_MEMPOOL
PERL_USE_DEVEL
USE_64_BIT_ALL
USE_64_BIT_INT
USE_ITHREADS
USE_LARGE_FILES
USE_LOCALE
USE_LOCALE_COLLATE
USE_LOCALE_CTYPE
USE_LOCALE_NUMERIC
USE_LOCALE_TIME
USE_LONG_DOUBLE
USE_PERLIO
USE_PERL_ATOF
USE_REENTRANT_API
USE_THREAD_SAFE_LOCALE
Built under linux
Compiled at Mar 19 2022 13:58:39
%ENV:
PERL5LIB=""
PERL5OPT=""
PERL5_CPANPLUS_IS_RUNNING="261754"
PERL5_CPAN_IS_RUNNING="261754"
PERL_CANARY_STABILITY_NOPROMPT="1"
PERL_MM_USE_DEFAULT="1"
PERL_USE_UNSAFE_INC="1"
@INC:
/home/sand/src/perl/repoperls/installed-perls/host/k93msid/v5.30.3/ac75/lib/site_perl/5.30.3/x86_64-linux-thread-multi-ld
/home/sand/src/perl/repoperls/installed-perls/host/k93msid/v5.30.3/ac75/lib/site_perl/5.30.3
/home/sand/src/perl/repoperls/installed-perls/host/k93msid/v5.30.3/ac75/lib/5.30.3/x86_64-linux-thread-multi-ld
/home/sand/src/perl/repoperls/installed-perls/host/k93msid/v5.30.3/ac75/lib/5.30.3
.