Catalyst-View-HTML-Zoom v0.003 Perl 5 v5.35.8 x86_64-linux-ld

Status
Pass
From
Andreas J. König (ANDK)
Dist
Catalyst-View-HTML-Zoom v0.003
Platform
Perl 5 v5.35.8 x86_64-linux-ld
Date
2022-02-12 03:33:40
ID
926c567c-8bb4-11ec-8fc7-d05cec218b3c
This distribution has been tested as part of the CPAN Testers
project, supporting the Perl programming language.  See
http://wiki.cpantesters.org/ for more information or email
questions to cpan-testers-discuss@perl.org


--
Dear Oliver Charles,

This is a computer-generated report for Catalyst-View-HTML-Zoom-0.003
on perl 5.35.8, created by CPAN-Reporter-1.2018.

Thank you for uploading your work to CPAN.  Congratulations!
All tests were successful.

Sections of this report:

    * Tester comments
    * Program output
    * Prerequisites
    * Environment and other context

------------------------------
TESTER COMMENTS
------------------------------

Additional comments from tester:

this report is from an automated smoke testing program
and was not reviewed by a human for accuracy

------------------------------
PROGRAM OUTPUT
------------------------------

Output from '/usr/bin/make test':

PERL_DL_NONLAZY=1 "/tmp/basesmoker-reloperl-JtTR/bin/perl" "-MExtUtils::Command::MM" "-MTest::Harness" "-e" "undef *Test::Harness::Switches; test_harness(0, 'blib/lib', 'blib/arch')" t/*.t
t/00-load.t ............... ok
t/author-pod-coverage.t ... skipped: these tests are for testing by the author
t/author-pod.t ............ skipped: these tests are for testing by the author
Class::MOP::load_class is deprecated at /home/sand/src/perl/repoperls/installed-perls/host/k93bionic/v5.35.8/ca05/lib/site_perl/5.35.8/x86_64-linux-ld/Class/MOP.pm line 69, <ARGV> line 1.
	Class::MOP::load_class("TestAppAltRoot::View::HTML::Root") called at /tmp/loop_over_bdir-1508-mZoNpO/Catalyst-View-HTML-Zoom-0.003-0/blib/lib/Catalyst/View/HTML/Zoom.pm line 138
	Catalyst::View::HTML::Zoom::_zoomer_class_from_context(TestAppAltRoot::View::HTML=HASH(0x55f476d9e2a8), TestAppAltRoot=HASH(0x55f476ed5208)) called at /tmp/loop_over_bdir-1508-mZoNpO/Catalyst-View-HTML-Zoom-0.003-0/blib/lib/Catalyst/View/HTML/Zoom.pm line 90
	Catalyst::View::HTML::Zoom::_build_renderer_from_zoomer_class(TestAppAltRoot::View::HTML=HASH(0x55f476d9e2a8), TestAppAltRoot=HASH(0x55f476ed5208)) called at /tmp/loop_over_bdir-1508-mZoNpO/Catalyst-View-HTML-Zoom-0.003-0/blib/lib/Catalyst/View/HTML/Zoom.pm line 76
	Catalyst::View::HTML::Zoom::_build_renderer_from(TestAppAltRoot::View::HTML=HASH(0x55f476d9e2a8), TestAppAltRoot=HASH(0x55f476ed5208), undef) called at /tmp/loop_over_bdir-1508-mZoNpO/Catalyst-View-HTML-Zoom-0.003-0/blib/lib/Catalyst/View/HTML/Zoom.pm line 67
	Catalyst::View::HTML::Zoom::render(TestAppAltRoot::View::HTML=HASH(0x55f476d9e2a8), TestAppAltRoot=HASH(0x55f476ed5208), "/main") called at /tmp/loop_over_bdir-1508-mZoNpO/Catalyst-View-HTML-Zoom-0.003-0/blib/lib/Catalyst/View/HTML/Zoom.pm line 41
	Catalyst::View::HTML::Zoom::process(TestAppAltRoot::View::HTML=HASH(0x55f476d9e2a8), TestAppAltRoot=HASH(0x55f476ed5208)) called at /home/sand/src/perl/repoperls/installed-perls/host/k93bionic/v5.35.8/ca05/lib/site_perl/5.35.8/Catalyst/Action.pm line 358
	Catalyst::Action::execute(Catalyst::Action=HASH(0x55f476f361d8), TestAppAltRoot::View::HTML=HASH(0x55f476d9e2a8), TestAppAltRoot=HASH(0x55f476ed5208)) called at /home/sand/src/perl/repoperls/installed-perls/host/k93bionic/v5.35.8/ca05/lib/site_perl/5.35.8/Catalyst.pm line 2060
	eval {...} called at /home/sand/src/perl/repoperls/installed-perls/host/k93bionic/v5.35.8/ca05/lib/site_perl/5.35.8/Catalyst.pm line 2060
	Catalyst::execute(TestAppAltRoot=HASH(0x55f476ed5208), "TestAppAltRoot::View::HTML", Catalyst::Action=HASH(0x55f476f361d8)) called at /home/sand/src/perl/repoperls/installed-perls/host/k93bionic/v5.35.8/ca05/lib/site_perl/5.35.8/Catalyst/Action.pm line 353
	Catalyst::Action::dispatch(Catalyst::Action=HASH(0x55f476f361d8), TestAppAltRoot=HASH(0x55f476ed5208)) called at /home/sand/src/perl/repoperls/installed-perls/host/k93bionic/v5.35.8/ca05/lib/site_perl/5.35.8/Catalyst/Dispatcher.pm line 261
	Catalyst::Dispatcher::_do_forward(Catalyst::Dispatcher=HASH(0x55f475c4ff20), "forward", TestAppAltRoot=HASH(0x55f476ed5208), TestAppAltRoot::View::HTML=HASH(0x55f476d9e2a8)) called at /home/sand/src/perl/repoperls/installed-perls/host/k93bionic/v5.35.8/ca05/lib/site_perl/5.35.8/Catalyst/Dispatcher.pm line 241
	Catalyst::Dispatcher::forward(Catalyst::Dispatcher=HASH(0x55f475c4ff20), TestAppAltRoot=HASH(0x55f476ed5208), TestAppAltRoot::View::HTML=HASH(0x55f476d9e2a8)) called at /home/sand/src/perl/repoperls/installed-perls/host/k93bionic/v5.35.8/ca05/lib/site_perl/5.35.8/Catalyst.pm line 482
	Catalyst::forward(TestAppAltRoot=HASH(0x55f476ed5208), TestAppAltRoot::View::HTML=HASH(0x55f476d9e2a8)) called at /home/sand/src/perl/repoperls/installed-perls/host/k93bionic/v5.35.8/ca05/lib/site_perl/5.35.8/Catalyst/Action/RenderView.pm line 57
	Catalyst::Action::RenderView::execute(Catalyst::Action::RenderView=HASH(0x55f476e0ad00), TestAppAltRoot::Controller::Root=HASH(0x55f476d9e110), TestAppAltRoot=HASH(0x55f476ed5208)) called at /home/sand/src/perl/repoperls/installed-perls/host/k93bionic/v5.35.8/ca05/lib/site_perl/5.35.8/Catalyst.pm line 2060
	eval {...} called at /home/sand/src/perl/repoperls/installed-perls/host/k93bionic/v5.35.8/ca05/lib/site_perl/5.35.8/Catalyst.pm line 2060
	Catalyst::execute(TestAppAltRoot=HASH(0x55f476ed5208), "TestAppAltRoot::Controller::Root", Catalyst::Action::RenderView=HASH(0x55f476e0ad00)) called at /home/sand/src/perl/repoperls/installed-perls/host/k93bionic/v5.35.8/ca05/lib/site_perl/5.35.8/Catalyst/Action.pm line 353
	Catalyst::Action::dispatch(Catalyst::Action::RenderView=HASH(0x55f476e0ad00), TestAppAltRoot=HASH(0x55f476ed5208)) called at /home/sand/src/perl/repoperls/installed-perls/host/k93bionic/v5.35.8/ca05/lib/site_perl/5.35.8/Catalyst/Controller.pm line 188
	Catalyst::Controller::_END(TestAppAltRoot::Controller::Root=HASH(0x55f476d9e110), TestAppAltRoot=HASH(0x55f476ed5208)) called at /home/sand/src/perl/repoperls/installed-perls/host/k93bionic/v5.35.8/ca05/lib/site_perl/5.35.8/Catalyst/Action.pm line 358
	Catalyst::Action::execute(Catalyst::Action=HASH(0x55f476de1508), TestAppAltRoot::Controller::Root=HASH(0x55f476d9e110), TestAppAltRoot=HASH(0x55f476ed5208)) called at /home/sand/src/perl/repoperls/installed-perls/host/k93bionic/v5.35.8/ca05/lib/site_perl/5.35.8/Catalyst.pm line 2060
	eval {...} called at /home/sand/src/perl/repoperls/installed-perls/host/k93bionic/v5.35.8/ca05/lib/site_perl/5.35.8/Catalyst.pm line 2060
	Catalyst::execute(TestAppAltRoot=HASH(0x55f476ed5208), "TestAppAltRoot::Controller::Root", Catalyst::Action=HASH(0x55f476de1508)) called at /home/sand/src/perl/repoperls/installed-perls/host/k93bionic/v5.35.8/ca05/lib/site_perl/5.35.8/Catalyst/Action.pm line 353
	Catalyst::Action::dispatch(Catalyst::Action=HASH(0x55f476de1508), TestAppAltRoot=HASH(0x55f476ed5208)) called at /home/sand/src/perl/repoperls/installed-perls/host/k93bionic/v5.35.8/ca05/lib/site_perl/5.35.8/Catalyst/Dispatcher.pm line 261
	Catalyst::Dispatcher::_do_forward(Catalyst::Dispatcher=HASH(0x55f475c4ff20), "forward", TestAppAltRoot=HASH(0x55f476ed5208), "_END") called at /home/sand/src/perl/repoperls/installed-perls/host/k93bionic/v5.35.8/ca05/lib/site_perl/5.35.8/Catalyst/Dispatcher.pm line 241
	Catalyst::Dispatcher::forward(Catalyst::Dispatcher=HASH(0x55f475c4ff20), TestAppAltRoot=HASH(0x55f476ed5208), "_END") called at /home/sand/src/perl/repoperls/installed-perls/host/k93bionic/v5.35.8/ca05/lib/site_perl/5.35.8/Catalyst.pm line 482
	Catalyst::forward(TestAppAltRoot=HASH(0x55f476ed5208), "_END") called at /home/sand/src/perl/repoperls/installed-perls/host/k93bionic/v5.35.8/ca05/lib/site_perl/5.35.8/Catalyst/Controller.pm line 137
	Catalyst::Controller::_DISPATCH(TestAppAltRoot::Controller::Root=HASH(0x55f476d9e110), TestAppAltRoot=HASH(0x55f476ed5208)) called at /home/sand/src/perl/repoperls/installed-perls/host/k93bionic/v5.35.8/ca05/lib/site_perl/5.35.8/Catalyst/Action.pm line 358
	Catalyst::Action::execute(Catalyst::Action=HASH(0x55f476db0e58), TestAppAltRoot::Controller::Root=HASH(0x55f476d9e110), TestAppAltRoot=HASH(0x55f476ed5208)) called at /home/sand/src/perl/repoperls/installed-perls/host/k93bionic/v5.35.8/ca05/lib/site_perl/5.35.8/Catalyst.pm line 2060
	eval {...} called at /home/sand/src/perl/repoperls/installed-perls/host/k93bionic/v5.35.8/ca05/lib/site_perl/5.35.8/Catalyst.pm line 2060
	Catalyst::execute(TestAppAltRoot=HASH(0x55f476ed5208), "TestAppAltRoot::Controller::Root", Catalyst::Action=HASH(0x55f476db0e58)) called at /home/sand/src/perl/repoperls/installed-perls/host/k93bionic/v5.35.8/ca05/lib/site_perl/5.35.8/Catalyst/Action.pm line 353
	Catalyst::Action::dispatch(Catalyst::Action=HASH(0x55f476db0e58), TestAppAltRoot=HASH(0x55f476ed5208)) called at /home/sand/src/perl/repoperls/installed-perls/host/k93bionic/v5.35.8/ca05/lib/site_perl/5.35.8/Catalyst/Dispatcher.pm line 261
	Catalyst::Dispatcher::_do_forward(Catalyst::Dispatcher=HASH(0x55f475c4ff20), "forward", TestAppAltRoot=HASH(0x55f476ed5208), "//_DISPATCH") called at /home/sand/src/perl/repoperls/installed-perls/host/k93bionic/v5.35.8/ca05/lib/site_perl/5.35.8/Catalyst/Dispatcher.pm line 241
	Catalyst::Dispatcher::forward(Catalyst::Dispatcher=HASH(0x55f475c4ff20), TestAppAltRoot=HASH(0x55f476ed5208), "//_DISPATCH") called at /home/sand/src/perl/repoperls/installed-perls/host/k93bionic/v5.35.8/ca05/lib/site_perl/5.35.8/Catalyst.pm line 482
	Catalyst::forward(TestAppAltRoot=HASH(0x55f476ed5208), "//_DISPATCH") called at /home/sand/src/perl/repoperls/installed-perls/host/k93bionic/v5.35.8/ca05/lib/site_perl/5.35.8/Catalyst/Dispatcher.pm line 107
	Catalyst::Dispatcher::dispatch(Catalyst::Dispatcher=HASH(0x55f475c4ff20), TestAppAltRoot=HASH(0x55f476ed5208)) called at /home/sand/src/perl/repoperls/installed-perls/host/k93bionic/v5.35.8/ca05/lib/site_perl/5.35.8/Catalyst.pm line 2006
	Catalyst::dispatch(TestAppAltRoot=HASH(0x55f476ed5208)) called at /home/sand/src/perl/repoperls/installed-perls/host/k93bionic/v5.35.8/ca05/lib/site_perl/5.35.8/x86_64-linux-ld/Class/MOP/Method/Wrapped.pm line 56
	TestAppAltRoot::_wrapped_dispatch(TestAppAltRoot=HASH(0x55f476ed5208)) called at /home/sand/src/perl/repoperls/installed-perls/host/k93bionic/v5.35.8/ca05/lib/site_perl/5.35.8/x86_64-linux-ld/Class/MOP/Method/Wrapped.pm line 97
	TestAppAltRoot::dispatch(TestAppAltRoot=HASH(0x55f476ed5208)) called at /home/sand/src/perl/repoperls/installed-perls/host/k93bionic/v5.35.8/ca05/lib/site_perl/5.35.8/Catalyst.pm line 2412
	Catalyst::try {...} () called at /home/sand/src/perl/repoperls/installed-perls/host/k93bionic/v5.35.8/ca05/lib/site_perl/5.35.8/Try/Tiny.pm line 102
	eval {...} called at /home/sand/src/perl/repoperls/installed-perls/host/k93bionic/v5.35.8/ca05/lib/site_perl/5.35.8/Try/Tiny.pm line 93
	Try::Tiny::try(CODE(0x55f476f1f038), Try::Tiny::Catch=REF(0x55f476f1eea0)) called at /home/sand/src/perl/repoperls/installed-perls/host/k93bionic/v5.35.8/ca05/lib/site_perl/5.35.8/Catalyst.pm line 2421
	Catalyst::handle_request("TestAppAltRoot", "env", HASH(0x55f476bb5480), "response_cb", CODE(0x55f476f1ef00)) called at /home/sand/src/perl/repoperls/installed-perls/host/k93bionic/v5.35.8/ca05/lib/site_perl/5.35.8/Catalyst/Engine.pm line 807
	Catalyst::Engine::__ANON__(CODE(0x55f476f1ef00)) called at /home/sand/src/perl/repoperls/installed-perls/host/k93bionic/v5.35.8/ca05/lib/site_perl/5.35.8/Plack/Middleware/HTTPExceptions.pm line 32
	Plack::Middleware::HTTPExceptions::try {...} () called at /home/sand/src/perl/repoperls/installed-perls/host/k93bionic/v5.35.8/ca05/lib/site_perl/5.35.8/Try/Tiny.pm line 102
	eval {...} called at /home/sand/src/perl/repoperls/installed-perls/host/k93bionic/v5.35.8/ca05/lib/site_perl/5.35.8/Try/Tiny.pm line 93
	Try::Tiny::try(CODE(0x55f476ed9f40), Try::Tiny::Catch=REF(0x55f476ecf838)) called at /home/sand/src/perl/repoperls/installed-perls/host/k93bionic/v5.35.8/ca05/lib/site_perl/5.35.8/Plack/Middleware/HTTPExceptions.pm line 41
	Plack::Middleware::HTTPExceptions::__ANON__(CODE(0x55f476ec7fe0)) called at /home/sand/src/perl/repoperls/installed-perls/host/k93bionic/v5.35.8/ca05/lib/site_perl/5.35.8/Plack/Util.pm line 339
	Plack::Util::__ANON__(CODE(0x55f476ec28d8)) called at /home/sand/src/perl/repoperls/installed-perls/host/k93bionic/v5.35.8/ca05/lib/site_perl/5.35.8/Plack/Util.pm line 339
	Plack::Util::__ANON__(CODE(0x55f476cd3bb0)) called at /home/sand/src/perl/repoperls/installed-perls/host/k93bionic/v5.35.8/ca05/lib/site_perl/5.35.8/Plack/Util.pm line 339
	Plack::Util::__ANON__(CODE(0x55f476ca2d98)) called at /home/sand/src/perl/repoperls/installed-perls/host/k93bionic/v5.35.8/ca05/lib/site_perl/5.35.8/HTTP/Message/PSGI.pm line 100
	HTTP::Message::PSGI::res_from_psgi(CODE(0x55f476ecfd90)) called at /home/sand/src/perl/repoperls/installed-perls/host/k93bionic/v5.35.8/ca05/lib/site_perl/5.35.8/HTTP/Message/PSGI.pm line 157
	HTTP::Response::from_psgi("HTTP::Response", CODE(0x55f476ecfd90)) called at /home/sand/src/perl/repoperls/installed-perls/host/k93bionic/v5.35.8/ca05/lib/site_perl/5.35.8/Plack/Test/MockHTTP.pm line 24
	Plack::Test::MockHTTP::try {...} () called at /home/sand/src/perl/repoperls/installed-perls/host/k93bionic/v5.35.8/ca05/lib/site_perl/5.35.8/Try/Tiny.pm line 100
	eval {...} called at /home/sand/src/perl/repoperls/installed-perls/host/k93bionic/v5.35.8/ca05/lib/site_perl/5.35.8/Try/Tiny.pm line 93
	Try::Tiny::try(CODE(0x55f476d660b0), Try::Tiny::Catch=REF(0x55f476ec3430)) called at /home/sand/src/perl/repoperls/installed-perls/host/k93bionic/v5.35.8/ca05/lib/site_perl/5.35.8/Plack/Test/MockHTTP.pm line 27
	Plack::Test::MockHTTP::request(Plack::Test::MockHTTP=HASH(0x55f476ec8520), HTTP::Request=HASH(0x55f476ec8190)) called at /home/sand/src/perl/repoperls/installed-perls/host/k93bionic/v5.35.8/ca05/lib/site_perl/5.35.8/Plack/Test.pm line 38
	Plack::Test::__ANON__(HTTP::Request=HASH(0x55f476ec8190)) called at /home/sand/src/perl/repoperls/installed-perls/host/k93bionic/v5.35.8/ca05/lib/site_perl/5.35.8/Catalyst/Test.pm line 290
	Catalyst::Test::__ANON__(CODE(0x55f476ec84a8)) called at /home/sand/src/perl/repoperls/installed-perls/host/k93bionic/v5.35.8/ca05/lib/site_perl/5.35.8/Plack/Test.pm line 38
	Plack::Test::test_psgi("mangle_response", CODE(0x55f475c1dd00), "app", CODE(0x55f474399db0), "app", CODE(0x55f476df0e70), "client", CODE(0x55f476ec8340)) called at /home/sand/src/perl/repoperls/installed-perls/host/k93bionic/v5.35.8/ca05/lib/site_perl/5.35.8/Catalyst/Test.pm line 293
	Catalyst::Test::_request(HASH(0x55f476ec7f08), "/") called at /home/sand/src/perl/repoperls/installed-perls/host/k93bionic/v5.35.8/ca05/lib/site_perl/5.35.8/Catalyst/Test.pm line 336
	Catalyst::Test::_local_request("TestAppAltRoot", "/") called at /home/sand/src/perl/repoperls/installed-perls/host/k93bionic/v5.35.8/ca05/lib/site_perl/5.35.8/Catalyst/Test.pm line 32
	Catalyst::Test::__ANON__("/") called at /home/sand/src/perl/repoperls/installed-perls/host/k93bionic/v5.35.8/ca05/lib/site_perl/5.35.8/Catalyst/Test.pm line 72
	Catalyst::Test::__ANON__("/") called at t/live-test-alt-root.t line 14
t/live-test-alt-root.t .... ok
Class::MOP::load_class is deprecated at /home/sand/src/perl/repoperls/installed-perls/host/k93bionic/v5.35.8/ca05/lib/site_perl/5.35.8/x86_64-linux-ld/Class/MOP.pm line 69, <ARGV> line 1.
	Class::MOP::load_class("TestApp::View::HTML::Root") called at /tmp/loop_over_bdir-1508-mZoNpO/Catalyst-View-HTML-Zoom-0.003-0/blib/lib/Catalyst/View/HTML/Zoom.pm line 138
	Catalyst::View::HTML::Zoom::_zoomer_class_from_context(TestApp::View::HTML=HASH(0x557967a942a8), TestApp=HASH(0x557967c39cc0)) called at /tmp/loop_over_bdir-1508-mZoNpO/Catalyst-View-HTML-Zoom-0.003-0/blib/lib/Catalyst/View/HTML/Zoom.pm line 90
	Catalyst::View::HTML::Zoom::_build_renderer_from_zoomer_class(TestApp::View::HTML=HASH(0x557967a942a8), TestApp=HASH(0x557967c39cc0)) called at /tmp/loop_over_bdir-1508-mZoNpO/Catalyst-View-HTML-Zoom-0.003-0/blib/lib/Catalyst/View/HTML/Zoom.pm line 76
	Catalyst::View::HTML::Zoom::_build_renderer_from(TestApp::View::HTML=HASH(0x557967a942a8), TestApp=HASH(0x557967c39cc0), undef) called at /tmp/loop_over_bdir-1508-mZoNpO/Catalyst-View-HTML-Zoom-0.003-0/blib/lib/Catalyst/View/HTML/Zoom.pm line 67
	Catalyst::View::HTML::Zoom::render(TestApp::View::HTML=HASH(0x557967a942a8), TestApp=HASH(0x557967c39cc0), "/main") called at /tmp/loop_over_bdir-1508-mZoNpO/Catalyst-View-HTML-Zoom-0.003-0/blib/lib/Catalyst/View/HTML/Zoom.pm line 41
	Catalyst::View::HTML::Zoom::process(TestApp::View::HTML=HASH(0x557967a942a8), TestApp=HASH(0x557967c39cc0)) called at /home/sand/src/perl/repoperls/installed-perls/host/k93bionic/v5.35.8/ca05/lib/site_perl/5.35.8/Catalyst/Action.pm line 358
	Catalyst::Action::execute(Catalyst::Action=HASH(0x557967c4bbe8), TestApp::View::HTML=HASH(0x557967a942a8), TestApp=HASH(0x557967c39cc0)) called at /home/sand/src/perl/repoperls/installed-perls/host/k93bionic/v5.35.8/ca05/lib/site_perl/5.35.8/Catalyst.pm line 2060
	eval {...} called at /home/sand/src/perl/repoperls/installed-perls/host/k93bionic/v5.35.8/ca05/lib/site_perl/5.35.8/Catalyst.pm line 2060
	Catalyst::execute(TestApp=HASH(0x557967c39cc0), "TestApp::View::HTML", Catalyst::Action=HASH(0x557967c4bbe8)) called at /home/sand/src/perl/repoperls/installed-perls/host/k93bionic/v5.35.8/ca05/lib/site_perl/5.35.8/Catalyst/Action.pm line 353
	Catalyst::Action::dispatch(Catalyst::Action=HASH(0x557967c4bbe8), TestApp=HASH(0x557967c39cc0)) called at /home/sand/src/perl/repoperls/installed-perls/host/k93bionic/v5.35.8/ca05/lib/site_perl/5.35.8/Catalyst/Dispatcher.pm line 261
	Catalyst::Dispatcher::_do_forward(Catalyst::Dispatcher=HASH(0x557966923a00), "forward", TestApp=HASH(0x557967c39cc0), TestApp::View::HTML=HASH(0x557967a942a8)) called at /home/sand/src/perl/repoperls/installed-perls/host/k93bionic/v5.35.8/ca05/lib/site_perl/5.35.8/Catalyst/Dispatcher.pm line 241
	Catalyst::Dispatcher::forward(Catalyst::Dispatcher=HASH(0x557966923a00), TestApp=HASH(0x557967c39cc0), TestApp::View::HTML=HASH(0x557967a942a8)) called at /home/sand/src/perl/repoperls/installed-perls/host/k93bionic/v5.35.8/ca05/lib/site_perl/5.35.8/Catalyst.pm line 482
	Catalyst::forward(TestApp=HASH(0x557967c39cc0), TestApp::View::HTML=HASH(0x557967a942a8)) called at /home/sand/src/perl/repoperls/installed-perls/host/k93bionic/v5.35.8/ca05/lib/site_perl/5.35.8/Catalyst/Action/RenderView.pm line 57
	Catalyst::Action::RenderView::execute(Catalyst::Action::RenderView=HASH(0x557967b6d9a8), TestApp::Controller::Root=HASH(0x557967a8aa50), TestApp=HASH(0x557967c39cc0)) called at /home/sand/src/perl/repoperls/installed-perls/host/k93bionic/v5.35.8/ca05/lib/site_perl/5.35.8/Catalyst.pm line 2060
	eval {...} called at /home/sand/src/perl/repoperls/installed-perls/host/k93bionic/v5.35.8/ca05/lib/site_perl/5.35.8/Catalyst.pm line 2060
	Catalyst::execute(TestApp=HASH(0x557967c39cc0), "TestApp::Controller::Root", Catalyst::Action::RenderView=HASH(0x557967b6d9a8)) called at /home/sand/src/perl/repoperls/installed-perls/host/k93bionic/v5.35.8/ca05/lib/site_perl/5.35.8/Catalyst/Action.pm line 353
	Catalyst::Action::dispatch(Catalyst::Action::RenderView=HASH(0x557967b6d9a8), TestApp=HASH(0x557967c39cc0)) called at /home/sand/src/perl/repoperls/installed-perls/host/k93bionic/v5.35.8/ca05/lib/site_perl/5.35.8/Catalyst/Controller.pm line 188
	Catalyst::Controller::_END(TestApp::Controller::Root=HASH(0x557967a8aa50), TestApp=HASH(0x557967c39cc0)) called at /home/sand/src/perl/repoperls/installed-perls/host/k93bionic/v5.35.8/ca05/lib/site_perl/5.35.8/Catalyst/Action.pm line 358
	Catalyst::Action::execute(Catalyst::Action=HASH(0x557967af6940), TestApp::Controller::Root=HASH(0x557967a8aa50), TestApp=HASH(0x557967c39cc0)) called at /home/sand/src/perl/repoperls/installed-perls/host/k93bionic/v5.35.8/ca05/lib/site_perl/5.35.8/Catalyst.pm line 2060
	eval {...} called at /home/sand/src/perl/repoperls/installed-perls/host/k93bionic/v5.35.8/ca05/lib/site_perl/5.35.8/Catalyst.pm line 2060
	Catalyst::execute(TestApp=HASH(0x557967c39cc0), "TestApp::Controller::Root", Catalyst::Action=HASH(0x557967af6940)) called at /home/sand/src/perl/repoperls/installed-perls/host/k93bionic/v5.35.8/ca05/lib/site_perl/5.35.8/Catalyst/Action.pm line 353
	Catalyst::Action::dispatch(Catalyst::Action=HASH(0x557967af6940), TestApp=HASH(0x557967c39cc0)) called at /home/sand/src/perl/repoperls/installed-perls/host/k93bionic/v5.35.8/ca05/lib/site_perl/5.35.8/Catalyst/Dispatcher.pm line 261
	Catalyst::Dispatcher::_do_forward(Catalyst::Dispatcher=HASH(0x557966923a00), "forward", TestApp=HASH(0x557967c39cc0), "_END") called at /home/sand/src/perl/repoperls/installed-perls/host/k93bionic/v5.35.8/ca05/lib/site_perl/5.35.8/Catalyst/Dispatcher.pm line 241
	Catalyst::Dispatcher::forward(Catalyst::Dispatcher=HASH(0x557966923a00), TestApp=HASH(0x557967c39cc0), "_END") called at /home/sand/src/perl/repoperls/installed-perls/host/k93bionic/v5.35.8/ca05/lib/site_perl/5.35.8/Catalyst.pm line 482
	Catalyst::forward(TestApp=HASH(0x557967c39cc0), "_END") called at /home/sand/src/perl/repoperls/installed-perls/host/k93bionic/v5.35.8/ca05/lib/site_perl/5.35.8/Catalyst/Controller.pm line 137
	Catalyst::Controller::_DISPATCH(TestApp::Controller::Root=HASH(0x557967a8aa50), TestApp=HASH(0x557967c39cc0)) called at /home/sand/src/perl/repoperls/installed-perls/host/k93bionic/v5.35.8/ca05/lib/site_perl/5.35.8/Catalyst/Action.pm line 358
	Catalyst::Action::execute(Catalyst::Action=HASH(0x557967af6838), TestApp::Controller::Root=HASH(0x557967a8aa50), TestApp=HASH(0x557967c39cc0)) called at /home/sand/src/perl/repoperls/installed-perls/host/k93bionic/v5.35.8/ca05/lib/site_perl/5.35.8/Catalyst.pm line 2060
	eval {...} called at /home/sand/src/perl/repoperls/installed-perls/host/k93bionic/v5.35.8/ca05/lib/site_perl/5.35.8/Catalyst.pm line 2060
	Catalyst::execute(TestApp=HASH(0x557967c39cc0), "TestApp::Controller::Root", Catalyst::Action=HASH(0x557967af6838)) called at /home/sand/src/perl/repoperls/installed-perls/host/k93bionic/v5.35.8/ca05/lib/site_perl/5.35.8/Catalyst/Action.pm line 353
	Catalyst::Action::dispatch(Catalyst::Action=HASH(0x557967af6838), TestApp=HASH(0x557967c39cc0)) called at /home/sand/src/perl/repoperls/installed-perls/host/k93bionic/v5.35.8/ca05/lib/site_perl/5.35.8/Catalyst/Dispatcher.pm line 261
	Catalyst::Dispatcher::_do_forward(Catalyst::Dispatcher=HASH(0x557966923a00), "forward", TestApp=HASH(0x557967c39cc0), "//_DISPATCH") called at /home/sand/src/perl/repoperls/installed-perls/host/k93bionic/v5.35.8/ca05/lib/site_perl/5.35.8/Catalyst/Dispatcher.pm line 241
	Catalyst::Dispatcher::forward(Catalyst::Dispatcher=HASH(0x557966923a00), TestApp=HASH(0x557967c39cc0), "//_DISPATCH") called at /home/sand/src/perl/repoperls/installed-perls/host/k93bionic/v5.35.8/ca05/lib/site_perl/5.35.8/Catalyst.pm line 482
	Catalyst::forward(TestApp=HASH(0x557967c39cc0), "//_DISPATCH") called at /home/sand/src/perl/repoperls/installed-perls/host/k93bionic/v5.35.8/ca05/lib/site_perl/5.35.8/Catalyst/Dispatcher.pm line 107
	Catalyst::Dispatcher::dispatch(Catalyst::Dispatcher=HASH(0x557966923a00), TestApp=HASH(0x557967c39cc0)) called at /home/sand/src/perl/repoperls/installed-perls/host/k93bionic/v5.35.8/ca05/lib/site_perl/5.35.8/Catalyst.pm line 2006
	Catalyst::dispatch(TestApp=HASH(0x557967c39cc0)) called at /home/sand/src/perl/repoperls/installed-perls/host/k93bionic/v5.35.8/ca05/lib/site_perl/5.35.8/x86_64-linux-ld/Class/MOP/Method/Wrapped.pm line 56
	TestApp::_wrapped_dispatch(TestApp=HASH(0x557967c39cc0)) called at /home/sand/src/perl/repoperls/installed-perls/host/k93bionic/v5.35.8/ca05/lib/site_perl/5.35.8/x86_64-linux-ld/Class/MOP/Method/Wrapped.pm line 97
	TestApp::dispatch(TestApp=HASH(0x557967c39cc0)) called at /home/sand/src/perl/repoperls/installed-perls/host/k93bionic/v5.35.8/ca05/lib/site_perl/5.35.8/Catalyst.pm line 2412
	Catalyst::try {...} () called at /home/sand/src/perl/repoperls/installed-perls/host/k93bionic/v5.35.8/ca05/lib/site_perl/5.35.8/Try/Tiny.pm line 102
	eval {...} called at /home/sand/src/perl/repoperls/installed-perls/host/k93bionic/v5.35.8/ca05/lib/site_perl/5.35.8/Try/Tiny.pm line 93
	Try::Tiny::try(CODE(0x557967c39708), Try::Tiny::Catch=REF(0x557967c1a730)) called at /home/sand/src/perl/repoperls/installed-perls/host/k93bionic/v5.35.8/ca05/lib/site_perl/5.35.8/Catalyst.pm line 2421
	Catalyst::handle_request("TestApp", "env", HASH(0x557967980618), "response_cb", CODE(0x557967c395d0)) called at /home/sand/src/perl/repoperls/installed-perls/host/k93bionic/v5.35.8/ca05/lib/site_perl/5.35.8/Catalyst/Engine.pm line 807
	Catalyst::Engine::__ANON__(CODE(0x557967c395d0)) called at /home/sand/src/perl/repoperls/installed-perls/host/k93bionic/v5.35.8/ca05/lib/site_perl/5.35.8/Plack/Middleware/HTTPExceptions.pm line 32
	Plack::Middleware::HTTPExceptions::try {...} () called at /home/sand/src/perl/repoperls/installed-perls/host/k93bionic/v5.35.8/ca05/lib/site_perl/5.35.8/Try/Tiny.pm line 102
	eval {...} called at /home/sand/src/perl/repoperls/installed-perls/host/k93bionic/v5.35.8/ca05/lib/site_perl/5.35.8/Try/Tiny.pm line 93
	Try::Tiny::try(CODE(0x557967bea338), Try::Tiny::Catch=REF(0x557967a2c640)) called at /home/sand/src/perl/repoperls/installed-perls/host/k93bionic/v5.35.8/ca05/lib/site_perl/5.35.8/Plack/Middleware/HTTPExceptions.pm line 41
	Plack::Middleware::HTTPExceptions::__ANON__(CODE(0x55796797fad8)) called at /home/sand/src/perl/repoperls/installed-perls/host/k93bionic/v5.35.8/ca05/lib/site_perl/5.35.8/Plack/Util.pm line 339
	Plack::Util::__ANON__(CODE(0x557967a7c9e0)) called at /home/sand/src/perl/repoperls/installed-perls/host/k93bionic/v5.35.8/ca05/lib/site_perl/5.35.8/Plack/Util.pm line 339
	Plack::Util::__ANON__(CODE(0x557967abc9f0)) called at /home/sand/src/perl/repoperls/installed-perls/host/k93bionic/v5.35.8/ca05/lib/site_perl/5.35.8/Plack/Util.pm line 339
	Plack::Util::__ANON__(CODE(0x557967a75ed0)) called at /home/sand/src/perl/repoperls/installed-perls/host/k93bionic/v5.35.8/ca05/lib/site_perl/5.35.8/HTTP/Message/PSGI.pm line 100
	HTTP::Message::PSGI::res_from_psgi(CODE(0x557967be19e8)) called at /home/sand/src/perl/repoperls/installed-perls/host/k93bionic/v5.35.8/ca05/lib/site_perl/5.35.8/HTTP/Message/PSGI.pm line 157
	HTTP::Response::from_psgi("HTTP::Response", CODE(0x557967be19e8)) called at /home/sand/src/perl/repoperls/installed-perls/host/k93bionic/v5.35.8/ca05/lib/site_perl/5.35.8/Plack/Test/MockHTTP.pm line 24
	Plack::Test::MockHTTP::try {...} () called at /home/sand/src/perl/repoperls/installed-perls/host/k93bionic/v5.35.8/ca05/lib/site_perl/5.35.8/Try/Tiny.pm line 100
	eval {...} called at /home/sand/src/perl/repoperls/installed-perls/host/k93bionic/v5.35.8/ca05/lib/site_perl/5.35.8/Try/Tiny.pm line 93
	Try::Tiny::try(CODE(0x557967beac38), Try::Tiny::Catch=REF(0x55796506d6d0)) called at /home/sand/src/perl/repoperls/installed-perls/host/k93bionic/v5.35.8/ca05/lib/site_perl/5.35.8/Plack/Test/MockHTTP.pm line 27
	Plack::Test::MockHTTP::request(Plack::Test::MockHTTP=HASH(0x557967be1208), HTTP::Request=HASH(0x557967be0e78)) called at /home/sand/src/perl/repoperls/installed-perls/host/k93bionic/v5.35.8/ca05/lib/site_perl/5.35.8/Plack/Test.pm line 38
	Plack::Test::__ANON__(HTTP::Request=HASH(0x557967be0e78)) called at /home/sand/src/perl/repoperls/installed-perls/host/k93bionic/v5.35.8/ca05/lib/site_perl/5.35.8/Catalyst/Test.pm line 290
	Catalyst::Test::__ANON__(CODE(0x557967be1190)) called at /home/sand/src/perl/repoperls/installed-perls/host/k93bionic/v5.35.8/ca05/lib/site_perl/5.35.8/Plack/Test.pm line 38
	Plack::Test::test_psgi("mangle_response", CODE(0x5579668f19b0), "app", CODE(0x55796508b9a8), "app", CODE(0x557967af5ea8), "client", CODE(0x557967be1028)) called at /home/sand/src/perl/repoperls/installed-perls/host/k93bionic/v5.35.8/ca05/lib/site_perl/5.35.8/Catalyst/Test.pm line 293
	Catalyst::Test::_request(HASH(0x55796506d190), "/") called at /home/sand/src/perl/repoperls/installed-perls/host/k93bionic/v5.35.8/ca05/lib/site_perl/5.35.8/Catalyst/Test.pm line 336
	Catalyst::Test::_local_request("TestApp", "/") called at /home/sand/src/perl/repoperls/installed-perls/host/k93bionic/v5.35.8/ca05/lib/site_perl/5.35.8/Catalyst/Test.pm line 32
	Catalyst::Test::__ANON__("/") called at /home/sand/src/perl/repoperls/installed-perls/host/k93bionic/v5.35.8/ca05/lib/site_perl/5.35.8/Catalyst/Test.pm line 72
	Catalyst::Test::__ANON__("/") called at t/live-test.t line 14
t/live-test.t ............. ok
t/release-pod-coverage.t .. skipped: these tests are for release candidate testing
t/release-pod-syntax.t .... skipped: these tests are for release candidate testing
All tests successful.
Files=7, Tests=17,  2 wallclock secs ( 0.02 usr  0.04 sys +  1.32 cusr  0.50 csys =  1.88 CPU)
Result: PASS

------------------------------
PREREQUISITES
------------------------------

Prerequisite modules loaded:

requires:

    Module                       Need  Have    
    ---------------------------- ----- --------
    Class::MOP                   1.12  2.2201  
    HTML::Zoom                   0.009 0.009009
    Moose                        1.21  2.2201  
    namespace::autoclean         0.09  0.29    
    Path::Class                  0.23  0.37    

build_requires:

    Module                       Need  Have    
    ---------------------------- ----- --------
    Catalyst::Action::RenderView 0.14  0.16    
    Catalyst::Runtime            5.8   5.90128 
    Test::More                   0.96  1.302188

configure_requires:

    Module                       Need  Have    
    ---------------------------- ----- --------
    ExtUtils::MakeMaker          6.31  7.64    


------------------------------
ENVIRONMENT AND OTHER CONTEXT
------------------------------

Environment variables:

    AUTOMATED_TESTING = 1
    LANG = en_US.utf8
    PATH = /home/sand/bin:/usr/local/bin:/usr/local/sbin:/usr/sbin:/usr/bin:/sbin:/bin:/usr/games:/usr/local/games:/snap/bin:/usr/local/perl/bin:/usr/X11/bin
    PERL = /tmp/basesmoker-reloperl-JtTR/bin/perl
    PERL5LIB = /tmp/loop_over_bdir-1508-mZoNpO/makepp-1.19-0/blib/arch:/tmp/loop_over_bdir-1508-mZoNpO/makepp-1.19-0/blib/lib:/tmp/loop_over_bdir-1508-mZoNpO/shishi-0.0.1-0/blib/arch:/tmp/loop_over_bdir-1508-mZoNpO/shishi-0.0.1-0/blib/lib:/tmp/loop_over_bdir-1508-mZoNpO/App-oo_modulino_zsh_completion_helper-0.04-0/blib/arch:/tmp/loop_over_bdir-1508-mZoNpO/App-oo_modulino_zsh_completion_helper-0.04-0/blib/lib:/tmp/loop_over_bdir-1508-mZoNpO/triceps-2.1.0-0/blib/arch:/tmp/loop_over_bdir-1508-mZoNpO/triceps-2.1.0-0/blib/lib:/tmp/loop_over_bdir-1508-mZoNpO/CORBA-Python-2.66-0/blib/arch:/tmp/loop_over_bdir-1508-mZoNpO/CORBA-Python-2.66-0/blib/lib:/tmp/loop_over_bdir-1508-mZoNpO/NoZone-1.3-0/blib/arch:/tmp/loop_over_bdir-1508-mZoNpO/NoZone-1.3-0/blib/lib:/tmp/loop_over_bdir-1508-mZoNpO/Lemonldap-NG-Cli-0.2-0/blib/arch:/tmp/loop_over_bdir-1508-mZoNpO/Lemonldap-NG-Cli-0.2-0/blib/lib:/tmp/loop_over_bdir-1508-mZoNpO/Alien-SNMP-MIBDEV-2.020000-0/blib/arch:/tmp/loop_over_bdir-1508-mZoNpO/Alien-SNMP-MIBDEV-2.020000-0/blib/lib:/tmp/loop_over_bdir-1508-mZoNpO/downsexta-0/blib/arch:/tmp/loop_over_bdir-1508-mZoNpO/downsexta-0/blib/lib:/tmp/loop_over_bdir-1508-mZoNpO/AllKnowingDNS-1.7-0/blib/arch:/tmp/loop_over_bdir-1508-mZoNpO/AllKnowingDNS-1.7-0/blib/lib:/tmp/loop_over_bdir-1508-mZoNpO/DBIx-Migration-Directories-0.12-0/blib/arch:/tmp/loop_over_bdir-1508-mZoNpO/DBIx-Migration-Directories-0.12-0/blib/lib:/tmp/loop_over_bdir-1508-mZoNpO/LiquidWeb-Storm-CLI-1.03-0/blib/arch:/tmp/loop_over_bdir-1508-mZoNpO/LiquidWeb-Storm-CLI-1.03-0/blib/lib:/tmp/loop_over_bdir-1508-mZoNpO/EJBCA-CrlPublish-0.60-0/blib/arch:/tmp/loop_over_bdir-1508-mZoNpO/EJBCA-CrlPublish-0.60-0/blib/lib:/tmp/loop_over_bdir-1508-mZoNpO/dta-tokwrap-0.98-0/blib/arch:/tmp/loop_over_bdir-1508-mZoNpO/dta-tokwrap-0.98-0/blib/lib:/tmp/loop_over_bdir-1508-mZoNpO/Business-Shipping-DataFiles-1.02-0/blib/arch:/tmp/loop_over_bdir-1508-mZoNpO/Business-Shipping-DataFiles-1.02-0/blib/lib:/tmp/loop_over_bdir-1508-mZoNpO/Debian-Packages-0.03-0/blib/arch:/tmp/loop_over_bdir-1508-mZoNpO/Debian-Packages-0.03-0/blib/lib:/tmp/loop_over_bdir-1508-mZoNpO/js-app-0.13-0/blib/arch:/tmp/loop_over_bdir-1508-mZoNpO/js-app-0.13-0/blib/lib:/tmp/loop_over_bdir-1508-mZoNpO/RackMan-1.19-0/blib/arch:/tmp/loop_over_bdir-1508-mZoNpO/RackMan-1.19-0/blib/lib:/tmp/loop_over_bdir-1508-mZoNpO/Lingua-BioYaTeA-0.11-0/blib/arch:/tmp/loop_over_bdir-1508-mZoNpO/Lingua-BioYaTeA-0.11-0/blib/lib:/tmp/loop_over_bdir-1508-mZoNpO/Simulation-Automate-1.0.1-0/blib/arch:/tmp/loop_over_bdir-1508-mZoNpO/Simulation-Automate-1.0.1-0/blib/lib:/tmp/loop_over_bdir-1508-mZoNpO/LCFG-Build-Skeleton-0.5.0-0/blib/arch:/tmp/loop_over_bdir-1508-mZoNpO/LCFG-Build-Skeleton-0.5.0-0/blib/lib:/tmp/loop_over_bdir-1508-mZoNpO/OSDial-3.0.2.124-0/blib/arch:/tmp/loop_over_bdir-1508-mZoNpO/OSDial-3.0.2.124-0/blib/lib:/tmp/loop_over_bdir-1508-mZoNpO/mmds-1.902-0/blib/arch:/tmp/loop_over_bdir-1508-mZoNpO/mmds-1.902-0/blib/lib:/tmp/loop_over_bdir-1508-mZoNpO/perl-Hardware-UPS-Perl-0.43-0/blib/arch:/tmp/loop_over_bdir-1508-mZoNpO/perl-Hardware-UPS-Perl-0.43-0/blib/lib:/tmp/loop_over_bdir-1508-mZoNpO/LCFG-Build-Tools-0.9.30-0/blib/arch:/tmp/loop_over_bdir-1508-mZoNpO/LCFG-Build-Tools-0.9.30-0/blib/lib:/tmp/loop_over_bdir-1508-mZoNpO/MP3-PodcastFetch-1.05-0/blib/arch:/tmp/loop_over_bdir-1508-mZoNpO/MP3-PodcastFetch-1.05-0/blib/lib:/tmp/loop_over_bdir-1508-mZoNpO/Devel-Required-0.16-0/blib/arch:/tmp/loop_over_bdir-1508-mZoNpO/Devel-Required-0.16-0/blib/lib:/tmp/loop_over_bdir-1508-mZoNpO/App-nrun-v1.1.2-0/blib/arch:/tmp/loop_over_bdir-1508-mZoNpO/App-nrun-v1.1.2-0/blib/lib:/tmp/loop_over_bdir-1508-mZoNpO/Net-ISP-Balance-1.31-0/blib/arch:/tmp/loop_over_bdir-1508-mZoNpO/Net-ISP-Balance-1.31-0/blib/lib:/tmp/loop_over_bdir-1508-mZoNpO/Serge-1.4-0/blib/arch:/tmp/loop_over_bdir-1508-mZoNpO/Serge-1.4-0/blib/lib:/tmp/loop_over_bdir-1508-mZoNpO/CGI-Application-NetNewsIface-0.0204-0/blib/arch:/tmp/loop_over_bdir-1508-mZoNpO/CGI-Application-NetNewsIface-0.0204-0/blib/lib:/tmp/loop_over_bdir-1508-mZoNpO/Net-Async-DigitalOcean-0.04-0/blib/arch:/tmp/loop_over_bdir-1508-mZoNpO/Net-Async-DigitalOcean-0.04-0/blib/lib:/tmp/loop_over_bdir-1508-mZoNpO/RDF-NLP-SPARQLQuery-0.1-0/blib/arch:/tmp/loop_over_bdir-1508-mZoNpO/RDF-NLP-SPARQLQuery-0.1-0/blib/lib:/tmp/loop_over_bdir-1508-mZoNpO/Lingua-YaTeA-0.626-0/blib/arch:/tmp/loop_over_bdir-1508-mZoNpO/Lingua-YaTeA-0.626-0/blib/lib:/tmp/loop_over_bdir-1508-mZoNpO/Dpkg-1.21.1-0/blib/arch:/tmp/loop_over_bdir-1508-mZoNpO/Dpkg-1.21.1-0/blib/lib:/tmp/loop_over_bdir-1508-mZoNpO/Linux-InitFS-0.2-0/blib/arch:/tmp/loop_over_bdir-1508-mZoNpO/Linux-InitFS-0.2-0/blib/lib
    PERL5OPT = 
    PERL5_CPANPLUS_IS_RUNNING = 1517
    PERL5_CPAN_IS_RUNNING = 1517
    PERL_CANARY_STABILITY_NOPROMPT = 1
    PERL_MM_USE_DEFAULT = 1
    PERL_USE_UNSAFE_INC = 1
    SHELL = /usr/bin/zsh
    TERM = screen

Perl special variables (and OS-specific diagnostics, for MSWin32):

    $^X = /tmp/basesmoker-reloperl-JtTR/bin/perl
    $UID/$EUID = 1005 / 1005
    $GID = 1005 1005
    $EGID = 1005 1005

Perl module toolchain versions installed:

    Module              Have    
    ------------------- --------
    CPAN                2.33    
    CPAN::Meta          2.150010
    Cwd                 3.83    
    ExtUtils::CBuilder  0.280236
    ExtUtils::Command   7.64    
    ExtUtils::Install   2.20    
    ExtUtils::MakeMaker 7.64    
    ExtUtils::Manifest  1.73    
    ExtUtils::ParseXS   3.44    
    File::Spec          3.83    
    JSON                4.05    
    JSON::PP            4.07    
    Module::Build       0.4231  
    Module::Signature   0.88    
    Parse::CPAN::Meta   2.150010
    Test::Harness       3.43    
    Test::More          1.302188
    YAML                1.30    
    YAML::Syck          1.34    
    version             0.9929  


--

Summary of my perl5 (revision 5 version 35 subversion 8) configuration:
  Commit id: 60b7a09a2035aced611466c1355da6140e0e8a07
  Platform:
    osname=linux
    osvers=4.15.0-163-generic
    archname=x86_64-linux-ld
    uname='linux k93bionic 4.15.0-163-generic #171-ubuntu smp fri nov 5 11:55:11 utc 2021 x86_64 x86_64 x86_64 gnulinux '
    config_args='-Dprefix=/home/sand/src/perl/repoperls/installed-perls/host/k93bionic/v5.35.8/ca05 -Dmyhostname=k93bionic -Dinstallusrbinperl=n -Uversiononly -Dusedevel -des -Ui_db -Dlibswanted=cl pthread socket inet nsl gdbm dbm malloc dl ld sun m crypt sec util c cposix posix ucb BSD gdbm_compat -Uuseithreads -Duselongdouble -DEBUGGING=-g'
    hint=recommended
    useposix=true
    d_sigaction=define
    useithreads=undef
    usemultiplicity=undef
    use64bitint=define
    use64bitall=define
    uselongdouble=define
    usemymalloc=n
    default_inc_excludes_dot=define
  Compiler:
    cc='cc'
    ccflags ='-fwrapv -fno-strict-aliasing -pipe -fstack-protector-strong -I/usr/local/include -D_LARGEFILE_SOURCE -D_FILE_OFFSET_BITS=64'
    optimize='-O2 -g'
    cppflags='-fwrapv -fno-strict-aliasing -pipe -fstack-protector-strong -I/usr/local/include'
    ccversion=''
    gccversion='7.5.0'
    gccosandvers=''
    intsize=4
    longsize=8
    ptrsize=8
    doublesize=8
    byteorder=12345678
    doublekind=3
    d_longlong=define
    longlongsize=8
    d_longdbl=define
    longdblsize=16
    longdblkind=3
    ivtype='long'
    ivsize=8
    nvtype='long double'
    nvsize=16
    Off_t='off_t'
    lseeksize=8
    alignbytes=16
    prototype=define
  Linker and Libraries:
    ld='cc'
    ldflags =' -fstack-protector-strong -L/usr/local/lib'
    libpth=/usr/local/lib /usr/lib/x86_64-linux-gnu /usr/lib /lib/x86_64-linux-gnu /lib
    libs=-lpthread -lnsl -ldl -lm -lcrypt -lutil -lc
    perllibs=-lpthread -lnsl -ldl -lm -lcrypt -lutil -lc
    libc=libc-2.27.so
    so=so
    useshrplib=false
    libperl=libperl.a
    gnulibc_version='2.27'
  Dynamic Linking:
    dlsrc=dl_dlopen.xs
    dlext=so
    d_dlsymun=undef
    ccdlflags='-Wl,-E'
    cccdlflags='-fPIC'
    lddlflags='-shared -O2 -g -L/usr/local/lib -fstack-protector-strong'


Characteristics of this binary (from libperl): 
  Compile-time options:
    HAS_TIMES
    PERLIO_LAYERS
    PERL_COPY_ON_WRITE
    PERL_DONT_CREATE_GVSV
    PERL_MALLOC_WRAP
    PERL_OP_PARENT
    PERL_PRESERVE_IVUV
    PERL_USE_DEVEL
    USE_64_BIT_ALL
    USE_64_BIT_INT
    USE_LARGE_FILES
    USE_LOCALE
    USE_LOCALE_COLLATE
    USE_LOCALE_CTYPE
    USE_LOCALE_NUMERIC
    USE_LOCALE_TIME
    USE_LONG_DOUBLE
    USE_PERLIO
    USE_PERL_ATOF
  Built under linux
  Compiled at Feb  1 2022 03:24:00
  %ENV:
    PERL="/tmp/basesmoker-reloperl-JtTR/bin/perl"
    PERL5LIB="/tmp/loop_over_bdir-1508-mZoNpO/makepp-1.19-0/blib/arch:/tmp/loop_over_bdir-1508-mZoNpO/makepp-1.19-0/blib/lib:/tmp/loop_over_bdir-1508-mZoNpO/shishi-0.0.1-0/blib/arch:/tmp/loop_over_bdir-1508-mZoNpO/shishi-0.0.1-0/blib/lib:/tmp/loop_over_bdir-1508-mZoNpO/App-oo_modulino_zsh_completion_helper-0.04-0/blib/arch:/tmp/loop_over_bdir-1508-mZoNpO/App-oo_modulino_zsh_completion_helper-0.04-0/blib/lib:/tmp/loop_over_bdir-1508-mZoNpO/triceps-2.1.0-0/blib/arch:/tmp/loop_over_bdir-1508-mZoNpO/triceps-2.1.0-0/blib/lib:/tmp/loop_over_bdir-1508-mZoNpO/CORBA-Python-2.66-0/blib/arch:/tmp/loop_over_bdir-1508-mZoNpO/CORBA-Python-2.66-0/blib/lib:/tmp/loop_over_bdir-1508-mZoNpO/NoZone-1.3-0/blib/arch:/tmp/loop_over_bdir-1508-mZoNpO/NoZone-1.3-0/blib/lib:/tmp/loop_over_bdir-1508-mZoNpO/Lemonldap-NG-Cli-0.2-0/blib/arch:/tmp/loop_over_bdir-1508-mZoNpO/Lemonldap-NG-Cli-0.2-0/blib/lib:/tmp/loop_over_bdir-1508-mZoNpO/Alien-SNMP-MIBDEV-2.020000-0/blib/arch:/tmp/loop_over_bdir-1508-mZoNpO/Alien-SNMP-MIBDEV-2.020000-0/blib/lib:/tmp/loop_over_bdir-1508-mZoNpO/downsexta-0/blib/arch:/tmp/loop_over_bdir-1508-mZoNpO/downsexta-0/blib/lib:/tmp/loop_over_bdir-1508-mZoNpO/AllKnowingDNS-1.7-0/blib/arch:/tmp/loop_over_bdir-1508-mZoNpO/AllKnowingDNS-1.7-0/blib/lib:/tmp/loop_over_bdir-1508-mZoNpO/DBIx-Migration-Directories-0.12-0/blib/arch:/tmp/loop_over_bdir-1508-mZoNpO/DBIx-Migration-Directories-0.12-0/blib/lib:/tmp/loop_over_bdir-1508-mZoNpO/LiquidWeb-Storm-CLI-1.03-0/blib/arch:/tmp/loop_over_bdir-1508-mZoNpO/LiquidWeb-Storm-CLI-1.03-0/blib/lib:/tmp/loop_over_bdir-1508-mZoNpO/EJBCA-CrlPublish-0.60-0/blib/arch:/tmp/loop_over_bdir-1508-mZoNpO/EJBCA-CrlPublish-0.60-0/blib/lib:/tmp/loop_over_bdir-1508-mZoNpO/dta-tokwrap-0.98-0/blib/arch:/tmp/loop_over_bdir-1508-mZoNpO/dta-tokwrap-0.98-0/blib/lib:/tmp/loop_over_bdir-1508-mZoNpO/Business-Shipping-DataFiles-1.02-0/blib/arch:/tmp/loop_over_bdir-1508-mZoNpO/Business-Shipping-DataFiles-1.02-0/blib/lib:/tmp/loop_over_bdir-1508-mZoNpO/Debian-Packages-0.03-0/blib/arch:/tmp/loop_over_bdir-1508-mZoNpO/Debian-Packages-0.03-0/blib/lib:/tmp/loop_over_bdir-1508-mZoNpO/js-app-0.13-0/blib/arch:/tmp/loop_over_bdir-1508-mZoNpO/js-app-0.13-0/blib/lib:/tmp/loop_over_bdir-1508-mZoNpO/RackMan-1.19-0/blib/arch:/tmp/loop_over_bdir-1508-mZoNpO/RackMan-1.19-0/blib/lib:/tmp/loop_over_bdir-1508-mZoNpO/Lingua-BioYaTeA-0.11-0/blib/arch:/tmp/loop_over_bdir-1508-mZoNpO/Lingua-BioYaTeA-0.11-0/blib/lib:/tmp/loop_over_bdir-1508-mZoNpO/Simulation-Automate-1.0.1-0/blib/arch:/tmp/loop_over_bdir-1508-mZoNpO/Simulation-Automate-1.0.1-0/blib/lib:/tmp/loop_over_bdir-1508-mZoNpO/LCFG-Build-Skeleton-0.5.0-0/blib/arch:/tmp/loop_over_bdir-1508-mZoNpO/LCFG-Build-Skeleton-0.5.0-0/blib/lib:/tmp/loop_over_bdir-1508-mZoNpO/OSDial-3.0.2.124-0/blib/arch:/tmp/loop_over_bdir-1508-mZoNpO/OSDial-3.0.2.124-0/blib/lib:/tmp/loop_over_bdir-1508-mZoNpO/mmds-1.902-0/blib/arch:/tmp/loop_over_bdir-1508-mZoNpO/mmds-1.902-0/blib/lib:/tmp/loop_over_bdir-1508-mZoNpO/perl-Hardware-UPS-Perl-0.43-0/blib/arch:/tmp/loop_over_bdir-1508-mZoNpO/perl-Hardware-UPS-Perl-0.43-0/blib/lib:/tmp/loop_over_bdir-1508-mZoNpO/LCFG-Build-Tools-0.9.30-0/blib/arch:/tmp/loop_over_bdir-1508-mZoNpO/LCFG-Build-Tools-0.9.30-0/blib/lib:/tmp/loop_over_bdir-1508-mZoNpO/MP3-PodcastFetch-1.05-0/blib/arch:/tmp/loop_over_bdir-1508-mZoNpO/MP3-PodcastFetch-1.05-0/blib/lib:/tmp/loop_over_bdir-1508-mZoNpO/Devel-Required-0.16-0/blib/arch:/tmp/loop_over_bdir-1508-mZoNpO/Devel-Required-0.16-0/blib/lib:/tmp/loop_over_bdir-1508-mZoNpO/App-nrun-v1.1.2-0/blib/arch:/tmp/loop_over_bdir-1508-mZoNpO/App-nrun-v1.1.2-0/blib/lib:/tmp/loop_over_bdir-1508-mZoNpO/Net-ISP-Balance-1.31-0/blib/arch:/tmp/loop_over_bdir-1508-mZoNpO/Net-ISP-Balance-1.31-0/blib/lib:/tmp/loop_over_bdir-1508-mZoNpO/Serge-1.4-0/blib/arch:/tmp/loop_over_bdir-1508-mZoNpO/Serge-1.4-0/blib/lib:/tmp/loop_over_bdir-1508-mZoNpO/CGI-Application-NetNewsIface-0.0204-0/blib/arch:/tmp/loop_over_bdir-1508-mZoNpO/CGI-Application-NetNewsIface-0.0204-0/blib/lib:/tmp/loop_over_bdir-1508-mZoNpO/Net-Async-DigitalOcean-0.04-0/blib/arch:/tmp/loop_over_bdir-1508-mZoNpO/Net-Async-DigitalOcean-0.04-0/blib/lib:/tmp/loop_over_bdir-1508-mZoNpO/RDF-NLP-SPARQLQuery-0.1-0/blib/arch:/tmp/loop_over_bdir-1508-mZoNpO/RDF-NLP-SPARQLQuery-0.1-0/blib/lib:/tmp/loop_over_bdir-1508-mZoNpO/Lingua-YaTeA-0.626-0/blib/arch:/tmp/loop_over_bdir-1508-mZoNpO/Lingua-YaTeA-0.626-0/blib/lib:/tmp/loop_over_bdir-1508-mZoNpO/Dpkg-1.21.1-0/blib/arch:/tmp/loop_over_bdir-1508-mZoNpO/Dpkg-1.21.1-0/blib/lib:/tmp/loop_over_bdir-1508-mZoNpO/Linux-InitFS-0.2-0/blib/arch:/tmp/loop_over_bdir-1508-mZoNpO/Linux-InitFS-0.2-0/blib/lib"
    PERL5OPT=""
    PERL5_CPANPLUS_IS_RUNNING="1517"
    PERL5_CPAN_IS_RUNNING="1517"
    PERL_CANARY_STABILITY_NOPROMPT="1"
    PERL_MM_USE_DEFAULT="1"
    PERL_USE_UNSAFE_INC="1"
  @INC:
    /tmp/loop_over_bdir-1508-mZoNpO/makepp-1.19-0/blib/arch
    /tmp/loop_over_bdir-1508-mZoNpO/makepp-1.19-0/blib/lib
    /tmp/loop_over_bdir-1508-mZoNpO/shishi-0.0.1-0/blib/arch
    /tmp/loop_over_bdir-1508-mZoNpO/shishi-0.0.1-0/blib/lib
    /tmp/loop_over_bdir-1508-mZoNpO/App-oo_modulino_zsh_completion_helper-0.04-0/blib/arch
    /tmp/loop_over_bdir-1508-mZoNpO/App-oo_modulino_zsh_completion_helper-0.04-0/blib/lib
    /tmp/loop_over_bdir-1508-mZoNpO/triceps-2.1.0-0/blib/arch
    /tmp/loop_over_bdir-1508-mZoNpO/triceps-2.1.0-0/blib/lib
    /tmp/loop_over_bdir-1508-mZoNpO/CORBA-Python-2.66-0/blib/arch
    /tmp/loop_over_bdir-1508-mZoNpO/CORBA-Python-2.66-0/blib/lib
    /tmp/loop_over_bdir-1508-mZoNpO/NoZone-1.3-0/blib/arch
    /tmp/loop_over_bdir-1508-mZoNpO/NoZone-1.3-0/blib/lib
    /tmp/loop_over_bdir-1508-mZoNpO/Lemonldap-NG-Cli-0.2-0/blib/arch
    /tmp/loop_over_bdir-1508-mZoNpO/Lemonldap-NG-Cli-0.2-0/blib/lib
    /tmp/loop_over_bdir-1508-mZoNpO/Alien-SNMP-MIBDEV-2.020000-0/blib/arch
    /tmp/loop_over_bdir-1508-mZoNpO/Alien-SNMP-MIBDEV-2.020000-0/blib/lib
    /tmp/loop_over_bdir-1508-mZoNpO/downsexta-0/blib/arch
    /tmp/loop_over_bdir-1508-mZoNpO/downsexta-0/blib/lib
    /tmp/loop_over_bdir-1508-mZoNpO/AllKnowingDNS-1.7-0/blib/arch
    /tmp/loop_over_bdir-1508-mZoNpO/AllKnowingDNS-1.7-0/blib/lib
    /tmp/loop_over_bdir-1508-mZoNpO/DBIx-Migration-Directories-0.12-0/blib/arch
    /tmp/loop_over_bdir-1508-mZoNpO/DBIx-Migration-Directories-0.12-0/blib/lib
    /tmp/loop_over_bdir-1508-mZoNpO/LiquidWeb-Storm-CLI-1.03-0/blib/arch
    /tmp/loop_over_bdir-1508-mZoNpO/LiquidWeb-Storm-CLI-1.03-0/blib/lib
    /tmp/loop_over_bdir-1508-mZoNpO/EJBCA-CrlPublish-0.60-0/blib/arch
    /tmp/loop_over_bdir-1508-mZoNpO/EJBCA-CrlPublish-0.60-0/blib/lib
    /tmp/loop_over_bdir-1508-mZoNpO/dta-tokwrap-0.98-0/blib/arch
    /tmp/loop_over_bdir-1508-mZoNpO/dta-tokwrap-0.98-0/blib/lib
    /tmp/loop_over_bdir-1508-mZoNpO/Business-Shipping-DataFiles-1.02-0/blib/arch
    /tmp/loop_over_bdir-1508-mZoNpO/Business-Shipping-DataFiles-1.02-0/blib/lib
    /tmp/loop_over_bdir-1508-mZoNpO/Debian-Packages-0.03-0/blib/arch
    /tmp/loop_over_bdir-1508-mZoNpO/Debian-Packages-0.03-0/blib/lib
    /tmp/loop_over_bdir-1508-mZoNpO/js-app-0.13-0/blib/arch
    /tmp/loop_over_bdir-1508-mZoNpO/js-app-0.13-0/blib/lib
    /tmp/loop_over_bdir-1508-mZoNpO/RackMan-1.19-0/blib/arch
    /tmp/loop_over_bdir-1508-mZoNpO/RackMan-1.19-0/blib/lib
    /tmp/loop_over_bdir-1508-mZoNpO/Lingua-BioYaTeA-0.11-0/blib/arch
    /tmp/loop_over_bdir-1508-mZoNpO/Lingua-BioYaTeA-0.11-0/blib/lib
    /tmp/loop_over_bdir-1508-mZoNpO/Simulation-Automate-1.0.1-0/blib/arch
    /tmp/loop_over_bdir-1508-mZoNpO/Simulation-Automate-1.0.1-0/blib/lib
    /tmp/loop_over_bdir-1508-mZoNpO/LCFG-Build-Skeleton-0.5.0-0/blib/arch
    /tmp/loop_over_bdir-1508-mZoNpO/LCFG-Build-Skeleton-0.5.0-0/blib/lib
    /tmp/loop_over_bdir-1508-mZoNpO/OSDial-3.0.2.124-0/blib/arch
    /tmp/loop_over_bdir-1508-mZoNpO/OSDial-3.0.2.124-0/blib/lib
    /tmp/loop_over_bdir-1508-mZoNpO/mmds-1.902-0/blib/arch
    /tmp/loop_over_bdir-1508-mZoNpO/mmds-1.902-0/blib/lib
    /tmp/loop_over_bdir-1508-mZoNpO/perl-Hardware-UPS-Perl-0.43-0/blib/arch
    /tmp/loop_over_bdir-1508-mZoNpO/perl-Hardware-UPS-Perl-0.43-0/blib/lib
    /tmp/loop_over_bdir-1508-mZoNpO/LCFG-Build-Tools-0.9.30-0/blib/arch
    /tmp/loop_over_bdir-1508-mZoNpO/LCFG-Build-Tools-0.9.30-0/blib/lib
    /tmp/loop_over_bdir-1508-mZoNpO/MP3-PodcastFetch-1.05-0/blib/arch
    /tmp/loop_over_bdir-1508-mZoNpO/MP3-PodcastFetch-1.05-0/blib/lib
    /tmp/loop_over_bdir-1508-mZoNpO/Devel-Required-0.16-0/blib/arch
    /tmp/loop_over_bdir-1508-mZoNpO/Devel-Required-0.16-0/blib/lib
    /tmp/loop_over_bdir-1508-mZoNpO/App-nrun-v1.1.2-0/blib/arch
    /tmp/loop_over_bdir-1508-mZoNpO/App-nrun-v1.1.2-0/blib/lib
    /tmp/loop_over_bdir-1508-mZoNpO/Net-ISP-Balance-1.31-0/blib/arch
    /tmp/loop_over_bdir-1508-mZoNpO/Net-ISP-Balance-1.31-0/blib/lib
    /tmp/loop_over_bdir-1508-mZoNpO/Serge-1.4-0/blib/arch
    /tmp/loop_over_bdir-1508-mZoNpO/Serge-1.4-0/blib/lib
    /tmp/loop_over_bdir-1508-mZoNpO/CGI-Application-NetNewsIface-0.0204-0/blib/arch
    /tmp/loop_over_bdir-1508-mZoNpO/CGI-Application-NetNewsIface-0.0204-0/blib/lib
    /tmp/loop_over_bdir-1508-mZoNpO/Net-Async-DigitalOcean-0.04-0/blib/arch
    /tmp/loop_over_bdir-1508-mZoNpO/Net-Async-DigitalOcean-0.04-0/blib/lib
    /tmp/loop_over_bdir-1508-mZoNpO/RDF-NLP-SPARQLQuery-0.1-0/blib/arch
    /tmp/loop_over_bdir-1508-mZoNpO/RDF-NLP-SPARQLQuery-0.1-0/blib/lib
    /tmp/loop_over_bdir-1508-mZoNpO/Lingua-YaTeA-0.626-0/blib/arch
    /tmp/loop_over_bdir-1508-mZoNpO/Lingua-YaTeA-0.626-0/blib/lib
    /tmp/loop_over_bdir-1508-mZoNpO/Dpkg-1.21.1-0/blib/arch
    /tmp/loop_over_bdir-1508-mZoNpO/Dpkg-1.21.1-0/blib/lib
    /tmp/loop_over_bdir-1508-mZoNpO/Linux-InitFS-0.2-0/blib/arch
    /tmp/loop_over_bdir-1508-mZoNpO/Linux-InitFS-0.2-0/blib/lib
    /home/sand/src/perl/repoperls/installed-perls/host/k93bionic/v5.35.8/ca05/lib/site_perl/5.35.8/x86_64-linux-ld
    /home/sand/src/perl/repoperls/installed-perls/host/k93bionic/v5.35.8/ca05/lib/site_perl/5.35.8
    /home/sand/src/perl/repoperls/installed-perls/host/k93bionic/v5.35.8/ca05/lib/5.35.8/x86_64-linux-ld
    /home/sand/src/perl/repoperls/installed-perls/host/k93bionic/v5.35.8/ca05/lib/5.35.8
    .