Back
From: metabase:user:fcf99560-6bf4-1014-86b3-1cf189224fdf
Subject: PASS Crypt-SSLeay-0.72 v5.8.9 Mac OS X
Date: 2014-12-23T13:42:43Z
This distribution has been tested as part of the CPAN Testers
project, supporting the Perl programming language. See
http://wiki.cpantesters.org/ for more information or email
questions to cpan-testers-discuss@perl.org
--
Dear A. Sinan Unur,
This is a computer-generated report for Crypt-SSLeay-0.72
on perl 5.8.9, created by CPAN-Reporter-1.2011.
Thank you for uploading your work to CPAN. Congratulations!
All tests were successful.
Sections of this report:
* Tester comments
* Program output
* Prerequisites
* Environment and other context
------------------------------
TESTER COMMENTS
------------------------------
Additional comments from tester:
none provided
------------------------------
PROGRAM OUTPUT
------------------------------
Output from '/usr/bin/make test':
Running Mkbootstrap for Crypt::SSLeay ()
chmod 644 "SSLeay.bs"
PERL_DL_NONLAZY=1 "/Users/mb/.plenv/versions/5.8.9/bin/perl5.8.9" "-MExtUtils::Command::MM" "-MTest::Harness" "-e" "undef *Test::Harness::Switches; test_harness(0, 'blib/lib', 'blib/arch')" t/*.t
t/00-basic.t ..... ok
t/01-connect.t ... ok
# Reading configuration from 'test.config' on darwin
# network_tests : 0
t/02-live.t ...... skipped: Network tests disabled
t/03-version.t ... ok
t/boilerplate.t .. ok
t/manifest.t ..... skipped: Author tests not required for installation
All tests successful.
Files=6, Tests=43, 1 wallclock secs ( 0.05 usr 0.02 sys + 0.26 cusr 0.06 csys = 0.39 CPU)
Result: PASS
------------------------------
PREREQUISITES
------------------------------
Prerequisite modules loaded:
requires:
Module Need Have
-------------------- -------- --------
LWP::Protocol::https 6.02 6.06
MIME::Base64 0 3.07
perl 5.006 5.008009
build_requires:
Module Need Have
-------------------- -------- --------
ExtUtils::MakeMaker 0 7.04
Test::More 0.19 1.001009
Try::Tiny 0.19 0.22
configure_requires:
Module Need Have
-------------------- -------- --------
ExtUtils::CBuilder 0.280205 0.280220
Getopt::Long 0 2.42
Path::Class 0.26 0.35
Try::Tiny 0.19 0.22
------------------------------
ENVIRONMENT AND OTHER CONTEXT
------------------------------
Environment variables:
LANG = en_US.UTF-8
PATH = /Users/mb/.plenv/versions/5.8.9/bin:/usr/local/Cellar/plenv/2.1.1/libexec:/Users/mb/.plenv/plugins/perl-build/bin:/opt/local/bin:/opt/local/sbin:/Users/mb/.plenv/shims:/usr/local/bin:/usr/bin:/bin:/usr/sbin:/sbin
PERL5LIB =
PERL5OPT =
PERL5_CPANPLUS_IS_RUNNING = 2381
PERL5_CPAN_IS_RUNNING = 2381
PERL5_CPAN_IS_RUNNING_IN_RECURSION = 1490,2381
SHELL = /bin/bash
TERM = xterm
TMPDIR = /var/folders/2v/yzc051yn297_y7xtqj1wh13r0000gr/T/
Perl special variables (and OS-specific diagnostics, for MSWin32):
$^X = /Users/mb/.plenv/versions/5.8.9/bin/perl5.8.9
$UID/$EUID = 504 / 504
$GID = 20 20 405 12 61 79 80 81 98 402 403 33 100 204 398 399
$EGID = 20 20 405 12 61 79 80 81 98 402 403 33 100 204 398 399
Perl module toolchain versions installed:
Module Have
------------------- --------
CPAN 2.05
CPAN::Meta 2.143240
Cwd 3.47
ExtUtils::CBuilder 0.280220
ExtUtils::Command 1.16
ExtUtils::Install 1.54
ExtUtils::MakeMaker 7.04
ExtUtils::Manifest 1.69
ExtUtils::ParseXS 3.24
File::Spec 3.47
JSON 2.90
JSON::PP 2.27203
Module::Build 0.4210
Module::Signature n/a
Parse::CPAN::Meta 1.4414
Test::Harness 3.34
Test::More 1.001009
YAML 1.13
YAML::Syck n/a
version 0.9909
--
Summary of my perl5 (revision 5 version 8 subversion 9) configuration:
Platform:
osname=darwin, osvers=14.0.0, archname=darwin-2level
uname='darwin twisted.home 14.0.0 darwin kernel version 14.0.0: fri sep 19 00:26:44 pdt 2014; root:xnu-2782.1.97~2release_x86_64 x86_64 '
config_args='-Dprefix=/Users/mb/.plenv/versions/5.8.9 -de -Dusedevel -A'eval:scriptdir=/Users/mb/.plenv/versions/5.8.9/bin''
hint=recommended, useposix=true, d_sigaction=define
usethreads=undef use5005threads=undef useithreads=undef usemultiplicity=undef
useperlio=define d_sfio=undef uselargefiles=define usesocks=undef
use64bitint=define use64bitall=define uselongdouble=undef
usemymalloc=n, bincompat5005=undef
Compiler:
cc='cc', ccflags ='-fno-common -DPERL_DARWIN -fno-strict-aliasing -pipe -I/usr/local/include -I/opt/local/include',
optimize='-O3',
cppflags='-fno-common -DPERL_DARWIN -fno-strict-aliasing -pipe -I/usr/local/include -I/opt/local/include'
ccversion='', gccversion='4.2.1 Compatible Apple LLVM 6.0 (clang-600.0.56)', gccosandvers=''
intsize=4, longsize=8, ptrsize=8, doublesize=8, byteorder=12345678
d_longlong=define, longlongsize=8, d_longdbl=define, longdblsize=16
ivtype='long', ivsize=8, nvtype='double', nvsize=8, Off_t='off_t', lseeksize=8
alignbytes=8, prototype=define
Linker and Libraries:
ld='env MACOSX_DEPLOYMENT_TARGET=10.3 cc', ldflags =' -L/usr/local/lib -L/opt/local/lib'
libpth=/usr/local/lib /opt/local/lib /usr/lib
libs=-lgdbm -ldbm -ldl -lm -lutil -lc
perllibs=-ldl -lm -lutil -lc
libc=, so=dylib, useshrplib=false, libperl=libperl.a
gnulibc_version=''
Dynamic Linking:
dlsrc=dl_dlopen.xs, dlext=bundle, d_dlsymun=undef, ccdlflags=' '
cccdlflags=' ', lddlflags=' -bundle -undefined dynamic_lookup -L/usr/local/lib -L/opt/local/lib'
Characteristics of this binary (from libperl):
Compile-time options: PERL_MALLOC_WRAP USE_64_BIT_ALL USE_64_BIT_INT
USE_FAST_STDIO USE_LARGE_FILES USE_PERLIO
Built under darwin
Compiled at Dec 18 2014 07:25:26
%ENV:
PERL5LIB=""
PERL5OPT=""
PERL5_CPANPLUS_IS_RUNNING="2381"
PERL5_CPAN_IS_RUNNING="2381"
PERL5_CPAN_IS_RUNNING_IN_RECURSION="1490,2381"
@INC:
/Users/mb/.plenv/versions/5.8.9/lib/perl5/5.8.9/darwin-2level
/Users/mb/.plenv/versions/5.8.9/lib/perl5/5.8.9
/Users/mb/.plenv/versions/5.8.9/lib/perl5/site_perl/5.8.9/darwin-2level
/Users/mb/.plenv/versions/5.8.9/lib/perl5/site_perl/5.8.9
.