Report for Web-Scraper-0.38

Back
From: metabase:user:320bfe00-2aae-11df-837a-5e0a49663a4f
Subject: PASS Web-Scraper-0.38 v5.25.1 GNU/Linux
Date: 2016-05-21T05:05:00Z

This distribution has been tested as part of the CPAN Testers
project, supporting the Perl programming language.  See
http://wiki.cpantesters.org/ for more information or email
questions to cpan-testers-discuss@perl.org


--
Dear Tatsuhiko Miyagawa,

This is a computer-generated report for Web-Scraper-0.38
on perl 5.25.1, created by CPAN-Reporter-1.2017.

Thank you for uploading your work to CPAN.  Congratulations!
All tests were successful.

Sections of this report:

    * Tester comments
    * Program output
    * Prerequisites
    * Environment and other context

------------------------------
TESTER COMMENTS
------------------------------

Additional comments from tester:

this report is from an automated smoke testing program
and was not reviewed by a human for accuracy

------------------------------
PROGRAM OUTPUT
------------------------------

Output from './Build test':

t/00_compile.t .......... ok
t/01_process.t .......... ok
t/02_process_multi.t .... ok
t/03_scraper_nest.t ..... ok
t/04_callback.t ......... ok
t/05_process_first.t .... ok
t/06_define.t ........... ok
t/07-live.t ............. skipped: LIVE_TEST not enabled
t/08-leak.t ............. skipped: LEAK_TEST is not defined
t/09-process_hash.t ..... ok
t/11_absolute.t ......... ok
t/12_html.t ............. ok
t/13_textnode.t ......... ok
t/14_absolute_nested.t .. ok
t/15_absolute_hash.t .... ok
t/16_filter.t ........... ok
t/17_filter_loop.t ...... ok
t/18_http_response.t .... skipped: LIVE_TEST not enabled
t/19_decode_content.t ... skipped: LIVE_TEST not enabled
t/20_comment_nodes.t .... skipped: Please upgrade HTML::TreeBuilder::XPath and HTML::TreeBuilder::LibXML modules for comment nodes supporting
t/21_html5.t ............ ok
t/22_filter_regex.t ..... ok
t/redefine.t ............ ok
t/release-pod-syntax.t .. skipped: these tests are for release candidate testing
t/xml-simple.t .......... skipped: Test requires module 'HTML::TreeBuilder::LibXML' but it's not found
All tests successful.
Files=25, Tests=42,  3 wallclock secs ( 0.05 usr  0.15 sys +  2.00 cusr  0.28 csys =  2.48 CPU)
Result: PASS

------------------------------
PREREQUISITES
------------------------------

Prerequisite modules loaded:

requires:

    Module                   Need     Have    
    ------------------------ -------- --------
    HTML::Entities           0        3.69    
    HTML::Selector::XPath    0.03     0.20    
    HTML::Tagset             0        3.20    
    HTML::TreeBuilder        3.23     5.03    
    HTML::TreeBuilder::XPath 0.08     0.14    
    LWP                      5.827    6.15    
    perl                     5.008001 5.025001
    Scalar::Util             0        1.45_01 
    UNIVERSAL::require       0        0.18    
    URI                      0        1.71    
    XML::XPathEngine         0.08     0.14    
    YAML                     0        1.15    

build_requires:

    Module                   Need     Have    
    ------------------------ -------- --------
    ExtUtils::MakeMaker      6.59     7.16    
    Test::Base               0        0.88    
    Test::More               0        1.302020
    Test::Requires           0        0.10    

configure_requires:

    Module                   Need     Have    
    ------------------------ -------- --------
    Module::Build::Tiny      0.039    0.039   


------------------------------
ENVIRONMENT AND OTHER CONTEXT
------------------------------

Environment variables:

    AUTOMATED_TESTING = 1
    LANG = C
    PATH = /usr/lib/ccache:/home/sand/bin:/usr/local/bin:/usr/lib/ccache:/usr/bin:/bin:/usr/games:/usr/local/perl/bin:/usr/X11/bin:/sbin:/usr/sbin
    PERL5LIB = 
    PERL5OPT = 
    PERL5_CPANPLUS_IS_RUNNING = 13255
    PERL5_CPAN_IS_RUNNING = 13255
    PERL_CANARY_STABILITY_NOPROMPT = 1
    PERL_MM_USE_DEFAULT = 1
    SHELL = /usr/bin/zsh
    TERM = screen

Perl special variables (and OS-specific diagnostics, for MSWin32):

    $^X = /tmp/basesmoker-reloperl-dd9U/bin/perl
    $UID/$EUID = 1005 / 1005
    $GID = 1005 1005
    $EGID = 1005 1005

Perl module toolchain versions installed:

    Module              Have    
    ------------------- --------
    CPAN                2.13    
    CPAN::Meta          2.150005
    Cwd                 3.63    
    ExtUtils::CBuilder  0.280225
    ExtUtils::Command   7.16    
    ExtUtils::Install   2.04    
    ExtUtils::MakeMaker 7.16    
    ExtUtils::Manifest  1.70    
    ExtUtils::ParseXS   3.31    
    File::Spec          3.63    
    JSON                2.90    
    JSON::PP            2.27300 
    Module::Build       0.4218  
    Module::Signature   0.79    
    Parse::CPAN::Meta   1.4417  
    Test::Harness       3.36    
    Test::More          1.302020
    YAML                1.15    
    YAML::Syck          1.29    
    version             0.9916  


--

Summary of my perl5 (revision 5 version 25 subversion 1) configuration:
  Commit id: 5b145eb412326b9b57276229cfde0ef09e7ca2bc
  Platform:
    osname=linux, osvers=4.5.0-2-amd64, archname=x86_64-linux-thread-multi-ld
    uname='linux k93x64sid 4.5.0-2-amd64 #1 smp debian 4.5.4-1 (2016-05-16) x86_64 gnulinux '
    config_args='-Dprefix=/home/sand/src/perl/repoperls/installed-perls/host/k93x64sid/v5.25.1/a3f9 -Dmyhostname=k93x64sid -Dinstallusrbinperl=n -Uversiononly -Dusedevel -des -Ui_db -Dlibswanted=cl pthread socket inet nsl gdbm dbm malloc dl ld sun m crypt sec util c cposix posix ucb BSD gdbm_compat -Duseithreads -Duselongdouble -DDEBUGGING=-g'
    hint=recommended, useposix=true, d_sigaction=define
    useithreads=define, usemultiplicity=define
    use64bitint=define, use64bitall=define, uselongdouble=define
    usemymalloc=n, bincompat5005=undef
  Compiler:
    cc='cc', ccflags ='-D_REENTRANT -D_GNU_SOURCE -fwrapv -fno-strict-aliasing -pipe -fstack-protector-strong -I/usr/local/include -D_LARGEFILE_SOURCE -D_FILE_OFFSET_BITS=64 -D_FORTIFY_SOURCE=2',
    optimize='-O2 -g',
    cppflags='-D_REENTRANT -D_GNU_SOURCE -fwrapv -fno-strict-aliasing -pipe -fstack-protector-strong -I/usr/local/include'
    ccversion='', gccversion='5.3.1 20160519', gccosandvers=''
    intsize=4, longsize=8, ptrsize=8, doublesize=8, byteorder=12345678, doublekind=3
    d_longlong=define, longlongsize=8, d_longdbl=define, longdblsize=16, longdblkind=3
    ivtype='long', ivsize=8, nvtype='long double', nvsize=16, Off_t='off_t', lseeksize=8
    alignbytes=16, prototype=define
  Linker and Libraries:
    ld='cc', ldflags =' -fstack-protector-strong -L/usr/local/lib'
    libpth=/usr/local/lib /usr/lib/gcc/x86_64-linux-gnu/5/include-fixed /usr/include/x86_64-linux-gnu /usr/lib /lib/x86_64-linux-gnu /lib/../lib /usr/lib/x86_64-linux-gnu /usr/lib/../lib /lib
    libs=-lpthread -lnsl -ldl -lm -lcrypt -lutil -lc
    perllibs=-lpthread -lnsl -ldl -lm -lcrypt -lutil -lc
    libc=libc-2.22.so, so=so, useshrplib=false, libperl=libperl.a
    gnulibc_version='2.22'
  Dynamic Linking:
    dlsrc=dl_dlopen.xs, dlext=so, d_dlsymun=undef, ccdlflags='-Wl,-E'
    cccdlflags='-fPIC', lddlflags='-shared -O2 -g -L/usr/local/lib -fstack-protector-strong'


Characteristics of this binary (from libperl): 
  Compile-time options: HAS_TIMES MULTIPLICITY PERLIO_LAYERS
                        PERL_COPY_ON_WRITE PERL_DONT_CREATE_GVSV
                        PERL_HASH_FUNC_ONE_AT_A_TIME_HARD
                        PERL_IMPLICIT_CONTEXT PERL_MALLOC_WRAP PERL_OP_PARENT
                        PERL_PRESERVE_IVUV PERL_USE_DEVEL USE_64_BIT_ALL
                        USE_64_BIT_INT USE_ITHREADS USE_LARGE_FILES
                        USE_LOCALE USE_LOCALE_COLLATE USE_LOCALE_CTYPE
                        USE_LOCALE_NUMERIC USE_LOCALE_TIME USE_LONG_DOUBLE
                        USE_PERLIO USE_PERL_ATOF USE_REENTRANT_API
  Built under linux
  Compiled at Jan  1 1970 00:00:00
  %ENV:
    PERL5LIB=""
    PERL5OPT=""
    PERL5_CPANPLUS_IS_RUNNING="13255"
    PERL5_CPAN_IS_RUNNING="13255"
    PERL_CANARY_STABILITY_NOPROMPT="1"
    PERL_MM_USE_DEFAULT="1"
  @INC:
    /home/sand/src/perl/repoperls/installed-perls/host/k93x64sid/v5.25.1/a3f9/lib/site_perl/5.25.1/x86_64-linux-thread-multi-ld
    /home/sand/src/perl/repoperls/installed-perls/host/k93x64sid/v5.25.1/a3f9/lib/site_perl/5.25.1
    /home/sand/src/perl/repoperls/installed-perls/host/k93x64sid/v5.25.1/a3f9/lib/5.25.1/x86_64-linux-thread-multi-ld
    /home/sand/src/perl/repoperls/installed-perls/host/k93x64sid/v5.25.1/a3f9/lib/5.25.1
    .