Business-PayPal-API v0.77 Perl 5 v5.14.4 amd64-freebsd
- Status
- Pass
- From
- Slaven Rezić (SREZIC)
- Dist
-
Business-PayPal-API v0.77
- Platform
- Perl 5 v5.14.4 amd64-freebsd
- Date
- 2017-11-14 00:34:27
- ID
- 91f4b20a-c8d3-11e7-83a5-f23f67bcea0c
This distribution has been tested as part of the CPAN Testers
project, supporting the Perl programming language. See
http://wiki.cpantesters.org/ for more information or email
questions to cpan-testers-discuss@perl.org
--
Dear Olaf Alders,
This is a computer-generated report for Business-PayPal-API-0.77
on perl 5.14.4, created by CPAN-Reporter-1.2018.
Thank you for uploading your work to CPAN. Congratulations!
All tests were successful.
Sections of this report:
* Tester comments
* Program output
* Prerequisites
* Environment and other context
------------------------------
TESTER COMMENTS
------------------------------
Additional comments from tester:
none provided
------------------------------
PROGRAM OUTPUT
------------------------------
Output from '/usr/bin/make test':
PERL_DL_NONLAZY=1 "/usr/perl5.14.4p/bin/perl" "-MExtUtils::Command::MM" "-MTest::Harness" "-e" "undef *Test::Harness::Switches; test_harness(0, 'blib/lib', 'blib/arch')" t/*.t t/advanced/*.t t/basic/*.t
#
# Versions for all modules listed in MYMETA.json (including optional ones):
#
# === Configure Requires ===
#
# Module Want Have
# ------------------- ---- ----
# ExtUtils::MakeMaker any 7.30
#
# === Build Requires ===
#
# Module Want Have
# ------------------- ---- ----
# ExtUtils::MakeMaker any 7.30
#
# === Test Requires ===
#
# Module Want Have
# ------------------- ---- --------
# Cwd any 3.62
# ExtUtils::MakeMaker any 7.30
# File::Spec any 3.62
# List::AllUtils any 0.14
# Test::More any 1.302106
# Test::Most any 0.35
# autodie any 2.29
#
# === Test Recommends ===
#
# Module Want Have
# ---------- -------- --------
# CPAN::Meta 2.120900 2.150010
#
# === Runtime Requires ===
#
# Module Want Have
# ------------- ---- ----
# Carp any 1.38
# Data::Printer any 0.40
# SOAP::Lite 0.67 1.22
# strict any 1.04
# warnings any 1.12
#
t/00-report-prereqs.t ............... ok
t/advanced/ExpressCheckout.t ........ skipped: No WPP_TEST env var set. Please see README to run tests
t/advanced/ExpressOrder.t ........... skipped: No WPP_TEST env var set. Please see README to run tests
t/advanced/GetTransactionDetails.t .. skipped: No WPP_TEST env var set. Please see README to run tests
t/advanced/OptionFields.t ........... skipped: No WPP_TEST env var set. Please see README to run tests
t/advanced/RefundTransaction.t ...... skipped: No WPP_TEST env var set. Please see README to run tests
t/advanced/TransactionSearch.t ...... skipped: No WPP_TEST env var set. Please see README to run tests
t/basic/Business-PayPal-API.t ....... ok
t/basic/DirectPayments.t ............ skipped: No WPP_TEST env var set. Please see README to run tests
t/basic/MassPay.t ................... skipped: No WPP_TEST env var set. Please see README to run tests
t/basic/RecurringPayments.t ......... skipped: No WPP_TEST env var set. Please see README to run tests
t/basic/SubscriptionPayments.t ...... skipped: No WPP_TEST env var set. Please see README to run tests
All tests successful.
Files=12, Tests=2, 2 wallclock secs ( 0.07 usr 0.02 sys + 1.69 cusr 0.19 csys = 1.96 CPU)
Result: PASS
------------------------------
PREREQUISITES
------------------------------
Prerequisite modules loaded:
requires:
Module Need Have
------------------- -------- --------
Carp 0 1.38
Data::Printer 0 0.40
perl 5.008001 5.014004
SOAP::Lite 0.67 1.22
strict 0 1.04
warnings 0 1.12
build_requires:
Module Need Have
------------------- -------- --------
autodie 0 2.29
Cwd 0 3.62
ExtUtils::MakeMaker 0 7.30
File::Spec 0 3.62
List::AllUtils 0 0.14
Test::More 0 1.302106
Test::Most 0 0.35
configure_requires:
Module Need Have
------------------- -------- --------
ExtUtils::MakeMaker 0 7.30
perl 5.008001 5.014004
opt_build_requires:
Module Need Have
------------------- -------- --------
CPAN::Meta 2.120900 2.150010
------------------------------
ENVIRONMENT AND OTHER CONTEXT
------------------------------
Environment variables:
PATH = /usr/local/bin:/usr/bin:/bin:/usr/local/sbin:/usr/sbin:/sbin:/home/cpansand/bin/freebsd12.0:/home/cpansand/bin/sh:/home/cpansand/bin:/usr/games:/home/cpansand/devel:/usr/home/eserte/src/srezic-misc/scripts
PERL5LIB =
PERL5OPT =
PERL5_CPANPLUS_IS_RUNNING = 1465
PERL5_CPAN_IS_RUNNING = 1465
PERL5_CPAN_IS_RUNNING_IN_RECURSION = 1291,1465
PERL_BATCH = yes
PERL_CANARY_STABILITY_NOPROMPT = 1
PERL_CPAN_REPORTER_CONFIG = /var/tmp/cpansmoker-1023/2017111321/cpanreporter_000_config.ini
PERL_EXTUTILS_AUTOINSTALL = --defaultdeps
SHELL = /bin/sh
TMPDIR = /var/tmp/cpansmoker-1023/2017111321
Perl special variables (and OS-specific diagnostics, for MSWin32):
$^X = /usr/perl5.14.4p/bin/perl
$UID/$EUID = 1023 / 1023
$GID = 1023 1023
$EGID = 1023 1023
Perl module toolchain versions installed:
Module Have
------------------- --------
CPAN 2.16
CPAN::Meta 2.150010
Cwd 3.62
ExtUtils::CBuilder 0.280226
ExtUtils::Command 7.30
ExtUtils::Install 2.06
ExtUtils::MakeMaker 7.30
ExtUtils::Manifest 1.70
ExtUtils::ParseXS 3.35
File::Spec 3.62
JSON 2.94
JSON::PP 2.94
Module::Build 0.4224
Module::Signature 0.81
Parse::CPAN::Meta 2.150010
Test::Harness 3.39
Test::More 1.302106
YAML 1.24
YAML::Syck 1.30
version 0.9918
--
Summary of my perl5 (revision 5 version 14 subversion 4) configuration:
Platform:
osname=freebsd, osvers=12.0-current, archname=amd64-freebsd
uname='freebsd freebsd 12.0-current freebsd 12.0-current #1 ff104cc9da3(master)-dirty: thu oct 19 23:44:51 cest 2017 root@freebsd:usrobjusrsrcsysgeneric amd64 '
config_args='-ds -e -Dprefix=/usr/perl5.14.4p -Dcf_email=srezic@cpan.org -Doptimize=-O2 -pipe'
hint=recommended, useposix=true, d_sigaction=define
useithreads=undef, usemultiplicity=undef
useperlio=define, d_sfio=undef, uselargefiles=define, usesocks=undef
use64bitint=define, use64bitall=define, uselongdouble=undef
usemymalloc=n, bincompat5005=undef
Compiler:
cc='cc', ccflags ='-DHAS_FPSETMASK -DHAS_FLOATINGPOINT_H -fno-strict-aliasing -pipe -fstack-protector -I/usr/local/include',
optimize='-O2 -pipe',
cppflags='-DHAS_FPSETMASK -DHAS_FLOATINGPOINT_H -fno-strict-aliasing -pipe -fstack-protector -I/usr/local/include'
ccversion='', gccversion='4.2.1 Compatible FreeBSD Clang 5.0.0 (tags/RELEASE_500/final 312559)', gccosandvers=''
intsize=4, longsize=8, ptrsize=8, doublesize=8, byteorder=12345678
d_longlong=define, longlongsize=8, d_longdbl=define, longdblsize=16
ivtype='long', ivsize=8, nvtype='double', nvsize=8, Off_t='off_t', lseeksize=8
alignbytes=8, prototype=define
Linker and Libraries:
ld='cc', ldflags ='-pthread -Wl,-E -fstack-protector -L/usr/local/lib'
libpth=/usr/lib /usr/local/lib
libs=-lgdbm -lm -lcrypt -lutil -lc
perllibs=-lm -lcrypt -lutil -lc
libc=, so=so, useshrplib=false, libperl=libperl.a
gnulibc_version=''
Dynamic Linking:
dlsrc=dl_dlopen.xs, dlext=so, d_dlsymun=undef, ccdlflags=' '
cccdlflags='-DPIC -fPIC', lddlflags='-shared -L/usr/local/lib -fstack-protector'
Characteristics of this binary (from libperl):
Compile-time options: PERL_DONT_CREATE_GVSV PERL_MALLOC_WRAP
PERL_PRESERVE_IVUV USE_64_BIT_ALL USE_64_BIT_INT
USE_LARGE_FILES USE_PERLIO USE_PERL_ATOF
Built under freebsd
Compiled at Oct 22 2017 18:54:20
%ENV:
PERL5LIB=""
PERL5OPT=""
PERL5_CPANPLUS_IS_RUNNING="1465"
PERL5_CPAN_IS_RUNNING="1465"
PERL5_CPAN_IS_RUNNING_IN_RECURSION="1291,1465"
PERL_BATCH="yes"
PERL_CANARY_STABILITY_NOPROMPT="1"
PERL_CPAN_REPORTER_CONFIG="/var/tmp/cpansmoker-1023/2017111321/cpanreporter_000_config.ini"
PERL_EXTUTILS_AUTOINSTALL="--defaultdeps"
@INC:
/usr/perl5.14.4p/lib/site_perl/5.14.4/amd64-freebsd
/usr/perl5.14.4p/lib/site_perl/5.14.4
/usr/perl5.14.4p/lib/5.14.4/amd64-freebsd
/usr/perl5.14.4p/lib/5.14.4
.