Back
From: metabase:user:320bfe00-2aae-11df-837a-5e0a49663a4f
Subject: PASS Catalyst-Controller-ActionRole-0.15 v5.19.12 GNU/Linux
Date: 2014-04-22T11:52:24Z
This distribution has been tested as part of the CPAN Testers
project, supporting the Perl programming language. See
http://wiki.cpantesters.org/ for more information or email
questions to cpan-testers-discuss@perl.org
--
Dear Florian Ragwitz,
This is a computer-generated report for Catalyst-Controller-ActionRole-0.15
on perl 5.19.12, created by CPAN-Reporter-1.2011.
Thank you for uploading your work to CPAN. Congratulations!
All tests were successful.
Sections of this report:
* Tester comments
* Program output
* Prerequisites
* Environment and other context
------------------------------
TESTER COMMENTS
------------------------------
Additional comments from tester:
this report is from an automated smoke testing program
and was not reviewed by a human for accuracy
------------------------------
PROGRAM OUTPUT
------------------------------
Output from '/usr/bin/make test':
PERL_DL_NONLAZY=1 /tmp/basesmoker-reloperl-tDDt/bin/perl "-MExtUtils::Command::MM" "-MTest::Harness" "-e" "undef *Test::Harness::Switches; test_harness(0, 'blib/lib', 'blib/arch')" t/*.t
Class::MOP::load_class is deprecated at /home/sand/src/perl/repoperls/installed-perls/perl/v5.19.11-6-gdeaf6ad/165a/lib/site_perl/5.19.12/x86_64-linux/Class/MOP.pm line 73.
Class::MOP::load_class("TestApp::ActionRole::Kooh") called at /tmp/loop_over_bdir-1190-AVU75D/Catalyst-Controller-ActionRole-0.15-MRH4xX/blib/lib/Catalyst/Controller/ActionRole.pm line 50
Catalyst::Controller::ActionRole::_build__action_roles(TestApp::Controller::Bar=HASH(0x4526070)) called at native delegation method Catalyst::Controller::ActionRole::_action_roles (elements) of attribute _action_roles (defined at /tmp/loop_over_bdir-1190-AVU75D/Catalyst-Controller-ActionRole-0.15-MRH4xX/blib/lib/Catalyst/Controller/ActionRole.pm line 37) line 9
Catalyst::Controller::ActionRole::_action_roles(TestApp::Controller::Bar=HASH(0x4526070)) called at /home/sand/src/perl/repoperls/installed-perls/perl/v5.19.11-6-gdeaf6ad/165a/lib/site_perl/5.19.12/Catalyst/Controller.pm line 84
Catalyst::Controller::BUILD(TestApp::Controller::Bar=HASH(0x4526070), HASH(0x45256c8)) called at /home/sand/src/perl/repoperls/installed-perls/perl/v5.19.11-6-gdeaf6ad/165a/lib/site_perl/5.19.12/x86_64-linux/Class/MOP/Method.pm line 128
Class::MOP::Method::execute(Moose::Meta::Class::__ANON__::SERIAL::6=HASH(0x3d27090), TestApp::Controller::Bar=HASH(0x4526070), HASH(0x45256c8)) called at /home/sand/src/perl/repoperls/installed-perls/perl/v5.19.11-6-gdeaf6ad/165a/lib/site_perl/5.19.12/x86_64-linux/Moose/Object.pm line 56
Moose::Object::BUILDALL(TestApp::Controller::Bar=HASH(0x4526070), HASH(0x45256c8)) called at /home/sand/src/perl/repoperls/installed-perls/perl/v5.19.11-6-gdeaf6ad/165a/lib/site_perl/5.19.12/x86_64-linux/Moose/Meta/Class.pm line 282
Moose::Meta::Class::new_object(Moose::Meta::Class::__ANON__::SERIAL::5=HASH(0x4501000), HASH(0x45256c8)) called at /home/sand/src/perl/repoperls/installed-perls/perl/v5.19.11-6-gdeaf6ad/165a/lib/site_perl/5.19.12/x86_64-linux/Moose/Object.pm line 27
Moose::Object::new("TestApp::Controller::Bar", "TestApp", HASH(0x44b3348)) called at constructor Catalyst::Controller::new (defined at /home/sand/src/perl/repoperls/installed-perls/perl/v5.19.11-6-gdeaf6ad/165a/lib/site_perl/5.19.12/Catalyst/Controller.pm line 573) line 4
Catalyst::Controller::new("TestApp::Controller::Bar", "TestApp", HASH(0x44b3348)) called at /home/sand/src/perl/repoperls/installed-perls/perl/v5.19.11-6-gdeaf6ad/165a/lib/site_perl/5.19.12/Catalyst/Component.pm line 123
Catalyst::Component::COMPONENT("TestApp::Controller::Bar", "TestApp", HASH(0x44b3348)) called at /home/sand/src/perl/repoperls/installed-perls/perl/v5.19.11-6-gdeaf6ad/165a/lib/site_perl/5.19.12/Catalyst.pm line 2638
eval {...} called at /home/sand/src/perl/repoperls/installed-perls/perl/v5.19.11-6-gdeaf6ad/165a/lib/site_perl/5.19.12/Catalyst.pm line 2638
Catalyst::setup_component("TestApp", "TestApp::Controller::Bar") called at /home/sand/src/perl/repoperls/installed-perls/perl/v5.19.11-6-gdeaf6ad/165a/lib/site_perl/5.19.12/Catalyst.pm line 2565
Catalyst::setup_components("TestApp") called at /home/sand/src/perl/repoperls/installed-perls/perl/v5.19.11-6-gdeaf6ad/165a/lib/site_perl/5.19.12/Catalyst.pm line 1181
Catalyst::setup("TestApp") called at /tmp/loop_over_bdir-1190-AVU75D/Catalyst-Controller-ActionRole-0.15-MRH4xX/t/lib/TestApp.pm line 9
require TestApp.pm called at /home/sand/src/perl/repoperls/installed-perls/perl/v5.19.11-6-gdeaf6ad/165a/lib/site_perl/5.19.12/Module/Runtime.pm line 317
Module::Runtime::require_module("TestApp") called at /home/sand/src/perl/repoperls/installed-perls/perl/v5.19.11-6-gdeaf6ad/165a/lib/site_perl/5.19.12/Class/Load.pm line 179
Class::Load::try {...} () called at /home/sand/src/perl/repoperls/installed-perls/perl/v5.19.11-6-gdeaf6ad/165a/lib/site_perl/5.19.12/Try/Tiny.pm line 77
eval {...} called at /home/sand/src/perl/repoperls/installed-perls/perl/v5.19.11-6-gdeaf6ad/165a/lib/site_perl/5.19.12/Try/Tiny.pm line 72
Try::Tiny::try(CODE(0x32ae670), Try::Tiny::Catch=REF(0x32630b8)) called at /home/sand/src/perl/repoperls/installed-perls/perl/v5.19.11-6-gdeaf6ad/165a/lib/site_perl/5.19.12/Class/Load.pm line 185
Class::Load::try_load_class("TestApp", undef) called at /home/sand/src/perl/repoperls/installed-perls/perl/v5.19.11-6-gdeaf6ad/165a/lib/site_perl/5.19.12/Class/Load.pm line 40
Class::Load::load_class("TestApp") called at /home/sand/src/perl/repoperls/installed-perls/perl/v5.19.11-6-gdeaf6ad/165a/lib/site_perl/5.19.12/Catalyst/Test.pm line 29
Catalyst::Test::_build_request_export("Catalyst::Test", HASH(0x360fbf8)) called at /home/sand/src/perl/repoperls/installed-perls/perl/v5.19.11-6-gdeaf6ad/165a/lib/site_perl/5.19.12/Catalyst/Test.pm line 92
Catalyst::Test::__ANON__("Catalyst::Test", "all", HASH(0x360fbc8), HASH(0x2316ae0)) called at /home/sand/src/perl/repoperls/installed-perls/perl/v5.19.11-6-gdeaf6ad/165a/lib/site_perl/5.19.12/Sub/Exporter.pm line 108
Sub::Exporter::_expand_group("Catalyst::Test", HASH(0x35ffdf8), ARRAY(0x2294698), HASH(0x2316ae0), HASH(0x360fc28), HASH(0x2316b10)) called at /home/sand/src/perl/repoperls/installed-perls/perl/v5.19.11-6-gdeaf6ad/165a/lib/site_perl/5.19.12/Sub/Exporter.pm line 39
Sub::Exporter::_expand_groups("Catalyst::Test", HASH(0x35ffdf8), ARRAY(0x360f598), HASH(0x2316ae0)) called at /home/sand/src/perl/repoperls/installed-perls/perl/v5.19.11-6-gdeaf6ad/165a/lib/site_perl/5.19.12/Sub/Exporter.pm line 323
Sub::Exporter::__ANON__("Catalyst::Test", "-all", HASH(0x22940e0)) called at /home/sand/src/perl/repoperls/installed-perls/perl/v5.19.11-6-gdeaf6ad/165a/lib/site_perl/5.19.12/Catalyst/Test.pm line 155
Catalyst::Test::import("Catalyst::Test", "TestApp") called at t/action-class.t line 8
main::BEGIN() called at /tmp/loop_over_bdir-1190-AVU75D/Catalyst-Controller-ActionRole-0.15-MRH4xX/t/lib/TestApp.pm line 0
eval {...} called at /tmp/loop_over_bdir-1190-AVU75D/Catalyst-Controller-ActionRole-0.15-MRH4xX/t/lib/TestApp.pm line 0
Class::MOP::load_first_existing_class is deprecated at /home/sand/src/perl/repoperls/installed-perls/perl/v5.19.11-6-gdeaf6ad/165a/lib/site_perl/5.19.12/x86_64-linux/Class/MOP.pm line 82.
Class::MOP::load_first_existing_class("TestApp::ActionRole::Shared", "Catalyst::ActionRole::Shared") called at /tmp/loop_over_bdir-1190-AVU75D/Catalyst-Controller-ActionRole-0.15-MRH4xX/blib/lib/Catalyst/Controller/ActionRole.pm line 120
Catalyst::Controller::ActionRole::__ANON__("Shared") called at /home/sand/src/perl/repoperls/installed-perls/perl/v5.19.11-6-gdeaf6ad/165a/lib/site_perl/5.19.12/String/RewritePrefix.pm line 44
String::RewritePrefix::__ANON__("Shared") called at /home/sand/src/perl/repoperls/installed-perls/perl/v5.19.11-6-gdeaf6ad/165a/lib/site_perl/5.19.12/String/RewritePrefix.pm line 18
String::RewritePrefix::rewrite("String::RewritePrefix", HASH(0x45402c8), "Shared") called at /tmp/loop_over_bdir-1190-AVU75D/Catalyst-Controller-ActionRole-0.15-MRH4xX/blib/lib/Catalyst/Controller/ActionRole.pm line 125
Catalyst::Controller::ActionRole::_expand_role_shortname(TestApp::Controller::ExecutionViaConfig=HASH(0x453cc38), "Shared") called at /tmp/loop_over_bdir-1190-AVU75D/Catalyst-Controller-ActionRole-0.15-MRH4xX/blib/lib/Catalyst/Controller/ActionRole.pm line 49
Catalyst::Controller::ActionRole::_build__action_roles(TestApp::Controller::ExecutionViaConfig=HASH(0x453cc38)) called at native delegation method Catalyst::Controller::ActionRole::_action_roles (elements) of attribute _action_roles (defined at /tmp/loop_over_bdir-1190-AVU75D/Catalyst-Controller-ActionRole-0.15-MRH4xX/blib/lib/Catalyst/Controller/ActionRole.pm line 37) line 9
Catalyst::Controller::ActionRole::_action_roles(TestApp::Controller::ExecutionViaConfig=HASH(0x453cc38)) called at /home/sand/src/perl/repoperls/installed-perls/perl/v5.19.11-6-gdeaf6ad/165a/lib/site_perl/5.19.12/Catalyst/Controller.pm line 84
Catalyst::Controller::BUILD(TestApp::Controller::ExecutionViaConfig=HASH(0x453cc38), HASH(0x453c770)) called at /home/sand/src/perl/repoperls/installed-perls/perl/v5.19.11-6-gdeaf6ad/165a/lib/site_perl/5.19.12/x86_64-linux/Class/MOP/Method.pm line 128
Class::MOP::Method::execute(Moose::Meta::Class::__ANON__::SERIAL::6=HASH(0x3d27090), TestApp::Controller::ExecutionViaConfig=HASH(0x453cc38), HASH(0x453c770)) called at /home/sand/src/perl/repoperls/installed-perls/perl/v5.19.11-6-gdeaf6ad/165a/lib/site_perl/5.19.12/x86_64-linux/Moose/Object.pm line 56
Moose::Object::BUILDALL(TestApp::Controller::ExecutionViaConfig=HASH(0x453cc38), HASH(0x453c770)) called at /home/sand/src/perl/repoperls/installed-perls/perl/v5.19.11-6-gdeaf6ad/165a/lib/site_perl/5.19.12/x86_64-linux/Moose/Meta/Class.pm line 282
Moose::Meta::Class::new_object(Moose::Meta::Class::__ANON__::SERIAL::5=HASH(0x451ced8), HASH(0x453c770)) called at /home/sand/src/perl/repoperls/installed-perls/perl/v5.19.11-6-gdeaf6ad/165a/lib/site_perl/5.19.12/x86_64-linux/Moose/Object.pm line 27
Moose::Object::new("TestApp::Controller::ExecutionViaConfig", "TestApp", HASH(0x453c950)) called at constructor Catalyst::Controller::new (defined at /home/sand/src/perl/repoperls/installed-perls/perl/v5.19.11-6-gdeaf6ad/165a/lib/site_perl/5.19.12/Catalyst/Controller.pm line 573) line 4
Catalyst::Controller::new("TestApp::Controller::ExecutionViaConfig", "TestApp", HASH(0x453c950)) called at /home/sand/src/perl/repoperls/installed-perls/perl/v5.19.11-6-gdeaf6ad/165a/lib/site_perl/5.19.12/Catalyst/Component.pm line 123
Catalyst::Component::COMPONENT("TestApp::Controller::ExecutionViaConfig", "TestApp", HASH(0x453c950)) called at /home/sand/src/perl/repoperls/installed-perls/perl/v5.19.11-6-gdeaf6ad/165a/lib/site_perl/5.19.12/Catalyst.pm line 2638
eval {...} called at /home/sand/src/perl/repoperls/installed-perls/perl/v5.19.11-6-gdeaf6ad/165a/lib/site_perl/5.19.12/Catalyst.pm line 2638
Catalyst::setup_component("TestApp", "TestApp::Controller::ExecutionViaConfig") called at /home/sand/src/perl/repoperls/installed-perls/perl/v5.19.11-6-gdeaf6ad/165a/lib/site_perl/5.19.12/Catalyst.pm line 2565
Catalyst::setup_components("TestApp") called at /home/sand/src/perl/repoperls/installed-perls/perl/v5.19.11-6-gdeaf6ad/165a/lib/site_perl/5.19.12/Catalyst.pm line 1181
Catalyst::setup("TestApp") called at /tmp/loop_over_bdir-1190-AVU75D/Catalyst-Controller-ActionRole-0.15-MRH4xX/t/lib/TestApp.pm line 9
require TestApp.pm called at /home/sand/src/perl/repoperls/installed-perls/perl/v5.19.11-6-gdeaf6ad/165a/lib/site_perl/5.19.12/Module/Runtime.pm line 317
Module::Runtime::require_module("TestApp") called at /home/sand/src/perl/repoperls/installed-perls/perl/v5.19.11-6-gdeaf6ad/165a/lib/site_perl/5.19.12/Class/Load.pm line 179
Class::Load::try {...} () called at /home/sand/src/perl/repoperls/installed-perls/perl/v5.19.11-6-gdeaf6ad/165a/lib/site_perl/5.19.12/Try/Tiny.pm line 77
eval {...} called at /home/sand/src/perl/repoperls/installed-perls/perl/v5.19.11-6-gdeaf6ad/165a/lib/site_perl/5.19.12/Try/Tiny.pm line 72
Try::Tiny::try(CODE(0x32ae670), Try::Tiny::Catch=REF(0x32630b8)) called at /home/sand/src/perl/repoperls/installed-perls/perl/v5.19.11-6-gdeaf6ad/165a/lib/site_perl/5.19.12/Class/Load.pm line 185
Class::Load::try_load_class("TestApp", undef) called at /home/sand/src/perl/repoperls/installed-perls/perl/v5.19.11-6-gdeaf6ad/165a/lib/site_perl/5.19.12/Class/Load.pm line 40
Class::Load::load_class("TestApp") called at /home/sand/src/perl/repoperls/installed-perls/perl/v5.19.11-6-gdeaf6ad/165a/lib/site_perl/5.19.12/Catalyst/Test.pm line 29
Catalyst::Test::_build_request_export("Catalyst::Test", HASH(0x360fbf8)) called at /home/sand/src/perl/repoperls/installed-perls/perl/v5.19.11-6-gdeaf6ad/165a/lib/site_perl/5.19.12/Catalyst/Test.pm line 92
Catalyst::Test::__ANON__("Catalyst::Test", "all", HASH(0x360fbc8), HASH(0x2316ae0)) called at /home/sand/src/perl/repoperls/installed-perls/perl/v5.19.11-6-gdeaf6ad/165a/lib/site_perl/5.19.12/Sub/Exporter.pm line 108
Sub::Exporter::_expand_group("Catalyst::Test", HASH(0x35ffdf8), ARRAY(0x2294698), HASH(0x2316ae0), HASH(0x360fc28), HASH(0x2316b10)) called at /home/sand/src/perl/repoperls/installed-perls/perl/v5.19.11-6-gdeaf6ad/165a/lib/site_perl/5.19.12/Sub/Exporter.pm line 39
Sub::Exporter::_expand_groups("Catalyst::Test", HASH(0x35ffdf8), ARRAY(0x360f598), HASH(0x2316ae0)) called at /home/sand/src/perl/repoperls/installed-perls/perl/v5.19.11-6-gdeaf6ad/165a/lib/site_perl/5.19.12/Sub/Exporter.pm line 323
Sub::Exporter::__ANON__("Catalyst::Test", "-all", HASH(0x22940e0)) called at /home/sand/src/perl/repoperls/installed-perls/perl/v5.19.11-6-gdeaf6ad/165a/lib/site_perl/5.19.12/Catalyst/Test.pm line 155
Catalyst::Test::import("Catalyst::Test", "TestApp") called at t/action-class.t line 8
main::BEGIN() called at /tmp/loop_over_bdir-1190-AVU75D/Catalyst-Controller-ActionRole-0.15-MRH4xX/t/lib/TestApp.pm line 0
eval {...} called at /tmp/loop_over_bdir-1190-AVU75D/Catalyst-Controller-ActionRole-0.15-MRH4xX/t/lib/TestApp.pm line 0
t/action-class.t .......... ok
Class::MOP::load_class is deprecated at /home/sand/src/perl/repoperls/installed-perls/perl/v5.19.11-6-gdeaf6ad/165a/lib/site_perl/5.19.12/x86_64-linux/Class/MOP.pm line 73.
Class::MOP::load_class("TestApp::ActionRole::Kooh") called at /tmp/loop_over_bdir-1190-AVU75D/Catalyst-Controller-ActionRole-0.15-MRH4xX/blib/lib/Catalyst/Controller/ActionRole.pm line 50
Catalyst::Controller::ActionRole::_build__action_roles(TestApp::Controller::Bar=HASH(0x3b822d0)) called at native delegation method Catalyst::Controller::ActionRole::_action_roles (elements) of attribute _action_roles (defined at /tmp/loop_over_bdir-1190-AVU75D/Catalyst-Controller-ActionRole-0.15-MRH4xX/blib/lib/Catalyst/Controller/ActionRole.pm line 37) line 9
Catalyst::Controller::ActionRole::_action_roles(TestApp::Controller::Bar=HASH(0x3b822d0)) called at /home/sand/src/perl/repoperls/installed-perls/perl/v5.19.11-6-gdeaf6ad/165a/lib/site_perl/5.19.12/Catalyst/Controller.pm line 84
Catalyst::Controller::BUILD(TestApp::Controller::Bar=HASH(0x3b822d0), HASH(0x3ba1ed8)) called at /home/sand/src/perl/repoperls/installed-perls/perl/v5.19.11-6-gdeaf6ad/165a/lib/site_perl/5.19.12/x86_64-linux/Class/MOP/Method.pm line 128
Class::MOP::Method::execute(Moose::Meta::Class::__ANON__::SERIAL::7=HASH(0x33a4240), TestApp::Controller::Bar=HASH(0x3b822d0), HASH(0x3ba1ed8)) called at /home/sand/src/perl/repoperls/installed-perls/perl/v5.19.11-6-gdeaf6ad/165a/lib/site_perl/5.19.12/x86_64-linux/Moose/Object.pm line 56
Moose::Object::BUILDALL(TestApp::Controller::Bar=HASH(0x3b822d0), HASH(0x3ba1ed8)) called at /home/sand/src/perl/repoperls/installed-perls/perl/v5.19.11-6-gdeaf6ad/165a/lib/site_perl/5.19.12/x86_64-linux/Moose/Meta/Class.pm line 282
Moose::Meta::Class::new_object(Moose::Meta::Class::__ANON__::SERIAL::5=HASH(0x3b7d8e8), HASH(0x3ba1ed8)) called at /home/sand/src/perl/repoperls/installed-perls/perl/v5.19.11-6-gdeaf6ad/165a/lib/site_perl/5.19.12/x86_64-linux/Moose/Object.pm line 27
Moose::Object::new("TestApp::Controller::Bar", "TestApp", HASH(0x3b2fd48)) called at constructor Catalyst::Controller::new (defined at /home/sand/src/perl/repoperls/installed-perls/perl/v5.19.11-6-gdeaf6ad/165a/lib/site_perl/5.19.12/Catalyst/Controller.pm line 573) line 4
Catalyst::Controller::new("TestApp::Controller::Bar", "TestApp", HASH(0x3b2fd48)) called at /home/sand/src/perl/repoperls/installed-perls/perl/v5.19.11-6-gdeaf6ad/165a/lib/site_perl/5.19.12/Catalyst/Component.pm line 123
Catalyst::Component::COMPONENT("TestApp::Controller::Bar", "TestApp", HASH(0x3b2fd48)) called at /home/sand/src/perl/repoperls/installed-perls/perl/v5.19.11-6-gdeaf6ad/165a/lib/site_perl/5.19.12/Catalyst.pm line 2638
eval {...} called at /home/sand/src/perl/repoperls/installed-perls/perl/v5.19.11-6-gdeaf6ad/165a/lib/site_perl/5.19.12/Catalyst.pm line 2638
Catalyst::setup_component("TestApp", "TestApp::Controller::Bar") called at /home/sand/src/perl/repoperls/installed-perls/perl/v5.19.11-6-gdeaf6ad/165a/lib/site_perl/5.19.12/Catalyst.pm line 2565
Catalyst::setup_components("TestApp") called at /home/sand/src/perl/repoperls/installed-perls/perl/v5.19.11-6-gdeaf6ad/165a/lib/site_perl/5.19.12/Catalyst.pm line 1181
Catalyst::setup("TestApp") called at /tmp/loop_over_bdir-1190-AVU75D/Catalyst-Controller-ActionRole-0.15-MRH4xX/t/lib/TestApp.pm line 9
require TestApp.pm called at /home/sand/src/perl/repoperls/installed-perls/perl/v5.19.11-6-gdeaf6ad/165a/lib/site_perl/5.19.12/Module/Runtime.pm line 317
Module::Runtime::require_module("TestApp") called at /home/sand/src/perl/repoperls/installed-perls/perl/v5.19.11-6-gdeaf6ad/165a/lib/site_perl/5.19.12/Class/Load.pm line 179
Class::Load::try {...} () called at /home/sand/src/perl/repoperls/installed-perls/perl/v5.19.11-6-gdeaf6ad/165a/lib/site_perl/5.19.12/Try/Tiny.pm line 77
eval {...} called at /home/sand/src/perl/repoperls/installed-perls/perl/v5.19.11-6-gdeaf6ad/165a/lib/site_perl/5.19.12/Try/Tiny.pm line 72
Try::Tiny::try(CODE(0x290e6e0), Try::Tiny::Catch=REF(0x290e3c8)) called at /home/sand/src/perl/repoperls/installed-perls/perl/v5.19.11-6-gdeaf6ad/165a/lib/site_perl/5.19.12/Class/Load.pm line 185
Class::Load::try_load_class("TestApp", undef) called at /home/sand/src/perl/repoperls/installed-perls/perl/v5.19.11-6-gdeaf6ad/165a/lib/site_perl/5.19.12/Class/Load.pm line 40
Class::Load::load_class("TestApp") called at /home/sand/src/perl/repoperls/installed-perls/perl/v5.19.11-6-gdeaf6ad/165a/lib/site_perl/5.19.12/Catalyst/Test.pm line 29
Catalyst::Test::_build_request_export("Catalyst::Test", HASH(0x2c8c908)) called at /home/sand/src/perl/repoperls/installed-perls/perl/v5.19.11-6-gdeaf6ad/165a/lib/site_perl/5.19.12/Catalyst/Test.pm line 92
Catalyst::Test::__ANON__("Catalyst::Test", "all", HASH(0x2c8c8d8), HASH(0x1993b48)) called at /home/sand/src/perl/repoperls/installed-perls/perl/v5.19.11-6-gdeaf6ad/165a/lib/site_perl/5.19.12/Sub/Exporter.pm line 108
Sub::Exporter::_expand_group("Catalyst::Test", HASH(0x2c7cb08), ARRAY(0x1911718), HASH(0x1993b48), HASH(0x2c8c938), HASH(0x1a44368)) called at /home/sand/src/perl/repoperls/installed-perls/perl/v5.19.11-6-gdeaf6ad/165a/lib/site_perl/5.19.12/Sub/Exporter.pm line 39
Sub::Exporter::_expand_groups("Catalyst::Test", HASH(0x2c7cb08), ARRAY(0x2c8c2a8), HASH(0x1993b48)) called at /home/sand/src/perl/repoperls/installed-perls/perl/v5.19.11-6-gdeaf6ad/165a/lib/site_perl/5.19.12/Sub/Exporter.pm line 323
Sub::Exporter::__ANON__("Catalyst::Test", "-all", HASH(0x1911160)) called at /home/sand/src/perl/repoperls/installed-perls/perl/v5.19.11-6-gdeaf6ad/165a/lib/site_perl/5.19.12/Catalyst/Test.pm line 155
Catalyst::Test::import("Catalyst::Test", "TestApp") called at t/basic.t line 8
main::BEGIN() called at /tmp/loop_over_bdir-1190-AVU75D/Catalyst-Controller-ActionRole-0.15-MRH4xX/t/lib/TestApp.pm line 0
eval {...} called at /tmp/loop_over_bdir-1190-AVU75D/Catalyst-Controller-ActionRole-0.15-MRH4xX/t/lib/TestApp.pm line 0
Class::MOP::load_first_existing_class is deprecated at /home/sand/src/perl/repoperls/installed-perls/perl/v5.19.11-6-gdeaf6ad/165a/lib/site_perl/5.19.12/x86_64-linux/Class/MOP.pm line 82.
Class::MOP::load_first_existing_class("TestApp::ActionRole::Shared", "Catalyst::ActionRole::Shared") called at /tmp/loop_over_bdir-1190-AVU75D/Catalyst-Controller-ActionRole-0.15-MRH4xX/blib/lib/Catalyst/Controller/ActionRole.pm line 120
Catalyst::Controller::ActionRole::__ANON__("Shared") called at /home/sand/src/perl/repoperls/installed-perls/perl/v5.19.11-6-gdeaf6ad/165a/lib/site_perl/5.19.12/String/RewritePrefix.pm line 44
String::RewritePrefix::__ANON__("Shared") called at /home/sand/src/perl/repoperls/installed-perls/perl/v5.19.11-6-gdeaf6ad/165a/lib/site_perl/5.19.12/String/RewritePrefix.pm line 18
String::RewritePrefix::rewrite("String::RewritePrefix", HASH(0x3bbcc78), "Shared") called at /tmp/loop_over_bdir-1190-AVU75D/Catalyst-Controller-ActionRole-0.15-MRH4xX/blib/lib/Catalyst/Controller/ActionRole.pm line 125
Catalyst::Controller::ActionRole::_expand_role_shortname(TestApp::Controller::ExecutionViaConfig=HASH(0x3bb9668), "Shared") called at /tmp/loop_over_bdir-1190-AVU75D/Catalyst-Controller-ActionRole-0.15-MRH4xX/blib/lib/Catalyst/Controller/ActionRole.pm line 49
Catalyst::Controller::ActionRole::_build__action_roles(TestApp::Controller::ExecutionViaConfig=HASH(0x3bb9668)) called at native delegation method Catalyst::Controller::ActionRole::_action_roles (elements) of attribute _action_roles (defined at /tmp/loop_over_bdir-1190-AVU75D/Catalyst-Controller-ActionRole-0.15-MRH4xX/blib/lib/Catalyst/Controller/ActionRole.pm line 37) line 9
Catalyst::Controller::ActionRole::_action_roles(TestApp::Controller::ExecutionViaConfig=HASH(0x3bb9668)) called at /home/sand/src/perl/repoperls/installed-perls/perl/v5.19.11-6-gdeaf6ad/165a/lib/site_perl/5.19.12/Catalyst/Controller.pm line 84
Catalyst::Controller::BUILD(TestApp::Controller::ExecutionViaConfig=HASH(0x3bb9668), HASH(0x3bb8cc0)) called at /home/sand/src/perl/repoperls/installed-perls/perl/v5.19.11-6-gdeaf6ad/165a/lib/site_perl/5.19.12/x86_64-linux/Class/MOP/Method.pm line 128
Class::MOP::Method::execute(Moose::Meta::Class::__ANON__::SERIAL::7=HASH(0x33a4240), TestApp::Controller::ExecutionViaConfig=HASH(0x3bb9668), HASH(0x3bb8cc0)) called at /home/sand/src/perl/repoperls/installed-perls/perl/v5.19.11-6-gdeaf6ad/165a/lib/site_perl/5.19.12/x86_64-linux/Moose/Object.pm line 56
Moose::Object::BUILDALL(TestApp::Controller::ExecutionViaConfig=HASH(0x3bb9668), HASH(0x3bb8cc0)) called at /home/sand/src/perl/repoperls/installed-perls/perl/v5.19.11-6-gdeaf6ad/165a/lib/site_perl/5.19.12/x86_64-linux/Moose/Meta/Class.pm line 282
Moose::Meta::Class::new_object(Moose::Meta::Class::__ANON__::SERIAL::5=HASH(0x3b996f8), HASH(0x3bb8cc0)) called at /home/sand/src/perl/repoperls/installed-perls/perl/v5.19.11-6-gdeaf6ad/165a/lib/site_perl/5.19.12/x86_64-linux/Moose/Object.pm line 27
Moose::Object::new("TestApp::Controller::ExecutionViaConfig", "TestApp", HASH(0x3bb9350)) called at constructor Catalyst::Controller::new (defined at /home/sand/src/perl/repoperls/installed-perls/perl/v5.19.11-6-gdeaf6ad/165a/lib/site_perl/5.19.12/Catalyst/Controller.pm line 573) line 4
Catalyst::Controller::new("TestApp::Controller::ExecutionViaConfig", "TestApp", HASH(0x3bb9350)) called at /home/sand/src/perl/repoperls/installed-perls/perl/v5.19.11-6-gdeaf6ad/165a/lib/site_perl/5.19.12/Catalyst/Component.pm line 123
Catalyst::Component::COMPONENT("TestApp::Controller::ExecutionViaConfig", "TestApp", HASH(0x3bb9350)) called at /home/sand/src/perl/repoperls/installed-perls/perl/v5.19.11-6-gdeaf6ad/165a/lib/site_perl/5.19.12/Catalyst.pm line 2638
eval {...} called at /home/sand/src/perl/repoperls/installed-perls/perl/v5.19.11-6-gdeaf6ad/165a/lib/site_perl/5.19.12/Catalyst.pm line 2638
Catalyst::setup_component("TestApp", "TestApp::Controller::ExecutionViaConfig") called at /home/sand/src/perl/repoperls/installed-perls/perl/v5.19.11-6-gdeaf6ad/165a/lib/site_perl/5.19.12/Catalyst.pm line 2565
Catalyst::setup_components("TestApp") called at /home/sand/src/perl/repoperls/installed-perls/perl/v5.19.11-6-gdeaf6ad/165a/lib/site_perl/5.19.12/Catalyst.pm line 1181
Catalyst::setup("TestApp") called at /tmp/loop_over_bdir-1190-AVU75D/Catalyst-Controller-ActionRole-0.15-MRH4xX/t/lib/TestApp.pm line 9
require TestApp.pm called at /home/sand/src/perl/repoperls/installed-perls/perl/v5.19.11-6-gdeaf6ad/165a/lib/site_perl/5.19.12/Module/Runtime.pm line 317
Module::Runtime::require_module("TestApp") called at /home/sand/src/perl/repoperls/installed-perls/perl/v5.19.11-6-gdeaf6ad/165a/lib/site_perl/5.19.12/Class/Load.pm line 179
Class::Load::try {...} () called at /home/sand/src/perl/repoperls/installed-perls/perl/v5.19.11-6-gdeaf6ad/165a/lib/site_perl/5.19.12/Try/Tiny.pm line 77
eval {...} called at /home/sand/src/perl/repoperls/installed-perls/perl/v5.19.11-6-gdeaf6ad/165a/lib/site_perl/5.19.12/Try/Tiny.pm line 72
Try::Tiny::try(CODE(0x290e6e0), Try::Tiny::Catch=REF(0x290e3c8)) called at /home/sand/src/perl/repoperls/installed-perls/perl/v5.19.11-6-gdeaf6ad/165a/lib/site_perl/5.19.12/Class/Load.pm line 185
Class::Load::try_load_class("TestApp", undef) called at /home/sand/src/perl/repoperls/installed-perls/perl/v5.19.11-6-gdeaf6ad/165a/lib/site_perl/5.19.12/Class/Load.pm line 40
Class::Load::load_class("TestApp") called at /home/sand/src/perl/repoperls/installed-perls/perl/v5.19.11-6-gdeaf6ad/165a/lib/site_perl/5.19.12/Catalyst/Test.pm line 29
Catalyst::Test::_build_request_export("Catalyst::Test", HASH(0x2c8c908)) called at /home/sand/src/perl/repoperls/installed-perls/perl/v5.19.11-6-gdeaf6ad/165a/lib/site_perl/5.19.12/Catalyst/Test.pm line 92
Catalyst::Test::__ANON__("Catalyst::Test", "all", HASH(0x2c8c8d8), HASH(0x1993b48)) called at /home/sand/src/perl/repoperls/installed-perls/perl/v5.19.11-6-gdeaf6ad/165a/lib/site_perl/5.19.12/Sub/Exporter.pm line 108
Sub::Exporter::_expand_group("Catalyst::Test", HASH(0x2c7cb08), ARRAY(0x1911718), HASH(0x1993b48), HASH(0x2c8c938), HASH(0x1a44368)) called at /home/sand/src/perl/repoperls/installed-perls/perl/v5.19.11-6-gdeaf6ad/165a/lib/site_perl/5.19.12/Sub/Exporter.pm line 39
Sub::Exporter::_expand_groups("Catalyst::Test", HASH(0x2c7cb08), ARRAY(0x2c8c2a8), HASH(0x1993b48)) called at /home/sand/src/perl/repoperls/installed-perls/perl/v5.19.11-6-gdeaf6ad/165a/lib/site_perl/5.19.12/Sub/Exporter.pm line 323
Sub::Exporter::__ANON__("Catalyst::Test", "-all", HASH(0x1911160)) called at /home/sand/src/perl/repoperls/installed-perls/perl/v5.19.11-6-gdeaf6ad/165a/lib/site_perl/5.19.12/Catalyst/Test.pm line 155
Catalyst::Test::import("Catalyst::Test", "TestApp") called at t/basic.t line 8
main::BEGIN() called at /tmp/loop_over_bdir-1190-AVU75D/Catalyst-Controller-ActionRole-0.15-MRH4xX/t/lib/TestApp.pm line 0
eval {...} called at /tmp/loop_over_bdir-1190-AVU75D/Catalyst-Controller-ActionRole-0.15-MRH4xX/t/lib/TestApp.pm line 0
t/basic.t ................. ok
Class::MOP::load_first_existing_class is deprecated at /home/sand/src/perl/repoperls/installed-perls/perl/v5.19.11-6-gdeaf6ad/165a/lib/site_perl/5.19.12/x86_64-linux/Class/MOP.pm line 82.
Class::MOP::load_first_existing_class("TestAppREST::ActionRole::Moo", "Catalyst::ActionRole::Moo") called at /tmp/loop_over_bdir-1190-AVU75D/Catalyst-Controller-ActionRole-0.15-MRH4xX/blib/lib/Catalyst/Controller/ActionRole.pm line 120
Catalyst::Controller::ActionRole::__ANON__("Moo") called at /home/sand/src/perl/repoperls/installed-perls/perl/v5.19.11-6-gdeaf6ad/165a/lib/site_perl/5.19.12/String/RewritePrefix.pm line 44
String::RewritePrefix::__ANON__("Moo") called at /home/sand/src/perl/repoperls/installed-perls/perl/v5.19.11-6-gdeaf6ad/165a/lib/site_perl/5.19.12/String/RewritePrefix.pm line 18
String::RewritePrefix::rewrite("String::RewritePrefix", HASH(0x47d2528), "Moo") called at /tmp/loop_over_bdir-1190-AVU75D/Catalyst-Controller-ActionRole-0.15-MRH4xX/blib/lib/Catalyst/Controller/ActionRole.pm line 125
Catalyst::Controller::ActionRole::_expand_role_shortname(TestAppREST::Controller::Foo=HASH(0x47720f0), "Moo") called at /tmp/loop_over_bdir-1190-AVU75D/Catalyst-Controller-ActionRole-0.15-MRH4xX/blib/lib/Catalyst/Controller/ActionRole.pm line 134
Catalyst::Controller::ActionRole::_parse_Does_attr(TestAppREST::Controller::Foo=HASH(0x47720f0), "TestAppREST", "foo", "Moo") called at /home/sand/src/perl/repoperls/installed-perls/perl/v5.19.11-6-gdeaf6ad/165a/lib/site_perl/5.19.12/Catalyst/Controller.pm line 441
Catalyst::Controller::_parse_attr(TestAppREST::Controller::Foo=HASH(0x47720f0), "TestAppREST", "foo", "Does", ARRAY(0x47cd7f8)) called at /home/sand/src/perl/repoperls/installed-perls/perl/v5.19.11-6-gdeaf6ad/165a/lib/site_perl/5.19.12/Catalyst/Controller.pm line 427
Catalyst::Controller::_parse_attrs(TestAppREST::Controller::Foo=HASH(0x47720f0), "TestAppREST", "foo", "Local", "Does('Moo')", "ActionClass('REST')") called at /home/sand/src/perl/repoperls/installed-perls/perl/v5.19.11-6-gdeaf6ad/165a/lib/site_perl/5.19.12/Catalyst/Controller.pm line 279
Catalyst::Controller::register_action_methods(TestAppREST::Controller::Foo=HASH(0x47720f0), "TestAppREST", Moose::Meta::Class::__ANON__::SERIAL::2=HASH(0x47a24c8), Moose::Meta::Class::__ANON__::SERIAL::2=HASH(0x47c3ae0), Moose::Meta::Class::__ANON__::SERIAL::2=HASH(0x47a9f88), Moose::Meta::Class::__ANON__::SERIAL::2=HASH(0x47c3738), Moose::Meta::Class::__ANON__::SERIAL::2=HASH(0x4793950), Moose::Meta::Class::__ANON__::SERIAL::2=HASH(0x47cda08)) called at /home/sand/src/perl/repoperls/installed-perls/perl/v5.19.11-6-gdeaf6ad/165a/lib/site_perl/5.19.12/Catalyst/Controller.pm line 257
Catalyst::Controller::register_actions(TestAppREST::Controller::Foo=HASH(0x47720f0), "TestAppREST") called at /home/sand/src/perl/repoperls/installed-perls/perl/v5.19.11-6-gdeaf6ad/165a/lib/site_perl/5.19.12/Catalyst/Dispatcher.pm line 609
Catalyst::Dispatcher::setup_actions(Catalyst::Dispatcher=HASH(0x44b6260), "TestAppREST") called at /home/sand/src/perl/repoperls/installed-perls/perl/v5.19.11-6-gdeaf6ad/165a/lib/site_perl/5.19.12/Catalyst.pm line 2525
Catalyst::setup_actions("TestAppREST") called at /home/sand/src/perl/repoperls/installed-perls/perl/v5.19.11-6-gdeaf6ad/165a/lib/site_perl/5.19.12/Catalyst.pm line 1242
Catalyst::setup("TestAppREST") called at /tmp/loop_over_bdir-1190-AVU75D/Catalyst-Controller-ActionRole-0.15-MRH4xX/t/lib/TestAppREST.pm line 9
require TestAppREST.pm called at /home/sand/src/perl/repoperls/installed-perls/perl/v5.19.11-6-gdeaf6ad/165a/lib/site_perl/5.19.12/Module/Runtime.pm line 317
Module::Runtime::require_module("TestAppREST") called at /home/sand/src/perl/repoperls/installed-perls/perl/v5.19.11-6-gdeaf6ad/165a/lib/site_perl/5.19.12/Class/Load.pm line 179
Class::Load::try {...} () called at /home/sand/src/perl/repoperls/installed-perls/perl/v5.19.11-6-gdeaf6ad/165a/lib/site_perl/5.19.12/Try/Tiny.pm line 77
eval {...} called at /home/sand/src/perl/repoperls/installed-perls/perl/v5.19.11-6-gdeaf6ad/165a/lib/site_perl/5.19.12/Try/Tiny.pm line 72
Try::Tiny::try(CODE(0x3e62ca0), Try::Tiny::Catch=REF(0x3e4fc48)) called at /home/sand/src/perl/repoperls/installed-perls/perl/v5.19.11-6-gdeaf6ad/165a/lib/site_perl/5.19.12/Class/Load.pm line 185
Class::Load::try_load_class("TestAppREST", undef) called at /home/sand/src/perl/repoperls/installed-perls/perl/v5.19.11-6-gdeaf6ad/165a/lib/site_perl/5.19.12/Class/Load.pm line 40
Class::Load::load_class("TestAppREST") called at /home/sand/src/perl/repoperls/installed-perls/perl/v5.19.11-6-gdeaf6ad/165a/lib/site_perl/5.19.12/Catalyst/Test.pm line 29
Catalyst::Test::_build_request_export("Catalyst::Test", HASH(0x3ebf5d8)) called at /home/sand/src/perl/repoperls/installed-perls/perl/v5.19.11-6-gdeaf6ad/165a/lib/site_perl/5.19.12/Catalyst/Test.pm line 92
Catalyst::Test::__ANON__("Catalyst::Test", "all", HASH(0x3ebf5a8), HASH(0x31679f8)) called at /home/sand/src/perl/repoperls/installed-perls/perl/v5.19.11-6-gdeaf6ad/165a/lib/site_perl/5.19.12/Sub/Exporter.pm line 108
Sub::Exporter::_expand_group("Catalyst::Test", HASH(0x3eb3dc8), ARRAY(0x300c770), HASH(0x31679f8), HASH(0x3ebf608), HASH(0x245d3f8)) called at /home/sand/src/perl/repoperls/installed-perls/perl/v5.19.11-6-gdeaf6ad/165a/lib/site_perl/5.19.12/Sub/Exporter.pm line 39
Sub::Exporter::_expand_groups("Catalyst::Test", HASH(0x3eb3dc8), ARRAY(0x3ebef78), HASH(0x31679f8)) called at /home/sand/src/perl/repoperls/installed-perls/perl/v5.19.11-6-gdeaf6ad/165a/lib/site_perl/5.19.12/Sub/Exporter.pm line 323
Sub::Exporter::__ANON__("Catalyst::Test", "-all", HASH(0x3e290f8)) called at /home/sand/src/perl/repoperls/installed-perls/perl/v5.19.11-6-gdeaf6ad/165a/lib/site_perl/5.19.12/Catalyst/Test.pm line 155
Catalyst::Test::import("Catalyst::Test", "TestAppREST") called at t/basic_rest.t line 16
main::BEGIN() called at /tmp/loop_over_bdir-1190-AVU75D/Catalyst-Controller-ActionRole-0.15-MRH4xX/t/lib/TestAppREST.pm line 0
eval {...} called at /tmp/loop_over_bdir-1190-AVU75D/Catalyst-Controller-ActionRole-0.15-MRH4xX/t/lib/TestAppREST.pm line 0
Class::MOP::load_class is deprecated at /home/sand/src/perl/repoperls/installed-perls/perl/v5.19.11-6-gdeaf6ad/165a/lib/site_perl/5.19.12/x86_64-linux/Class/MOP.pm line 73.
Class::MOP::load_class("TestAppREST::ActionRole::Moo") called at /tmp/loop_over_bdir-1190-AVU75D/Catalyst-Controller-ActionRole-0.15-MRH4xX/blib/lib/Catalyst/Controller/ActionRole.pm line 69
Class::MOP::Class:::around(CODE(0x3cde6e0), TestAppREST::Controller::Foo=HASH(0x47720f0), "name", "foo", "code", CODE(0x41af3e8), "reverse", "foo/foo", "namespace", ...) called at /home/sand/src/perl/repoperls/installed-perls/perl/v5.19.11-6-gdeaf6ad/165a/lib/site_perl/5.19.12/x86_64-linux/Class/MOP/Method/Wrapped.pm line 163
Class::MOP::Method::Wrapped::__ANON__(TestAppREST::Controller::Foo=HASH(0x47720f0), "name", "foo", "code", CODE(0x41af3e8), "reverse", "foo/foo", "namespace", "foo", ...) called at /home/sand/src/perl/repoperls/installed-perls/perl/v5.19.11-6-gdeaf6ad/165a/lib/site_perl/5.19.12/x86_64-linux/Class/MOP/Method/Wrapped.pm line 92
Catalyst::Controller::ActionRole::create_action(TestAppREST::Controller::Foo=HASH(0x47720f0), "name", "foo", "code", CODE(0x41af3e8), "reverse", "foo/foo", "namespace", "foo", ...) called at /home/sand/src/perl/repoperls/installed-perls/perl/v5.19.11-6-gdeaf6ad/165a/lib/site_perl/5.19.12/Catalyst/Controller.pm line 288
Catalyst::Controller::register_action_methods(TestAppREST::Controller::Foo=HASH(0x47720f0), "TestAppREST", Moose::Meta::Class::__ANON__::SERIAL::2=HASH(0x47a24c8), Moose::Meta::Class::__ANON__::SERIAL::2=HASH(0x47c3ae0), Moose::Meta::Class::__ANON__::SERIAL::2=HASH(0x47a9f88), Moose::Meta::Class::__ANON__::SERIAL::2=HASH(0x47c3738), Moose::Meta::Class::__ANON__::SERIAL::2=HASH(0x4793950), Moose::Meta::Class::__ANON__::SERIAL::2=HASH(0x47cda08)) called at /home/sand/src/perl/repoperls/installed-perls/perl/v5.19.11-6-gdeaf6ad/165a/lib/site_perl/5.19.12/Catalyst/Controller.pm line 257
Catalyst::Controller::register_actions(TestAppREST::Controller::Foo=HASH(0x47720f0), "TestAppREST") called at /home/sand/src/perl/repoperls/installed-perls/perl/v5.19.11-6-gdeaf6ad/165a/lib/site_perl/5.19.12/Catalyst/Dispatcher.pm line 609
Catalyst::Dispatcher::setup_actions(Catalyst::Dispatcher=HASH(0x44b6260), "TestAppREST") called at /home/sand/src/perl/repoperls/installed-perls/perl/v5.19.11-6-gdeaf6ad/165a/lib/site_perl/5.19.12/Catalyst.pm line 2525
Catalyst::setup_actions("TestAppREST") called at /home/sand/src/perl/repoperls/installed-perls/perl/v5.19.11-6-gdeaf6ad/165a/lib/site_perl/5.19.12/Catalyst.pm line 1242
Catalyst::setup("TestAppREST") called at /tmp/loop_over_bdir-1190-AVU75D/Catalyst-Controller-ActionRole-0.15-MRH4xX/t/lib/TestAppREST.pm line 9
require TestAppREST.pm called at /home/sand/src/perl/repoperls/installed-perls/perl/v5.19.11-6-gdeaf6ad/165a/lib/site_perl/5.19.12/Module/Runtime.pm line 317
Module::Runtime::require_module("TestAppREST") called at /home/sand/src/perl/repoperls/installed-perls/perl/v5.19.11-6-gdeaf6ad/165a/lib/site_perl/5.19.12/Class/Load.pm line 179
Class::Load::try {...} () called at /home/sand/src/perl/repoperls/installed-perls/perl/v5.19.11-6-gdeaf6ad/165a/lib/site_perl/5.19.12/Try/Tiny.pm line 77
eval {...} called at /home/sand/src/perl/repoperls/installed-perls/perl/v5.19.11-6-gdeaf6ad/165a/lib/site_perl/5.19.12/Try/Tiny.pm line 72
Try::Tiny::try(CODE(0x3e62ca0), Try::Tiny::Catch=REF(0x3e4fc48)) called at /home/sand/src/perl/repoperls/installed-perls/perl/v5.19.11-6-gdeaf6ad/165a/lib/site_perl/5.19.12/Class/Load.pm line 185
Class::Load::try_load_class("TestAppREST", undef) called at /home/sand/src/perl/repoperls/installed-perls/perl/v5.19.11-6-gdeaf6ad/165a/lib/site_perl/5.19.12/Class/Load.pm line 40
Class::Load::load_class("TestAppREST") called at /home/sand/src/perl/repoperls/installed-perls/perl/v5.19.11-6-gdeaf6ad/165a/lib/site_perl/5.19.12/Catalyst/Test.pm line 29
Catalyst::Test::_build_request_export("Catalyst::Test", HASH(0x3ebf5d8)) called at /home/sand/src/perl/repoperls/installed-perls/perl/v5.19.11-6-gdeaf6ad/165a/lib/site_perl/5.19.12/Catalyst/Test.pm line 92
Catalyst::Test::__ANON__("Catalyst::Test", "all", HASH(0x3ebf5a8), HASH(0x31679f8)) called at /home/sand/src/perl/repoperls/installed-perls/perl/v5.19.11-6-gdeaf6ad/165a/lib/site_perl/5.19.12/Sub/Exporter.pm line 108
Sub::Exporter::_expand_group("Catalyst::Test", HASH(0x3eb3dc8), ARRAY(0x300c770), HASH(0x31679f8), HASH(0x3ebf608), HASH(0x245d3f8)) called at /home/sand/src/perl/repoperls/installed-perls/perl/v5.19.11-6-gdeaf6ad/165a/lib/site_perl/5.19.12/Sub/Exporter.pm line 39
Sub::Exporter::_expand_groups("Catalyst::Test", HASH(0x3eb3dc8), ARRAY(0x3ebef78), HASH(0x31679f8)) called at /home/sand/src/perl/repoperls/installed-perls/perl/v5.19.11-6-gdeaf6ad/165a/lib/site_perl/5.19.12/Sub/Exporter.pm line 323
Sub::Exporter::__ANON__("Catalyst::Test", "-all", HASH(0x3e290f8)) called at /home/sand/src/perl/repoperls/installed-perls/perl/v5.19.11-6-gdeaf6ad/165a/lib/site_perl/5.19.12/Catalyst/Test.pm line 155
Catalyst::Test::import("Catalyst::Test", "TestAppREST") called at t/basic_rest.t line 16
main::BEGIN() called at /tmp/loop_over_bdir-1190-AVU75D/Catalyst-Controller-ActionRole-0.15-MRH4xX/t/lib/TestAppREST.pm line 0
eval {...} called at /tmp/loop_over_bdir-1190-AVU75D/Catalyst-Controller-ActionRole-0.15-MRH4xX/t/lib/TestAppREST.pm line 0
t/basic_rest.t ............ ok
Class::MOP::load_class is deprecated at /home/sand/src/perl/repoperls/installed-perls/perl/v5.19.11-6-gdeaf6ad/165a/lib/site_perl/5.19.12/x86_64-linux/Class/MOP.pm line 73.
Class::MOP::load_class("TestApp::ActionRole::Kooh") called at /tmp/loop_over_bdir-1190-AVU75D/Catalyst-Controller-ActionRole-0.15-MRH4xX/blib/lib/Catalyst/Controller/ActionRole.pm line 50
Catalyst::Controller::ActionRole::_build__action_roles(TestApp::Controller::Bar=HASH(0x2eeae20)) called at native delegation method Catalyst::Controller::ActionRole::_action_roles (elements) of attribute _action_roles (defined at /tmp/loop_over_bdir-1190-AVU75D/Catalyst-Controller-ActionRole-0.15-MRH4xX/blib/lib/Catalyst/Controller/ActionRole.pm line 37) line 9
Catalyst::Controller::ActionRole::_action_roles(TestApp::Controller::Bar=HASH(0x2eeae20)) called at /home/sand/src/perl/repoperls/installed-perls/perl/v5.19.11-6-gdeaf6ad/165a/lib/site_perl/5.19.12/Catalyst/Controller.pm line 84
Catalyst::Controller::BUILD(TestApp::Controller::Bar=HASH(0x2eeae20), HASH(0x2ee8fe8)) called at /home/sand/src/perl/repoperls/installed-perls/perl/v5.19.11-6-gdeaf6ad/165a/lib/site_perl/5.19.12/x86_64-linux/Class/MOP/Method.pm line 128
Class::MOP::Method::execute(Moose::Meta::Class::__ANON__::SERIAL::7=HASH(0x270b480), TestApp::Controller::Bar=HASH(0x2eeae20), HASH(0x2ee8fe8)) called at /home/sand/src/perl/repoperls/installed-perls/perl/v5.19.11-6-gdeaf6ad/165a/lib/site_perl/5.19.12/x86_64-linux/Moose/Object.pm line 56
Moose::Object::BUILDALL(TestApp::Controller::Bar=HASH(0x2eeae20), HASH(0x2ee8fe8)) called at /home/sand/src/perl/repoperls/installed-perls/perl/v5.19.11-6-gdeaf6ad/165a/lib/site_perl/5.19.12/x86_64-linux/Moose/Meta/Class.pm line 282
Moose::Meta::Class::new_object(Moose::Meta::Class::__ANON__::SERIAL::5=HASH(0x2ec4190), HASH(0x2ee8fe8)) called at /home/sand/src/perl/repoperls/installed-perls/perl/v5.19.11-6-gdeaf6ad/165a/lib/site_perl/5.19.12/x86_64-linux/Moose/Object.pm line 27
Moose::Object::new("TestApp::Controller::Bar", "TestApp", HASH(0x2e76ee8)) called at constructor Catalyst::Controller::new (defined at /home/sand/src/perl/repoperls/installed-perls/perl/v5.19.11-6-gdeaf6ad/165a/lib/site_perl/5.19.12/Catalyst/Controller.pm line 573) line 4
Catalyst::Controller::new("TestApp::Controller::Bar", "TestApp", HASH(0x2e76ee8)) called at /home/sand/src/perl/repoperls/installed-perls/perl/v5.19.11-6-gdeaf6ad/165a/lib/site_perl/5.19.12/Catalyst/Component.pm line 123
Catalyst::Component::COMPONENT("TestApp::Controller::Bar", "TestApp", HASH(0x2e76ee8)) called at /home/sand/src/perl/repoperls/installed-perls/perl/v5.19.11-6-gdeaf6ad/165a/lib/site_perl/5.19.12/Catalyst.pm line 2638
eval {...} called at /home/sand/src/perl/repoperls/installed-perls/perl/v5.19.11-6-gdeaf6ad/165a/lib/site_perl/5.19.12/Catalyst.pm line 2638
Catalyst::setup_component("TestApp", "TestApp::Controller::Bar") called at /home/sand/src/perl/repoperls/installed-perls/perl/v5.19.11-6-gdeaf6ad/165a/lib/site_perl/5.19.12/Catalyst.pm line 2565
Catalyst::setup_components("TestApp") called at /home/sand/src/perl/repoperls/installed-perls/perl/v5.19.11-6-gdeaf6ad/165a/lib/site_perl/5.19.12/Catalyst.pm line 1181
Catalyst::setup("TestApp") called at /tmp/loop_over_bdir-1190-AVU75D/Catalyst-Controller-ActionRole-0.15-MRH4xX/t/lib/TestApp.pm line 9
require TestApp.pm called at /home/sand/src/perl/repoperls/installed-perls/perl/v5.19.11-6-gdeaf6ad/165a/lib/site_perl/5.19.12/Module/Runtime.pm line 317
Module::Runtime::require_module("TestApp") called at /home/sand/src/perl/repoperls/installed-perls/perl/v5.19.11-6-gdeaf6ad/165a/lib/site_perl/5.19.12/Class/Load.pm line 179
Class::Load::try {...} () called at /home/sand/src/perl/repoperls/installed-perls/perl/v5.19.11-6-gdeaf6ad/165a/lib/site_perl/5.19.12/Try/Tiny.pm line 77
eval {...} called at /home/sand/src/perl/repoperls/installed-perls/perl/v5.19.11-6-gdeaf6ad/165a/lib/site_perl/5.19.12/Try/Tiny.pm line 72
Try::Tiny::try(CODE(0x1c74bc0), Try::Tiny::Catch=REF(0x1c7a0b0)) called at /home/sand/src/perl/repoperls/installed-perls/perl/v5.19.11-6-gdeaf6ad/165a/lib/site_perl/5.19.12/Class/Load.pm line 185
Class::Load::try_load_class("TestApp", undef) called at /home/sand/src/perl/repoperls/installed-perls/perl/v5.19.11-6-gdeaf6ad/165a/lib/site_perl/5.19.12/Class/Load.pm line 40
Class::Load::load_class("TestApp") called at /home/sand/src/perl/repoperls/installed-perls/perl/v5.19.11-6-gdeaf6ad/165a/lib/site_perl/5.19.12/Catalyst/Test.pm line 29
Catalyst::Test::_build_request_export("Catalyst::Test", HASH(0x1ff3068)) called at /home/sand/src/perl/repoperls/installed-perls/perl/v5.19.11-6-gdeaf6ad/165a/lib/site_perl/5.19.12/Catalyst/Test.pm line 92
Catalyst::Test::__ANON__("Catalyst::Test", "all", HASH(0x1ff3038), HASH(0xabbae0)) called at /home/sand/src/perl/repoperls/installed-perls/perl/v5.19.11-6-gdeaf6ad/165a/lib/site_perl/5.19.12/Sub/Exporter.pm line 108
Sub::Exporter::_expand_group("Catalyst::Test", HASH(0x1fe32b8), ARRAY(0xc735d0), HASH(0xabbae0), HASH(0x1ff3098), HASH(0xdaa838)) called at /home/sand/src/perl/repoperls/installed-perls/perl/v5.19.11-6-gdeaf6ad/165a/lib/site_perl/5.19.12/Sub/Exporter.pm line 39
Sub::Exporter::_expand_groups("Catalyst::Test", HASH(0x1fe32b8), ARRAY(0x1ff2a08), HASH(0xabbae0)) called at /home/sand/src/perl/repoperls/installed-perls/perl/v5.19.11-6-gdeaf6ad/165a/lib/site_perl/5.19.12/Sub/Exporter.pm line 323
Sub::Exporter::__ANON__("Catalyst::Test", "-all", HASH(0xc72df0)) called at /home/sand/src/perl/repoperls/installed-perls/perl/v5.19.11-6-gdeaf6ad/165a/lib/site_perl/5.19.12/Catalyst/Test.pm line 155
Catalyst::Test::import("Catalyst::Test", "TestApp") called at t/execution-via-config.t line 8
main::BEGIN() called at /tmp/loop_over_bdir-1190-AVU75D/Catalyst-Controller-ActionRole-0.15-MRH4xX/t/lib/TestApp.pm line 0
eval {...} called at /tmp/loop_over_bdir-1190-AVU75D/Catalyst-Controller-ActionRole-0.15-MRH4xX/t/lib/TestApp.pm line 0
Class::MOP::load_first_existing_class is deprecated at /home/sand/src/perl/repoperls/installed-perls/perl/v5.19.11-6-gdeaf6ad/165a/lib/site_perl/5.19.12/x86_64-linux/Class/MOP.pm line 82.
Class::MOP::load_first_existing_class("TestApp::ActionRole::Shared", "Catalyst::ActionRole::Shared") called at /tmp/loop_over_bdir-1190-AVU75D/Catalyst-Controller-ActionRole-0.15-MRH4xX/blib/lib/Catalyst/Controller/ActionRole.pm line 120
Catalyst::Controller::ActionRole::__ANON__("Shared") called at /home/sand/src/perl/repoperls/installed-perls/perl/v5.19.11-6-gdeaf6ad/165a/lib/site_perl/5.19.12/String/RewritePrefix.pm line 44
String::RewritePrefix::__ANON__("Shared") called at /home/sand/src/perl/repoperls/installed-perls/perl/v5.19.11-6-gdeaf6ad/165a/lib/site_perl/5.19.12/String/RewritePrefix.pm line 18
String::RewritePrefix::rewrite("String::RewritePrefix", HASH(0x2f03be8), "Shared") called at /tmp/loop_over_bdir-1190-AVU75D/Catalyst-Controller-ActionRole-0.15-MRH4xX/blib/lib/Catalyst/Controller/ActionRole.pm line 125
Catalyst::Controller::ActionRole::_expand_role_shortname(TestApp::Controller::ExecutionViaConfig=HASH(0x2f00998), "Shared") called at /tmp/loop_over_bdir-1190-AVU75D/Catalyst-Controller-ActionRole-0.15-MRH4xX/blib/lib/Catalyst/Controller/ActionRole.pm line 49
Catalyst::Controller::ActionRole::_build__action_roles(TestApp::Controller::ExecutionViaConfig=HASH(0x2f00998)) called at native delegation method Catalyst::Controller::ActionRole::_action_roles (elements) of attribute _action_roles (defined at /tmp/loop_over_bdir-1190-AVU75D/Catalyst-Controller-ActionRole-0.15-MRH4xX/blib/lib/Catalyst/Controller/ActionRole.pm line 37) line 9
Catalyst::Controller::ActionRole::_action_roles(TestApp::Controller::ExecutionViaConfig=HASH(0x2f00998)) called at /home/sand/src/perl/repoperls/installed-perls/perl/v5.19.11-6-gdeaf6ad/165a/lib/site_perl/5.19.12/Catalyst/Controller.pm line 84
Catalyst::Controller::BUILD(TestApp::Controller::ExecutionViaConfig=HASH(0x2f00998), HASH(0x2f00248)) called at /home/sand/src/perl/repoperls/installed-perls/perl/v5.19.11-6-gdeaf6ad/165a/lib/site_perl/5.19.12/x86_64-linux/Class/MOP/Method.pm line 128
Class::MOP::Method::execute(Moose::Meta::Class::__ANON__::SERIAL::7=HASH(0x270b480), TestApp::Controller::ExecutionViaConfig=HASH(0x2f00998), HASH(0x2f00248)) called at /home/sand/src/perl/repoperls/installed-perls/perl/v5.19.11-6-gdeaf6ad/165a/lib/site_perl/5.19.12/x86_64-linux/Moose/Object.pm line 56
Moose::Object::BUILDALL(TestApp::Controller::ExecutionViaConfig=HASH(0x2f00998), HASH(0x2f00248)) called at /home/sand/src/perl/repoperls/installed-perls/perl/v5.19.11-6-gdeaf6ad/165a/lib/site_perl/5.19.12/x86_64-linux/Moose/Meta/Class.pm line 282
Moose::Meta::Class::new_object(Moose::Meta::Class::__ANON__::SERIAL::5=HASH(0x2ed97c0), HASH(0x2f00248)) called at /home/sand/src/perl/repoperls/installed-perls/perl/v5.19.11-6-gdeaf6ad/165a/lib/site_perl/5.19.12/x86_64-linux/Moose/Object.pm line 27
Moose::Object::new("TestApp::Controller::ExecutionViaConfig", "TestApp", HASH(0x2f00680)) called at constructor Catalyst::Controller::new (defined at /home/sand/src/perl/repoperls/installed-perls/perl/v5.19.11-6-gdeaf6ad/165a/lib/site_perl/5.19.12/Catalyst/Controller.pm line 573) line 4
Catalyst::Controller::new("TestApp::Controller::ExecutionViaConfig", "TestApp", HASH(0x2f00680)) called at /home/sand/src/perl/repoperls/installed-perls/perl/v5.19.11-6-gdeaf6ad/165a/lib/site_perl/5.19.12/Catalyst/Component.pm line 123
Catalyst::Component::COMPONENT("TestApp::Controller::ExecutionViaConfig", "TestApp", HASH(0x2f00680)) called at /home/sand/src/perl/repoperls/installed-perls/perl/v5.19.11-6-gdeaf6ad/165a/lib/site_perl/5.19.12/Catalyst.pm line 2638
eval {...} called at /home/sand/src/perl/repoperls/installed-perls/perl/v5.19.11-6-gdeaf6ad/165a/lib/site_perl/5.19.12/Catalyst.pm line 2638
Catalyst::setup_component("TestApp", "TestApp::Controller::ExecutionViaConfig") called at /home/sand/src/perl/repoperls/installed-perls/perl/v5.19.11-6-gdeaf6ad/165a/lib/site_perl/5.19.12/Catalyst.pm line 2565
Catalyst::setup_components("TestApp") called at /home/sand/src/perl/repoperls/installed-perls/perl/v5.19.11-6-gdeaf6ad/165a/lib/site_perl/5.19.12/Catalyst.pm line 1181
Catalyst::setup("TestApp") called at /tmp/loop_over_bdir-1190-AVU75D/Catalyst-Controller-ActionRole-0.15-MRH4xX/t/lib/TestApp.pm line 9
require TestApp.pm called at /home/sand/src/perl/repoperls/installed-perls/perl/v5.19.11-6-gdeaf6ad/165a/lib/site_perl/5.19.12/Module/Runtime.pm line 317
Module::Runtime::require_module("TestApp") called at /home/sand/src/perl/repoperls/installed-perls/perl/v5.19.11-6-gdeaf6ad/165a/lib/site_perl/5.19.12/Class/Load.pm line 179
Class::Load::try {...} () called at /home/sand/src/perl/repoperls/installed-perls/perl/v5.19.11-6-gdeaf6ad/165a/lib/site_perl/5.19.12/Try/Tiny.pm line 77
eval {...} called at /home/sand/src/perl/repoperls/installed-perls/perl/v5.19.11-6-gdeaf6ad/165a/lib/site_perl/5.19.12/Try/Tiny.pm line 72
Try::Tiny::try(CODE(0x1c74bc0), Try::Tiny::Catch=REF(0x1c7a0b0)) called at /home/sand/src/perl/repoperls/installed-perls/perl/v5.19.11-6-gdeaf6ad/165a/lib/site_perl/5.19.12/Class/Load.pm line 185
Class::Load::try_load_class("TestApp", undef) called at /home/sand/src/perl/repoperls/installed-perls/perl/v5.19.11-6-gdeaf6ad/165a/lib/site_perl/5.19.12/Class/Load.pm line 40
Class::Load::load_class("TestApp") called at /home/sand/src/perl/repoperls/installed-perls/perl/v5.19.11-6-gdeaf6ad/165a/lib/site_perl/5.19.12/Catalyst/Test.pm line 29
Catalyst::Test::_build_request_export("Catalyst::Test", HASH(0x1ff3068)) called at /home/sand/src/perl/repoperls/installed-perls/perl/v5.19.11-6-gdeaf6ad/165a/lib/site_perl/5.19.12/Catalyst/Test.pm line 92
Catalyst::Test::__ANON__("Catalyst::Test", "all", HASH(0x1ff3038), HASH(0xabbae0)) called at /home/sand/src/perl/repoperls/installed-perls/perl/v5.19.11-6-gdeaf6ad/165a/lib/site_perl/5.19.12/Sub/Exporter.pm line 108
Sub::Exporter::_expand_group("Catalyst::Test", HASH(0x1fe32b8), ARRAY(0xc735d0), HASH(0xabbae0), HASH(0x1ff3098), HASH(0xdaa838)) called at /home/sand/src/perl/repoperls/installed-perls/perl/v5.19.11-6-gdeaf6ad/165a/lib/site_perl/5.19.12/Sub/Exporter.pm line 39
Sub::Exporter::_expand_groups("Catalyst::Test", HASH(0x1fe32b8), ARRAY(0x1ff2a08), HASH(0xabbae0)) called at /home/sand/src/perl/repoperls/installed-perls/perl/v5.19.11-6-gdeaf6ad/165a/lib/site_perl/5.19.12/Sub/Exporter.pm line 323
Sub::Exporter::__ANON__("Catalyst::Test", "-all", HASH(0xc72df0)) called at /home/sand/src/perl/repoperls/installed-perls/perl/v5.19.11-6-gdeaf6ad/165a/lib/site_perl/5.19.12/Catalyst/Test.pm line 155
Catalyst::Test::import("Catalyst::Test", "TestApp") called at t/execution-via-config.t line 8
main::BEGIN() called at /tmp/loop_over_bdir-1190-AVU75D/Catalyst-Controller-ActionRole-0.15-MRH4xX/t/lib/TestApp.pm line 0
eval {...} called at /tmp/loop_over_bdir-1190-AVU75D/Catalyst-Controller-ActionRole-0.15-MRH4xX/t/lib/TestApp.pm line 0
t/execution-via-config.t .. ok
Class::MOP::load_class is deprecated at /home/sand/src/perl/repoperls/installed-perls/perl/v5.19.11-6-gdeaf6ad/165a/lib/site_perl/5.19.12/x86_64-linux/Class/MOP.pm line 73.
Class::MOP::load_class("TestApp::ActionRole::Kooh") called at /tmp/loop_over_bdir-1190-AVU75D/Catalyst-Controller-ActionRole-0.15-MRH4xX/blib/lib/Catalyst/Controller/ActionRole.pm line 50
Catalyst::Controller::ActionRole::_build__action_roles(TestApp::Controller::Bar=HASH(0x482f7d0)) called at native delegation method Catalyst::Controller::ActionRole::_action_roles (elements) of attribute _action_roles (defined at /tmp/loop_over_bdir-1190-AVU75D/Catalyst-Controller-ActionRole-0.15-MRH4xX/blib/lib/Catalyst/Controller/ActionRole.pm line 37) line 9
Catalyst::Controller::ActionRole::_action_roles(TestApp::Controller::Bar=HASH(0x482f7d0)) called at /home/sand/src/perl/repoperls/installed-perls/perl/v5.19.11-6-gdeaf6ad/165a/lib/site_perl/5.19.12/Catalyst/Controller.pm line 84
Catalyst::Controller::BUILD(TestApp::Controller::Bar=HASH(0x482f7d0), HASH(0x482d8d8)) called at /home/sand/src/perl/repoperls/installed-perls/perl/v5.19.11-6-gdeaf6ad/165a/lib/site_perl/5.19.12/x86_64-linux/Class/MOP/Method.pm line 128
Class::MOP::Method::execute(Moose::Meta::Class::__ANON__::SERIAL::6=HASH(0x4030360), TestApp::Controller::Bar=HASH(0x482f7d0), HASH(0x482d8d8)) called at /home/sand/src/perl/repoperls/installed-perls/perl/v5.19.11-6-gdeaf6ad/165a/lib/site_perl/5.19.12/x86_64-linux/Moose/Object.pm line 56
Moose::Object::BUILDALL(TestApp::Controller::Bar=HASH(0x482f7d0), HASH(0x482d8d8)) called at /home/sand/src/perl/repoperls/installed-perls/perl/v5.19.11-6-gdeaf6ad/165a/lib/site_perl/5.19.12/x86_64-linux/Moose/Meta/Class.pm line 282
Moose::Meta::Class::new_object(Moose::Meta::Class::__ANON__::SERIAL::5=HASH(0x48089d0), HASH(0x482d8d8)) called at /home/sand/src/perl/repoperls/installed-perls/perl/v5.19.11-6-gdeaf6ad/165a/lib/site_perl/5.19.12/x86_64-linux/Moose/Object.pm line 27
Moose::Object::new("TestApp::Controller::Bar", "TestApp", HASH(0x47bb6b8)) called at constructor Catalyst::Controller::new (defined at /home/sand/src/perl/repoperls/installed-perls/perl/v5.19.11-6-gdeaf6ad/165a/lib/site_perl/5.19.12/Catalyst/Controller.pm line 573) line 4
Catalyst::Controller::new("TestApp::Controller::Bar", "TestApp", HASH(0x47bb6b8)) called at /home/sand/src/perl/repoperls/installed-perls/perl/v5.19.11-6-gdeaf6ad/165a/lib/site_perl/5.19.12/Catalyst/Component.pm line 123
Catalyst::Component::COMPONENT("TestApp::Controller::Bar", "TestApp", HASH(0x47bb6b8)) called at /home/sand/src/perl/repoperls/installed-perls/perl/v5.19.11-6-gdeaf6ad/165a/lib/site_perl/5.19.12/Catalyst.pm line 2638
eval {...} called at /home/sand/src/perl/repoperls/installed-perls/perl/v5.19.11-6-gdeaf6ad/165a/lib/site_perl/5.19.12/Catalyst.pm line 2638
Catalyst::setup_component("TestApp", "TestApp::Controller::Bar") called at /home/sand/src/perl/repoperls/installed-perls/perl/v5.19.11-6-gdeaf6ad/165a/lib/site_perl/5.19.12/Catalyst.pm line 2565
Catalyst::setup_components("TestApp") called at /home/sand/src/perl/repoperls/installed-perls/perl/v5.19.11-6-gdeaf6ad/165a/lib/site_perl/5.19.12/Catalyst.pm line 1181
Catalyst::setup("TestApp") called at /tmp/loop_over_bdir-1190-AVU75D/Catalyst-Controller-ActionRole-0.15-MRH4xX/t/lib/TestApp.pm line 9
require TestApp.pm called at /home/sand/src/perl/repoperls/installed-perls/perl/v5.19.11-6-gdeaf6ad/165a/lib/site_perl/5.19.12/Module/Runtime.pm line 317
Module::Runtime::require_module("TestApp") called at /home/sand/src/perl/repoperls/installed-perls/perl/v5.19.11-6-gdeaf6ad/165a/lib/site_perl/5.19.12/Class/Load.pm line 179
Class::Load::try {...} () called at /home/sand/src/perl/repoperls/installed-perls/perl/v5.19.11-6-gdeaf6ad/165a/lib/site_perl/5.19.12/Try/Tiny.pm line 77
eval {...} called at /home/sand/src/perl/repoperls/installed-perls/perl/v5.19.11-6-gdeaf6ad/165a/lib/site_perl/5.19.12/Try/Tiny.pm line 72
Try::Tiny::try(CODE(0x3599a40), Try::Tiny::Catch=REF(0x359ed78)) called at /home/sand/src/perl/repoperls/installed-perls/perl/v5.19.11-6-gdeaf6ad/165a/lib/site_perl/5.19.12/Class/Load.pm line 185
Class::Load::try_load_class("TestApp", undef) called at /home/sand/src/perl/repoperls/installed-perls/perl/v5.19.11-6-gdeaf6ad/165a/lib/site_perl/5.19.12/Class/Load.pm line 40
Class::Load::load_class("TestApp") called at /home/sand/src/perl/repoperls/installed-perls/perl/v5.19.11-6-gdeaf6ad/165a/lib/site_perl/5.19.12/Catalyst/Test.pm line 29
Catalyst::Test::_build_request_export("Catalyst::Test", HASH(0x3917cd8)) called at /home/sand/src/perl/repoperls/installed-perls/perl/v5.19.11-6-gdeaf6ad/165a/lib/site_perl/5.19.12/Catalyst/Test.pm line 92
Catalyst::Test::__ANON__("Catalyst::Test", "all", HASH(0x3917ca8), HASH(0x23e0a40)) called at /home/sand/src/perl/repoperls/installed-perls/perl/v5.19.11-6-gdeaf6ad/165a/lib/site_perl/5.19.12/Sub/Exporter.pm line 108
Sub::Exporter::_expand_group("Catalyst::Test", HASH(0x3907f08), ARRAY(0x25984f0), HASH(0x23e0a40), HASH(0x3917d08), HASH(0x267d570)) called at /home/sand/src/perl/repoperls/installed-perls/perl/v5.19.11-6-gdeaf6ad/165a/lib/site_perl/5.19.12/Sub/Exporter.pm line 39
Sub::Exporter::_expand_groups("Catalyst::Test", HASH(0x3907f08), ARRAY(0x3917678), HASH(0x23e0a40)) called at /home/sand/src/perl/repoperls/installed-perls/perl/v5.19.11-6-gdeaf6ad/165a/lib/site_perl/5.19.12/Sub/Exporter.pm line 323
Sub::Exporter::__ANON__("Catalyst::Test", "-all", HASH(0x2597d10)) called at /home/sand/src/perl/repoperls/installed-perls/perl/v5.19.11-6-gdeaf6ad/165a/lib/site_perl/5.19.12/Catalyst/Test.pm line 155
Catalyst::Test::import("Catalyst::Test", "TestApp") called at t/execution-via-does.t line 8
main::BEGIN() called at /tmp/loop_over_bdir-1190-AVU75D/Catalyst-Controller-ActionRole-0.15-MRH4xX/t/lib/TestApp.pm line 0
eval {...} called at /tmp/loop_over_bdir-1190-AVU75D/Catalyst-Controller-ActionRole-0.15-MRH4xX/t/lib/TestApp.pm line 0
Class::MOP::load_first_existing_class is deprecated at /home/sand/src/perl/repoperls/installed-perls/perl/v5.19.11-6-gdeaf6ad/165a/lib/site_perl/5.19.12/x86_64-linux/Class/MOP.pm line 82.
Class::MOP::load_first_existing_class("TestApp::ActionRole::Shared", "Catalyst::ActionRole::Shared") called at /tmp/loop_over_bdir-1190-AVU75D/Catalyst-Controller-ActionRole-0.15-MRH4xX/blib/lib/Catalyst/Controller/ActionRole.pm line 120
Catalyst::Controller::ActionRole::__ANON__("Shared") called at /home/sand/src/perl/repoperls/installed-perls/perl/v5.19.11-6-gdeaf6ad/165a/lib/site_perl/5.19.12/String/RewritePrefix.pm line 44
String::RewritePrefix::__ANON__("Shared") called at /home/sand/src/perl/repoperls/installed-perls/perl/v5.19.11-6-gdeaf6ad/165a/lib/site_perl/5.19.12/String/RewritePrefix.pm line 18
String::RewritePrefix::rewrite("String::RewritePrefix", HASH(0x4848608), "Shared") called at /tmp/loop_over_bdir-1190-AVU75D/Catalyst-Controller-ActionRole-0.15-MRH4xX/blib/lib/Catalyst/Controller/ActionRole.pm line 125
Catalyst::Controller::ActionRole::_expand_role_shortname(TestApp::Controller::ExecutionViaConfig=HASH(0x4845228), "Shared") called at /tmp/loop_over_bdir-1190-AVU75D/Catalyst-Controller-ActionRole-0.15-MRH4xX/blib/lib/Catalyst/Controller/ActionRole.pm line 49
Catalyst::Controller::ActionRole::_build__action_roles(TestApp::Controller::ExecutionViaConfig=HASH(0x4845228)) called at native delegation method Catalyst::Controller::ActionRole::_action_roles (elements) of attribute _action_roles (defined at /tmp/loop_over_bdir-1190-AVU75D/Catalyst-Controller-ActionRole-0.15-MRH4xX/blib/lib/Catalyst/Controller/ActionRole.pm line 37) line 9
Catalyst::Controller::ActionRole::_action_roles(TestApp::Controller::ExecutionViaConfig=HASH(0x4845228)) called at /home/sand/src/perl/repoperls/installed-perls/perl/v5.19.11-6-gdeaf6ad/165a/lib/site_perl/5.19.12/Catalyst/Controller.pm line 84
Catalyst::Controller::BUILD(TestApp::Controller::ExecutionViaConfig=HASH(0x4845228), HASH(0x483efd8)) called at /home/sand/src/perl/repoperls/installed-perls/perl/v5.19.11-6-gdeaf6ad/165a/lib/site_perl/5.19.12/x86_64-linux/Class/MOP/Method.pm line 128
Class::MOP::Method::execute(Moose::Meta::Class::__ANON__::SERIAL::6=HASH(0x4030360), TestApp::Controller::ExecutionViaConfig=HASH(0x4845228), HASH(0x483efd8)) called at /home/sand/src/perl/repoperls/installed-perls/perl/v5.19.11-6-gdeaf6ad/165a/lib/site_perl/5.19.12/x86_64-linux/Moose/Object.pm line 56
Moose::Object::BUILDALL(TestApp::Controller::ExecutionViaConfig=HASH(0x4845228), HASH(0x483efd8)) called at /home/sand/src/perl/repoperls/installed-perls/perl/v5.19.11-6-gdeaf6ad/165a/lib/site_perl/5.19.12/x86_64-linux/Moose/Meta/Class.pm line 282
Moose::Meta::Class::new_object(Moose::Meta::Class::__ANON__::SERIAL::5=HASH(0x48252c0), HASH(0x483efd8)) called at /home/sand/src/perl/repoperls/installed-perls/perl/v5.19.11-6-gdeaf6ad/165a/lib/site_perl/5.19.12/x86_64-linux/Moose/Object.pm line 27
Moose::Object::new("TestApp::Controller::ExecutionViaConfig", "TestApp", HASH(0x4844f40)) called at constructor Catalyst::Controller::new (defined at /home/sand/src/perl/repoperls/installed-perls/perl/v5.19.11-6-gdeaf6ad/165a/lib/site_perl/5.19.12/Catalyst/Controller.pm line 573) line 4
Catalyst::Controller::new("TestApp::Controller::ExecutionViaConfig", "TestApp", HASH(0x4844f40)) called at /home/sand/src/perl/repoperls/installed-perls/perl/v5.19.11-6-gdeaf6ad/165a/lib/site_perl/5.19.12/Catalyst/Component.pm line 123
Catalyst::Component::COMPONENT("TestApp::Controller::ExecutionViaConfig", "TestApp", HASH(0x4844f40)) called at /home/sand/src/perl/repoperls/installed-perls/perl/v5.19.11-6-gdeaf6ad/165a/lib/site_perl/5.19.12/Catalyst.pm line 2638
eval {...} called at /home/sand/src/perl/repoperls/installed-perls/perl/v5.19.11-6-gdeaf6ad/165a/lib/site_perl/5.19.12/Catalyst.pm line 2638
Catalyst::setup_component("TestApp", "TestApp::Controller::ExecutionViaConfig") called at /home/sand/src/perl/repoperls/installed-perls/perl/v5.19.11-6-gdeaf6ad/165a/lib/site_perl/5.19.12/Catalyst.pm line 2565
Catalyst::setup_components("TestApp") called at /home/sand/src/perl/repoperls/installed-perls/perl/v5.19.11-6-gdeaf6ad/165a/lib/site_perl/5.19.12/Catalyst.pm line 1181
Catalyst::setup("TestApp") called at /tmp/loop_over_bdir-1190-AVU75D/Catalyst-Controller-ActionRole-0.15-MRH4xX/t/lib/TestApp.pm line 9
require TestApp.pm called at /home/sand/src/perl/repoperls/installed-perls/perl/v5.19.11-6-gdeaf6ad/165a/lib/site_perl/5.19.12/Module/Runtime.pm line 317
Module::Runtime::require_module("TestApp") called at /home/sand/src/perl/repoperls/installed-perls/perl/v5.19.11-6-gdeaf6ad/165a/lib/site_perl/5.19.12/Class/Load.pm line 179
Class::Load::try {...} () called at /home/sand/src/perl/repoperls/installed-perls/perl/v5.19.11-6-gdeaf6ad/165a/lib/site_perl/5.19.12/Try/Tiny.pm line 77
eval {...} called at /home/sand/src/perl/repoperls/installed-perls/perl/v5.19.11-6-gdeaf6ad/165a/lib/site_perl/5.19.12/Try/Tiny.pm line 72
Try::Tiny::try(CODE(0x3599a40), Try::Tiny::Catch=REF(0x359ed78)) called at /home/sand/src/perl/repoperls/installed-perls/perl/v5.19.11-6-gdeaf6ad/165a/lib/site_perl/5.19.12/Class/Load.pm line 185
Class::Load::try_load_class("TestApp", undef) called at /home/sand/src/perl/repoperls/installed-perls/perl/v5.19.11-6-gdeaf6ad/165a/lib/site_perl/5.19.12/Class/Load.pm line 40
Class::Load::load_class("TestApp") called at /home/sand/src/perl/repoperls/installed-perls/perl/v5.19.11-6-gdeaf6ad/165a/lib/site_perl/5.19.12/Catalyst/Test.pm line 29
Catalyst::Test::_build_request_export("Catalyst::Test", HASH(0x3917cd8)) called at /home/sand/src/perl/repoperls/installed-perls/perl/v5.19.11-6-gdeaf6ad/165a/lib/site_perl/5.19.12/Catalyst/Test.pm line 92
Catalyst::Test::__ANON__("Catalyst::Test", "all", HASH(0x3917ca8), HASH(0x23e0a40)) called at /home/sand/src/perl/repoperls/installed-perls/perl/v5.19.11-6-gdeaf6ad/165a/lib/site_perl/5.19.12/Sub/Exporter.pm line 108
Sub::Exporter::_expand_group("Catalyst::Test", HASH(0x3907f08), ARRAY(0x25984f0), HASH(0x23e0a40), HASH(0x3917d08), HASH(0x267d570)) called at /home/sand/src/perl/repoperls/installed-perls/perl/v5.19.11-6-gdeaf6ad/165a/lib/site_perl/5.19.12/Sub/Exporter.pm line 39
Sub::Exporter::_expand_groups("Catalyst::Test", HASH(0x3907f08), ARRAY(0x3917678), HASH(0x23e0a40)) called at /home/sand/src/perl/repoperls/installed-perls/perl/v5.19.11-6-gdeaf6ad/165a/lib/site_perl/5.19.12/Sub/Exporter.pm line 323
Sub::Exporter::__ANON__("Catalyst::Test", "-all", HASH(0x2597d10)) called at /home/sand/src/perl/repoperls/installed-perls/perl/v5.19.11-6-gdeaf6ad/165a/lib/site_perl/5.19.12/Catalyst/Test.pm line 155
Catalyst::Test::import("Catalyst::Test", "TestApp") called at t/execution-via-does.t line 8
main::BEGIN() called at /tmp/loop_over_bdir-1190-AVU75D/Catalyst-Controller-ActionRole-0.15-MRH4xX/t/lib/TestApp.pm line 0
eval {...} called at /tmp/loop_over_bdir-1190-AVU75D/Catalyst-Controller-ActionRole-0.15-MRH4xX/t/lib/TestApp.pm line 0
t/execution-via-does.t .... ok
t/release-eol.t ........... skipped: these tests are for release candidate testing
t/release-no-tabs.t ....... skipped: these tests are for release candidate testing
t/release-pod-coverage.t .. skipped: these tests are for release candidate testing
t/release-pod-syntax.t .... skipped: these tests are for release candidate testing
All tests successful.
Files=9, Tests=43, 3 wallclock secs ( 0.04 usr 0.00 sys + 2.95 cusr 0.13 csys = 3.12 CPU)
Result: PASS
------------------------------
PREREQUISITES
------------------------------
Prerequisite modules loaded:
requires:
Module Need Have
---------------------- ------- --------
Catalyst::Controller 0 0
Catalyst::Runtime 5.80025 5.90062
Catalyst::Utils 0 0
Class::MOP 0 2.1205
List::Util 0 1.38
Moose 0 2.1205
Moose::Meta::Class 0 2.1205
MooseX::Types::Moose 0 0.44
namespace::clean 0 0.25
String::RewritePrefix 0.004 0.007
build_requires:
Module Need Have
---------------------- ------- --------
Catalyst 0 5.90062
Catalyst::Action 0 0
Catalyst::Action::REST 0 1.14
Catalyst::Test 0 0
FindBin 0 1.51
Moose::Role 0 2.1205
parent 0 0.228
Test::More 0 1.001003
configure_requires:
Module Need Have
---------------------- ------- --------
ExtUtils::MakeMaker 6.31 6.96
------------------------------
ENVIRONMENT AND OTHER CONTEXT
------------------------------
Environment variables:
AUTOMATED_TESTING = 1
LANG = en_US.UTF-8
LANGUAGE = en_US:en
PATH = /usr/lib/ccache:/home/sand/bin:/usr/local/bin:/usr/bin:/bin:/usr/games:/usr/local/perl/bin:/usr/X11/bin:/sbin:/usr/sbin
PERL = /tmp/basesmoker-reloperl-tDDt/bin/perl
PERL5LIB =
PERL5OPT =
PERL5_CPANPLUS_IS_RUNNING = 13034
PERL5_CPAN_IS_RUNNING = 13034
PERL_MM_USE_DEFAULT = 1
SHELL = /usr/bin/zsh
TERM = screen
Perl special variables (and OS-specific diagnostics, for MSWin32):
$^X = /tmp/basesmoker-reloperl-tDDt/bin/perl
$UID/$EUID = 1005 / 1005
$GID = 1005 1005
$EGID = 1005 1005
Perl module toolchain versions installed:
Module Have
------------------- --------
CPAN 2.05
CPAN::Meta 2.140640
Cwd 3.47
ExtUtils::CBuilder 0.280216
ExtUtils::Command 1.18
ExtUtils::Install 1.67
ExtUtils::MakeMaker 6.96
ExtUtils::Manifest 1.63
ExtUtils::ParseXS 3.24
File::Spec 3.47
JSON 2.90
JSON::PP 2.27203
Module::Build 0.4205
Module::Signature 0.73
Parse::CPAN::Meta 1.4414
Test::Harness 3.30
Test::More 1.001003
YAML 0.90
YAML::Syck 1.27
version 0.9908
--
Summary of my perl5 (revision 5 version 19 subversion 12) configuration:
Commit id: deaf6ad33bc791827dc72b549e911a4a2d1a0886
Platform:
osname=linux, osvers=3.13-1-amd64, archname=x86_64-linux
uname='linux k83 3.13-1-amd64 #1 smp debian 3.13.7-1 (2014-03-25) x86_64 gnulinux '
config_args='-Dprefix=/home/sand/src/perl/repoperls/installed-perls/perl/v5.19.11-6-gdeaf6ad/165a -Dmyhostname=k83 -Dinstallusrbinperl=n -Uversiononly -Dusedevel -des -Ui_db -Uuseithreads -Uuselongdouble -DDEBUGGING=-g'
hint=recommended, useposix=true, d_sigaction=define
useithreads=undef, usemultiplicity=undef
use64bitint=define, use64bitall=define, uselongdouble=undef
usemymalloc=n, bincompat5005=undef
Compiler:
cc='cc', ccflags ='-fwrapv -fno-strict-aliasing -pipe -fstack-protector -I/usr/local/include -D_LARGEFILE_SOURCE -D_FILE_OFFSET_BITS=64',
optimize='-O2 -g',
cppflags='-fwrapv -fno-strict-aliasing -pipe -fstack-protector -I/usr/local/include'
ccversion='', gccversion='4.8.2', gccosandvers=''
intsize=4, longsize=8, ptrsize=8, doublesize=8, byteorder=12345678
d_longlong=define, longlongsize=8, d_longdbl=define, longdblsize=16
ivtype='long', ivsize=8, nvtype='double', nvsize=8, Off_t='off_t', lseeksize=8
alignbytes=8, prototype=define
Linker and Libraries:
ld='cc', ldflags =' -fstack-protector -L/usr/local/lib'
libpth=/usr/local/lib /usr/lib/gcc/x86_64-linux-gnu/4.8/include-fixed /usr/include/x86_64-linux-gnu /usr/lib /lib/x86_64-linux-gnu /lib/../lib /usr/lib/x86_64-linux-gnu /usr/lib/../lib /lib
libs=-lnsl -lgdbm -ldb -ldl -lm -lcrypt -lutil -lc -lgdbm_compat
perllibs=-lnsl -ldl -lm -lcrypt -lutil -lc
libc=libc-2.18.so, so=so, useshrplib=false, libperl=libperl.a
gnulibc_version='2.18'
Dynamic Linking:
dlsrc=dl_dlopen.xs, dlext=so, d_dlsymun=undef, ccdlflags='-Wl,-E'
cccdlflags='-fPIC', lddlflags='-shared -O2 -g -L/usr/local/lib -fstack-protector'
Characteristics of this binary (from libperl):
Compile-time options: HAS_TIMES PERLIO_LAYERS PERL_DONT_CREATE_GVSV
PERL_HASH_FUNC_ONE_AT_A_TIME_HARD PERL_MALLOC_WRAP
PERL_NEW_COPY_ON_WRITE PERL_PRESERVE_IVUV
PERL_USE_DEVEL USE_64_BIT_ALL USE_64_BIT_INT
USE_LARGE_FILES USE_LOCALE USE_LOCALE_COLLATE
USE_LOCALE_CTYPE USE_LOCALE_NUMERIC USE_PERLIO
USE_PERL_ATOF
Built under linux
Compiled at Apr 22 2014 02:28:32
%ENV:
PERL="/tmp/basesmoker-reloperl-tDDt/bin/perl"
PERL5LIB=""
PERL5OPT=""
PERL5_CPANPLUS_IS_RUNNING="13034"
PERL5_CPAN_IS_RUNNING="13034"
PERL_MM_USE_DEFAULT="1"
@INC:
/home/sand/src/perl/repoperls/installed-perls/perl/v5.19.11-6-gdeaf6ad/165a/lib/site_perl/5.19.12/x86_64-linux
/home/sand/src/perl/repoperls/installed-perls/perl/v5.19.11-6-gdeaf6ad/165a/lib/site_perl/5.19.12
/home/sand/src/perl/repoperls/installed-perls/perl/v5.19.11-6-gdeaf6ad/165a/lib/5.19.12/x86_64-linux
/home/sand/src/perl/repoperls/installed-perls/perl/v5.19.11-6-gdeaf6ad/165a/lib/5.19.12
.