Crypt-Perl v0.38 Perl 5 v5.26.1 amd64-freebsd-thread-multi

Status
Pass
From
Chris Williams (BINGOS)
Dist
Crypt-Perl v0.38
Platform
Perl 5 v5.26.1 amd64-freebsd-thread-multi
Date
2023-06-20 13:01:27
ID
91524bb2-0f6a-11ee-98b0-b3c3213a625c
This distribution has been tested as part of the CPAN Testers
project, supporting the Perl programming language.  See
http://wiki.cpantesters.org/ for more information or email
questions to cpan-testers-discuss@perl.org


--

Dear Felipe Gasper,

This is a computer-generated error report created automatically by
CPANPLUS, version 0.9914. Testers personal comments may appear
at the end of this report.


Thank you for uploading your work to CPAN.  Congratulations!
All tests were successful.

TEST RESULTS:

Below is the error stack from stage 'make test':

PERL_DL_NONLAZY=1 "/usr/home/cpan/pit/thr/perl-5.26.1/bin/perl" "-MExtUtils::Command::MM" "-MTest::Harness" "-e" "undef *Test::Harness::Switches; test_harness(0, 'blib/lib', 'blib/arch')" t/*.t
# Looking for OpenSSL binary …
# Found OpenSSL: /usr/bin/openssl
# OpenSSL 1.1.1q-freebsd  5 Jul 2022
# options:  bn(64,64) rc4(16x,int) des(int) idea(int) blowfish(ptr) 
# compiler: clang
t/Crypt-Perl-ASN1-BitString.t ..................... ok
# Math::BigInt 1.999838 (backend: Math::BigInt::LTM 0.078)
t/Crypt-Perl-BigInt.t ............................. ok
# Math::BigInt 1.999838 (backend: Math::BigInt::LTM 0.078)
# Math::BigInt::LTM 0.078
t/Crypt-Perl-ECDSA-Deterministic.t ................ ok
t/Crypt-Perl-ECDSA-EC-Point.t ..................... ok
# Looking for OpenSSL binary …
# Found OpenSSL: /usr/bin/openssl
# OpenSSL 1.1.1q-freebsd  5 Jul 2022
# options:  bn(64,64) rc4(16x,int) des(int) idea(int) blowfish(ptr) 
# compiler: clang
# Skipping “c2pnb163v1” (Crypt::Perl::X::ECDSA::NoCurveForOID) …
# Skipping “c2pnb163v2” (Crypt::Perl::X::ECDSA::NoCurveForOID) …
# Skipping “c2pnb163v3” (Crypt::Perl::X::ECDSA::NoCurveForOID) …
# Skipping “c2pnb176v1” (Crypt::Perl::X::ECDSA::NoCurveForOID) …
# Skipping “c2pnb208w1” (Crypt::Perl::X::ECDSA::NoCurveForOID) …
# Skipping “c2pnb272w1” (Crypt::Perl::X::ECDSA::NoCurveForOID) …
# Skipping “c2pnb304w1” (Crypt::Perl::X::ECDSA::NoCurveForOID) …
# Skipping “c2pnb368w1” (Crypt::Perl::X::ECDSA::NoCurveForOID) …
# Skipping “c2tnb191v1” (Crypt::Perl::X::ECDSA::NoCurveForOID) …
# Skipping “c2tnb191v2” (Crypt::Perl::X::ECDSA::NoCurveForOID) …
# Skipping “c2tnb191v3” (Crypt::Perl::X::ECDSA::NoCurveForOID) …
# Skipping “c2tnb239v1” (Crypt::Perl::X::ECDSA::NoCurveForOID) …
# Skipping “c2tnb239v2” (Crypt::Perl::X::ECDSA::NoCurveForOID) …
# Skipping “c2tnb239v3” (Crypt::Perl::X::ECDSA::NoCurveForOID) …
# Skipping “c2tnb359v1” (Crypt::Perl::X::ECDSA::NoCurveForOID) …
# Skipping “c2tnb431r1” (Crypt::Perl::X::ECDSA::NoCurveForOID) …
# Skipping “sect113r1” (Crypt::Perl::X::ECDSA::NoCurveForOID) …
# Skipping “sect113r2” (Crypt::Perl::X::ECDSA::NoCurveForOID) …
# Skipping “sect131r1” (Crypt::Perl::X::ECDSA::NoCurveForOID) …
# Skipping “sect131r2” (Crypt::Perl::X::ECDSA::NoCurveForOID) …
# Skipping “sect163k1” (Crypt::Perl::X::ECDSA::NoCurveForOID) …
# Skipping “sect163r1” (Crypt::Perl::X::ECDSA::NoCurveForOID) …
# Skipping “sect163r2” (Crypt::Perl::X::ECDSA::NoCurveForOID) …
# Skipping “sect193r1” (Crypt::Perl::X::ECDSA::NoCurveForOID) …
# Skipping “sect193r2” (Crypt::Perl::X::ECDSA::NoCurveForOID) …
# Skipping “sect233k1” (Crypt::Perl::X::ECDSA::NoCurveForOID) …
# Skipping “sect233r1” (Crypt::Perl::X::ECDSA::NoCurveForOID) …
# Skipping “sect239k1” (Crypt::Perl::X::ECDSA::NoCurveForOID) …
# Skipping “sect283k1” (Crypt::Perl::X::ECDSA::NoCurveForOID) …
# Skipping “sect283r1” (Crypt::Perl::X::ECDSA::NoCurveForOID) …
# Skipping “sect409k1” (Crypt::Perl::X::ECDSA::NoCurveForOID) …
# Skipping “sect409r1” (Crypt::Perl::X::ECDSA::NoCurveForOID) …
# Skipping “sect571k1” (Crypt::Perl::X::ECDSA::NoCurveForOID) …
# Skipping “sect571r1” (Crypt::Perl::X::ECDSA::NoCurveForOID) …
# Skipping “wap_wsg_idm_ecid_wtls1” (Crypt::Perl::X::ECDSA::NoCurveForOID) …
# Skipping “wap_wsg_idm_ecid_wtls10” (Crypt::Perl::X::ECDSA::NoCurveForOID) …
# Skipping “wap_wsg_idm_ecid_wtls11” (Crypt::Perl::X::ECDSA::NoCurveForOID) …
# Skipping “wap_wsg_idm_ecid_wtls3” (Crypt::Perl::X::ECDSA::NoCurveForOID) …
# Skipping “wap_wsg_idm_ecid_wtls4” (Crypt::Perl::X::ECDSA::NoCurveForOID) …
# Skipping “wap_wsg_idm_ecid_wtls5” (Crypt::Perl::X::ECDSA::NoCurveForOID) …
# Math::BigInt 1.999838 (backend: Math::BigInt::LTM 0.078)
# XXX NOTE: This test can take a while and/or spew a lot of text.
# Skipping “c2pnb163v1” (Crypt::Perl::X::ECDSA::NoCurveForOID) …
# Skipping “c2pnb163v2” (Crypt::Perl::X::ECDSA::NoCurveForOID) …
# Skipping “c2pnb163v3” (Crypt::Perl::X::ECDSA::NoCurveForOID) …
# Skipping “c2pnb176v1” (Crypt::Perl::X::ECDSA::NoCurveForOID) …
# Skipping “c2pnb208w1” (Crypt::Perl::X::ECDSA::NoCurveForOID) …
# Skipping “c2pnb272w1” (Crypt::Perl::X::ECDSA::NoCurveForOID) …
# Skipping “c2pnb304w1” (Crypt::Perl::X::ECDSA::NoCurveForOID) …
# Skipping “c2pnb368w1” (Crypt::Perl::X::ECDSA::NoCurveForOID) …
# Skipping “c2tnb191v1” (Crypt::Perl::X::ECDSA::NoCurveForOID) …
# Skipping “c2tnb191v2” (Crypt::Perl::X::ECDSA::NoCurveForOID) …
# Skipping “c2tnb191v3” (Crypt::Perl::X::ECDSA::NoCurveForOID) …
# Skipping “c2tnb239v1” (Crypt::Perl::X::ECDSA::NoCurveForOID) …
# Skipping “c2tnb239v2” (Crypt::Perl::X::ECDSA::NoCurveForOID) …
# Skipping “c2tnb239v3” (Crypt::Perl::X::ECDSA::NoCurveForOID) …
# Skipping “c2tnb359v1” (Crypt::Perl::X::ECDSA::NoCurveForOID) …
# Skipping “c2tnb431r1” (Crypt::Perl::X::ECDSA::NoCurveForOID) …
# Skipping “sect113r1” (Crypt::Perl::X::ECDSA::NoCurveForOID) …
# Skipping “sect113r2” (Crypt::Perl::X::ECDSA::NoCurveForOID) …
# Skipping “sect131r1” (Crypt::Perl::X::ECDSA::NoCurveForOID) …
# Skipping “sect131r2” (Crypt::Perl::X::ECDSA::NoCurveForOID) …
# Skipping “sect163k1” (Crypt::Perl::X::ECDSA::NoCurveForOID) …
# Skipping “sect163r1” (Crypt::Perl::X::ECDSA::NoCurveForOID) …
# Skipping “sect163r2” (Crypt::Perl::X::ECDSA::NoCurveForOID) …
# Skipping “sect193r1” (Crypt::Perl::X::ECDSA::NoCurveForOID) …
# Skipping “sect193r2” (Crypt::Perl::X::ECDSA::NoCurveForOID) …
# Skipping “sect233k1” (Crypt::Perl::X::ECDSA::NoCurveForOID) …
# Skipping “sect233r1” (Crypt::Perl::X::ECDSA::NoCurveForOID) …
# Skipping “sect239k1” (Crypt::Perl::X::ECDSA::NoCurveForOID) …
# Skipping “sect283k1” (Crypt::Perl::X::ECDSA::NoCurveForOID) …
# Skipping “sect283r1” (Crypt::Perl::X::ECDSA::NoCurveForOID) …
# Skipping “sect409k1” (Crypt::Perl::X::ECDSA::NoCurveForOID) …
# Skipping “sect409r1” (Crypt::Perl::X::ECDSA::NoCurveForOID) …
# Skipping “sect571k1” (Crypt::Perl::X::ECDSA::NoCurveForOID) …
# Skipping “sect571r1” (Crypt::Perl::X::ECDSA::NoCurveForOID) …
# Skipping “wap_wsg_idm_ecid_wtls1” (Crypt::Perl::X::ECDSA::NoCurveForOID) …
# Skipping “wap_wsg_idm_ecid_wtls10” (Crypt::Perl::X::ECDSA::NoCurveForOID) …
# Skipping “wap_wsg_idm_ecid_wtls11” (Crypt::Perl::X::ECDSA::NoCurveForOID) …
# Skipping “wap_wsg_idm_ecid_wtls3” (Crypt::Perl::X::ECDSA::NoCurveForOID) …
# Skipping “wap_wsg_idm_ecid_wtls4” (Crypt::Perl::X::ECDSA::NoCurveForOID) …
# Skipping “wap_wsg_idm_ecid_wtls5” (Crypt::Perl::X::ECDSA::NoCurveForOID) …
# curve: brainpoolP160r1
# curve: brainpoolP160t1
# curve: brainpoolP192r1
# curve: brainpoolP192t1
# curve: brainpoolP224r1
# curve: brainpoolP224t1
# curve: brainpoolP256r1
# curve: brainpoolP256t1
# curve: brainpoolP320r1
# curve: brainpoolP320t1
# curve: brainpoolP384r1
# curve: brainpoolP384t1
# curve: brainpoolP512r1
# curve: brainpoolP512t1
# curve: prime192v1
# curve: prime192v2
# curve: prime192v3
# curve: prime239v1
# curve: prime239v2
# curve: prime239v3
# curve: prime256v1
# curve: secp112r1
read EC key
writing EC key
# curve: secp112r2
# curve: secp128r1
# curve: secp128r2
# curve: secp160k1
# curve: secp160r1
# curve: secp160r2
# curve: secp192k1
# curve: secp224k1
# curve: secp224r1
# curve: secp256k1
# curve: secp384r1
# curve: secp521r1
# curve: wap_wsg_idm_ecid_wtls12
# curve: wap_wsg_idm_ecid_wtls6
# curve: wap_wsg_idm_ecid_wtls7
# curve: wap_wsg_idm_ecid_wtls8
# curve: wap_wsg_idm_ecid_wtls9
t/Crypt-Perl-ECDSA-Generate.t ..................... ok
# Math::BigInt 1.999838 (backend: Math::BigInt::LTM 0.078)
t/Crypt-Perl-ECDSA-Math.t ......................... ok
# Looking for OpenSSL binary …
# Found OpenSSL: /usr/bin/openssl
# OpenSSL 1.1.1q-freebsd  5 Jul 2022
# options:  bn(64,64) rc4(16x,int) des(int) idea(int) blowfish(ptr) 
# compiler: clang
# Math::BigInt 1.999838 (backend: Math::BigInt::LTM 0.078)
t/Crypt-Perl-ECDSA-Parse.t ........................ ok
# Looking for OpenSSL binary …
# Found OpenSSL: /usr/bin/openssl
# OpenSSL 1.1.1q-freebsd  5 Jul 2022
# options:  bn(64,64) rc4(16x,int) des(int) idea(int) blowfish(ptr) 
# compiler: clang
# Math::BigInt 1.999838 (backend: Math::BigInt::LTM 0.078)
# ---------- This test takes a while and spews a lot of text.
# Message: [Hello-0.598289335935029]
# brainpoolP160r1 (named_curve, compressed public point)
# Random Sig: 302d021500d08d2af4d2243cc14698142b23aa1654cb636ccb0214528248298c9a1cbf9360a684be0d127068c321b2
# Deterministic Sig: 302c021462f64f14b76dd571b62996bab3e1e5a622a2716902147ba4c4d3e194780fe3cb3d8e821109ebd525ecce
# brainpoolP160t1 (named_curve, compressed public point)
# Random Sig: 302c02147261dd3236d3e3b856a9494fb108b5e4a75281d802141ab11f6df8f794f55dc2face2bc9a3e42dcb4cdd
# Deterministic Sig: 302e021500c172cdb600c3369e31506a661b751e0a9ca02bf1021500a193e4b6c788491c517c92994206c3e6ea52e7ee
# brainpoolP192r1 (named_curve, compressed public point)
# Random Sig: 3035021820c9d3f27fb130f446e2b8989bad1d8ee1d29ebb36a0c4e7021900b7dba5a699355dc3a418e3f2376bf17200ca0feb910e5c33
# Deterministic Sig: 303402185cd2905f1b83c5d83564d8be7b4631a5e0e62803ef4ea10a0218048cede465d45bc990121c141c619eeece9152571e70bf63
# brainpoolP192t1 (named_curve, compressed public point)
# Random Sig: 3036021900bd99c9296449aadfc3c4d33753fb6eac554ac47ae8e8d2f202190088dad1444c1f53824e8464bfdc0f6779c4b2e7a48700ea17
# Deterministic Sig: 303402180264e5b53faaf1685b89016f15dfc2ee40ee310d3385ad1402186090b8cd7e79de5d676693d1c180d013d8f2ed8a98f56359
# brainpoolP224r1 (named_curve, compressed public point)
# Random Sig: 303c021c512e1d37ce5a8352f86f766df5d5b440f6dca8f9d3b1e1d11fd7ecc3021c59c6d797b60164356037beb473a73d3a0c378d6b11cf947184f33cb1
# Deterministic Sig: 303c021c51476577231e7cf249ecef3d7f4d9f99fe20e89e0998e2c1a303018f021c09ccaaf5e36da0a9903d34b92920ca5e3b4ad8ff078491032bfc9efa
# brainpoolP224t1 (named_curve, compressed public point)
# Random Sig: 303d021d0095d090e205e50543ef3cd1b4560e046364d3ffb507817bb2d5c5b912021c7ae29372800a4b4aaf1ea8e9daf0c74965eeda0d1e03ff71b2a54261
# Deterministic Sig: 303c021c302a2ccc3b832a1372bd4b64e67465c6b51ea7b203e288ddb5feac98021c7affb475b2fb58dea2928e2bdcff38c367a0b9ec4290ed561f963b5a
# brainpoolP256r1 (named_curve, compressed public point)
# Random Sig: 3044022077658d3633f2c11d24257c7a03b2d8056423ccd862bc5a1043cc3e1fc3272f56022073f2f84e3f6899cd8f1f9c723fbcbc230594e6109c25b7f118e43b69e68226eb
# Deterministic Sig: 3044022018807d6853da4b06f81cb51bef350f845bccd5fe113962613c85072ac46f99ea0220477d8ec70d74ba852397906bfda6d73472a74850838b425320245e608c9d3820
# brainpoolP256t1 (named_curve, compressed public point)
# Random Sig: 304402201db4e723ba7a0f9a601fbc32c31ae7690273124856a25967d1635cd344e8024902206dd5d7cfcc551d99630bca446f8d87ac78f98a3f2a9994cd889f3e919614eb04
# Deterministic Sig: 30450221009465d510ddb78430b254e6f2e078b89715fa542b83d0512a8a992b685a9278e902206faa5bc28d40fec3f144e9937c6b50228eccdbabdd96d85ba2acd3885a4f4e5c
# brainpoolP320r1 (named_curve, compressed public point)
# Random Sig: 3056022900d2cfe60eb77740c231e9832d1d6aee440117c8fceb984910c946be09f49332486af1ee446621c42a022900946455939789b88c1d8c6183af5d29eb76d5cb5c9961a1397077f3abfe40f965246da15e070b362b
# Deterministic Sig: 30550229008029ef4e44cbaa098d1559d32953b9a183664f9a3f79841182a50eb9922c4efd3550e894dffa4af2022856127b6ce0417c2daa2f1d624bded5c7d5f2a7f86736292ef3993c9dbafef459e5255ffdf3806503
# brainpoolP320t1 (named_curve, compressed public point)
# Random Sig: 30540228277075f7251e4dc982731f3e2137b1a8b96814bf9ca1298752f9d9c72ba7999a90ab7b98b3f13fce02280a0f10ec19f5656b4107dfee2cd64351f24b25d5e0fc9ff4e04953815bd5441f81cee56a4e67c1a6
# Deterministic Sig: 30550229008fadfd2f332c81c8252c7f39bc42e4f5f4a1153ea91dc8878809fa8708aca06ffa36b7b9512f6a89022814e2d8c19046e4e4defdd45f01181e746a5e072ad2c6326766b1344aa085e59175ae2a3cfd8ce696
# brainpoolP384r1 (named_curve, compressed public point)
# Random Sig: 3064023000ab7d35e37dc6b17a7b46fe5615b6b4ae9d7c28f5f9b17edeb4bf934692516e2abb948136a0b2c30ae9a04013c3c8a602304ef9866e086f26ea77f357f117f49077adce2898da1a24ee8f2113b7832b86bf52256f1d63ff7b7252a8ac5c88797840
# Deterministic Sig: 306402300082de8f80e3628a19e30e0a3e470a62ff16cab7e6bf5b712cbfae594f126aae85509ab068c0bc06757cc5fe98f5dfd602305c59b370f34e293a9ff988c723087f653a5df5965793f16b6cdd773767b55084521cca04708ac7f442613e4b7dcdbd7c
# brainpoolP384t1 (named_curve, compressed public point)
# Random Sig: 306402307db94ace6214a48075ca0f0fa1d4419c7b8aac1998cf8cd2f746037e89a6120039ee8bde3549bf9e799d9c6ea5406963023063f9632ce8072db8060386ccbe645eabdce94cf4f636dd09b1fda9c7492973241f83999f0bf01665785651d848ee6fd5
# Deterministic Sig: 306502306dbbec7d25c3294b6039c91fea313c379c137ab01caca6f4c269ecb944b56785a937d8f7afa6f1d003adb43876119cdb02310080c1fa77f33507e829d27e9edc5c783a85ca27f2db5ed638d1936c52b9ceb9deff82a5223aa14876cfc4c63461362d8b
# brainpoolP512r1 (named_curve, compressed public point)
# Random Sig: 308184024032d72bd64f6bc8ec5774a2957c387739c64634b51d333a3a8582c1725fe22aebdd201f45379d5c6fee4ad2d6c0a6ac6465d02bdded2363552388505d9b3186c50240150b8d49f541a2be193d99c49c483a7001c42880906a7b8fd3980fbb2a5968ba4b59c13dc4353141baf1a462e54ba6be8561c348f2577541a531476562a396ae
# Deterministic Sig: 3081840240535be8bfeb02465fa6b7f15100d8f0e37ff092b2c8d8d233654a0ab3863cd63855394a903e0b1c581f58e244c85b8f159845a15e60caaf67afd3c1e420084fff024062edb3de95c8c214910b40ded536c8d38499635a54101236b81e7748711cf9107a1e22aa1caaea862c296764c84d1ada3958fe40c974bca762944db5bd449102
# brainpoolP512t1 (named_curve, compressed public point)
# Random Sig: 308185024049573009e5d48dd73b4b1030d387299da15165b31dd20ca7cfe14b62bedb574e16547ac2f6b090cd98f17e768bf5df81cfffabb82c681c9bd7f00a74bc15b4fb0241008a58592afec1f5e9ce5f73a5b8f3bf2ed52e58882f3565834a00b5a4686c80e9fabe3f845c1b88770be6732a2d4bab58ad4dcae7244f68cb6ac553696a346caf
# Deterministic Sig: 3081840240368ecb3dbb91fd4872f518edb02fb79a79177427fa35755ea1463ae4f8bc2e52959a5c8fda0bd9f051ebbda6621cef225b572ab3f05438c05ac55e0892a376c702401a5582a18336d3cf91bac7016413ff739578139019c66e0507acd0874e8ebad7e4c3087a93bc24bbac291770e024bd403e0dd876313e8aed8640ee27bf5fb1f9
# c2pnb163v1 (named_curve, compressed public point)
# c2pnb163v2 (named_curve, compressed public point)
# c2pnb163v3 (named_curve, compressed public point)
# c2pnb176v1 (named_curve, compressed public point)
# c2pnb208w1 (named_curve, compressed public point)
# c2pnb272w1 (named_curve, compressed public point)
# c2pnb304w1 (named_curve, compressed public point)
# c2pnb368w1 (named_curve, compressed public point)
# c2tnb191v1 (named_curve, compressed public point)
# c2tnb191v2 (named_curve, compressed public point)
# c2tnb191v3 (named_curve, compressed public point)
# c2tnb239v1 (named_curve, compressed public point)
# c2tnb239v2 (named_curve, compressed public point)
# c2tnb239v3 (named_curve, compressed public point)
# c2tnb359v1 (named_curve, compressed public point)
# c2tnb431r1 (named_curve, compressed public point)
# prime192v1 (named_curve, compressed public point)
# Random Sig: 30360219009cd8b82cf5b2f923feec9fbd7b51f19bbb7994dd06b2d9bb02190084a84e7e072adc6d643862e05d52b8e9e829d13a7ded27da
# Deterministic Sig: 3036021900f4dc91443f6989e586fad748f4930aa1c72b9442401fe21d021900f76f9b6e6ed63fd116e616b701254d04729c5cf33adf2eee
# prime192v2 (named_curve, compressed public point)
# Random Sig: 303602190082047455cef6f86aa87ef3f689d1c1b4adeb4f6e78bc8f63021900ac61ab21efef784bb2d2dfc6cd0026f12e0cf170e3be9648
# Deterministic Sig: 30340218128220ad6226e1b7bf8c7e27ad14cc5016fda76cbf1a549302181df14fd3f3d0b153dc359563b1c58b7e89e4f941e0c15a35
# prime192v3 (named_curve, compressed public point)
# Random Sig: 3036021900bdf9dc330d6c85ffa3bfb9a326ce72dd021cc8d91c02b6f90219009598606993db1c708e8b1b61c8901c9cba8d357dde7e03dd
# Deterministic Sig: 3035021858591646a7d9211820ec27b972c7dcd4a3a4a546342453dc021900c9a8b6bdff127c9817ff8bb5483faeae65e95ff69f3fb99c
# prime239v1 (named_curve, compressed public point)
# Random Sig: 3040021e15e4befb413d637287294fcf7cbb9e46eae0ef577b020d91802a170a5763021e6edda105ef385036affcc9182824214f4a748ca2710e02177bae2e5dec3c
# Deterministic Sig: 3040021e063af729df397d59b91bc5566d3a52b0f53d9a68ab6412ed35756a539cca021e451bdeb209f5b48146adbbef4b45cb4f341726b337946841d70c5da60383
# prime239v2 (named_curve, compressed public point)
# Random Sig: 3040021e2c48385eaccc03e16acfa20d0628363ac2823394352469226d4d57300f30021e3015bcc1f526edef3a142f8f62c7dbb03b535b29981b1cc407588209f6ae
# Deterministic Sig: 3040021e0c81d7eda06a4a259f5533535bf5024466faae02306fdd4d9081b2197680021e4e2be52160778a6734b13165463cb4e265769147f056a1043e6c99b4ef70
# prime239v3 (named_curve, compressed public point)
# Random Sig: 3040021e0c274d7fc829b3fa588e622cfee23d76a58aea5daea8fc56224240d439fc021e03f01c9381e5f9699d4ee333c28bf623007c21c3edeb8bf740efc237154b
# Deterministic Sig: 3040021e77c973b0829826ebc0860ae9b0a277deca5e92241606ee87663f1a283b7b021e0473194dbbcc853998f2cc16abebe252f77e45487828386851fb323eea43
# prime256v1 (named_curve, compressed public point)
# Random Sig: 3046022100ad1387aee50eb217f0c33799ecc7343e423c24a8ceec81c2f120db925b75cc0d022100f896c3a20d63febb861eb7c58abdfded757f071622ca0ec7b5c8110fad58669b
# Deterministic Sig: 3045022100f734bef85567a8937410d8bcada023ede7dc6f379cc996625768e3f0d979c0fa022042b2d287a440395145195964841f928db329d437c8b3a6084896f04d338c05a1
# secp112r1 (named_curve, compressed public point)
# secp112r2 (named_curve, compressed public point)
# secp128r1 (named_curve, compressed public point)
# secp128r2 (named_curve, compressed public point)
# secp160k1 (named_curve, compressed public point)
# Random Sig: 302e0215008bdc7fea8430890b0dfc92750400b3e969a2719202150092d7667282bb0e438de5bf3bf76ed0d44244704e
# Deterministic Sig: 302d0214056154677d804464b21f3b7bfc3da9d82a947235021500c52d28199933f5c3571e25184039e5fb17146c7b
# secp160r1 (named_curve, compressed public point)
# Random Sig: 302d02140a2348aba68c31e9ac2aa738b1059e77721fbae5021500dd9b19f2c7d014e0c98c4b06f8a6ed39badc6286
# Deterministic Sig: 302c02140e51af11525a2aab1312f03db1714505b315473b021420bacfed5c2328e87bf86d82d680974345f96774
# secp160r2 (named_curve, compressed public point)
# Random Sig: 302e021500c53ff9c0ad191d7901fe83ecda8772e599a0e1b1021500aefd2bf2ad245266c19ddd92ad25632193c37763
# Deterministic Sig: 302d021443a616a63bce01932e4710da8c5a29d0bbd9a175021500eac3d74c8475e6f17db684ec2663a57ca626fdad
# secp192k1 (named_curve, compressed public point)
# Random Sig: 3036021900cc2f9e868bc0ad03e7309f31d2d4d41645cf97c4f83b1e55021900d17d2be91c036f1a522ed08c97d4e12c3bce44bf4788ca59
# Deterministic Sig: 3035021900bfbb379c58523566a822d6e9d2fc95960fae4ab6884139c50218217cf1083462fdee9cb92f22df628275cb1d6ba893727a76
# secp224k1 (named_curve, compressed public point)
# Random Sig: 303c021c4453389592c7b68bebb6815bf18d1fc3d2bb3ea168e0b077cedded4f021c3c165617c10eb94e04d5935f39b05cd68e925133537d2f6ce9cf7576
# Deterministic Sig: 303e021d00d1b74125d51de8459e20d69a516cebac32152c9e974c7d76a0dc6af4021d009a3dde4dc4b35852abc61b58293a9706e8cca34d0927affb8bb9778b
# secp224r1 (named_curve, compressed public point)
# Random Sig: 303d021c5755c0a079fe6741ba9f8d56c67dd82222ee9ef1d346dfa84727c759021d00a0f1fee7431993d5d0b1484262853506c90553c159c1a9df29ac710d
# Deterministic Sig: 303d021c1354aeea969ee04aa6295aa1fbbeae3810df44c071481d84402496e3021d00ffa229bfb3b1a777035073296247380674d015abc96fe759530dd397
# secp256k1 (named_curve, compressed public point)
# Random Sig: 3046022100a7ffcca5a225f00ac5ff4db75fb2b19a7d9b77526d150fca5f82c51278484e47022100f4fcd8627adf9a66051e3f156df9dcacf83223a5e6fa51c76ae2623951ce94dc
# Deterministic Sig: 3044022001ab9b87913114bbdea70efc8fad94b2965d97a4bdcd2238f8a27058d79961ea022031e2436f0509e8185a2d2240e6428198152aa7ef4bd9eea771bd35f140b41226
# secp384r1 (named_curve, compressed public point)
# Random Sig: 306602310086c67ac495bf1d8c812b214c04e88d5fc5226b800aca1d9c55a3f847ee562411ac50c2c9ebf0c48cb71b22c1cb30cd96023100b76722a9398cbb3ceddad416f3ea104b0189ab8938744a9d2a49e5dc2ffa153063d91c003364ce72d516d32e8a052a10
# Deterministic Sig: 306402304f8e51d8242218286c19e5db8c1ffdc45a2a3b22cc3f09a8427b0566149119df2ad25f9cd2352f400ceb101a871b69f00230205c73ecb39ddf21c6e9b0e8fdf68e66a19362cc431e606e80e4c37eb3021ad0d2c33f9834fda06da2d005283292860b
# secp521r1 (named_curve, compressed public point)
# Random Sig: 308188024201e5c392248ce17c9566000083dbdfba13ae11e1f5084d5322d8a1206feabab818ceb8cf20fd71cee23b37026bf869090d051466a8ff2dc01ce5d881056122292c040242018748e6baa74a338fa4ad4e4450b3d18c61001e8c20eb337897df5e93471f736ce72b79263caa66e295091230a8f16a4cd1734181e43a183ab09ed92cb918daa9e7
# Deterministic Sig: 308188024201c4f3ffdedbfe8a6a4e2b1a4c81bf99e21aca5bdb666ebf17e38d8dfed7df719102f049bdde9f56aee5ff10dd9d82e675688db8ad18fc63033b4daec985ac8f55f80242010ff9db18b68684986173090a80e6ab3bc8d987b6d3dcf7a76a59a8ef1d9dd7cc61bfed4971165569a368566877a1a2182781a5e7b1a105c265a17c6419003fbb22
# sect113r1 (named_curve, compressed public point)
# sect113r2 (named_curve, compressed public point)
# sect131r1 (named_curve, compressed public point)
# sect131r2 (named_curve, compressed public point)
# sect163k1 (named_curve, compressed public point)
# sect163r1 (named_curve, compressed public point)
# sect163r2 (named_curve, compressed public point)
# sect193r1 (named_curve, compressed public point)
# sect193r2 (named_curve, compressed public point)
# sect233k1 (named_curve, compressed public point)
# sect233r1 (named_curve, compressed public point)
# sect239k1 (named_curve, compressed public point)
# sect283k1 (named_curve, compressed public point)
# sect283r1 (named_curve, compressed public point)
# sect409k1 (named_curve, compressed public point)
# sect409r1 (named_curve, compressed public point)
# sect571k1 (named_curve, compressed public point)
# sect571r1 (named_curve, compressed public point)
# wap-wsg-idm-ecid-wtls1 (named_curve, compressed public point)
# wap-wsg-idm-ecid-wtls10 (named_curve, compressed public point)
# wap-wsg-idm-ecid-wtls11 (named_curve, compressed public point)
# wap-wsg-idm-ecid-wtls12 (named_curve, compressed public point)
# Random Sig: 303c021c7f4ba19f51e1bf5f27aec9491c1d3faee624950f4065bbc74cd9df6d021c559958fea126fd4d5a15170a157063ca9dd93f0529aa0486dee0ba53
# Deterministic Sig: 303d021c7eb9f3defe128122d1daed6ee06c9a8920f8ad35ed0d50d28056aec0021d00bbbb3ea1549160533b41a5cdb9b643d75ba7e631cd54f1e033369275
# wap-wsg-idm-ecid-wtls3 (named_curve, compressed public point)
# wap-wsg-idm-ecid-wtls4 (named_curve, compressed public point)
# wap-wsg-idm-ecid-wtls5 (named_curve, compressed public point)
# wap-wsg-idm-ecid-wtls6 (named_curve, compressed public point)
# wap-wsg-idm-ecid-wtls7 (named_curve, compressed public point)
# Random Sig: 302e021500890695f7baee5370297f845f10ebdf3d0f040a78021500b5181df044c940c84e9780e78265759775f9218c
# Deterministic Sig: 302d02141b69d872b57404041e6fe6aba49c49009f018c6e02150089f507f661b179629106b5375ff8b1878a543290
# wap-wsg-idm-ecid-wtls8 (named_curve, compressed public point)
# wap-wsg-idm-ecid-wtls9 (named_curve, compressed public point)
# Random Sig: 302d021430999820aaef4561f95d00a3d78a650981fe014b021500d2d6a1f0dd3b210a1360af7b4b80a1b9610419da
# Deterministic Sig: 302d021500e246c0ab9caa16db69ebf96930ed60b740dbef710214783261ef9cf3e743c3f199bbdac31e2223eefcd8
# brainpoolP160r1 (named_curve, uncompressed public point)
# Random Sig: 302d0214042d03dee844a9540c597aeb6faad48a93caa933021500a437ddf975d7ba3f19089c7d6bfd519ce5eb7862
# Deterministic Sig: 302d0215009e08c41325d9ccc78d82c9c4f704d85c0cf47bcb02145e0ab6261fa39f94eb7917de2302175cb0e1d7e7
# brainpoolP160t1 (named_curve, uncompressed public point)
# Random Sig: 302d02150087cc86bc574de174eb77720eaf07eb8c81d930f30214039f6980042b9b0011546095fe049c0d19dca73e
# Deterministic Sig: 302d0214447d5a4dcaf7ca1332d54abb1c31eda499d974770215009e0611ab9201700a92e87b73ae0f35ce6aabd23a
# brainpoolP192r1 (named_curve, uncompressed public point)
# Random Sig: 3035021820bbd4008d8a8152ae473d9c20a31501fb5c8567eb6d008f021900a922e66a953569051715ff7e9217eee9893eeb340a6163fd
# Deterministic Sig: 303402182e1187d194a8630ef5681d5c5fce408b9ba49dda4ffcdb9502186d86af1984a97fbb7f1cf47d1d87f0f0bd61400be3ca056c
# brainpoolP192t1 (named_curve, uncompressed public point)
# Random Sig: 30340218337078f47f4de7f839b86b2ed0a95aa085e31d66be705d4d021800ce560be91337e49fad1d876f65519c15b66cd8b72bf4be
# Deterministic Sig: 303402186d8b2ec057200117bbfaff28fc3035e609e450bf03200891021879c37978c9fca3bd82a6afd4f8ed4916a91c433d7c46f21b
# brainpoolP224r1 (named_curve, uncompressed public point)
# Random Sig: 303e021d00b3af24322f17beeb45f980418a0300ec6e5b5047b07a9b98f2c5e505021d00ccd491c2707df5509f206026cbdc8273bd07d2d61294ad1ec10c60b7
# Deterministic Sig: 303d021d00bc980c34365868b3cacd44633bc9395ce1801b990c509a772ea2bb7d021c3ea181a1e4dc3f027c0e0079163569093adacb7e59fbd635761f8685
# brainpoolP224t1 (named_curve, uncompressed public point)
# Random Sig: 303e021d00b608d1038cfc0691100fdbae87670b33c437d92230980839a6d68384021d00c447d94cb4ec84778bbab5671605f08767f7f6f2e8739ca914ab0c24
# Deterministic Sig: 303d021d009ebb15cb4aaf1cb2eb646cec11867218d1b48307473879f3a121cf81021c03ae52e9796a7a6b5948b91f5507aaae2516aadf7e14e61a0b971789
# brainpoolP256r1 (named_curve, uncompressed public point)
# Random Sig: 3045022077f4f3d0f891d3dbec2857de8a4eacf84e1d9d50acd8541fc85b0d92576fe606022100a467412d61f2504e4ca0f8553c76d94135d7dd3214e95c4fd691c4364f21b4c3
# Deterministic Sig: 3045022100900e935ec89ef3d1b58efda5d1e325981a72e8c08a9f6a15bb875dc0193d9fad02204537183ce4b0af0c5dc2be70c4e153e31d7a151f4f943f0105a6997c6dc4568a
# brainpoolP256t1 (named_curve, uncompressed public point)
# Random Sig: 30440220641c2cf1a2969b5f8713391715981f94620ce89f9e8efa2b3cd3aea7905f26da02203a5defa243a21b89c1659f54ab09ca275713f7e8ecea3220f4b7d80b3bb9cc1c
# Deterministic Sig: 304502206d5e7d084b240f18bb18242c81ef5d58aa0befcab0ea902891a22945809363f5022100a6091e0dc84d9f8c858b094fe2de6074148aab52a3e5348f005a489f574bc2ff
# brainpoolP320r1 (named_curve, uncompressed public point)
# Random Sig: 305402287d3e4db9bab92a6f066bcc1a774cb81a017499fe0daaa6b958d448c0a7c6300ca5787968ffe5c1ad02283db12090c61f3126b4840cf6269e0cdc4d730cceff2014d516fe00d415a1c0fdf87d848c17ab8788
# Deterministic Sig: 3054022847fa574d30641f816a53ddaceba1b2c9f3dc300b64d87961024bf512c3663d3f894a2107e2efe4960228341abb04186ef95eb3a93bd5b1ba67956408fd53181b54a9d6dac7fd1f354b537b65e61d9244cb3a
# brainpoolP320t1 (named_curve, uncompressed public point)
# Random Sig: 305402281f1f2e1093033a77b6ba983b0d0a1f60d34ac0c022eaa47757c65f71962bb121728e8047c426e38a02285ad83211d1ea851eb0b94f639884c0035bfdede10d2dd401d649b5c57260798913cd43e3a0b8b54e
# Deterministic Sig: 3055022837a1f3eece2b34653ad81cdae87949a7e3af04ffbef8b60723b7fb2c318752a331a1f05a4527d66402290092bca5b91639ffd7e8d34fdf1b37bc6f7f186fe99d70d8f5464b0b3d3b0835455ddae3ab1b8fc38e
# brainpoolP384r1 (named_curve, uncompressed public point)
# Random Sig: 3064023032fd7ece28e5e02a969abe88fa73b8c16fbdb8f9b30d1bdce180c636d220c8cee52079699f5a4302df439e99f84bb1b002307153a7f1a7de6f329cd27de7d1407bd4dd91cd410ab220af9ea4fff08bd50489d830d6b00ba74a997eb2c3356519a278
# Deterministic Sig: 306402302163bb437e4990b63b27959c9fb0d742916a625640f3b2cee5a97b9165e0edab909c6eb0d155a9f5b5bce83e2daac99902300400280a90583da4b9cf9e24a9b3e9611849b07e23eed19ec345fa4e52fe4ad889b35f01fd367b623585caace32af4ea
# brainpoolP384t1 (named_curve, uncompressed public point)
# Random Sig: 306402306034fc2116593a45e90c0444d73ecfc647adff19fe52e4aa72723b823f512c0a3f05087df01f3eb4af117a3b1b918a4d023037c158fe43667c1c9367816af218f9e345153a0af7011b01dc415a6e99869abc4e4fd48ba7e3ed0a26bdd069cd3b74ea
# Deterministic Sig: 3064023065dea509380185f7b0a16722798f83ff44de5ee4b53b27852a92ba723d034365f115b395e2fb2deeb1a5c6f5f0541698023006b5873ec3b3438dff284a13adba841c741ee62723f9bb600cd3723693342921b8a831c648006da9bb390a7386757c21
# brainpoolP512r1 (named_curve, uncompressed public point)
# Random Sig: 3081850241009aeef2784e65b4e4e5aecc582d51ba9bccd889e8e08410a21ee80ad43dbaf9adb3234ea9252f3bc8ed14708a101cac41ec5ebcd22a4309f0ad69c47526d71cd902401e9a4975ff5b65240b70bb011219b6955a9d9ec6cf71042a690fbad53234e2ce86abb9a15c482f7a8063749bf3a556a015974ec570bc018f5b840475f2e42d63
# Deterministic Sig: 30818402402db8c20902a803d880c90fbdb447da2785b9a1a2f7a7bdee14a159ec3f8b4103d41a7c0e68db632e8f6639b24715feb210e38225c1795de6d0cc58ac7159e14e024072e3c0a6555656048e2bc59554c37b3113c212fcc4e43930fbbbc05c51cfdf7900f7d3daff0a9dd3cb7488fc69a4e947cca2161fd6fa81d6438501801e70616f
# brainpoolP512t1 (named_curve, uncompressed public point)
# Random Sig: 30818402405b588e2882fae2ca6718d31e223df9637789de979398b4a8303f89c860706ae8355f52765eb39d61b72d426d8dcfb5419be25550fe2eddfd86971779256fee37024063ca96da7734d3f7417972cf4247daf9547f2c13625cded64048cc156805edb2a3940aa229f44dc48f7346616769deab11d95c22a74d0124f76f190b236192ef
# Deterministic Sig: 30818402405f3909b7bd64f02df650bc67506af7c92143e440db03b75f87a54f3a07acdb022af64770020c8a94e070236b7a1ee78820a7aab65f375f7f8473f9032cb12504024024675b0e663ade4337dafd0b51d8fae2fa03c557e1a6bda05f23963e46efdd943be6cfb8dd90f8f84ebcabf3b0bb3325372fbfcc850d5b10068147d89cc67f4f
# c2pnb163v1 (named_curve, uncompressed public point)
# c2pnb163v2 (named_curve, uncompressed public point)
# c2pnb163v3 (named_curve, uncompressed public point)
# c2pnb176v1 (named_curve, uncompressed public point)
# c2pnb208w1 (named_curve, uncompressed public point)
# c2pnb272w1 (named_curve, uncompressed public point)
# c2pnb304w1 (named_curve, uncompressed public point)
# c2pnb368w1 (named_curve, uncompressed public point)
# c2tnb191v1 (named_curve, uncompressed public point)
# c2tnb191v2 (named_curve, uncompressed public point)
# c2tnb191v3 (named_curve, uncompressed public point)
# c2tnb239v1 (named_curve, uncompressed public point)
# c2tnb239v2 (named_curve, uncompressed public point)
# c2tnb239v3 (named_curve, uncompressed public point)
# c2tnb359v1 (named_curve, uncompressed public point)
# c2tnb431r1 (named_curve, uncompressed public point)
# prime192v1 (named_curve, uncompressed public point)
# Random Sig: 3036021900d310dd2c56bd144326e19332501cc02604be21bebfb14dbd02190082a0db7e66a395535bef783696646fb85d8c15ab49b18f63
# Deterministic Sig: 303502182af7b2ad01dd5310a46bf61282c651dd57bbfa07902ed040021900fd52b6e8a0246257171eb485001f5d78100f2f74d5e12e14
# prime192v2 (named_curve, uncompressed public point)
# Random Sig: 3036021900c522e0a4edc1118678758e30bb819ad48c0e1ee4c350e161021900b65ca649444cff3ae5189d2212dd8f3611a77577104fe1aa
# Deterministic Sig: 3035021900a6b15a44dc7d61d48be8b5562ff35510f16d3b3d39de1fa8021862dee25a0b7d8967cc7bb24d9ce217a5419d801bc03cd393
# prime192v3 (named_curve, uncompressed public point)
# Random Sig: 303402186adb219ac898451da4dfc9c686b5bf94929d7a19d5a74a300218737c9e92a6f7b5d37a4cf1f2b78e4acc3c6c23cada89d68d
# Deterministic Sig: 303502186b9d31026cb80986d522c54323c8d157727b36d2b1442461021900ec9521321fa67d8fb5bdac7441d8e7ea1a529ec1dbfd33a3
# prime239v1 (named_curve, uncompressed public point)
# Random Sig: 3040021e1133e6a0c55cab05f6249a4fc51b1257c0d83f96ef142111c61011847a08021e2020b1ed7be663bd7f9de6120cf3d8c763b20ad85ee5b6eb196f47991efe
# Deterministic Sig: 3040021e4c04fc8c3fe2632f11e739216db8b0f4af7709701be9be3024c2553a129d021e673c2871b729c9002315081fa12875d3b9fd54b198c47b6c0a1b88434235
# prime239v2 (named_curve, uncompressed public point)
# Random Sig: 3040021e4d378a2e42a0fa8db59d8d814b3c587ea6e074b22fc4f8e88bfdb878cef8021e24d8567debb2cf8399d3bb4f820bc8ce3c3aa9ef2e1ce0b62f7441b5ac5b
# Deterministic Sig: 3040021e5f711a68191cfa5688bf74567825d661ef40c0646e83883b564761b9719a021e1c2b18caa210061b710970d71443fc1a5ceadb52346a361b9026844bafd0
# prime239v3 (named_curve, uncompressed public point)
# Random Sig: 3040021e46d6c4e9bbe3ec8872b52d1c625c8241a1aed964c6784d13d349cdf1b103021e754338816ba488be06a27acf4c0ba05b9ae552765bd18d1c3cb471a55214
# Deterministic Sig: 3040021e301bc95e813def7e6a0ee1fec4acac56cd5f1f46581a6ee506eac2013ac2021e16bb324a7c637956af3230156d6bf9a3722d68b83ce06ea2655ca88f7be8
# prime256v1 (named_curve, uncompressed public point)
# Random Sig: 30450221008e193ddaa8dab9625119b489a16928d6fa6dd1158fc36a2520b02804206f9d260220383162a91ca5425ffcd5643ffde511b7f5e459a983b30437699e62af86efe089
# Deterministic Sig: 304402204600824c3d61cb0a57adb884fe77cd9a6c1eede9abb7ca01a517ca71806a5bdc022011389802131ee8a1b6df776121fbe6c96c3b599856ed733529a3551a666e987f
# secp112r1 (named_curve, uncompressed public point)
# secp112r2 (named_curve, uncompressed public point)
# secp128r1 (named_curve, uncompressed public point)
# secp128r2 (named_curve, uncompressed public point)
# secp160k1 (named_curve, uncompressed public point)
# Random Sig: 302d021459319bc65abcd5faed4b72a36c31a0f25ba074cd021500d192f65769883cb24fc03d4c4990eb6ea766e526
# Deterministic Sig: 302c02146626301d6f94f96734aa0ff359aaabd4c05bb3aa02140476892ff4589c665340fcd62ffe5ad9e29f2a1c
# secp160r1 (named_curve, uncompressed public point)
# Random Sig: 302d02142982c2e07974c8395c8c6aa9682aac0a2aa28c4c021500b650022b50e8d27f68149859b61ddf271d0e83a6
# Deterministic Sig: 302c02140cd044c205e6db1f93167f58dc6f51dac783f99d02143bfddc3af47d9298847c2f596329dbca57357864
# secp160r2 (named_curve, uncompressed public point)
# Random Sig: 302d021500a703bc3f97dbde8d280c4536a57ff1cc65036edb0214677d11c1653013b76087be3ab791f44dc7b3392b
# Deterministic Sig: 302c0214791160175a382c2a9153fd663d8da6d044bcc7dc0214651f9e25a1f4abab9b30f1f7a8b6834377baeb69
# secp192k1 (named_curve, uncompressed public point)
# Random Sig: 3035021803bcefa0aeddebe643a67d5e13f8ab5527f0479729d9de0a021900c8c9dee6a5396e99820d9c6ea5c610a786e6a4f04136488d
# Deterministic Sig: 3035021900a7cbca19ebcbbeae3d8cb2ced4112b578dd0813c89dff76402180c0692c4a55382528f89f4cd340eb2c71385bf4737b93a5b
# secp224k1 (named_curve, uncompressed public point)
# Random Sig: 303d021d00e19561d5737278b51cb3ab3088a9e4ade5c358e2d8d8532029044020021c3699bb851339fffe604c0378b3300fb53495c3ebcc5ad9a21c69cb9e
# Deterministic Sig: 303d021c4bb8f8e5495b6a46e3b0aff3327f26adf70aeeb24bbb195b77f2815b021d00939b1e50d4659f3988c25612d89158d24a576da7070cc4bb4fafcab9
# secp224r1 (named_curve, uncompressed public point)
# Random Sig: 303c021c21bc5bfc52ff03fd256fb7adf7faf775aa92b8d006de936d73a0967a021c7ce152d59d24ffde6f0ba7f2343da62dfb89e725ae18d33d4a2b313e
# Deterministic Sig: 303d021c354f2bb17e31c48829c365bb6e7d9f25e3bac577249a379c8d8ae16b021d00c760987e6b1072187df876babc588afa0188ac5917de1af7e595b79b
# secp256k1 (named_curve, uncompressed public point)
# Random Sig: 304602210082b749632ebb0a8aff170168621032a6fc4ea25c3cfe7e408615657351216d10022100f16e55b6429c8d0bd304f5f0d475ec4c782e5f98342e239a245244e679d03ac9
# Deterministic Sig: 3046022100845b0c469f77ac9b76aa5dffe2bf86803aae74957a2557937bfde5862c3febfb022100da353126ff5416842b2d18bd0c2a52a330c01b3047a7026845a7d3d0f988251f
# secp384r1 (named_curve, uncompressed public point)
# Random Sig: 306502300f25b4f3b185317c33138c636fa41d4430327f80d9a56d7533b60c84b3479469808e31431d2dc5ce6543458a50e2407f0231009e2bdcbdc50863330459ceb5020dce413782022b4418ef8e6bbd034163959080c71fefe81fca28e8dfd07a9619c6da87
# Deterministic Sig: 30650230501f414584d465a5c4c0e8454611b42e7534e3bfdc9a853b0cd7375d337d7cb8340ea8a86c4f6dcea978c55c2100a19e023100b9eb2a5ef7524ecb28460eabe74e479c2ca328a00edd0ae56bb5fefcccba1c3d90d59a6477f7c17d2551c0925c620a3e
# secp521r1 (named_curve, uncompressed public point)
# Random Sig: 308187024128468dbbfc5cdfc7a94c5a6f857a04959fa6e6aeb72b580a611aee285a57773506fb5472c418a9aebfea1842b888ef05d830d8871567ce4c4191115dae9937093f024201fae283808ad71cf022a147b079d5165254a8d4ad7469ea3cb12c4c5a44b79c633b135fde614e1700a61fca26b92250dd462807d4f8abe01cbf59bb2662dbc97346
# Deterministic Sig: 308187024201ef34527e4dcdb6b85dede061f28e7c9a1f9ec72f81ce3e7617e9ab216ee82e46b79f3899cd3e2a66a7d00c00ed4cf61717bca34ecb5504d528f9777fabcbd18cbb02416af09d879f09149406fa812c58de14891aed7ad68a0c6bafab1adcab99deed5e48c78040f966d23cbdd7a18c5cb1dfc9bd13483361c55507d766bd089c5d175943
# sect113r1 (named_curve, uncompressed public point)
# sect113r2 (named_curve, uncompressed public point)
# sect131r1 (named_curve, uncompressed public point)
# sect131r2 (named_curve, uncompressed public point)
# sect163k1 (named_curve, uncompressed public point)
# sect163r1 (named_curve, uncompressed public point)
# sect163r2 (named_curve, uncompressed public point)
# sect193r1 (named_curve, uncompressed public point)
# sect193r2 (named_curve, uncompressed public point)
# sect233k1 (named_curve, uncompressed public point)
# sect233r1 (named_curve, uncompressed public point)
# sect239k1 (named_curve, uncompressed public point)
# sect283k1 (named_curve, uncompressed public point)
# sect283r1 (named_curve, uncompressed public point)
# sect409k1 (named_curve, uncompressed public point)
# sect409r1 (named_curve, uncompressed public point)
# sect571k1 (named_curve, uncompressed public point)
# sect571r1 (named_curve, uncompressed public point)
# wap-wsg-idm-ecid-wtls1 (named_curve, uncompressed public point)
# wap-wsg-idm-ecid-wtls10 (named_curve, uncompressed public point)
# wap-wsg-idm-ecid-wtls11 (named_curve, uncompressed public point)
# wap-wsg-idm-ecid-wtls12 (named_curve, uncompressed public point)
# Random Sig: 303d021c4676ba09018d60f046a77c9dca024a746aefb511bfcafb43e69ea874021d00aa0489d6fc3e91a1d166afd7744ed300cc5dd85309f5e5a8c674f740
# Deterministic Sig: 303e021d00f11aa9ae2275f27e395edef6d79f82c51f90555365ef3bb3657600e9021d00a10367aba198ead0c41a42be48013156ffed6ee0cf67f17a895faf34
# wap-wsg-idm-ecid-wtls3 (named_curve, uncompressed public point)
# wap-wsg-idm-ecid-wtls4 (named_curve, uncompressed public point)
# wap-wsg-idm-ecid-wtls5 (named_curve, uncompressed public point)
# wap-wsg-idm-ecid-wtls6 (named_curve, uncompressed public point)
# wap-wsg-idm-ecid-wtls7 (named_curve, uncompressed public point)
# Random Sig: 302d0214211ae37e3f66c34cc365033a7ecbaa64a5cba134021500b8b69c6ff103550eabd936b806d96a28c7edbe79
# Deterministic Sig: 302d02145e3a3f1b9127f40b22f1c31b772940733f9c132d021500a3825518650b9b4149feb7494900cd1480cb6a37
# wap-wsg-idm-ecid-wtls8 (named_curve, uncompressed public point)
# wap-wsg-idm-ecid-wtls9 (named_curve, uncompressed public point)
# Random Sig: 302d0215008d6e20f33b330911829f14b2ed284dd25a61e92902143bd517dc53bd6405c3ef3ed606017716ad1e5433
# Deterministic Sig: 302d0214611331c0e116a451fbcc25073a8f945cb2db4bc3021500d912c7ae4ff6706c907cdb0467f862a83a450704
# brainpoolP160r1 (named_curve, hybrid public point)
# Random Sig: 302d021500a9d874e4b3890db6e4c958520695380edc20a7ce021409882031f1cdce1d80a1d9eb7edd1136e922d7b5
# Deterministic Sig: 302e021500d456165d7ed3601f32c22a36db0ff49454780fb20215008d57edf7a207247769d5b66af440807d4679d466
# brainpoolP160t1 (named_curve, hybrid public point)
# Random Sig: 302c021445fd680348e2aedaafcc6e706791bcdc7f033f1e021415c137396d2d4e92c10352e561ea4c41f81b155b
# Deterministic Sig: 302c021407fef68ced7cdf6f76402b1a1e0c7a349875918302141e474008d312889c701b68a4961d3b6e97088541
# brainpoolP192r1 (named_curve, hybrid public point)
# Random Sig: 303502184dc08415bdc3db05c61910fbcb1ca0741decde56b33002d30219009e21925ade4e3ab65e8857d2212dea75eddf33917868468f
# Deterministic Sig: 30360219008e69b28756d1a317079d09d8f8ff865f310a4b1be6734f33021900a12d068575f808f061123fb986f0225f7d2657d1b1791d76
# brainpoolP192t1 (named_curve, hybrid public point)
# Random Sig: 303502190088446f05b4760978a45918a6e00c51146b2a7fb068b9203f021876b4bb928ad2ab8b4701cf3f8ebec6ee3e4d7491fd37c4ca
# Deterministic Sig: 3035021900afad9cd3bbe1ab2c2f38eec18742434e1bb4bc3932b3ecc60218505128be73b1a682150174957d67758f129ce3139f77ee9e
# brainpoolP224r1 (named_curve, hybrid public point)
# Random Sig: 303d021d00cda36a69deb1ba9435911d4ceeb0ed49c093ee39163398693b4ad222021c5bbd1916c5dcf1278faaee5de78cc24334976b658e99b86c1b89b1ae
# Deterministic Sig: 303d021c2d01800bee2dfb37d358c93d2425c579c82ad8fa9742dc41fcd5d225021d00af71cc7644de2c65c32e79e52450cc354a8ff21d6ed306df0081845a
# brainpoolP224t1 (named_curve, hybrid public point)
# Random Sig: 303d021c033bb5ea77545b307f5ed797712b2eab762a36fa99fe27044f4a4138021d00a07ed507ad6d5429f352fca928022661d1df69cad20b61c9e2baea1c
# Deterministic Sig: 303d021c1313f76fed54c3312a58902f77ef68302dc6cbaee68d100deb1961e4021d00af2d252d6b3f351176d8351f9a806a623e957bafc5b1b798f31800b3
# brainpoolP256r1 (named_curve, hybrid public point)
# Random Sig: 3044022077decad7dd8e261dfd3519fd1f18e089cb6fc5de04b942c59c42bd109f453d3d022058d0390655a19b56d1910728a7adf52f235b82874a6823e1a7583f3cd1fc89e0
# Deterministic Sig: 3044022000e8c0395aed07629f448d679a0cb04b2d4bcbacf0dc9efc9d86051d1fc1b5f102203ca38110876a41033f6991ac51e27e265407012c8ba8469b89a29f03c6eba476
# brainpoolP256t1 (named_curve, hybrid public point)
# Random Sig: 304602210092941de6603c995a5d6824cdc102d7ad8d02499a26bd679e7d8b43e19e0de78b02210091b2ef6223beb3bfbc179b64a108373b6f5e4fe39f3636c6407fe2365f95600f
# Deterministic Sig: 30450221009e282942329318448ec3a3ebddb1c586dee82631668c34cb8e73fd9003f1ce27022013696ce957976a696f3b351bd682094c9fb309afc82843b57721301cd89603bf
# brainpoolP320r1 (named_curve, hybrid public point)
# Random Sig: 305402286041360fedb8e4a3fd583bccde5addcf02d633787e7365dd62893c80225f5d6c09cd44bc7bcebb13022800f23e3a05545ebd7d062c4c503a95e874ed1890c7b8971a7952a0acb55cfdd77808b23d63fc2047
# Deterministic Sig: 305402284d691ab22bc003324ba667ee81d39fc0a69cc37b56efa3e0026d6e3d4efd1616daa2b70a5bb4aa3502283df563b369dfda5e5e6ce3ac4c0757fe66974a3abee683b0a6d3c77d6883b96a2caccd3bcb075f43
# brainpoolP320t1 (named_curve, hybrid public point)
# Random Sig: 305402282e0fb4669fc716f7a40e75cf8bdc6fe4099d5c6700f94eed55b2fa3c4f3239f9a0f584ced7cfe3bb02285bc4ba31dc320835356b99f9bbd658f582c87ac50ad2e0bac45d9b0f91663f58dbbb0122acdc8b44
# Deterministic Sig: 3055022871ebdc66795359e7042e93b707986eab096fc1f2c97dc39b9d6b708417716692985539bc2e975334022900c54dc2f522a63b22b6158d0a443892f4c3e77bca63f80507338220c766719823947987d98bb0e1ca
# brainpoolP384r1 (named_curve, hybrid public point)
# Random Sig: 306402307040e292ac3b978f86b5f3b79e964af3c2b494fe9d532108f69139169646e0756fd4e426f0d1f077326d7f0db3e6002202301b878b71929c75dc3604698365194e52e38573742f06ce91ccc65cad1b00ad9153fef4f0601da3db41883669b44f1215
# Deterministic Sig: 3063022f5df8cd7bca12b67c9faa755ed883f873e9f4f553e583c19eb12f22440db6b6e94909aadacf222dd320c77f09270957023013d82036f3c376f95f2855edb28fa0c69dc733dd9fd91e8d0333793714fff32b95cf64b5bf24ee67b50c292e47996aab
# brainpoolP384t1 (named_curve, hybrid public point)
# Random Sig: 3064023019c38579669662d2589f14a3950b71a903532fb15ca2c45ab3d1d26914303a53dedd1055dae4f388485eb6b8433c9de802303bb25201c5062d62c03dfbe6c4ba04426fd3dae926a6c645bec1339cb3818e06ac74acf7434592b32cc9abfa99073802
# Deterministic Sig: 3065023038ada9dd3e0974354ff5168d25dc19d5ea13e48090b2e327e63c168450c8663374df9bacb2142d381f5d7e3da5d7e29f02310086cce06abdb14abc9a463ca2c8185801518d0e4ebe907d967b4e7b70b730fd1fbf4eb1dc0ba7ce73a8a2af5da753746f
# brainpoolP512r1 (named_curve, hybrid public point)
# Random Sig: 3081850240554e76dfa873dbc10bbf5ce8f37a621471a3d9ac1a211af4c1e6e7d91bdf18c6c36ed0d5e6c3b2a5e1879542cdd45065feba9a0f829436b57f229dffbfb03ac902410093b9b1897168b232eedeb665a0234950ed8f32b4cfb8309bfb264ef5d7f9d0ab97d4278ef4ec6858f4777117b401d55c1f00fd811fdaa82d6e19a16b7defe736
# Deterministic Sig: 30818402407c4161e218d2696600c39a24c4f756da583707510677ae359e00b7efad5788695f7b5455343eeb427b62e24c25db9562b490823fbc5e62b8c8c6446d8655481a02403011999658ffc2b37ff883d02662aab63195552e2092744e5ff97bcf4a983af65888e6351ff20ebd70b8eaf98e37ad41a1a3b8ccfd976a16f45584f7cd6402d2
# brainpoolP512t1 (named_curve, hybrid public point)
# Random Sig: 308184024021d4ee9fb220cbb9d36d1de033e5c8fad166e519e1be84169b92c078da5bb69267a5c2ddfd80602247b16faccde2980abf09a1514adb3a8a8ab68d33959609110240320773a210129ba08170855c9b1f8b47a2bb2c0379eb73a4c987a460e3256e195e822ce3131e35aebd1b2ddb69014db192ff4926da747fd585bf99a9c33824be
# Deterministic Sig: 30818502404e1b44bca9702e7d925b458fa2b92b9e217ea4f3069290408812a121aadc0f8712e3fa395cd42a86d4f9a7c79885da61c9deeba65128751666c8f1aacb0a669a024100895b54536e222d640e9395c1b7b08196238d31098796e7730e1b246853bb60349ce662808afa0470e11bf65f1279606181fd5a048eb531580d3b23ff3a3ac250
# c2pnb163v1 (named_curve, hybrid public point)
# c2pnb163v2 (named_curve, hybrid public point)
# c2pnb163v3 (named_curve, hybrid public point)
# c2pnb176v1 (named_curve, hybrid public point)
# c2pnb208w1 (named_curve, hybrid public point)
# c2pnb272w1 (named_curve, hybrid public point)
# c2pnb304w1 (named_curve, hybrid public point)
# c2pnb368w1 (named_curve, hybrid public point)
# c2tnb191v1 (named_curve, hybrid public point)
# c2tnb191v2 (named_curve, hybrid public point)
# c2tnb191v3 (named_curve, hybrid public point)
# c2tnb239v1 (named_curve, hybrid public point)
# c2tnb239v2 (named_curve, hybrid public point)
# c2tnb239v3 (named_curve, hybrid public point)
# c2tnb359v1 (named_curve, hybrid public point)
# c2tnb431r1 (named_curve, hybrid public point)
# prime192v1 (named_curve, hybrid public point)
# Random Sig: 3036021900bd0f1b9e246f605de25a16aa83c04b400547d5036325e02002190086e21b7635e6813a229f6b281427b0772fe9b7d6994018cc
# Deterministic Sig: 3036021900d3acaecc9845eebe8eb3193854c8fb390c2d50b329fda389021900d31389319daa21204859043266ad92f2a4dafad5ed951a39
# prime192v2 (named_curve, hybrid public point)
# Random Sig: 3035021900d88a67d707ef9125e28b42f535bb95a2e553e2c3e298421b021810fa556e08c2e1552ab84c04b97a35018f05d0ae90515e32
# Deterministic Sig: 3035021900b7a54a151c0786caef3d81b06021bd7cc28e3ceaa996b55e021806679ce851d3d89baf6ae986703a060d3712112710a45a02
# prime192v3 (named_curve, hybrid public point)
# Random Sig: 3035021827dbf9b9e081d28c407465f611c7f35596c6e8a185405a84021900a87cb1ff62522da06b00610ffaca544ad8abe7e1680ada50
# Deterministic Sig: 30350218529c08e28b17796a759eb858a49c863b6631cf9121bea792021900b697b67da5e3f2e7aabcaa51335e71b41c50036492e1a71a
# prime239v1 (named_curve, hybrid public point)
# Random Sig: 3040021e69716ee81111c866760c4291e25e5ba4a46e9938221d3ce9b33853f71c64021e3b1de49c5e89b80495e2c5dbca24194712d866a614c553a5916f217ba9f0
# Deterministic Sig: 3040021e01aa91608e7bbfd3b6781833aae50e889ac1bd3d51c8ba63b1534938c77f021e6b405e99c1271d1dca8e76f239f79489acffe04e494e64a4c4f02f2b32f8
# prime239v2 (named_curve, hybrid public point)
# Random Sig: 3040021e766cd4302149834882552756e411f0bf266fec43ef09b952cca6489a3640021e213af38e493116a580737f7e38696a1868eca0b865377b2362f0cb548963
# Deterministic Sig: 3040021e2ac5c53e3b271a56266162ccb7a672695c1099e90533be26137e68f2a125021e5f28deb0252e978fc36731a57b8c7da51333b03135ede396bd786d5aa12b
# prime239v3 (named_curve, hybrid public point)
# Random Sig: 3040021e4a9a8eaf193af52af7b63ef796bbc8cad1876504fbb1e6c588ca967c8e33021e03a92694d11671a5430259ba101a5c4fca67da2e982ae3c34129076875dc
# Deterministic Sig: 3040021e3f31fb60ee019312861cb46ca53bfb96ddd1ddf705fa15446edefd8d4e9b021e541dab74c68b5b856218a11ed40209a6dd782e245d0de1ce8ff1a5154fe2
# prime256v1 (named_curve, hybrid public point)
# Random Sig: 3045022100e151cf0a829c7e18f450bc34426168d07078ab2b99f56c1ea31c90274dc5a6fe022075820ad90b2c5583e82bb7bff381215956ba578504e86de7706ca4f92845b6bb
# Deterministic Sig: 3045022100cf93514c2040cff6473f4523986b2c59cc049ee5024fab94cfa63934787746af022041d17884a937d6181ba3eea0a09d9c61a2bac8b896d41293c07bfda95bf0ac4b
# secp112r1 (named_curve, hybrid public point)
# secp112r2 (named_curve, hybrid public point)
# secp128r1 (named_curve, hybrid public point)
# secp128r2 (named_curve, hybrid public point)
# secp160k1 (named_curve, hybrid public point)
# Random Sig: 302d021426df6994e32d02b495aa9aec2fe64c63237964df021500e183775e314856fbc8c36ab5ea8b71667a054636
# Deterministic Sig: 302c02143efc45f628a64f3120d39d9401e5f1b3b229b70502140954828f379c964d15a5cdfdb8f25e18cb85632e
# secp160r1 (named_curve, hybrid public point)
# Random Sig: 302c021406750f3a84bdefc9f30ec578ef04926d7182466c02145cf42d4455c8cfe98f3cf38f312a7ba4432b877a
# Deterministic Sig: 302d02140ca949eb32ebee2c662d0f48f5d56ef0d00e925a021500d03905d9c695a2ce1f6e87bbc47868635e30db25
# secp160r2 (named_curve, hybrid public point)
# Random Sig: 302d021500b061e8557ec9920603999f90a022e04b527009db0214657688b73a0ca900357163eee7e3371210360c27
# Deterministic Sig: 302d021500b520144bccbb1625c83dce1bbcb42ff2bb23093802145ce1c8a6ddf6b5422d744bcca8c59c04a1a79bdc
# secp192k1 (named_curve, hybrid public point)
# Random Sig: 3035021857a33e4e3d028efda8cf57b7ba1cccd9591d76c559da89d40219008a09a046760a9475b9935c31b526628f3ee75aea7b26dc3d
# Deterministic Sig: 303602190086691016bc766138e89a0885bd121f45d7530c9cb83d0883021900d056418b1497b6d0a0fd9f41acbf7efbce573e23f81cba25
# secp224k1 (named_curve, hybrid public point)
# Random Sig: 303d021d00a7e80c2f99d3473eb3b48cc9e05056a10b06e654592e47a073a5b2ce021c7395e1d7e7b72267ccdd746716d8233f2535dac0eebf52adbba32ab5
# Deterministic Sig: 303d021d00c2372c1ec060dcb19452baa12077b9e8d3211e6ebc5f07ed1c3f5a7e021c015df152c1e40c89e27da4b763ea54554b7d5d60e745bc5477cf8b50
# secp224r1 (named_curve, hybrid public point)
# Random Sig: 303d021d00e23bb732c7024d33013466ef35876381e3ea537e741e768d04f7057b021c5be090893689f88ebad92eb97a320cac01f03d947ee059017790a0c4
# Deterministic Sig: 303c021c14c3fe1613c1aa56a197f21387a928cf8408d23bf55299b425873a72021c39029819dfe1c3018e58353e4b609159b308ee8eeba3b613e69e6e41
# secp256k1 (named_curve, hybrid public point)
# Random Sig: 3046022100e4991916faae2bdd315bbb171cc5dcc3f35432b632645152b08e66ba90d2bbb4022100cec7701a83e5e51fc3082e607feea1277873d9823134d310b659ca6b5750828b
# Deterministic Sig: 3045022100a51002c07a617c6ad99b336eb98f897a426998119365fb4d636792fc345937b502206e60d397d2a70786b61724198eec1ae4e61469ef13dcaabb81597d1c73606e59
# secp384r1 (named_curve, hybrid public point)
# Random Sig: 306402304ac0813d6fde4ee0b86bfe3be0c3c93e993f6a765ca632c95905931f3065934796b62d25a1c606a63fe091991c0a75f302305f31a4fc033d2d05a59a8f33b113e065c1042f5a8338d08cdbb2f04cdee4ae2a943024d2458de2a23a5a47ca691b84e7
# Deterministic Sig: 3066023100b0aae5b32b455369a7619b2a58f5c8ddf3f567a157d9be137b6613a139dc1a16f4304e3aef9c8ebbec37563f287fdf99023100bdec32b776f11e966a9ae7d0f05ac26ab00fa22faaff1575c9fb714f3d860097ad1782c9a3c84428d60d20506e2bcf76
# secp521r1 (named_curve, hybrid public point)
# Random Sig: 30818602412b41b9a3b6ca509ea0e8ea2f1d047d731979ae498bb5247c7aa12a890364a5c7e33eeda56fa2776d9b77dd85a15ce0acfc3f61c2c6540577e9aa56e0942fe6117a02415f58c6e37d7d91c441c87cd5ea3f4076c4549cfbddd386cbce3e01bd1f142bb7b8867a9a92202bd03271aa29f8bb3bc0da98c4fc4e790be79985503bc8b514dc31
# Deterministic Sig: 3081870241133e1c132a1c7e3ba0fcbf4dbc44b15f59bc4e85787872d8bc8157a712a054967dfeed78afe7b797ac735fd69eb56886ec070a589cbb21c326e617a20f5b5cd30e024201ea7110b4656bc61f8a27e97c27da80ba1142cf92ae79cfcf061ae1e9e1077f88a694b8c5dc62f504619a829c6f673cdaf8b9dc8059238fb851281f0ce8b0c3127d
# sect113r1 (named_curve, hybrid public point)
# sect113r2 (named_curve, hybrid public point)
# sect131r1 (named_curve, hybrid public point)
# sect131r2 (named_curve, hybrid public point)
# sect163k1 (named_curve, hybrid public point)
# sect163r1 (named_curve, hybrid public point)
# sect163r2 (named_curve, hybrid public point)
# sect193r1 (named_curve, hybrid public point)
# sect193r2 (named_curve, hybrid public point)
# sect233k1 (named_curve, hybrid public point)
# sect233r1 (named_curve, hybrid public point)
# sect239k1 (named_curve, hybrid public point)
# sect283k1 (named_curve, hybrid public point)
# sect283r1 (named_curve, hybrid public point)
# sect409k1 (named_curve, hybrid public point)
# sect409r1 (named_curve, hybrid public point)
# sect571k1 (named_curve, hybrid public point)
# sect571r1 (named_curve, hybrid public point)
# wap-wsg-idm-ecid-wtls1 (named_curve, hybrid public point)
# wap-wsg-idm-ecid-wtls10 (named_curve, hybrid public point)
# wap-wsg-idm-ecid-wtls11 (named_curve, hybrid public point)
# wap-wsg-idm-ecid-wtls12 (named_curve, hybrid public point)
# Random Sig: 303d021c3288bbef7a19a003349accf9374d6723795e19bb5fe23816087368d6021d00a2fa3f65e355adc5e73ef8739afec062825f109ad17ba69dee31e9f5
# Deterministic Sig: 303d021c6ac4635179cae48397fc38efe3f16cd8afbdd00e13551cf0cd3007f7021d00c203b4d28f14e51562f96c22fd1dfebc67052764e9e696d7d2b62064
# wap-wsg-idm-ecid-wtls3 (named_curve, hybrid public point)
# wap-wsg-idm-ecid-wtls4 (named_curve, hybrid public point)
# wap-wsg-idm-ecid-wtls5 (named_curve, hybrid public point)
# wap-wsg-idm-ecid-wtls6 (named_curve, hybrid public point)
# wap-wsg-idm-ecid-wtls7 (named_curve, hybrid public point)
# Random Sig: 302c02147eb20319233ef67750374f61829c3be4663239040214647b90fe281fd872c48a20765d2bff80b77cb301
# Deterministic Sig: 302e021500998b81e3f77651852f490036996181a476f88c6102150098208eadef4c0649694096c82d16160a3a64c08f
# wap-wsg-idm-ecid-wtls8 (named_curve, hybrid public point)
# wap-wsg-idm-ecid-wtls9 (named_curve, hybrid public point)
# Random Sig: 302c0214238a5d927f5fef6121d3b717f7a3ff85f421441002142cdf7496e849755f74edfeae8f206b43d64f162a
# Deterministic Sig: 302d0214214290c977093e6993c052f40e25ac0dac62b867021500a145f9f3bb43b14ad098a78bf7ef965044e30563
# brainpoolP160r1 (explicit, compressed public point)
# Random Sig: 302c02140c1aade594f72d0ac0d343bb6a75831153b41332021443a14043755977cae18611d9e7d3fda5eeb24e12
# Deterministic Sig: 302c021466e8fc799bc1181c4b7e68b4cec2fb0ebbfd35f502140af6ed4ef8869b5bd22115c95abe26f457e0e64f
# brainpoolP160t1 (explicit, compressed public point)
# Random Sig: 302d0214549420dd9f2b82acd400571d09e95c679ebd00ad0215009cbb03b66ae7e86295feb373c31a7dd87a34fa61
# Deterministic Sig: 302d021423217912982e0d6a623cbb95214580b857a078da021500abb044b6b88f308c5b802709f6b5155cd5c2d89f
# brainpoolP192r1 (explicit, compressed public point)
# Random Sig: 303502180ccf0520141e912fc1ff2e35fce9605f2508640e3f4992ea021900c29861f648491989cdc3aca1b6ee1bbbfc92cee6467bfde1
# Deterministic Sig: 303502184db933e211a9996588cb8c42e15621a10c8bde41696a57350219009fd23f34a18cc9ad898aa730132107a2ff5c81b6b40c682e
# brainpoolP192t1 (explicit, compressed public point)
# Random Sig: 3034021812c86f14e8659fa8e19874f32fa1808c9a09fe2af09aba6102187798250bb45c7a91ae244d20ea69d0c2f4b2d32e1fbd0d2e
# Deterministic Sig: 3034021823b2b43817d75d4ae02718ecbc8cd81c6077f72cd93441db021842324ba4bc46a74e386d478d7570063f8977168db0a3af33
# brainpoolP224r1 (explicit, compressed public point)
# Random Sig: 303d021c59ec55dbcd29ee576da4bf4e94e9a9ecbc9611d67c24f3c55e2213af021d00d44e7e73357c9eea74d523655c9751d5298633d287f190bde2a61f01
# Deterministic Sig: 303d021c6015484d556b5ace0db860bbd7211c542dfd8d410b246f5c9f95d231021d00d534ab848270db2e264e1f1567969f8ba290952dfa3c697409ca2d57
# brainpoolP224t1 (explicit, compressed public point)
# Random Sig: 303c021c3751468e959d9f04c00a4caacb0790f6e6940862df17831260d8cd99021c47009837271619b3e079cf6822be1eeda6824abe0ae6370d9797dd62
# Deterministic Sig: 303e021d00ce97e60d312d71a59ff250131e4cdd68c8fa9a8ef6b021b8fa840895021d00bda9ef43e700b1c6c514e3882da0183b54ac9ff936e6ccff28279e73
# brainpoolP256r1 (explicit, compressed public point)
# Random Sig: 3044022028fb8d50b75f616ec7b263b2479e16f46e085e83ff75017580048a6be9b2731902207303172786012ded804591836bb8ea2b32bf80c4ec229cf97c4b2629d8f0035d
# Deterministic Sig: 304502210082061993c1960b457cc95343600cefcb4c37c44be03bb61452ab79737dd393570220768fcf6c2f4befcd93648b8eaaf2a98767d537a5f853b0e2f09076cb738bcb6d
# brainpoolP256t1 (explicit, compressed public point)
# Random Sig: 30450220117f6abcf93a72fc58197540674ca12b713b413824ccd2148e345273fd35079d022100a816ce46e8c0aa4e34d9727e21331c0ab61f93346a0e867bc34b6381a5b866bb
# Deterministic Sig: 304402207c13d6469d118410e381e6808e0ea2e52e2467739ea48447ebb6f68a5a305d4e02200e4e38147acd1c951face73373429dbc368167f626c8e503c3e91acfda423108
# brainpoolP320r1 (explicit, compressed public point)
# Random Sig: 3056022900cacf06e34a049a9170a6bf5d7bdf5fa77ec365e9bab579312f7569b0f20f0279276f8ca5ceeb451a022900ce233a1fd3e19615a0601a929daf5d9abb3533446b652640ebc936957d0f462e5690633575febac5
# Deterministic Sig: 305602290091fb8a45627591903e110475e6226410f7586543dfa7ae9dbb39b88820ed9f8baaf6fa9a61892b410229009d8ddda01f3f96a9bf0c606104a7fa3f52a1667bc1d9f55c041c647db5c3d6072d0e08160ee3dcc7
# brainpoolP320t1 (explicit, compressed public point)
# Random Sig: 30550228469c6398c37f0efd30591a7dc591a8ac90ec622eaf58043df6662d63a5d0b17b1d020511d0fbeb4302290097cb48e98b6bc74dbe97d8058c407ca56d3b680dcfb87d03f5e6158f706fbd8090262e40974985b7
# Deterministic Sig: 30560229008d9abfd52e2848fd05bbab3d23f2192f007866527ada205fc6d48c17247d74cb88ab650bbbd155c40229009131c7456af68e41c9c36af1975c1b7c2d47b7818cab16a0b3e066d6568b38310f95bae10d013c8f
# brainpoolP384r1 (explicit, compressed public point)
# Random Sig: 3065023100876de2c42f0df21c003dcfbb1891ed63cfc36b221cb6e86f22bfad635f3254705f7f98b279b88c0ebcdb67dc4d52a216023021e528af7c9b6e2f16a5909f475bf76cf2feb80749bf2283df58208fb4c6ff3b2ea9700c78eaa31eba587d776684be7e
# Deterministic Sig: 30640230652ea6c96b3a6a84b8237b1942929cd4885178449a4651c69fd607825efe699b7fc88a1b86b15e86ac1828f9ae018ada02303c3a5e8a5af90a4e11901686c4244b59a94252f05e8bf47ed4072dd0e5d141c1a0eefcb07dba7dd4c7a97d09b3664a0c
# brainpoolP384t1 (explicit, compressed public point)
# Random Sig: 306402306af6a4566514a6af34e1f0b810be7d27ab1275fe0ff2385c56f1ecbd1a0c68ec3f196f593544ce0435f843c09663f6d9023005be85dd74a913e90ed2058dc35d1844fa1a14c688f9fbb83186e8b91a4afbb49534d4b0257c255c0c4ae520c58c8c67
# Deterministic Sig: 30640230300a22fad5e7d09dc9ac40010d299c9294f0ea39b1f17a1284891737c4e7a8aa07891f91d182175e03f2dcb3b1aa5901023035fa5cb8c99cda510ae2a77160bc2918b2497af8086427bcbc12d3e86ce9e8e65d4cdd719d3ede59fe09d5c90c7c78bd
# brainpoolP512r1 (explicit, compressed public point)
# Random Sig: 30818402405c99d74d84769204049b29e00fc839b3350683662be77e3c8d97165746ab401d8f698ccf8cec50391423575c9c023d9dba40255f0889c695f54ec71c63ec3b5f0240109081ac4d78f97a12fe877d3d968908c1634dcabf66810f27fbec65e87e42ffef19e228008c1ce4f772e8fb814ecc2a80524c0eb1dee7eaa0a159d57145e57d
# Deterministic Sig: 308185024100a7aa5618b2162115e64a9f3844dd281c5894447758bf29bf08bb480ba0c00f57f25729fe533233606de4c3b33c33b9ea63ab5f43df78606034455f5ad1a64fe10240453f09a39952d689b33850a7ce18b62d69aae5f63087886b72ab3259d2999df02c8e731fc04f910e46d20dd35a546672c50c6bdec703a45eb41863b70ebb55aa
# brainpoolP512t1 (explicit, compressed public point)
# Random Sig: 308185024100a263e234b5d35405375b553af996f84a63620ac7f58334c92275416931968f3a9c138251a3019c809ba6e3e0e82d2fb172cb22d5c75a1cc47372e641201fc63b02403beeb91a22f287e1fc05a0ce9653e2fb703280e57b37286d6de959fb26edfb9387feb3bee1161b413759c77f9216c0735765da58f9c3ee9c03b998a5952deb1b
# Deterministic Sig: 308185024100a13013cd285d3c577b4343695a79fb4f7a04ab0fa2e832f4c8ae3539dcaca5f75e2ccd5caaffa496856f8867ea15cfd78ebe062a5c7d06215ce7c0e346f9c14a02403a3d238ac66176fcae0648d870fac44f5e924348fb66cf7d39b7adb5d6b7dff21f2a51030a22fdfd67d311f75619ef4987098927dd4729f5c560056e7f1af5f4
# c2pnb163v1 (explicit, compressed public point)
# c2pnb163v2 (explicit, compressed public point)
# c2pnb163v3 (explicit, compressed public point)
# c2pnb176v1 (explicit, compressed public point)
# c2pnb208w1 (explicit, compressed public point)
# c2pnb272w1 (explicit, compressed public point)
# c2pnb304w1 (explicit, compressed public point)
# c2pnb368w1 (explicit, compressed public point)
# c2tnb191v1 (explicit, compressed public point)
# c2tnb191v2 (explicit, compressed public point)
# c2tnb191v3 (explicit, compressed public point)
# c2tnb239v1 (explicit, compressed public point)
# c2tnb239v2 (explicit, compressed public point)
# c2tnb239v3 (explicit, compressed public point)
# c2tnb359v1 (explicit, compressed public point)
# c2tnb431r1 (explicit, compressed public point)
# prime192v1 (explicit, compressed public point)
# Random Sig: 3034021875607f5ec89e7171060cd391fa89009898fb52a506fba89e0218275855f87858db36cb2861179cb25f78086831593b52c49b
# Deterministic Sig: 303502180e1ce1091336020841eb9f636224a0f96811fffcd5707536021900d9514d3c14d2f3b46f55b67f58dd96421d12c2b8416bbbd5
# prime192v2 (explicit, compressed public point)
# Random Sig: 3035021900ff223edd839d5a28c03494f8f80162be6b1c097b2931de2602183491a15ab11fbc83693af8f5d55277748cd4b247c907242f
# Deterministic Sig: 303502185cee294895efa01bf88e3283a4092f24e48412fdbfbce53a021900816c70c54c1c8150cacf1fa78e60a03fba3825da27b09a87
# prime192v3 (explicit, compressed public point)
# Random Sig: 3036021900ceb580b6d88c23860812e7a3275b533d0026b4b049525e54021900c984ece85ef40508763c50b27bc4259ccb3b04dddbcc802c
# Deterministic Sig: 303402184f2d0b77d7ebc4d0e5642bbb250556f83043bafef22d4c6802187560e75732ad7ed2271427f92c40695cce8a441aee2ba0c6
# prime239v1 (explicit, compressed public point)
# Random Sig: 3040021e23d025ec49028755c62644bc791d6bfaa66d102b5f0155ab17b7dd40480f021e7fe562c5d015d1bbfd0d4af5cd52aff64ec527839f0be792e7f5af0d9ffd
# Deterministic Sig: 3040021e7d4242b6175e0d664ea8f7f013330a0f2e411043de59193ac034f335cb72021e3b7a238c71f6057622e4a7766a97213b6e3b7a0324ed173f03135b7972fd
# prime239v2 (explicit, compressed public point)
# Random Sig: 3040021e533cbb812d7746f7a886f839be1a532f065f29ea5199edace122b1a79423021e1921b2bd223a17fe44bf20300904eb696903f10550d015b52c1605d20e81
# Deterministic Sig: 3040021e4ae934daaee7ee2c6e0c22b7ea9993d96705c737ea14f5c2336bd75993d5021e053f0814223e24eaf07328395f7c46bdf0ca966ef45fcade5a89bb53c9c9
# prime239v3 (explicit, compressed public point)
# Random Sig: 3040021e72d6827132d8851165511367d6d6e5d763071dee4a524bd2605587e1e971021e46972a9ab4857bc71d6e68f8ac7ffc6290169b5c9fcdfa8b94a4904ffbf9
# Deterministic Sig: 3040021e2c70b771a8427b27cab8a280cfd98aa14a01a773399ced47b0e19098ef92021e1985c0c64b0197033713b83580066980f087b5bee9c23122f4904a8dad7e
# prime256v1 (explicit, compressed public point)
# Random Sig: 304402205010cacf21717eb3efc775ffedcf2d24cf27912f190129b50a068587a378b20e022032403c33ee4288b0b4cb8b7313db4f46bd230c22dacee825d02a31565b24ff31
# Deterministic Sig: 3045022100b38656466633cd66e1791c02d4b23b34cbad27a3002b75f143d8aeb23424d24a022013fd75854e0da674d8f05528fa6a5ba7245d236431b36c19d193b7202e38af95
# secp112r1 (explicit, compressed public point)
# secp112r2 (explicit, compressed public point)
# secp128r1 (explicit, compressed public point)
# secp128r2 (explicit, compressed public point)
# secp160k1 (explicit, compressed public point)
# Random Sig: 302c021449432878f9ee6294261af33ab0f91c37160ba5e2021458b2a6bea84fef6ec81d80e5f9e8c0a0305575ce
# Deterministic Sig: 302d021439349d95dcbb626be120c49ae8a51f588b44e401021500ca81bfa9ab0362351054137369899754ea4c4733
# secp160r1 (explicit, compressed public point)
# Random Sig: 302c02143780b74d6682d57f1d3be781749f3bdcd770536d02141bef08d8df7fb01fa9cb344676628a92756cf707
# Deterministic Sig: 302e021500be3646325d0e4c427fd36aa1b9bf935c866954c0021500910eed76a3e34d7f0af0d7d6d974476e0dc0ebf3
# secp160r2 (explicit, compressed public point)
# Random Sig: 302e021500ce4679c2a88cdbcbcc83f00adaa752c8ec34e50f02150087548a93537872bf510af9b0f85f3a5d6326d843
# Deterministic Sig: 302d02146c4733087859f29a28e665a48ed0e76f215f1af40215008b6f307ade68fdab41475231faeb642f01190b97
# secp192k1 (explicit, compressed public point)
# Random Sig: 3035021900ce1678eecd41da13e0d7ecccbac7f080cd9df6bca3933286021857359ca1b45afcb79642a519c91af36214471ce04af10fa8
# Deterministic Sig: 303502181b76b7af7302d0b9ce9e82e37f522f0e9a8422c6b1ce46700219009e3c538c89afc10a5673d131dcfd1f79edbf9342bba14af3
# secp224k1 (explicit, compressed public point)
# Random Sig: 303e021d0090984826daf9d07c33f0f51b5cf918bd32a1f0cb7687543f9d28fb1c021d00c95d10801283c1c63812972cdfec425938a1b93978402f43915b4e5c
# Deterministic Sig: 303c021c077d9be2972741002fea5cfc461124427b1a919d2a56af7fbc9f9601021c243f3d37d0032e306c3182d9035e91774e9ce1082a7451bd8ac81eb8
# secp224r1 (explicit, compressed public point)
# Random Sig: 303d021c04f3633b9cd87f1e8bf87b7d0df94c7e03526145cd43abf814fbcc82021d00ffb863828bb6a9385fd2facbce9d5803d7c94d8a51e1320ab88a0010
# Deterministic Sig: 303e021d00d373661823a9bbc73f653819831b93c64c691da60e6c8eb57ac7e931021d00e6542b42e7f48702543f98c675725a79fa26379694e64e7e32e1962c
# secp256k1 (explicit, compressed public point)
# Random Sig: 3045022045278726bdde0aed15b4e5fe0bfdc9faac92e1b4e1a9955911a2606461dd2d0d0221008ab9e0d89840072f4a0f8b4e13fb1ae583ca5089254377443b289b8ca009dba8
# Deterministic Sig: 304502204fcd1b7b081ac63a133f45cda862f88c9de10bbab4fe9c06cd8bbc2df9403d8f022100def9a0cfdfb195c7e75182d369c60d485e919adf69ebeb2174ddcea0e1702343
# secp384r1 (explicit, compressed public point)
# Random Sig: 306602310088f7bea6382e0c9579983ba72d242048497bf170a93136f633fc3bdd4806bef5d246dfee03e3acb712cf0b20c02a4bb9023100b2f8bbd5f8c581b35e3c137fbfb4e12b82ac4b6b75d810a8d350cc0cafef6478f9fb4b28b5241a2a243bb3576a8548c2
# Deterministic Sig: 3065023007afe459e49ea3a78b9a01577d93a04b5a19ab54bebe7fa3854969f412f5594c7346f3522ae65924232a88f81d235d70023100e8459fac8aa99be0fa39e9f1c7e0319ffbbacd72a82755b9b0e8cc99da7ac525c930a72b95b6e5f2b476308c3a57712a
# secp521r1 (explicit, compressed public point)
# Random Sig: 3081880242017442d21826227255720cb5561434d51f3020c6410a357ee0ad807391a4332619fd49ba1244f8b2f6fbbeb1495fd19c981e490f92193477c15b752c8fdfb0e235590242012c2479268d3f35ee56e058cf9327dcf2a85260c081308054272196dc3b2f7ac11ee8372caa87e4a254d8c6a2c391dbfc1714fc67dce708e17a93af9c26328badbb
# Deterministic Sig: 3081870242019bc165abd6ef0926d63f50a6d66539718c219e31e89e2fb3671788cf79d9069fa6db5473290b93418e3747de1b964424ea24a844509a6b5d6c8bd0a7250e3df5f202416edf145724041d364ed4fc304b23f0f3120798b4c1c9218c1d16175ebe67b59a8374c537c435377c3c085a4c66cd13af6694d38db16919c2d218305a23ef161757
# sect113r1 (explicit, compressed public point)
# sect113r2 (explicit, compressed public point)
# sect131r1 (explicit, compressed public point)
# sect131r2 (explicit, compressed public point)
# sect163k1 (explicit, compressed public point)
# sect163r1 (explicit, compressed public point)
# sect163r2 (explicit, compressed public point)
# sect193r1 (explicit, compressed public point)
# sect193r2 (explicit, compressed public point)
# sect233k1 (explicit, compressed public point)
# sect233r1 (explicit, compressed public point)
# sect239k1 (explicit, compressed public point)
# sect283k1 (explicit, compressed public point)
# sect283r1 (explicit, compressed public point)
# sect409k1 (explicit, compressed public point)
# sect409r1 (explicit, compressed public point)
# sect571k1 (explicit, compressed public point)
# sect571r1 (explicit, compressed public point)
# wap-wsg-idm-ecid-wtls1 (explicit, compressed public point)
# wap-wsg-idm-ecid-wtls10 (explicit, compressed public point)
# wap-wsg-idm-ecid-wtls11 (explicit, compressed public point)
# wap-wsg-idm-ecid-wtls12 (explicit, compressed public point)
# Random Sig: 303c021c394f2b00a882f0dce86f290730615bf0d5630edd0a8b8f0f0aed9461021c5270e50bffad2d962a36b7dbe6857f56ff812dab352363c3d73ac6ab
# Deterministic Sig: 303c021c2e461a584c4ede79640e20c7daa7b497548f98ad515555eccb46d00e021c7868cc3757a69affb4829a937b60bc01ae3adbd0915f51bafedd9686
# wap-wsg-idm-ecid-wtls3 (explicit, compressed public point)
# wap-wsg-idm-ecid-wtls4 (explicit, compressed public point)
# wap-wsg-idm-ecid-wtls5 (explicit, compressed public point)
# wap-wsg-idm-ecid-wtls6 (explicit, compressed public point)
# wap-wsg-idm-ecid-wtls7 (explicit, compressed public point)
# Random Sig: 302d021500a34e4d539b0fdb5127bab291ffc380981ce8065402142bf3a10c85f400daf93d6e01d963ece743d5dfb9
# Deterministic Sig: 302d0215009ae4bc56dc81ce33f034dc77673b83d82e94ff660214034a14249d061cc69a212811497e1fc90eb9dcd8
# wap-wsg-idm-ecid-wtls8 (explicit, compressed public point)
# wap-wsg-idm-ecid-wtls9 (explicit, compressed public point)
# Random Sig: 302c021444029cdef09be7526a6ed734797d5d1950ddedda02147e0dd18a9f761c1d7fdbef6ed6ff1ebc692a2297
# Deterministic Sig: 302d02143b21e5cf84c08203c5e3e8b516fbba26239a06c8021500ef20942a909af0fbff5f0b37a34239ef383f9e8c
# brainpoolP160r1 (explicit, uncompressed public point)
# Random Sig: 302c0214297ad8913f2b7792d6d700e1d968ed32f2e9e2ec02141466f2d4e15f0565e618fe07e68cd0e1f56eac48
# Deterministic Sig: 302c021442f8c0a0ffec7b7c456ac66961713d2bcaeec49902142ead9b146a027601c17d7a869b58e9548ea5523d
# brainpoolP160t1 (explicit, uncompressed public point)
# Random Sig: 302e021500de9a6cab1d43bc4fc0278ab4d146de9601ee791f021500dd57d091712518c493c0d3bc321a94d109970e76
# Deterministic Sig: 302d02143d6ca094dea4df0b3ae4cf627d73ff7a5294cf52021500812f8aef08cf60baa6755f819f195915e965c349
# brainpoolP192r1 (explicit, uncompressed public point)
# Random Sig: 3034021827e686230d96d787fa2d383b46b5838f4ce7e362f4d4655702180c4b1f71f9bfaaef4acb637fa75a0b43a541d56be7b420ab
# Deterministic Sig: 30340218229f4f31f3a432dbc61c6c1184ac7f3a00a58196960fa8480218297e605327e70753ab1e8edb671ae3bf101998f01f9f6666
# brainpoolP192t1 (explicit, uncompressed public point)
# Random Sig: 3036021900b8e71c6f3e8bda4013306b7f9cd06502abe5d2b8b61c8b64021900925afce1440ed282404fea40535eaa49f0554192240ec11a
# Deterministic Sig: 3034021843d628f4ed22191c1907eb326c54a5f882f6e7ac0e2877f5021840b0314a8dc8344bdcf0577142179bc760b99b9a2e5b3d7f
# brainpoolP224r1 (explicit, uncompressed public point)
# Random Sig: 303d021d00ce655814e4b9991e26fb26aebd8923d3468bf55315032bb44f1988b1021c0959188b0f755d61d9bacf8bef0dc07379c44ad71768079b1cf2fe9c
# Deterministic Sig: 303b021b0b4f6eefc57c25aa8457b78cf7a144367b499b5c0ef89fdb2b6efb021c7dc1fc6357b14e5bb2b3b8ad0ccbdaa1d0bb5d1228de7450cabe382f
# brainpoolP224t1 (explicit, uncompressed public point)
# Random Sig: 303d021c7998cb8954e821a2c3d64b38ade22166296ba2172fb926c7e61cae5d021d009290e0ef0d97cc295d83301bfc53714147e71e5342978e3c6f0ee437
# Deterministic Sig: 303d021d00c93f11ab19e384e06c92f637c8f866d8a6f9dcd7ca5fdd04f27f1b49021c79afe8af01bf77b1d5c7f7cc14f8f2e6851fcbb515ab0e94ddbcad89
# brainpoolP256r1 (explicit, uncompressed public point)
# Random Sig: 304502204dcdc2c91facfd2a6f3307953339737419dc44352b9481c5f6482a349f5c395902210080def279c67418461b08e00950ce09b4f0e55205c94e667a5525faa4a05dcf8c
# Deterministic Sig: 30450221008998d9f045bc31aa4cb6fadb9839dded77b066fc71eacc65edb7f19898408ed60220463abc851b2d3851d3a9f6aabf3b985850149e2bd8627135a84613593f076eb1
# brainpoolP256t1 (explicit, uncompressed public point)
# Random Sig: 30450221009fc673fa3b603d4a262cc49ee4be345c927f8afbf4300d95dcda0fc01d596924022012b33350bf34657250d6aa416d7d27a6987dd0ccc9c25c7caa2a7d96917e199d
# Deterministic Sig: 304402203544a6b8de9295866c20a17288eff1c5d7120af4ef2bd051056d96ba41ef643c02201ffeb2fac95bdefc8f4399e0ce176293176f585ba9edbeefa3bf659812fcffba
# brainpoolP320r1 (explicit, uncompressed public point)
# Random Sig: 3056022900d1b903ebb5dc131ba6e9757e844b109e1c86045a5757d47d77aed4ec15cbddf3ddbf783598365aa802290087510300fd617f8f3f9185f0b91ad76a6acf1466c7bfa9a8f406f3c0dd10e70e5ceb429f88b9b7a1
# Deterministic Sig: 3055022900a199802bfe35c4cfaf7a5d052acd1fdba256b7ebdf0c9c3630487f9948a222e226138ddf8c0e0e0d02286a39ba01c904b5c807ef4ba10dd9a9c146d1b45d905571d71e41290b10e730a8ebf6044f9ebf314c
# brainpoolP320t1 (explicit, uncompressed public point)
# Random Sig: 305602290096c57e2988cdcaef63cd74772762aa11da20cb000545201e33dda8d67c4e6cda6f6c05b684846379022900a5b4750648a82bfa48da6c7d35802eb25ee98fd43a6baa3f7e6fd842fc2ac41fb108f8622980dc6a
# Deterministic Sig: 3054022845d059e05a9e71c3a8a0231324a8ef34a5a91970c422da4b9489e30db6c2cc883b6d6f5b884683030228135d528aaf53ac0deea412db8348d8e5612ba8dde80c4df7ffed52554c91e302e56d8a4e6f46e60b
# brainpoolP384r1 (explicit, uncompressed public point)
# Random Sig: 306402305527322bbb49bc60df13e15b89d9a497d69a9189189c4d378a024f8ba342d3e042f2f0732f426e639552a7d7cf5b5a790230442716ac0700b98ca9338bfed2be9316ec47826df4fffc8e1c1d8676eb03b59c98b84c2d01be4e92ef71d359ccb9b3dd
# Deterministic Sig: 306402304ccc6cac1074e460a1bae1c721d765cdfa05f87ac79f247575be29cf09fa7153bcda563d75c9da852c59f73d4d83cd3202305b12d818f99da3c1a9700bd16c530cefc1b904d001f541e2936d9933afa7c0ad2cd3d2c056e0a465a55204e77173c68d
# brainpoolP384t1 (explicit, uncompressed public point)
# Random Sig: 306402305a635b0cbd23f00881a0fa44147eab6d7383180e3f9dfd829f3481e12bc495812f44990cbb4d42656cf8bd5d09f4bc9202304f2b0fbb17a52e13b5863eeef5dd2ff20babbb26c4222b42d0ace781bcd70c0f31c12ddfc8eee3df740cf39d2aa643ba
# Deterministic Sig: 306402303511a775251a3822acc36f12e8c4f74b131aac8293b4b98b45cca7d833a27e37b60196f6270bb0d7cd7c4374f81faefb02301162ffb0fb230a47dc50a42a65f5687e0f223fd0803c6da05d0c2c3e00491461025b69c8789a20052af7a1194e779ef3
# brainpoolP512r1 (explicit, uncompressed public point)
# Random Sig: 3081840240778586602a2326dacedb7177787163f2a4f7ddca94b8cac9a7e721a3064db9547f8129077e85cd6aab6ac98f3e71dde92900d7dc0322702ab24ccbcc8cbbb267024055da10e263884cb90067f1bef0b7ef2f2b549a650527fc34491e34d46225610ab30fc9946855a71bbe6525890d4037445aa838e83a3c5b321346818a6556fd56
# Deterministic Sig: 308184024013093d4370b5471d428c23c3eea0b230b2156636aa37d479acb9daa7a5a1cf346e6e7bad2edd92aa0afba9a03f5d3cad70403154d4e5b155f0183661ca11d6200240298bb053a503de9f491833e8887e049b4f373611e80959b37a84888befcb7d5c8b259576731888ba0713429cbdb43fe1bb21d9782058a5634bfdda3e6af052d6
# brainpoolP512t1 (explicit, uncompressed public point)
# Random Sig: 30818402401ee9c2a505a40f100a0d0f653285f96d7a3d229ca9b73a4d1a8194a739d39dcdf6752a51af6373dbd587502e478b62eb09bfb32a7a53f7336a12387bbc856d740240234b815aa4d3cfa3d5520212db718764e7c830c02e34b12218aa385c8be57ab47e1d0260eb368335104a54a668268a418d62f7712121856bec5cbbbb85c6f6ca
# Deterministic Sig: 3081850241009ebfc6c2d353c6c8170bb0311e3eda5f1147acf2afc335a8ad08f85389510deae07628ba45c799943758b45e8deeaba24d80b6ba99c8110dfc064ab8b86a733002405b811b77739d1a4aa7a399e276f0bb06c05b99bfd4ba1d1cdb8d3126dcf16eeedb58692996e0fe7333c670f9345f6617a39fc25be5409d6d45fc38c329b2bd56
# c2pnb163v1 (explicit, uncompressed public point)
# c2pnb163v2 (explicit, uncompressed public point)
# c2pnb163v3 (explicit, uncompressed public point)
# c2pnb176v1 (explicit, uncompressed public point)
# c2pnb208w1 (explicit, uncompressed public point)
# c2pnb272w1 (explicit, uncompressed public point)
# c2pnb304w1 (explicit, uncompressed public point)
# c2pnb368w1 (explicit, uncompressed public point)
# c2tnb191v1 (explicit, uncompressed public point)
# c2tnb191v2 (explicit, uncompressed public point)
# c2tnb191v3 (explicit, uncompressed public point)
# c2tnb239v1 (explicit, uncompressed public point)
# c2tnb239v2 (explicit, uncompressed public point)
# c2tnb239v3 (explicit, uncompressed public point)
# c2tnb359v1 (explicit, uncompressed public point)
# c2tnb431r1 (explicit, uncompressed public point)
# prime192v1 (explicit, uncompressed public point)
# Random Sig: 30360219008da9bf8febddf33152b767b14ef2cd99c5a77b31a8dfec3e021900ee592e2cfe69c703134e88323ae18375eb070f30bab78dda
# Deterministic Sig: 303602190091b19b818f6e392d5619db468d608b399d7ce07f3e9f3e3f021900861066710507072dd2a700161e757c4f9a080ad014865050
# prime192v2 (explicit, uncompressed public point)
# Random Sig: 3034021865f330e55a0cd712cf3b7d1770d4cb2c22c353a43ce0b7ca02182bb5ab1d0be90696decc3b76042b4a75d1ac32c07dd142a8
# Deterministic Sig: 303402186723f80b7b66e9d1155495c72275ec9b9eaf5905ad5ea38402184053259759bda29412a942f7eb32883a299d135a4ee3d49d
# prime192v3 (explicit, uncompressed public point)
# Random Sig: 303402185c0a497c5785dd8f7e7e2517ced1fa8c1b97e3b67cdbae8102186252e0a61de539bea4ec61624ce0c1e5da5b40eaddbe64a0
# Deterministic Sig: 3035021900d450b50ac5b1e42786edbdf5d4e0e73b8a4e23b81ef9f52f02185402e4fa49f50971f4611271fd3c3fdfd31634bb16ef6375
# prime239v1 (explicit, uncompressed public point)
# Random Sig: 3040021e7d658321ee5d705c0ec6b0ca1e9726ed41d3f85d67c0911c57581f0e699c021e4f48e372da7485866ee5daba6c05bfcd6cef0ad6590b77781b26b2b8f209
# Deterministic Sig: 3040021e31f29c274c14f52382c6daa21150fca2d675355b7175572d4b6b59824674021e2745c320904281473f9ef3bf5d94fe3a5dae33159faa2e66697b1795e00f
# prime239v2 (explicit, uncompressed public point)
# Random Sig: 3040021e7a29a0bf4fb97286890053664f48c5feab2db5158c37ebc82537c0adb084021e4bd0cf852474701df67a385847cbf0dda554d47c2e00195e3da63f5ce47c
# Deterministic Sig: 3040021e121ff42cc7fdc28e085960334ada3955fea92a553443be6881217a5c9491021e5fcd4500033e91afedbe51efdfb9f3d59d7e921ab5275ef28cec67bbc3ef
# prime239v3 (explicit, uncompressed public point)
# Random Sig: 3040021e269148f1e14d059b93db487cdf8686d8b336b9a02a272fc2b85963625dc3021e5dae4fd1802bdf27b237bd79dcd9f4316c864a35f97215054775bfe9b5c9
# Deterministic Sig: 3040021e35acfaca27f3c52fc4368d87016096f8bc1063145aa1d57ed35bcc23622b021e7e1316ee524e02666951c85f5629a729ed8317f7d815eba63fa604c10895
# prime256v1 (explicit, uncompressed public point)
# Random Sig: 3046022100ab68a51dd62d34fd7dbd38ce944b3f4f5a1697c57da439598a3866e37f45e86f022100d20495ada111c2ab59921545a9aada3a6567d8b5fd49ffe938eb67475b7f237b
# Deterministic Sig: 3046022100b1c94e134d0caebe77b0e69d49d19555d4670e2b554766308f36d782d100f75b022100f482f532c0c2a2e3d280f9bfa0fe5b377b8b36e63ef4fa86e2b1d77e61e618e0
# secp112r1 (explicit, uncompressed public point)
# secp112r2 (explicit, uncompressed public point)
# secp128r1 (explicit, uncompressed public point)
# secp128r2 (explicit, uncompressed public point)
# secp160k1 (explicit, uncompressed public point)
# Random Sig: 302c02145849d7052cb689ca847ecbb4b01f8d1b06b1df2602142739018d425447dda481e0a491bd0c11fbefcc2b
# Deterministic Sig: 302d021500a86247fda0fdcfc011bf277142cefdc220b916bc0214015a3e9cb83281ecb8ac3a7d9b7c5bdfbf7a69c9
# secp160r1 (explicit, uncompressed public point)
# Random Sig: 302d021453b3890aba8ca359b8ce3b27af23d5f0c4a11b7d021500fa42b33d1eb1ddaa05b3d972b12fcef1456ba57b
# Deterministic Sig: 302e021500f76781d31ea188369a3a9960dcdb2b34e41e5e76021500a2273eb851b36dc083fd166686c52f7581145c02
# secp160r2 (explicit, uncompressed public point)
# Random Sig: 302d021500a137e268ba2b0d37b41797a9675b06cb02bb866802142e819225526ec6f2b14a1da2b6318b4c8a09d8fb
# Deterministic Sig: 302e021500fb703f8c069ea5920cb60a0182b6ded6dfc3584b021500f74f19b7321e6713ee252f6b8ebbe78efb3856e3
# secp192k1 (explicit, uncompressed public point)
# Random Sig: 303502184202bf8d7da99e1d86b8182446ad644612e71486ef417cb2021900c42cabfa2ef4f2ab0cfd093322d0e899f643173db6d0e737
# Deterministic Sig: 303502181fa07ae3fc1385548ec385e9abe00314807627f5f4418844021900a0dfb1da9cda33bb1b9f07998c3f5adde56dc9979b46c130
# secp224k1 (explicit, uncompressed public point)
# Random Sig: 303d021c636a55986509ce99d92ac9cffe9af1b0d794f98e8427144728ca5d49021d00b13451dfe50b4aa3ca0eee6bf8f5ef23ab4ce18a3b414c6716a69fd0
# Deterministic Sig: 303c021c418505352126bed748a353f0ffcdcf0b4c13c41711d8cbc9392b873c021c797b2b6b775b2d76e82a57323f79f01c470977fa23cab9353fd11a20
# secp224r1 (explicit, uncompressed public point)
# Random Sig: 303c021c6b275782dd45d1681f32f3f4690d16d3f5a06fe965c2318df5daeeff021c5dc8a5267976829de39dd751ded26f9036c508bd2908d7fb21bc327d
# Deterministic Sig: 303d021d00a019cda1758f2d8247e472f359a228603511b4b77c43d41ec44baa02021c24306c4c0433e717e611b514c46ab510729e72fbb8636fce950fc202
# secp256k1 (explicit, uncompressed public point)
# Random Sig: 304502203dd5c3994689726cc2ddd55b4e7f63aed7c3cdb2abc277f3094d82879d04e856022100a4eb03faa80a718ac2148b98d6279e018d24bd71755fe5fc3a63f26542941c16
# Deterministic Sig: 3045022100dec7409599a6a1ad4c4a010213fa723991dd1b67954a2fd9ebca9729bd382e69022019ce078f792768533409b89a057017e4c4c3d58f6bcb8d91fd8d92d327c2c0cf
# secp384r1 (explicit, uncompressed public point)
# Random Sig: 3064023051cc5ceb5bf9741fa531a4c3492cce78d9f3bf43e5ed8f5940f3bb6ff49cad7fd16e6528990b563d816e585217b5796502307a793437c03014f64269b659136e291256f3a07a1afa2544b44090b992ea4093918878d80a1271b178e46d213b327fc0
# Deterministic Sig: 306402301d2bc615b532b5e603db0988b1039e2894c4148ba56807450cad50fc71d508c047dd9603741b2c04d012a0c4c77458c0023051b2b77a294b86879f4ab4f6ed34c2b7b8453eb88de8e14defa15413207177ccc3bd252a1239c299939a190048ffc384
# secp521r1 (explicit, uncompressed public point)
# Random Sig: 308188024200aa50b6586ad4314b5151d6492629d79a7b9caeae81bccd662856041fa7431aa8041ce4944763d4a42b94b715c667a0aac8f7b34a20b8c72a95ea46f8f587c213a1024201eb86fae6cbb7f7b2c5cee983dc23f339d16717c1fd73ece29cc6492d7da3870338a5b5d69878f442a61149ddd7ef32bcbfaabd4507f8437e32e4a0ac7e90e3e143
# Deterministic Sig: 308187024201cca04a5daf0e5b5c56d4e21de2f525ebc7eb96297bc6e65c0d6f42b525dd34087d0701587d81ef92da684a92b802a7d1fcf9a9b6521b263fa2563a48a7324ae26702412d59193281d4c00d64d74638c0b993f23c89db0206e8afbd70d94bda776cf4cb0e94203273c6c898bb430fb0ec46e67053c8c459a47a425129e5ca27b13049ce3a
# sect113r1 (explicit, uncompressed public point)
# sect113r2 (explicit, uncompressed public point)
# sect131r1 (explicit, uncompressed public point)
# sect131r2 (explicit, uncompressed public point)
# sect163k1 (explicit, uncompressed public point)
# sect163r1 (explicit, uncompressed public point)
# sect163r2 (explicit, uncompressed public point)
# sect193r1 (explicit, uncompressed public point)
# sect193r2 (explicit, uncompressed public point)
# sect233k1 (explicit, uncompressed public point)
# sect233r1 (explicit, uncompressed public point)
# sect239k1 (explicit, uncompressed public point)
# sect283k1 (explicit, uncompressed public point)
# sect283r1 (explicit, uncompressed public point)
# sect409k1 (explicit, uncompressed public point)
# sect409r1 (explicit, uncompressed public point)
# sect571k1 (explicit, uncompressed public point)
# sect571r1 (explicit, uncompressed public point)
# wap-wsg-idm-ecid-wtls1 (explicit, uncompressed public point)
# wap-wsg-idm-ecid-wtls10 (explicit, uncompressed public point)
# wap-wsg-idm-ecid-wtls11 (explicit, uncompressed public point)
# wap-wsg-idm-ecid-wtls12 (explicit, uncompressed public point)
# Random Sig: 303d021d00f63addd0a398657248fa2be3947e1b9741c45558ac10fb95aafdff47021c64ebda320ca6e706e8e95a350c7294ade2fbe6e39795d2141a41947c
# Deterministic Sig: 303d021c2a32bc2dfab8322019cfdf2c1c8cf9416f70e4662d5fdf976bcb8890021d0084b75ec4e102a019899b97408e0e34db524bb4531182f4aa25fea149
# wap-wsg-idm-ecid-wtls3 (explicit, uncompressed public point)
# wap-wsg-idm-ecid-wtls4 (explicit, uncompressed public point)
# wap-wsg-idm-ecid-wtls5 (explicit, uncompressed public point)
# wap-wsg-idm-ecid-wtls6 (explicit, uncompressed public point)
# wap-wsg-idm-ecid-wtls7 (explicit, uncompressed public point)
# Random Sig: 302d021500a50addf69fc03bdd7dacb769195739c07823f5e0021429fed61126461798f56fd3cb872b44d416d9e8e9
# Deterministic Sig: 302d0214172351e14e798088a2272e8bfed0ea57629d5754021500cb9cccb63537c66e91f08819b5ec7ea4904c667c
# wap-wsg-idm-ecid-wtls8 (explicit, uncompressed public point)
# wap-wsg-idm-ecid-wtls9 (explicit, uncompressed public point)
# Random Sig: 302d0214531c3a5dc6bcdad22a575fce3ae7e2596f574907021500a6222e1f191f9d5ef0c1b748aa09e57ee5fcbbc8
# Deterministic Sig: 302d021439174b3ecd672b293ad3c836bb5c3aca262dba5a021500d8492a523c8ef4d4e106d9a0f59075dcf5df5b8b
# brainpoolP160r1 (explicit, hybrid public point)
# Random Sig: 302d021500e66bbd57cf3a918abcd9e55fd09d083a0edf810802143595e2194d24bdff8b17f8e7cd4bb8a68e8a832c
# Deterministic Sig: 302d02147d3ce24cf5cf7e572d779d434a88e5ae4147d409021500aa44c60f8e6d8d6f444ea7b31bdd18f1f248ba57
# brainpoolP160t1 (explicit, hybrid public point)
# Random Sig: 302d021476189ac88bf5854fb0c9660e803b696e642512c3021500889d1dfc3de3e5e5384a976f3194262a2c09ad61
# Deterministic Sig: 302d02145143ccfaab6525b5acceb7aad24eaccd9ccca58e021500a6e76774766aa7f74fcbe3e644d37f295b5f8f8b
# brainpoolP192r1 (explicit, hybrid public point)
# Random Sig: 3035021816126508899c8c150437b2af86198c778fd1b20717ebb4ae021900a403340778a024036757e852c73c1c687d1eff762827ab5b
# Deterministic Sig: 303502184cedc8b56f41029f6eb87fe336553954239eb626f91426d402190088b191e36a1713e7f6e72bb6f66f2931ffbef7b6465f0365
# brainpoolP192t1 (explicit, hybrid public point)
# Random Sig: 3034021863287be7ff5525ead7905d23501b5f46f063b8cd22eea66602185d5033bc90b0053c54169e8baed73b3903a921bab837c327
# Deterministic Sig: 303502187c9a46d12e10c384c2d8026b3d39b9582e17cfc975e3bc9002190099458fd08afd98e2324194b9f1a44e198ab51e49fe437cb1
# brainpoolP224r1 (explicit, hybrid public point)
# Random Sig: 303d021c0597427e8b032ffffee67e2c2f3f4c0ee7b4a88c251bcce4636254b8021d009f937342992e629be375d8295644cd431e84f2f388d02faa8523276e
# Deterministic Sig: 303d021c7261aba9dbfc97466c5eddfdf58451e1f8099708f571384d6957f7ab021d00ce67a3beb2fb4ba89afe1517a9590d9887fce1923d9b8a5b9ebe0f65
# brainpoolP224t1 (explicit, hybrid public point)
# Random Sig: 303d021d00ac1935ba0e60e126c72e2bc502a2501a4cce0fb59b1383aa08164004021c0a232edcc0ca550aaf2c46a94f30bd10580c5922f32b66fffabf9f11
# Deterministic Sig: 303c021c10286be2f91fe3a7aaee30997f1f2cf958640a00eced2f3d841179b7021c76a229ff47078bfe462bc5d9068f5c458065d9c19515cfef0722a8c5
# brainpoolP256r1 (explicit, hybrid public point)
# Random Sig: 3044022033a29a970f2fb9325010caf9eff233e2ce68ffedd8999feb66060bf4bf80039702206ea598088d5a484f77559d84c4045c72db1a43ff1c68b0ade422b14d9a5b8342
# Deterministic Sig: 3045022031b8e1cf4fc16967f9eef23ac5be70bc5f8c7201fbf4875c30d04a437d95452c0221008fd94ec86cdef0c22be0293ccc4b846383120d673839f1b4a832fb664b30a2ff
# brainpoolP256t1 (explicit, hybrid public point)
# Random Sig: 304402205fbaf7f1519b43292338d8d9507b21ec4183e76fd7d3c893215054192aa80d920220750df385382bee95d986d9090d195f2e235b31fa09298507e20b5d2cbc82ff53
# Deterministic Sig: 304402207861e24c05051748a95b94aaeb26ff1524e922b68cc28ba3d4b0e0eac864423f02201037a78fbf611bf5de65f9a6105649aa4f92e708cccca008ed66dd5f8dd38792
# brainpoolP320r1 (explicit, hybrid public point)
# Random Sig: 3056022900c9000741f311f498c0f56acbc3fc372af1842bca3c4e62b825cc3ed8cdae66490c597a6d75140bbb022900bcc33763dc5fb952d8641e26863d25c4f75c46f8b7199d43bbafaf8bfb29979f314603cde0e1a5b8
# Deterministic Sig: 3056022900bc8ac330996ae59fbb447fec259519c3a60d69169569027a94b09279f264aa95f9a2fe7e25b6812c02290094e3e6d4596ec7e8e45e6f590bc9ddafcc2704bedba2f1ce2afdf14f7ec19e0b1ece833ba9551061
# brainpoolP320t1 (explicit, hybrid public point)
# Random Sig: 3056022900bd34e15c5a15d17032e01c31621c02b5f6b4d9d916c8d28a62ff4067a27c15d4cfe6e63b0347bdd102290094cd1de0d10f426a3c8cc2dc6243305c33f540381c155cb747a5f557ca9d28cb37f5aea60dc60838
# Deterministic Sig: 30550229009935e91247149ae01c678d58747b171d6e105358cb2e9cae27914d1a75fa331388faa84d514bc1af02282f48c5c8ddacb1c2f5369622424a7068c3fd471df5d3f37672327f6263497bad861377a70b8f7295
# brainpoolP384r1 (explicit, hybrid public point)
# Random Sig: 306402306149b5e813a7c676366a3a6084e88e92b98dff86b2930f219bcf2058de56a36c4aed68df1a7e5061f25c0976e8e1ffd50230444ddf23650faf722ff5975ecf2ab6a558d19871e0a308ea849f88efe5ed265f82013cd6a398624893318c96c74fd47e
# Deterministic Sig: 30640230692aecf56801e00fff922498a730041a1d0ae8807e36dd1b72eb85e8433e56409ad23168efc9c11ee7fe56d9ab2ae4ad02303df5dac5be54be3218a20032a694d1568feafba3d3964ee2febff84a2145cd9f0b9f4e288626a9b87a59ec1355a98cb2
# brainpoolP384t1 (explicit, hybrid public point)
# Random Sig: 30640230056fe33366211f4d85ecdf571a94ebc7481f20bde0138862c1f187ff9bb360268abb15eec80474e13729347cbf332ee7023033db7ae824fdc6561f74548ad43618bd28b2170c189e78fc38bd068530d9a0b19f6ccf0b1292ba1efedfe77d711c03b7
# Deterministic Sig: 3064023040d6f429f2e108345db576c5b264bb0c7bcabe8c2e2d112100ac789675fe1846ba5c7fc27bd3436f8c24cf9f681ee8b002300da35ca98067f8f4bcfa9b72d9999e1546b9942e9e5f2d537af64be7471bdfc308da502bdea05a2adb3dc4f13626f1a0
# brainpoolP512r1 (explicit, hybrid public point)
# Random Sig: 3081850241009b9a05ca740b34c67824e021a71a15685a7b6cf509b7b7010541d893988f714ba68a37caa33357ba27fa8beb97951ac229bab8d8f90d83ac17ee987ebfda9b3702405ffbf01b4ca8d5b7b783e5222bd935added116a7c43cfac269aa5e6e0a76eeceaf5ddc24445b4d7856a8c3ff1987eeeb9bd89e6b0d6546916c3f1a9ac1a2dde0
# Deterministic Sig: 308184024032100fd62629eaf3b158233be14f3514e18c3a2f57639349f7dfa32036bcd112f0d6b622beba489cd2ff43f50c1b069ccf74ab741f336032dfd6e5ebfff933d2024057d389d9d8f41354cfdd3c27d7f55a3dbd1984b60b07ca26b29a1432b63ecf6460ffc92cf4bc776d0f45ca7631c0cae5ca8429d2b2fc9e3f1d4769b5513744b5
# brainpoolP512t1 (explicit, hybrid public point)
# Random Sig: 30818402401bf8a8ae1f74dff42160e93832661e851b7f5b2d4f8d9add54ae3856b4586e0d0094d7bba044e95f1e4bcfa07b583174d99ea57a2115536493003b7e70ee27a502403f335ac0b393e2346fcee1fb0fe6528cfca32714a15e17331497b5f30c31f563cf6c85a5de9f14851a21fae2d54e968935bddad589727d78079b3996ba1c6575
# Deterministic Sig: 30818402403bf95eec883f3a16188595f2faa34f36f707484a9ff77a4b6acbe2d82bb289eeaf3e88a4b2c57b47924d74b4a43be1b618cbd0b96e797b7287293f520c7a566b024024ed5c4a252c13c31a9e8b80182bbe7471d90cfcdf4a416ab885990a3a13875bc52d3d31163ed138b0a498ea2fe00a1b1754905671e7b4fcd332885e40aa4ab4
# c2pnb163v1 (explicit, hybrid public point)
# c2pnb163v2 (explicit, hybrid public point)
# c2pnb163v3 (explicit, hybrid public point)
# c2pnb176v1 (explicit, hybrid public point)
# c2pnb208w1 (explicit, hybrid public point)
# c2pnb272w1 (explicit, hybrid public point)
# c2pnb304w1 (explicit, hybrid public point)
# c2pnb368w1 (explicit, hybrid public point)
# c2tnb191v1 (explicit, hybrid public point)
# c2tnb191v2 (explicit, hybrid public point)
# c2tnb191v3 (explicit, hybrid public point)
# c2tnb239v1 (explicit, hybrid public point)
# c2tnb239v2 (explicit, hybrid public point)
# c2tnb239v3 (explicit, hybrid public point)
# c2tnb359v1 (explicit, hybrid public point)
# c2tnb431r1 (explicit, hybrid public point)
# prime192v1 (explicit, hybrid public point)
# Random Sig: 30340218341c71dcbbbb6367e02cb25f7d73e0c59fe251ff9feb343b0218449eb9c4d88c274355ae517bcfeecf9dbd73c735ba7fe896
# Deterministic Sig: 303402184a2485574cb1354dd788c6f218694bd40ee49e1de9553e3202185fe72f3bc3932124df1576fa3f70521be571b92ac9b8edb3
# prime192v2 (explicit, hybrid public point)
# Random Sig: 3035021824b75cc27dc38dfd235885254684750d01806aa021597a130219009160907690efe685dc84ba5da0661059cc9e6fc7195ef739
# Deterministic Sig: 3035021900864e434b06c3ba3c76a913a283b79c15e6a75142f5d0f2f002180ba61dceef9fa5703dd7fdaeae5111b56888dada6b391c7e
# prime192v3 (explicit, hybrid public point)
# Random Sig: 303602190087886acc88d73c0af4bcb434986ecff297fe9af1a53defa9021900cd68e382cb5f90da56ad8c141991d239ada86965c5b7645a
# Deterministic Sig: 3035021879c9b5f798d0efd4695be05af1de9bcfeeb904e7c6d040ed021900c8b8ce66c1552ba97a1e4e1465bb429c4bed1bfa8eac0794
# prime239v1 (explicit, hybrid public point)
# Random Sig: 3040021e0c09fb83a06bd1b81ff192d51e867e4103b70466cdea09469679d3e096a0021e491c37381bb4fc3dd86d58b468786674b50d41217a7c50bad1ad92098791
# Deterministic Sig: 3040021e4d90a7aa2d69b3246d67250cf298c4d428551952f5e7a82d762bbf4b3c61021e653b6d721dc35c8f2e562ffc5befae71439536418bc7c1918f82b80870de
# prime239v2 (explicit, hybrid public point)
# Random Sig: 3040021e20a7eb90d7c07ceba313e3da90b1fffb2ef67dd46ff543dd3987ae75d98a021e544f4afa20b54075a47d2801728fcb81f1868fe828246006bc83b3545e3f
# Deterministic Sig: 3040021e6fe6a9c485776d6c80db08f6bf876e498e0bb08eb3c10462e4aac435e431021e3e86a45ab824ccd95bb17c828af64dae61411b4fdf7341f6f54c78bd6314
# prime239v3 (explicit, hybrid public point)
# Random Sig: 3040021e5ce33605c50eb879c273eed323a09ffe7bb6fc27f308e5443bfe7dea1f92021e5c9d0158f29275700f5d9f13325d24d6662b01897d3dae770448f85f06ed
# Deterministic Sig: 3040021e3a5d55ed0a4570fac9ec92ef2a14ed8edaad276b64cced956c1d85744f6d021e7d8277f5231bec777ac7aee75af32019d937cf1bd8c51e5673d1913a702d
# prime256v1 (explicit, hybrid public point)
# Random Sig: 304502201e1002718ec1d975f3072206c5d16a806a0135d5703e70d3ebc4743cfa739776022100f64b15927dc990a673ccc5f13c771fc005a7f1c90171d581fd69290a57e09bca
# Deterministic Sig: 3045022100f2efcf1ce6f484f925ed7add174f9ae96f3d89792e31e0b708869690d8a098220220780fd9500d14a1da47a85f9d78039e3b7010426f0ac64c337ac08c0e0735bbfc
# secp112r1 (explicit, hybrid public point)
# secp112r2 (explicit, hybrid public point)
# secp128r1 (explicit, hybrid public point)
# secp128r2 (explicit, hybrid public point)
# secp160k1 (explicit, hybrid public point)
# Random Sig: 302e021500a1f0047b0a49e277fade1933d0d7ef1fb52286b0021500d1fa32928c0f6ce08dd4524eb8e189d8d77f0a4d
# Deterministic Sig: 302d0214178e1c3b877a638f273849c5bffc661264cdfa00021500ea18a399bcb89d8407201184bc45701ab0aaff50
# secp160r1 (explicit, hybrid public point)
# Random Sig: 302c0214579d8434a990d79fb7c5af680e8b91fb305837ff021469e6046ff6ccb353e45786e2a1b22714ff993423
# Deterministic Sig: 302d02141f256a57b51ee9be268211d7eb1ad4f98939874502150099313d4056fb1f5bb72bae573afd5671661f9587
# secp160r2 (explicit, hybrid public point)
# Random Sig: 302c021461bab1171d958e12d8f024293b269cbe801ab7b00214087f3167c9ac1d874b259334a0408a45c7346281
# Deterministic Sig: 302d0215008c668b07a6049d4dd405b6f742b014618a6755bf02140bfbc15f568d3eba49d051aecccac06cf864bfb2
# secp192k1 (explicit, hybrid public point)
# Random Sig: 30350218416c500b4465e45540c1c6a33ceb528014f5f04488aa419d021900e0600c1396b453363ae8868a04cae2f57b3a8e34067a9d14
# Deterministic Sig: 3036021900a2e1bdaa4a539e7d1bf1a077f1c6e8280aa07303772a47a3021900f802be5ad27b58dbd73434e796e217b02494ab64804f41ec
# secp224k1 (explicit, hybrid public point)
# Random Sig: 303c021c61afc276961906774f4ea93554dd525236eaaca47ce50ff6e9bcbe38021c1de6880ffae7ad817328658d2b53393f455710cfae230ad5e64967a7
# Deterministic Sig: 303c021c70dabf567ed7c6bf31ba3e983f4df2856a47a572da7969e539f0e29f021c58e206b3f1fbe27344d830718898218e3a6100adf0557e94f4cbe23f
# secp224r1 (explicit, hybrid public point)
# Random Sig: 303d021c1427bc79ccb6d1a2214e0d8c7e7ac75ec9612b00575af14081751030021d00873bae1c0aff5a68cfa60247f9a6df24df88bb04350292a1a218e35a
# Deterministic Sig: 303d021d00b20fa088aff70bcd6e1cf3e43d347a59e0632c3116bbf6fb953d018f021c37953ffcffcb6fb5baa1d217814bb2fc7b76db0906a7b29606b5d10e
# secp256k1 (explicit, hybrid public point)
# Random Sig: 304502202de96816f6db910edf3237675d3186ad12a36f6d3339397bd36e572f522e3995022100d90e55306bd95c6732254197728d5fb7e0f5cf118768354b6366b0aa914ae77e
# Deterministic Sig: 3045022100f6a75a0ad47a563f2c6dcdf2e886c16a2c8d93453d060eedb71c2723384c200d02206b7dbaac38195b4c3f3adef767e9157022e9f26e20ea899c5df2143a1558ffea
# secp384r1 (explicit, hybrid public point)
# Random Sig: 3065023040cfdfc8984677677fc58d7e9eb583e7e49d093b25b8fcb05ba67602492df84b23a46bb61f7d0b8a1c6fef8847980214023100c84c662d63af47ad6298920b22f2c7d0dbc790e848d2b8979c3c65a2dad22ca6eb11975f0a7c45778576c7bbe873b350
# Deterministic Sig: 3066023100d07bbcdc6068af7109504e36b6123ffba7e70be12c81cdb68ddf75107f75b3048be49d25378678b0851534f11ed52bf202310098ac0838f640a5b13fe28621f0a7df775b549783d503620393c4d9468638b7b6d990808a42036b919c3af328f428d3e3
# secp521r1 (explicit, hybrid public point)
# Random Sig: 308188024201889186a8a9b7d890e3d66b085cdf212b24ce0b5215517817adb46566a43c1c36bd5037a5165ac0368c60438531ef595dbfc9794ea2bd1549e1284a701ec962f1520242018f2ee32ae3ad810d2c02392bbeaf00e395a039b050c16e3128973d31b769c88ab6942c9fe1e8699a9d282ebbd213ad2336e551ea6b868b237ffa72c79c3f16e6b1
# Deterministic Sig: 30818802420137d6a2f4da60eeaa383c01198066c0d4d5ae93523a95543e9e7a60a930501eeb65442ef8891cf92d2719ddcd26de6ba639ece0717af58e6e46dbc191c6a98de3460242008ebd9a2eb3818923d50ec9e5a8bac378add87d489759891851987ab7c221bdacef6e0800f67dbf11d821b7ad317554ab919ea09140e311d4c6bc71d171af3b085b
# sect113r1 (explicit, hybrid public point)
# sect113r2 (explicit, hybrid public point)
# sect131r1 (explicit, hybrid public point)
# sect131r2 (explicit, hybrid public point)
# sect163k1 (explicit, hybrid public point)
# sect163r1 (explicit, hybrid public point)
# sect163r2 (explicit, hybrid public point)
# sect193r1 (explicit, hybrid public point)
# sect193r2 (explicit, hybrid public point)
# sect233k1 (explicit, hybrid public point)
# sect233r1 (explicit, hybrid public point)
# sect239k1 (explicit, hybrid public point)
# sect283k1 (explicit, hybrid public point)
# sect283r1 (explicit, hybrid public point)
# sect409k1 (explicit, hybrid public point)
# sect409r1 (explicit, hybrid public point)
# sect571k1 (explicit, hybrid public point)
# sect571r1 (explicit, hybrid public point)
# wap-wsg-idm-ecid-wtls1 (explicit, hybrid public point)
# wap-wsg-idm-ecid-wtls10 (explicit, hybrid public point)
# wap-wsg-idm-ecid-wtls11 (explicit, hybrid public point)
# wap-wsg-idm-ecid-wtls12 (explicit, hybrid public point)
# Random Sig: 303d021d008410f2bb0fd2b36e7b880e28bf92854be37a49af6d21f5b90e121edb021c53d1682d1a86f28bea00acacee9789f1f879081d72abf7b515c40d34
# Deterministic Sig: 303d021c30d2341b9dae91ab83e67578708f103038e375548cabecbf457292aa021d00b20a4b855ad3db0e20e2619ec6301e39e7e88535d2f33925325dfa5f
# wap-wsg-idm-ecid-wtls3 (explicit, hybrid public point)
# wap-wsg-idm-ecid-wtls4 (explicit, hybrid public point)
# wap-wsg-idm-ecid-wtls5 (explicit, hybrid public point)
# wap-wsg-idm-ecid-wtls6 (explicit, hybrid public point)
# wap-wsg-idm-ecid-wtls7 (explicit, hybrid public point)
# Random Sig: 302e021500890df61ec550929490913a02a9c0a78c7021687a021500c983711eb059b587c95ed0a58947924b3062b341
# Deterministic Sig: 302e021500e4de65ca1498304d07f7f4b32fc9a6035475b5ee021500e1fbcb24a4c41f47c79fb3b6462807f504d1bba6
# wap-wsg-idm-ecid-wtls8 (explicit, hybrid public point)
# wap-wsg-idm-ecid-wtls9 (explicit, hybrid public point)
# Random Sig: 302d02140627aea60ecef51b10b1f44edbc09182f05edf41021500aa86f30b29d7833e743dac31c723c14f0b169517
# Deterministic Sig: 302c02144550e8a77dd44d2f27197aeac53339a62ef8d45d021470ac01fc28956e6677d557e90e88093d36e6ae20
# {
#   'c2pnb163v1 (explicit, compressed public point)' => 'Crypt::Perl::X::ECDSA::CharacteristicTwoUnsupported',
#   'c2pnb163v1 (explicit, hybrid public point)' => 'Crypt::Perl::X::ECDSA::CharacteristicTwoUnsupported',
#   'c2pnb163v1 (explicit, uncompressed public point)' => 'Crypt::Perl::X::ECDSA::CharacteristicTwoUnsupported',
#   'c2pnb163v1 (named_curve, compressed public point)' => 'Crypt::Perl::X::ECDSA::NoCurveForOID',
#   'c2pnb163v1 (named_curve, hybrid public point)' => 'Crypt::Perl::X::ECDSA::NoCurveForOID',
#   'c2pnb163v1 (named_curve, uncompressed public point)' => 'Crypt::Perl::X::ECDSA::NoCurveForOID',
#   'c2pnb163v2 (explicit, compressed public point)' => 'Crypt::Perl::X::ECDSA::CharacteristicTwoUnsupported',
#   'c2pnb163v2 (explicit, hybrid public point)' => 'Crypt::Perl::X::ECDSA::CharacteristicTwoUnsupported',
#   'c2pnb163v2 (explicit, uncompressed public point)' => 'Crypt::Perl::X::ECDSA::CharacteristicTwoUnsupported',
#   'c2pnb163v2 (named_curve, compressed public point)' => 'Crypt::Perl::X::ECDSA::NoCurveForOID',
#   'c2pnb163v2 (named_curve, hybrid public point)' => 'Crypt::Perl::X::ECDSA::NoCurveForOID',
#   'c2pnb163v2 (named_curve, uncompressed public point)' => 'Crypt::Perl::X::ECDSA::NoCurveForOID',
#   'c2pnb163v3 (explicit, compressed public point)' => 'Crypt::Perl::X::ECDSA::CharacteristicTwoUnsupported',
#   'c2pnb163v3 (explicit, hybrid public point)' => 'Crypt::Perl::X::ECDSA::CharacteristicTwoUnsupported',
#   'c2pnb163v3 (explicit, uncompressed public point)' => 'Crypt::Perl::X::ECDSA::CharacteristicTwoUnsupported',
#   'c2pnb163v3 (named_curve, compressed public point)' => 'Crypt::Perl::X::ECDSA::NoCurveForOID',
#   'c2pnb163v3 (named_curve, hybrid public point)' => 'Crypt::Perl::X::ECDSA::NoCurveForOID',
#   'c2pnb163v3 (named_curve, uncompressed public point)' => 'Crypt::Perl::X::ECDSA::NoCurveForOID',
#   'c2pnb176v1 (explicit, compressed public point)' => 'Crypt::Perl::X::ECDSA::CharacteristicTwoUnsupported',
#   'c2pnb176v1 (explicit, hybrid public point)' => 'Crypt::Perl::X::ECDSA::CharacteristicTwoUnsupported',
#   'c2pnb176v1 (explicit, uncompressed public point)' => 'Crypt::Perl::X::ECDSA::CharacteristicTwoUnsupported',
#   'c2pnb176v1 (named_curve, compressed public point)' => 'Crypt::Perl::X::ECDSA::NoCurveForOID',
#   'c2pnb176v1 (named_curve, hybrid public point)' => 'Crypt::Perl::X::ECDSA::NoCurveForOID',
#   'c2pnb176v1 (named_curve, uncompressed public point)' => 'Crypt::Perl::X::ECDSA::NoCurveForOID',
#   'c2pnb208w1 (explicit, compressed public point)' => 'Crypt::Perl::X::ECDSA::CharacteristicTwoUnsupported',
#   'c2pnb208w1 (explicit, hybrid public point)' => 'Crypt::Perl::X::ECDSA::CharacteristicTwoUnsupported',
#   'c2pnb208w1 (explicit, uncompressed public point)' => 'Crypt::Perl::X::ECDSA::CharacteristicTwoUnsupported',
#   'c2pnb208w1 (named_curve, compressed public point)' => 'Crypt::Perl::X::ECDSA::NoCurveForOID',
#   'c2pnb208w1 (named_curve, hybrid public point)' => 'Crypt::Perl::X::ECDSA::NoCurveForOID',
#   'c2pnb208w1 (named_curve, uncompressed public point)' => 'Crypt::Perl::X::ECDSA::NoCurveForOID',
#   'c2pnb272w1 (explicit, compressed public point)' => 'Crypt::Perl::X::ECDSA::CharacteristicTwoUnsupported',
#   'c2pnb272w1 (explicit, hybrid public point)' => 'Crypt::Perl::X::ECDSA::CharacteristicTwoUnsupported',
#   'c2pnb272w1 (explicit, uncompressed public point)' => 'Crypt::Perl::X::ECDSA::CharacteristicTwoUnsupported',
#   'c2pnb272w1 (named_curve, compressed public point)' => 'Crypt::Perl::X::ECDSA::NoCurveForOID',
#   'c2pnb272w1 (named_curve, hybrid public point)' => 'Crypt::Perl::X::ECDSA::NoCurveForOID',
#   'c2pnb272w1 (named_curve, uncompressed public point)' => 'Crypt::Perl::X::ECDSA::NoCurveForOID',
#   'c2pnb304w1 (explicit, compressed public point)' => 'Crypt::Perl::X::ECDSA::CharacteristicTwoUnsupported',
#   'c2pnb304w1 (explicit, hybrid public point)' => 'Crypt::Perl::X::ECDSA::CharacteristicTwoUnsupported',
#   'c2pnb304w1 (explicit, uncompressed public point)' => 'Crypt::Perl::X::ECDSA::CharacteristicTwoUnsupported',
#   'c2pnb304w1 (named_curve, compressed public point)' => 'Crypt::Perl::X::ECDSA::NoCurveForOID',
#   'c2pnb304w1 (named_curve, hybrid public point)' => 'Crypt::Perl::X::ECDSA::NoCurveForOID',
#   'c2pnb304w1 (named_curve, uncompressed public point)' => 'Crypt::Perl::X::ECDSA::NoCurveForOID',
#   'c2pnb368w1 (explicit, compressed public point)' => 'Crypt::Perl::X::ECDSA::CharacteristicTwoUnsupported',
#   'c2pnb368w1 (explicit, hybrid public point)' => 'Crypt::Perl::X::ECDSA::CharacteristicTwoUnsupported',
#   'c2pnb368w1 (explicit, uncompressed public point)' => 'Crypt::Perl::X::ECDSA::CharacteristicTwoUnsupported',
#   'c2pnb368w1 (named_curve, compressed public point)' => 'Crypt::Perl::X::ECDSA::NoCurveForOID',
#   'c2pnb368w1 (named_curve, hybrid public point)' => 'Crypt::Perl::X::ECDSA::NoCurveForOID',
#   'c2pnb368w1 (named_curve, uncompressed public point)' => 'Crypt::Perl::X::ECDSA::NoCurveForOID',
#   'c2tnb191v1 (explicit, compressed public point)' => 'Crypt::Perl::X::ECDSA::CharacteristicTwoUnsupported',
#   'c2tnb191v1 (explicit, hybrid public point)' => 'Crypt::Perl::X::ECDSA::CharacteristicTwoUnsupported',
#   'c2tnb191v1 (explicit, uncompressed public point)' => 'Crypt::Perl::X::ECDSA::CharacteristicTwoUnsupported',
#   'c2tnb191v1 (named_curve, compressed public point)' => 'Crypt::Perl::X::ECDSA::NoCurveForOID',
#   'c2tnb191v1 (named_curve, hybrid public point)' => 'Crypt::Perl::X::ECDSA::NoCurveForOID',
#   'c2tnb191v1 (named_curve, uncompressed public point)' => 'Crypt::Perl::X::ECDSA::NoCurveForOID',
#   'c2tnb191v2 (explicit, compressed public point)' => 'Crypt::Perl::X::ECDSA::CharacteristicTwoUnsupported',
#   'c2tnb191v2 (explicit, hybrid public point)' => 'Crypt::Perl::X::ECDSA::CharacteristicTwoUnsupported',
#   'c2tnb191v2 (explicit, uncompressed public point)' => 'Crypt::Perl::X::ECDSA::CharacteristicTwoUnsupported',
#   'c2tnb191v2 (named_curve, compressed public point)' => 'Crypt::Perl::X::ECDSA::NoCurveForOID',
#   'c2tnb191v2 (named_curve, hybrid public point)' => 'Crypt::Perl::X::ECDSA::NoCurveForOID',
#   'c2tnb191v2 (named_curve, uncompressed public point)' => 'Crypt::Perl::X::ECDSA::NoCurveForOID',
#   'c2tnb191v3 (explicit, compressed public point)' => 'Crypt::Perl::X::ECDSA::CharacteristicTwoUnsupported',
#   'c2tnb191v3 (explicit, hybrid public point)' => 'Crypt::Perl::X::ECDSA::CharacteristicTwoUnsupported',
#   'c2tnb191v3 (explicit, uncompressed public point)' => 'Crypt::Perl::X::ECDSA::CharacteristicTwoUnsupported',
#   'c2tnb191v3 (named_curve, compressed public point)' => 'Crypt::Perl::X::ECDSA::NoCurveForOID',
#   'c2tnb191v3 (named_curve, hybrid public point)' => 'Crypt::Perl::X::ECDSA::NoCurveForOID',
#   'c2tnb191v3 (named_curve, uncompressed public point)' => 'Crypt::Perl::X::ECDSA::NoCurveForOID',
#   'c2tnb239v1 (explicit, compressed public point)' => 'Crypt::Perl::X::ECDSA::CharacteristicTwoUnsupported',
#   'c2tnb239v1 (explicit, hybrid public point)' => 'Crypt::Perl::X::ECDSA::CharacteristicTwoUnsupported',
#   'c2tnb239v1 (explicit, uncompressed public point)' => 'Crypt::Perl::X::ECDSA::CharacteristicTwoUnsupported',
#   'c2tnb239v1 (named_curve, compressed public point)' => 'Crypt::Perl::X::ECDSA::NoCurveForOID',
#   'c2tnb239v1 (named_curve, hybrid public point)' => 'Crypt::Perl::X::ECDSA::NoCurveForOID',
#   'c2tnb239v1 (named_curve, uncompressed public point)' => 'Crypt::Perl::X::ECDSA::NoCurveForOID',
#   'c2tnb239v2 (explicit, compressed public point)' => 'Crypt::Perl::X::ECDSA::CharacteristicTwoUnsupported',
#   'c2tnb239v2 (explicit, hybrid public point)' => 'Crypt::Perl::X::ECDSA::CharacteristicTwoUnsupported',
#   'c2tnb239v2 (explicit, uncompressed public point)' => 'Crypt::Perl::X::ECDSA::CharacteristicTwoUnsupported',
#   'c2tnb239v2 (named_curve, compressed public point)' => 'Crypt::Perl::X::ECDSA::NoCurveForOID',
#   'c2tnb239v2 (named_curve, hybrid public point)' => 'Crypt::Perl::X::ECDSA::NoCurveForOID',
#   'c2tnb239v2 (named_curve, uncompressed public point)' => 'Crypt::Perl::X::ECDSA::NoCurveForOID',
#   'c2tnb239v3 (explicit, compressed public point)' => 'Crypt::Perl::X::ECDSA::CharacteristicTwoUnsupported',
#   'c2tnb239v3 (explicit, hybrid public point)' => 'Crypt::Perl::X::ECDSA::CharacteristicTwoUnsupported',
#   'c2tnb239v3 (explicit, uncompressed public point)' => 'Crypt::Perl::X::ECDSA::CharacteristicTwoUnsupported',
#   'c2tnb239v3 (named_curve, compressed public point)' => 'Crypt::Perl::X::ECDSA::NoCurveForOID',
#   'c2tnb239v3 (named_curve, hybrid public point)' => 'Crypt::Perl::X::ECDSA::NoCurveForOID',
#   'c2tnb239v3 (named_curve, uncompressed public point)' => 'Crypt::Perl::X::ECDSA::NoCurveForOID',
#   'c2tnb359v1 (explicit, compressed public point)' => 'Crypt::Perl::X::ECDSA::CharacteristicTwoUnsupported',
#   'c2tnb359v1 (explicit, hybrid public point)' => 'Crypt::Perl::X::ECDSA::CharacteristicTwoUnsupported',
#   'c2tnb359v1 (explicit, uncompressed public point)' => 'Crypt::Perl::X::ECDSA::CharacteristicTwoUnsupported',
#   'c2tnb359v1 (named_curve, compressed public point)' => 'Crypt::Perl::X::ECDSA::NoCurveForOID',
#   'c2tnb359v1 (named_curve, hybrid public point)' => 'Crypt::Perl::X::ECDSA::NoCurveForOID',
#   'c2tnb359v1 (named_curve, uncompressed public point)' => 'Crypt::Perl::X::ECDSA::NoCurveForOID',
#   'c2tnb431r1 (explicit, compressed public point)' => 'Crypt::Perl::X::ECDSA::CharacteristicTwoUnsupported',
#   'c2tnb431r1 (explicit, hybrid public point)' => 'Crypt::Perl::X::ECDSA::CharacteristicTwoUnsupported',
#   'c2tnb431r1 (explicit, uncompressed public point)' => 'Crypt::Perl::X::ECDSA::CharacteristicTwoUnsupported',
#   'c2tnb431r1 (named_curve, compressed public point)' => 'Crypt::Perl::X::ECDSA::NoCurveForOID',
#   'c2tnb431r1 (named_curve, hybrid public point)' => 'Crypt::Perl::X::ECDSA::NoCurveForOID',
#   'c2tnb431r1 (named_curve, uncompressed public point)' => 'Crypt::Perl::X::ECDSA::NoCurveForOID',
#   'secp112r1 (explicit, compressed public point)' => 'Crypt::Perl::X::TooLongToSign',
#   'secp112r1 (explicit, hybrid public point)' => 'Crypt::Perl::X::TooLongToSign',
#   'secp112r1 (explicit, uncompressed public point)' => 'Crypt::Perl::X::TooLongToSign',
#   'secp112r1 (named_curve, compressed public point)' => 'Crypt::Perl::X::TooLongToSign',
#   'secp112r1 (named_curve, hybrid public point)' => 'Crypt::Perl::X::TooLongToSign',
#   'secp112r1 (named_curve, uncompressed public point)' => 'Crypt::Perl::X::TooLongToSign',
#   'secp112r2 (explicit, compressed public point)' => 'Crypt::Perl::X::TooLongToSign',
#   'secp112r2 (explicit, hybrid public point)' => 'Crypt::Perl::X::TooLongToSign',
#   'secp112r2 (explicit, uncompressed public point)' => 'Crypt::Perl::X::TooLongToSign',
#   'secp112r2 (named_curve, compressed public point)' => 'Crypt::Perl::X::TooLongToSign',
#   'secp112r2 (named_curve, hybrid public point)' => 'Crypt::Perl::X::TooLongToSign',
#   'secp112r2 (named_curve, uncompressed public point)' => 'Crypt::Perl::X::TooLongToSign',
#   'secp128r1 (explicit, compressed public point)' => 'Crypt::Perl::X::TooLongToSign',
#   'secp128r1 (explicit, hybrid public point)' => 'Crypt::Perl::X::TooLongToSign',
#   'secp128r1 (explicit, uncompressed public point)' => 'Crypt::Perl::X::TooLongToSign',
#   'secp128r1 (named_curve, compressed public point)' => 'Crypt::Perl::X::TooLongToSign',
#   'secp128r1 (named_curve, hybrid public point)' => 'Crypt::Perl::X::TooLongToSign',
#   'secp128r1 (named_curve, uncompressed public point)' => 'Crypt::Perl::X::TooLongToSign',
#   'secp128r2 (explicit, compressed public point)' => 'Crypt::Perl::X::TooLongToSign',
#   'secp128r2 (explicit, hybrid public point)' => 'Crypt::Perl::X::TooLongToSign',
#   'secp128r2 (explicit, uncompressed public point)' => 'Crypt::Perl::X::TooLongToSign',
#   'secp128r2 (named_curve, compressed public point)' => 'Crypt::Perl::X::TooLongToSign',
#   'secp128r2 (named_curve, hybrid public point)' => 'Crypt::Perl::X::TooLongToSign',
#   'secp128r2 (named_curve, uncompressed public point)' => 'Crypt::Perl::X::TooLongToSign',
#   'sect113r1 (explicit, compressed public point)' => 'Crypt::Perl::X::ECDSA::CharacteristicTwoUnsupported',
#   'sect113r1 (explicit, hybrid public point)' => 'Crypt::Perl::X::ECDSA::CharacteristicTwoUnsupported',
#   'sect113r1 (explicit, uncompressed public point)' => 'Crypt::Perl::X::ECDSA::CharacteristicTwoUnsupported',
#   'sect113r1 (named_curve, compressed public point)' => 'Crypt::Perl::X::ECDSA::NoCurveForOID',
#   'sect113r1 (named_curve, hybrid public point)' => 'Crypt::Perl::X::ECDSA::NoCurveForOID',
#   'sect113r1 (named_curve, uncompressed public point)' => 'Crypt::Perl::X::ECDSA::NoCurveForOID',
#   'sect113r2 (explicit, compressed public point)' => 'Crypt::Perl::X::ECDSA::CharacteristicTwoUnsupported',
#   'sect113r2 (explicit, hybrid public point)' => 'Crypt::Perl::X::ECDSA::CharacteristicTwoUnsupported',
#   'sect113r2 (explicit, uncompressed public point)' => 'Crypt::Perl::X::ECDSA::CharacteristicTwoUnsupported',
#   'sect113r2 (named_curve, compressed public point)' => 'Crypt::Perl::X::ECDSA::NoCurveForOID',
#   'sect113r2 (named_curve, hybrid public point)' => 'Crypt::Perl::X::ECDSA::NoCurveForOID',
#   'sect113r2 (named_curve, uncompressed public point)' => 'Crypt::Perl::X::ECDSA::NoCurveForOID',
#   'sect131r1 (explicit, compressed public point)' => 'Crypt::Perl::X::ECDSA::CharacteristicTwoUnsupported',
#   'sect131r1 (explicit, hybrid public point)' => 'Crypt::Perl::X::ECDSA::CharacteristicTwoUnsupported',
#   'sect131r1 (explicit, uncompressed public point)' => 'Crypt::Perl::X::ECDSA::CharacteristicTwoUnsupported',
#   'sect131r1 (named_curve, compressed public point)' => 'Crypt::Perl::X::ECDSA::NoCurveForOID',
#   'sect131r1 (named_curve, hybrid public point)' => 'Crypt::Perl::X::ECDSA::NoCurveForOID',
#   'sect131r1 (named_curve, uncompressed public point)' => 'Crypt::Perl::X::ECDSA::NoCurveForOID',
#   'sect131r2 (explicit, compressed public point)' => 'Crypt::Perl::X::ECDSA::CharacteristicTwoUnsupported',
#   'sect131r2 (explicit, hybrid public point)' => 'Crypt::Perl::X::ECDSA::CharacteristicTwoUnsupported',
#   'sect131r2 (explicit, uncompressed public point)' => 'Crypt::Perl::X::ECDSA::CharacteristicTwoUnsupported',
#   'sect131r2 (named_curve, compressed public point)' => 'Crypt::Perl::X::ECDSA::NoCurveForOID',
#   'sect131r2 (named_curve, hybrid public point)' => 'Crypt::Perl::X::ECDSA::NoCurveForOID',
#   'sect131r2 (named_curve, uncompressed public point)' => 'Crypt::Perl::X::ECDSA::NoCurveForOID',
#   'sect163k1 (explicit, compressed public point)' => 'Crypt::Perl::X::ECDSA::CharacteristicTwoUnsupported',
#   'sect163k1 (explicit, hybrid public point)' => 'Crypt::Perl::X::ECDSA::CharacteristicTwoUnsupported',
#   'sect163k1 (explicit, uncompressed public point)' => 'Crypt::Perl::X::ECDSA::CharacteristicTwoUnsupported',
#   'sect163k1 (named_curve, compressed public point)' => 'Crypt::Perl::X::ECDSA::NoCurveForOID',
#   'sect163k1 (named_curve, hybrid public point)' => 'Crypt::Perl::X::ECDSA::NoCurveForOID',
#   'sect163k1 (named_curve, uncompressed public point)' => 'Crypt::Perl::X::ECDSA::NoCurveForOID',
#   'sect163r1 (explicit, compressed public point)' => 'Crypt::Perl::X::ECDSA::CharacteristicTwoUnsupported',
#   'sect163r1 (explicit, hybrid public point)' => 'Crypt::Perl::X::ECDSA::CharacteristicTwoUnsupported',
#   'sect163r1 (explicit, uncompressed public point)' => 'Crypt::Perl::X::ECDSA::CharacteristicTwoUnsupported',
#   'sect163r1 (named_curve, compressed public point)' => 'Crypt::Perl::X::ECDSA::NoCurveForOID',
#   'sect163r1 (named_curve, hybrid public point)' => 'Crypt::Perl::X::ECDSA::NoCurveForOID',
#   'sect163r1 (named_curve, uncompressed public point)' => 'Crypt::Perl::X::ECDSA::NoCurveForOID',
#   'sect163r2 (explicit, compressed public point)' => 'Crypt::Perl::X::ECDSA::CharacteristicTwoUnsupported',
#   'sect163r2 (explicit, hybrid public point)' => 'Crypt::Perl::X::ECDSA::CharacteristicTwoUnsupported',
#   'sect163r2 (explicit, uncompressed public point)' => 'Crypt::Perl::X::ECDSA::CharacteristicTwoUnsupported',
#   'sect163r2 (named_curve, compressed public point)' => 'Crypt::Perl::X::ECDSA::NoCurveForOID',
#   'sect163r2 (named_curve, hybrid public point)' => 'Crypt::Perl::X::ECDSA::NoCurveForOID',
#   'sect163r2 (named_curve, uncompressed public point)' => 'Crypt::Perl::X::ECDSA::NoCurveForOID',
#   'sect193r1 (explicit, compressed public point)' => 'Crypt::Perl::X::ECDSA::CharacteristicTwoUnsupported',
#   'sect193r1 (explicit, hybrid public point)' => 'Crypt::Perl::X::ECDSA::CharacteristicTwoUnsupported',
#   'sect193r1 (explicit, uncompressed public point)' => 'Crypt::Perl::X::ECDSA::CharacteristicTwoUnsupported',
#   'sect193r1 (named_curve, compressed public point)' => 'Crypt::Perl::X::ECDSA::NoCurveForOID',
#   'sect193r1 (named_curve, hybrid public point)' => 'Crypt::Perl::X::ECDSA::NoCurveForOID',
#   'sect193r1 (named_curve, uncompressed public point)' => 'Crypt::Perl::X::ECDSA::NoCurveForOID',
#   'sect193r2 (explicit, compressed public point)' => 'Crypt::Perl::X::ECDSA::CharacteristicTwoUnsupported',
#   'sect193r2 (explicit, hybrid public point)' => 'Crypt::Perl::X::ECDSA::CharacteristicTwoUnsupported',
#   'sect193r2 (explicit, uncompressed public point)' => 'Crypt::Perl::X::ECDSA::CharacteristicTwoUnsupported',
#   'sect193r2 (named_curve, compressed public point)' => 'Crypt::Perl::X::ECDSA::NoCurveForOID',
#   'sect193r2 (named_curve, hybrid public point)' => 'Crypt::Perl::X::ECDSA::NoCurveForOID',
#   'sect193r2 (named_curve, uncompressed public point)' => 'Crypt::Perl::X::ECDSA::NoCurveForOID',
#   'sect233k1 (explicit, compressed public point)' => 'Crypt::Perl::X::ECDSA::CharacteristicTwoUnsupported',
#   'sect233k1 (explicit, hybrid public point)' => 'Crypt::Perl::X::ECDSA::CharacteristicTwoUnsupported',
#   'sect233k1 (explicit, uncompressed public point)' => 'Crypt::Perl::X::ECDSA::CharacteristicTwoUnsupported',
#   'sect233k1 (named_curve, compressed public point)' => 'Crypt::Perl::X::ECDSA::NoCurveForOID',
#   'sect233k1 (named_curve, hybrid public point)' => 'Crypt::Perl::X::ECDSA::NoCurveForOID',
#   'sect233k1 (named_curve, uncompressed public point)' => 'Crypt::Perl::X::ECDSA::NoCurveForOID',
#   'sect233r1 (explicit, compressed public point)' => 'Crypt::Perl::X::ECDSA::CharacteristicTwoUnsupported',
#   'sect233r1 (explicit, hybrid public point)' => 'Crypt::Perl::X::ECDSA::CharacteristicTwoUnsupported',
#   'sect233r1 (explicit, uncompressed public point)' => 'Crypt::Perl::X::ECDSA::CharacteristicTwoUnsupported',
#   'sect233r1 (named_curve, compressed public point)' => 'Crypt::Perl::X::ECDSA::NoCurveForOID',
#   'sect233r1 (named_curve, hybrid public point)' => 'Crypt::Perl::X::ECDSA::NoCurveForOID',
#   'sect233r1 (named_curve, uncompressed public point)' => 'Crypt::Perl::X::ECDSA::NoCurveForOID',
#   'sect239k1 (explicit, compressed public point)' => 'Crypt::Perl::X::ECDSA::CharacteristicTwoUnsupported',
#   'sect239k1 (explicit, hybrid public point)' => 'Crypt::Perl::X::ECDSA::CharacteristicTwoUnsupported',
#   'sect239k1 (explicit, uncompressed public point)' => 'Crypt::Perl::X::ECDSA::CharacteristicTwoUnsupported',
#   'sect239k1 (named_curve, compressed public point)' => 'Crypt::Perl::X::ECDSA::NoCurveForOID',
#   'sect239k1 (named_curve, hybrid public point)' => 'Crypt::Perl::X::ECDSA::NoCurveForOID',
#   'sect239k1 (named_curve, uncompressed public point)' => 'Crypt::Perl::X::ECDSA::NoCurveForOID',
#   'sect283k1 (explicit, compressed public point)' => 'Crypt::Perl::X::ECDSA::CharacteristicTwoUnsupported',
#   'sect283k1 (explicit, hybrid public point)' => 'Crypt::Perl::X::ECDSA::CharacteristicTwoUnsupported',
#   'sect283k1 (explicit, uncompressed public point)' => 'Crypt::Perl::X::ECDSA::CharacteristicTwoUnsupported',
#   'sect283k1 (named_curve, compressed public point)' => 'Crypt::Perl::X::ECDSA::NoCurveForOID',
#   'sect283k1 (named_curve, hybrid public point)' => 'Crypt::Perl::X::ECDSA::NoCurveForOID',
#   'sect283k1 (named_curve, uncompressed public point)' => 'Crypt::Perl::X::ECDSA::NoCurveForOID',
#   'sect283r1 (explicit, compressed public point)' => 'Crypt::Perl::X::ECDSA::CharacteristicTwoUnsupported',
#   'sect283r1 (explicit, hybrid public point)' => 'Crypt::Perl::X::ECDSA::CharacteristicTwoUnsupported',
#   'sect283r1 (explicit, uncompressed public point)' => 'Crypt::Perl::X::ECDSA::CharacteristicTwoUnsupported',
#   'sect283r1 (named_curve, compressed public point)' => 'Crypt::Perl::X::ECDSA::NoCurveForOID',
#   'sect283r1 (named_curve, hybrid public point)' => 'Crypt::Perl::X::ECDSA::NoCurveForOID',
#   'sect283r1 (named_curve, uncompressed public point)' => 'Crypt::Perl::X::ECDSA::NoCurveForOID',
#   'sect409k1 (explicit, compressed public point)' => 'Crypt::Perl::X::ECDSA::CharacteristicTwoUnsupported',
#   'sect409k1 (explicit, hybrid public point)' => 'Crypt::Perl::X::ECDSA::CharacteristicTwoUnsupported',
#   'sect409k1 (explicit, uncompressed public point)' => 'Crypt::Perl::X::ECDSA::CharacteristicTwoUnsupported',
#   'sect409k1 (named_curve, compressed public point)' => 'Crypt::Perl::X::ECDSA::NoCurveForOID',
#   'sect409k1 (named_curve, hybrid public point)' => 'Crypt::Perl::X::ECDSA::NoCurveForOID',
#   'sect409k1 (named_curve, uncompressed public point)' => 'Crypt::Perl::X::ECDSA::NoCurveForOID',
#   'sect409r1 (explicit, compressed public point)' => 'Crypt::Perl::X::ECDSA::CharacteristicTwoUnsupported',
#   'sect409r1 (explicit, hybrid public point)' => 'Crypt::Perl::X::ECDSA::CharacteristicTwoUnsupported',
#   'sect409r1 (explicit, uncompressed public point)' => 'Crypt::Perl::X::ECDSA::CharacteristicTwoUnsupported',
#   'sect409r1 (named_curve, compressed public point)' => 'Crypt::Perl::X::ECDSA::NoCurveForOID',
#   'sect409r1 (named_curve, hybrid public point)' => 'Crypt::Perl::X::ECDSA::NoCurveForOID',
#   'sect409r1 (named_curve, uncompressed public point)' => 'Crypt::Perl::X::ECDSA::NoCurveForOID',
#   'sect571k1 (explicit, compressed public point)' => 'Crypt::Perl::X::ECDSA::CharacteristicTwoUnsupported',
#   'sect571k1 (explicit, hybrid public point)' => 'Crypt::Perl::X::ECDSA::CharacteristicTwoUnsupported',
#   'sect571k1 (explicit, uncompressed public point)' => 'Crypt::Perl::X::ECDSA::CharacteristicTwoUnsupported',
#   'sect571k1 (named_curve, compressed public point)' => 'Crypt::Perl::X::ECDSA::NoCurveForOID',
#   'sect571k1 (named_curve, hybrid public point)' => 'Crypt::Perl::X::ECDSA::NoCurveForOID',
#   'sect571k1 (named_curve, uncompressed public point)' => 'Crypt::Perl::X::ECDSA::NoCurveForOID',
#   'sect571r1 (explicit, compressed public point)' => 'Crypt::Perl::X::ECDSA::CharacteristicTwoUnsupported',
#   'sect571r1 (explicit, hybrid public point)' => 'Crypt::Perl::X::ECDSA::CharacteristicTwoUnsupported',
#   'sect571r1 (explicit, uncompressed public point)' => 'Crypt::Perl::X::ECDSA::CharacteristicTwoUnsupported',
#   'sect571r1 (named_curve, compressed public point)' => 'Crypt::Perl::X::ECDSA::NoCurveForOID',
#   'sect571r1 (named_curve, hybrid public point)' => 'Crypt::Perl::X::ECDSA::NoCurveForOID',
#   'sect571r1 (named_curve, uncompressed public point)' => 'Crypt::Perl::X::ECDSA::NoCurveForOID',
#   'wap-wsg-idm-ecid-wtls1 (explicit, compressed public point)' => 'Crypt::Perl::X::ECDSA::CharacteristicTwoUnsupported',
#   'wap-wsg-idm-ecid-wtls1 (explicit, hybrid public point)' => 'Crypt::Perl::X::ECDSA::CharacteristicTwoUnsupported',
#   'wap-wsg-idm-ecid-wtls1 (explicit, uncompressed public point)' => 'Crypt::Perl::X::ECDSA::CharacteristicTwoUnsupported',
#   'wap-wsg-idm-ecid-wtls1 (named_curve, compressed public point)' => 'Crypt::Perl::X::ECDSA::NoCurveForOID',
#   'wap-wsg-idm-ecid-wtls1 (named_curve, hybrid public point)' => 'Crypt::Perl::X::ECDSA::NoCurveForOID',
#   'wap-wsg-idm-ecid-wtls1 (named_curve, uncompressed public point)' => 'Crypt::Perl::X::ECDSA::NoCurveForOID',
#   'wap-wsg-idm-ecid-wtls10 (explicit, compressed public point)' => 'Crypt::Perl::X::ECDSA::CharacteristicTwoUnsupported',
#   'wap-wsg-idm-ecid-wtls10 (explicit, hybrid public point)' => 'Crypt::Perl::X::ECDSA::CharacteristicTwoUnsupported',
#   'wap-wsg-idm-ecid-wtls10 (explicit, uncompressed public point)' => 'Crypt::Perl::X::ECDSA::CharacteristicTwoUnsupported',
#   'wap-wsg-idm-ecid-wtls10 (named_curve, compressed public point)' => 'Crypt::Perl::X::ECDSA::NoCurveForOID',
#   'wap-wsg-idm-ecid-wtls10 (named_curve, hybrid public point)' => 'Crypt::Perl::X::ECDSA::NoCurveForOID',
#   'wap-wsg-idm-ecid-wtls10 (named_curve, uncompressed public point)' => 'Crypt::Perl::X::ECDSA::NoCurveForOID',
#   'wap-wsg-idm-ecid-wtls11 (explicit, compressed public point)' => 'Crypt::Perl::X::ECDSA::CharacteristicTwoUnsupported',
#   'wap-wsg-idm-ecid-wtls11 (explicit, hybrid public point)' => 'Crypt::Perl::X::ECDSA::CharacteristicTwoUnsupported',
#   'wap-wsg-idm-ecid-wtls11 (explicit, uncompressed public point)' => 'Crypt::Perl::X::ECDSA::CharacteristicTwoUnsupported',
#   'wap-wsg-idm-ecid-wtls11 (named_curve, compressed public point)' => 'Crypt::Perl::X::ECDSA::NoCurveForOID',
#   'wap-wsg-idm-ecid-wtls11 (named_curve, hybrid public point)' => 'Crypt::Perl::X::ECDSA::NoCurveForOID',
#   'wap-wsg-idm-ecid-wtls11 (named_curve, uncompressed public point)' => 'Crypt::Perl::X::ECDSA::NoCurveForOID',
#   'wap-wsg-idm-ecid-wtls3 (explicit, compressed public point)' => 'Crypt::Perl::X::ECDSA::CharacteristicTwoUnsupported',
#   'wap-wsg-idm-ecid-wtls3 (explicit, hybrid public point)' => 'Crypt::Perl::X::ECDSA::CharacteristicTwoUnsupported',
#   'wap-wsg-idm-ecid-wtls3 (explicit, uncompressed public point)' => 'Crypt::Perl::X::ECDSA::CharacteristicTwoUnsupported',
#   'wap-wsg-idm-ecid-wtls3 (named_curve, compressed public point)' => 'Crypt::Perl::X::ECDSA::NoCurveForOID',
#   'wap-wsg-idm-ecid-wtls3 (named_curve, hybrid public point)' => 'Crypt::Perl::X::ECDSA::NoCurveForOID',
#   'wap-wsg-idm-ecid-wtls3 (named_curve, uncompressed public point)' => 'Crypt::Perl::X::ECDSA::NoCurveForOID',
#   'wap-wsg-idm-ecid-wtls4 (explicit, compressed public point)' => 'Crypt::Perl::X::ECDSA::CharacteristicTwoUnsupported',
#   'wap-wsg-idm-ecid-wtls4 (explicit, hybrid public point)' => 'Crypt::Perl::X::ECDSA::CharacteristicTwoUnsupported',
#   'wap-wsg-idm-ecid-wtls4 (explicit, uncompressed public point)' => 'Crypt::Perl::X::ECDSA::CharacteristicTwoUnsupported',
#   'wap-wsg-idm-ecid-wtls4 (named_curve, compressed public point)' => 'Crypt::Perl::X::ECDSA::NoCurveForOID',
#   'wap-wsg-idm-ecid-wtls4 (named_curve, hybrid public point)' => 'Crypt::Perl::X::ECDSA::NoCurveForOID',
#   'wap-wsg-idm-ecid-wtls4 (named_curve, uncompressed public point)' => 'Crypt::Perl::X::ECDSA::NoCurveForOID',
#   'wap-wsg-idm-ecid-wtls5 (explicit, compressed public point)' => 'Crypt::Perl::X::ECDSA::CharacteristicTwoUnsupported',
#   'wap-wsg-idm-ecid-wtls5 (explicit, hybrid public point)' => 'Crypt::Perl::X::ECDSA::CharacteristicTwoUnsupported',
#   'wap-wsg-idm-ecid-wtls5 (explicit, uncompressed public point)' => 'Crypt::Perl::X::ECDSA::CharacteristicTwoUnsupported',
#   'wap-wsg-idm-ecid-wtls5 (named_curve, compressed public point)' => 'Crypt::Perl::X::ECDSA::NoCurveForOID',
#   'wap-wsg-idm-ecid-wtls5 (named_curve, hybrid public point)' => 'Crypt::Perl::X::ECDSA::NoCurveForOID',
#   'wap-wsg-idm-ecid-wtls5 (named_curve, uncompressed public point)' => 'Crypt::Perl::X::ECDSA::NoCurveForOID',
#   'wap-wsg-idm-ecid-wtls6 (explicit, compressed public point)' => 'Crypt::Perl::X::TooLongToSign',
#   'wap-wsg-idm-ecid-wtls6 (explicit, hybrid public point)' => 'Crypt::Perl::X::TooLongToSign',
#   'wap-wsg-idm-ecid-wtls6 (explicit, uncompressed public point)' => 'Crypt::Perl::X::TooLongToSign',
#   'wap-wsg-idm-ecid-wtls6 (named_curve, compressed public point)' => 'Crypt::Perl::X::TooLongToSign',
#   'wap-wsg-idm-ecid-wtls6 (named_curve, hybrid public point)' => 'Crypt::Perl::X::TooLongToSign',
#   'wap-wsg-idm-ecid-wtls6 (named_curve, uncompressed public point)' => 'Crypt::Perl::X::TooLongToSign',
#   'wap-wsg-idm-ecid-wtls8 (explicit, compressed public point)' => 'Crypt::Perl::X::TooLongToSign',
#   'wap-wsg-idm-ecid-wtls8 (explicit, hybrid public point)' => 'Crypt::Perl::X::TooLongToSign',
#   'wap-wsg-idm-ecid-wtls8 (explicit, uncompressed public point)' => 'Crypt::Perl::X::TooLongToSign',
#   'wap-wsg-idm-ecid-wtls8 (named_curve, compressed public point)' => 'Crypt::Perl::X::TooLongToSign',
#   'wap-wsg-idm-ecid-wtls8 (named_curve, hybrid public point)' => 'Crypt::Perl::X::TooLongToSign',
#   'wap-wsg-idm-ecid-wtls8 (named_curve, uncompressed public point)' => 'Crypt::Perl::X::TooLongToSign'
# }
t/Crypt-Perl-ECDSA-PrivateKey.t ................... ok
# Looking for OpenSSL binary …
# Found OpenSSL: /usr/bin/openssl
# OpenSSL 1.1.1q-freebsd  5 Jul 2022
# options:  bn(64,64) rc4(16x,int) des(int) idea(int) blowfish(ptr) 
# compiler: clang
# Math::BigInt 1.999838 (backend: Math::BigInt::LTM 0.078)
read EC key
writing EC key
t/Crypt-Perl-ECDSA-PublicKey.t .................... ok
t/Crypt-Perl-Ed25519-Math.t ....................... ok
t/Crypt-Perl-Ed25519-Parse.t ...................... ok
t/Crypt-Perl-Ed25519-PrivateKey.t ................. ok
# Math::BigInt 1.999838 (backend: Math::BigInt::LTM 0.078)
t/Crypt-Perl-Math.t ............................... ok
# Math::BigInt 1.999838 (backend: Math::BigInt::LTM 0.078)
t/Crypt-Perl-PK.t ................................. ok
# Math::BigInt 1.999838 (backend: Math::BigInt::LTM 0.078)
t/Crypt-Perl-PKCS10-Attribute-extensionRequest.t .. ok
# Looking for OpenSSL binary …
# Found OpenSSL: /usr/bin/openssl
# OpenSSL 1.1.1q-freebsd  5 Jul 2022
# options:  bn(64,64) rc4(16x,int) des(int) idea(int) blowfish(ptr) 
# compiler: clang
# Checking /usr/bin/openssl for ed25519 support …
Algorithm ed25519" not found
# /usr/bin/openssl does not support ed25519.
# Math::BigInt 1.999838 (backend: Math::BigInt::LTM 0.078)
Generating RSA private key, 1024 bit long modulus (2 primes)
......................................................................................................+++++
........................................................+++++
e is 65537 (0x010001)
Generating RSA private key, 2048 bit long modulus (2 primes)
..................................+++++
........................+++++
e is 65537 (0x010001)
read EC key
writing EC key
read EC key
writing EC key
read EC key
writing EC key
read EC key
writing EC key
read EC key
writing EC key
read EC key
writing EC key
read EC key
writing EC key
t/Crypt-Perl-PKCS10.t ............................. ok
# Looking for OpenSSL binary …
# Found OpenSSL: /usr/bin/openssl
# OpenSSL 1.1.1q-freebsd  5 Jul 2022
# options:  bn(64,64) rc4(16x,int) des(int) idea(int) blowfish(ptr) 
# compiler: clang
# Math::BigInt 1.999838 (backend: Math::BigInt::LTM 0.078)
# Your Crypt::Perl::BigInt backend is “Math::BigInt::LTM”.
# Key generation 1 (exponent=3) …
writing RSA key
# Key generation 2 (exponent=3) …
writing RSA key
# Key generation 3 (exponent=65537) …
writing RSA key
# Key generation 4 (exponent=65537) …
writing RSA key
# Key generation 5 (exponent=3) …
writing RSA key
# Key generation 6 (exponent=65537) …
writing RSA key
# Key generation 7 (exponent=65537) …
writing RSA key
# Key generation 8 (exponent=65537) …
writing RSA key
# Key generation 9 (exponent=3) …
writing RSA key
# Key generation 10 (exponent=65537) …
writing RSA key
# Key generation 11 (exponent=3) …
writing RSA key
# Key generation 12 (exponent=65537) …
writing RSA key
# Key generation 13 (exponent=65537) …
writing RSA key
# Key generation 14 (exponent=65537) …
writing RSA key
# Key generation 15 (exponent=3) …
writing RSA key
# Key generation 16 (exponent=65537) …
writing RSA key
# Key generation 17 (exponent=65537) …
writing RSA key
# Key generation 18 (exponent=3) …
writing RSA key
# Key generation 19 (exponent=3) …
writing RSA key
# Key generation 20 (exponent=3) …
writing RSA key
# Key generation 21 (exponent=3) …
writing RSA key
# Key generation 22 (exponent=65537) …
writing RSA key
# Key generation 23 (exponent=3) …
writing RSA key
# Key generation 24 (exponent=3) …
writing RSA key
# Key generation 25 (exponent=3) …
writing RSA key
# Key generation 26 (exponent=3) …
writing RSA key
# Key generation 27 (exponent=3) …
writing RSA key
# Key generation 28 (exponent=65537) …
writing RSA key
# Key generation 29 (exponent=3) …
writing RSA key
# Key generation 30 (exponent=3) …
writing RSA key
# Key generation 31 (exponent=3) …
writing RSA key
# Key generation 32 (exponent=65537) …
writing RSA key
# Key generation 33 (exponent=65537) …
writing RSA key
# Key generation 34 (exponent=3) …
writing RSA key
# Key generation 35 (exponent=65537) …
writing RSA key
# Key generation 36 (exponent=3) …
writing RSA key
# Key generation 37 (exponent=3) …
writing RSA key
# Key generation 38 (exponent=65537) …
writing RSA key
# Key generation 39 (exponent=3) …
writing RSA key
# Key generation 40 (exponent=65537) …
writing RSA key
# Key generation 41 (exponent=65537) …
writing RSA key
# Key generation 42 (exponent=65537) …
writing RSA key
# Key generation 43 (exponent=3) …
writing RSA key
# Key generation 44 (exponent=65537) …
writing RSA key
# Key generation 45 (exponent=65537) …
writing RSA key
# Key generation 46 (exponent=65537) …
writing RSA key
# Key generation 47 (exponent=65537) …
writing RSA key
# Key generation 48 (exponent=65537) …
writing RSA key
# Key generation 49 (exponent=65537) …
writing RSA key
# Key generation 50 (exponent=3) …
writing RSA key
t/Crypt-Perl-RSA-Generate.t ....................... ok
# Math::BigInt 1.999838 (backend: Math::BigInt::LTM 0.078)
t/Crypt-Perl-RSA-Parse.t .......................... ok
t/Crypt-Perl-RSA-PKCS1_v1_5.t ..................... ok
# Math::BigInt 1.999838 (backend: Math::BigInt::LTM 0.078)
t/Crypt-Perl-RSA-PrivateKey.t ..................... ok
# Math::BigInt 1.999838 (backend: Math::BigInt::LTM 0.078)
t/Crypt-Perl-RSA-PublicKey.t ...................... ok
# Math::BigInt 1.999838 (backend: Math::BigInt::LTM 0.078)
t/Crypt-Perl-X509-Extension-subjectAltName.t ...... ok
t/Crypt-Perl-X509-SCT.t ........................... ok
# Looking for OpenSSL binary …
# Found OpenSSL: /usr/bin/openssl
# OpenSSL 1.1.1q-freebsd  5 Jul 2022
# options:  bn(64,64) rc4(16x,int) des(int) idea(int) blowfish(ptr) 
# compiler: clang
# Checking /usr/bin/openssl for ed25519 support …
Algorithm ed25519" not found
# /usr/bin/openssl does not support ed25519.
# Math::BigInt 1.999838 (backend: Math::BigInt::LTM 0.078)
# self-sign - RSA
# two RSAs
# self-sign - ECC
# two ECCs
# subject RSA, signer ECC
# subject ECC, signer RSA
t/Crypt-Perl-X509v3.t ............................. ok
# Looking for OpenSSL binary …
# Found OpenSSL: /usr/bin/openssl
# OpenSSL 1.1.1q-freebsd  5 Jul 2022
# options:  bn(64,64) rc4(16x,int) des(int) idea(int) blowfish(ptr) 
# compiler: clang
# Checking /usr/bin/openssl for ed25519 support …
Algorithm ed25519" not found
# /usr/bin/openssl does not support ed25519.
t/Crypt-Perl-X509v3_ed25519.t ..................... ok
# Parsing...
t/ecdsa_verify_small_r_and_s.t .................... ok
All tests successful.
Files=26, Tests=3921, 987 wallclock secs ( 0.45 usr  0.91 sys + 968.20 cusr 13.12 csys = 982.67 CPU)
Result: PASS


PREREQUISITES:

Here is a list of prerequisites you specified and versions we
managed to load:

	  Module Name                        Have     Want
	  Bytes::Random::Secure::Tiny       1.011    1.008
	  Call::Context                      0.03        0
	  Class::Accessor::Fast              0.51     0.34
	  Convert::ASN1                      0.33     0.27
	  Crypt::Format                      0.12     0.12
	  Digest::SHA                        6.04        0
	  ExtUtils::MakeMaker                7.70        0
	  File::Slurp                     9999.32        0
	  File::Which                        1.27        0
	  MIME::Base64                       3.15     3.11
	  Math::BigInt                   1.999838 1.999818
	  Math::ProvablePrime                0.51     0.51
	  Symbol::Get                        0.10     0.02
	  Test::Class                        0.52      0.4
	  Test::Deep                        1.204        0
	  Test::Exception                    0.43     0.40
	  Test::FailWarnings                0.008        0
	  Test::More                     1.302194        0
	  Try::Tiny                          0.31        0
	  autodie                            2.29        0
	  parent                            0.236    0.225

Perl module toolchain versions installed:
	Module Name                        Have
	CPANPLUS                         0.9914
	CPANPLUS::Dist::Build              0.90
	Cwd                                3.75
	ExtUtils::CBuilder             0.280236
	ExtUtils::Command                  7.70
	ExtUtils::Install                  2.22
	ExtUtils::MakeMaker                7.70
	ExtUtils::Manifest                 1.73
	ExtUtils::ParseXS                  3.44
	File::Spec                         3.75
	Module::Build                    0.4232
	Pod::Parser                        1.63
	Pod::Simple                        3.35
	Test2                          1.302194
	Test::Harness                      3.44
	Test::More                     1.302194
	version                          0.9929

******************************** NOTE ********************************
The comments above are created mechanically, possibly without manual
checking by the sender.  As there are many people performing automatic
tests on each upload to CPAN, it is likely that you will receive
identical messages about the same problem.

If you believe that the message is mistaken, please reply to the first
one with correction and/or additional informations, and do not take
it personally.  We appreciate your patience. :)
**********************************************************************

Additional comments:


This report was machine-generated by CPANPLUS::Dist::YACSmoke 1.08.
Powered by minismokebox version 0.68

CPANPLUS is prefering Build.PL

------------------------------
ENVIRONMENT AND OTHER CONTEXT
------------------------------

Environment variables:

    AUTOMATED_TESTING = 1
    NONINTERACTIVE_TESTING = 1
    PATH = /sbin:/bin:/usr/sbin:/usr/bin:/usr/local/sbin:/usr/local/bin:/home/cpan/bin
    PERL5LIB = /usr/home/cpan/pit/jail/D46yjMzXsW/lib/perl5:/usr/home/cpan/pit/thr/conf/perl-5.26.1/.cpanplus/5.26.1/build/uxJdmHHv39/Crypt-Perl-0.38/blib/lib:/usr/home/cpan/pit/thr/conf/perl-5.26.1/.cpanplus/5.26.1/build/uxJdmHHv39/Crypt-Perl-0.38/blib/arch
    PERL5_CPANPLUS_IS_RUNNING = 93959
    PERL5_CPANPLUS_IS_VERSION = 0.9914
    PERL5_MINISMOKEBOX = 0.68
    PERL5_YACSMOKE_BASE = /usr/home/cpan/pit/thr/conf/perl-5.26.1
    PERL_EXTUTILS_AUTOINSTALL = --defaultdeps
    PERL_LOCAL_LIB_ROOT = /usr/home/cpan/pit/jail/D46yjMzXsW
    PERL_MB_OPT = --install_base "/usr/home/cpan/pit/jail/D46yjMzXsW"
    PERL_MM_OPT = INSTALL_BASE=/usr/home/cpan/pit/jail/D46yjMzXsW
    PERL_MM_USE_DEFAULT = 1
    PERL_USE_UNSAFE_INC = 1
    SHELL = /usr/local/bin/bash
    TERM = screen

Perl special variables (and OS-specific diagnostics, for MSWin32):

    Perl: $^X = /usr/home/cpan/pit/thr/perl-5.26.1/bin/perl
    UID:  $<  = 1002
    EUID: $>  = 1002
    GID:  $(  = 1002 1002
    EGID: $)  = 1002 1002


-------------------------------


--

Summary of my perl5 (revision 5 version 26 subversion 1) configuration:
   
  Platform:
    osname=freebsd
    osvers=12.4-release-p1
    archname=amd64-freebsd-thread-multi
    uname='freebsd fforc 12.4-release-p1 freebsd 12.4-release-p1 generic amd64 '
    config_args='-des -Dprefix=/usr/home/cpan/pit/thr/perl-5.26.1 -Dusethreads'
    hint=recommended
    useposix=true
    d_sigaction=define
    useithreads=define
    usemultiplicity=define
    use64bitint=define
    use64bitall=define
    uselongdouble=undef
    usemymalloc=n
    default_inc_excludes_dot=define
    bincompat5005=undef
  Compiler:
    cc='cc'
    ccflags ='-DHAS_FPSETMASK -DHAS_FLOATINGPOINT_H -fno-strict-aliasing -pipe -fstack-protector-strong -I/usr/local/include'
    optimize='-O2'
    cppflags='-DHAS_FPSETMASK -DHAS_FLOATINGPOINT_H -fno-strict-aliasing -pipe -fstack-protector-strong -I/usr/local/include'
    ccversion=''
    gccversion='FreeBSD Clang 13.0.0 (git@github.com:llvm/llvm-project.git llvmorg-13.0.0-0-gd7b669b3a303)'
    gccosandvers=''
    intsize=4
    longsize=8
    ptrsize=8
    doublesize=8
    byteorder=12345678
    doublekind=3
    d_longlong=define
    longlongsize=8
    d_longdbl=define
    longdblsize=16
    longdblkind=3
    ivtype='long'
    ivsize=8
    nvtype='double'
    nvsize=8
    Off_t='off_t'
    lseeksize=8
    alignbytes=8
    prototype=define
  Linker and Libraries:
    ld='cc'
    ldflags ='-pthread -Wl,-E  -fstack-protector-strong -L/usr/local/lib'
    libpth=/usr/lib /usr/local/lib /usr/lib/clang/13.0.0/lib /usr/lib
    libs=-lpthread -lgdbm -ldl -lm -lcrypt -lutil
    perllibs=-lpthread -ldl -lm -lcrypt -lutil
    libc=
    so=so
    useshrplib=false
    libperl=libperl.a
    gnulibc_version=''
  Dynamic Linking:
    dlsrc=dl_dlopen.xs
    dlext=so
    d_dlsymun=undef
    ccdlflags=' '
    cccdlflags='-DPIC -fPIC'
    lddlflags='-shared  -L/usr/local/lib -fstack-protector-strong'


Characteristics of this binary (from libperl): 
  Compile-time options:
    HAS_TIMES
    MULTIPLICITY
    PERLIO_LAYERS
    PERL_COPY_ON_WRITE
    PERL_DONT_CREATE_GVSV
    PERL_IMPLICIT_CONTEXT
    PERL_MALLOC_WRAP
    PERL_OP_PARENT
    PERL_PRESERVE_IVUV
    USE_64_BIT_ALL
    USE_64_BIT_INT
    USE_ITHREADS
    USE_LARGE_FILES
    USE_LOCALE
    USE_LOCALE_COLLATE
    USE_LOCALE_CTYPE
    USE_LOCALE_NUMERIC
    USE_LOCALE_TIME
    USE_PERLIO
    USE_PERL_ATOF
    USE_REENTRANT_API
  Locally applied patches:
    Devel::PatchPerl 2.08
  Built under freebsd
  Compiled at Mar 31 2023 06:59:29
  %ENV:
    PERL5LIB="/usr/home/cpan/pit/jail/D46yjMzXsW/lib/perl5:/usr/home/cpan/pit/thr/conf/perl-5.26.1/.cpanplus/5.26.1/build/uxJdmHHv39/Crypt-Perl-0.38/blib/lib:/usr/home/cpan/pit/thr/conf/perl-5.26.1/.cpanplus/5.26.1/build/uxJdmHHv39/Crypt-Perl-0.38/blib/arch"
    PERL5_CPANPLUS_IS_RUNNING="93959"
    PERL5_CPANPLUS_IS_VERSION="0.9914"
    PERL5_MINISMOKEBOX="0.68"
    PERL5_YACSMOKE_BASE="/usr/home/cpan/pit/thr/conf/perl-5.26.1"
    PERL_EXTUTILS_AUTOINSTALL="--defaultdeps"
    PERL_LOCAL_LIB_ROOT="/usr/home/cpan/pit/jail/D46yjMzXsW"
    PERL_MB_OPT="--install_base "/usr/home/cpan/pit/jail/D46yjMzXsW""
    PERL_MM_OPT="INSTALL_BASE=/usr/home/cpan/pit/jail/D46yjMzXsW"
    PERL_MM_USE_DEFAULT="1"
    PERL_USE_UNSAFE_INC="1"
  @INC:
    /usr/home/cpan/pit/jail/D46yjMzXsW/lib/perl5/5.26.1/amd64-freebsd-thread-multi
    /usr/home/cpan/pit/jail/D46yjMzXsW/lib/perl5/5.26.1
    /usr/home/cpan/pit/jail/D46yjMzXsW/lib/perl5/amd64-freebsd-thread-multi
    /usr/home/cpan/pit/jail/D46yjMzXsW/lib/perl5
    /usr/home/cpan/pit/thr/conf/perl-5.26.1/.cpanplus/5.26.1/build/uxJdmHHv39/Crypt-Perl-0.38/blib/lib
    /usr/home/cpan/pit/thr/conf/perl-5.26.1/.cpanplus/5.26.1/build/uxJdmHHv39/Crypt-Perl-0.38/blib/arch
    /usr/home/cpan/pit/thr/perl-5.26.1/lib/site_perl/5.26.1/amd64-freebsd-thread-multi
    /usr/home/cpan/pit/thr/perl-5.26.1/lib/site_perl/5.26.1
    /usr/home/cpan/pit/thr/perl-5.26.1/lib/5.26.1/amd64-freebsd-thread-multi
    /usr/home/cpan/pit/thr/perl-5.26.1/lib/5.26.1
    .