Dancer2-Plugin-Database v2.17 Perl 5 v5.24.1 darwin-thread-multi-2level
- Status
- Pass
- From
- Gary Greene
- Dist
-
Dancer2-Plugin-Database v2.17
- Platform
- Perl 5 v5.24.1 darwin-thread-multi-2level
- Date
- 2018-08-22 03:43:43
- ID
- 911e315e-a5bd-11e8-95bf-e8009d138626
This distribution has been tested as part of the CPAN Testers
project, supporting the Perl programming language. See
http://wiki.cpantesters.org/ for more information or email
questions to cpan-testers-discuss@perl.org
--
Dear David Precious,
This is a computer-generated report for Dancer2-Plugin-Database-2.17
on perl 5.24.1, created by CPAN-Reporter-1.2018.
Thank you for uploading your work to CPAN. Congratulations!
All tests were successful.
Sections of this report:
* Tester comments
* Program output
* Prerequisites
* Environment and other context
------------------------------
TESTER COMMENTS
------------------------------
Additional comments from tester:
none provided
------------------------------
PROGRAM OUTPUT
------------------------------
Output from '/opt/local/libexec/gnubin/make test':
PERL_DL_NONLAZY=1 "/opt/Perl/bin/perl" "-MExtUtils::Command::MM" "-MTest::Harness" "-e" "undef *Test::Harness::Switches; test_harness(0, 'blib/lib', 'blib/arch')" t/*.t
# Testing Dancer2::Plugin::Database 2.17, with Dancer2 0.205002 in Perl 5.024001, /opt/Perl/bin/perl
t/00-load.t ....... ok
t/01-basic.t ...... ok
t/manifest.t ...... skipped: Author tests not required for installation
t/pod-coverage.t .. skipped: Author tests not required for installation
t/pod.t ........... ok
All tests successful.
Files=5, Tests=45, 2 wallclock secs ( 0.02 usr 0.01 sys + 0.94 cusr 0.11 csys = 1.08 CPU)
Result: PASS
------------------------------
PREREQUISITES
------------------------------
Prerequisite modules loaded:
requires:
Module Need Have
------------------------------ -------- --------
Dancer2 0.166001 0.205002
Dancer::Plugin::Database::Core 0.16 0.20
build_requires:
Module Need Have
------------------------------ -------- --------
ExtUtils::MakeMaker 0 7.32
HTTP::Request::Common 0 6.14
Plack 1.0032 1.0047
Test::More 0 1.302135
configure_requires:
Module Need Have
------------------------------ -------- --------
ExtUtils::MakeMaker 0 7.32
------------------------------
ENVIRONMENT AND OTHER CONTEXT
------------------------------
Environment variables:
LANG = en_US.UTF-8
LC_ALL = en_US.UTF-8
LC_CTYPE = C
PATH = /opt/Perl/bin:/opt/Perl/sbin:/opt/google/kubernetes/bin:/opt/coreos/bin:/opt/coreos/sbin:/opt/packer/bin:/opt/chefdk/bin:/opt/chefdk/embedded/bin:/opt/vagrant/bin:/Applications/VirtualBox.app/Contents/MacOS/:/Users/ggreen99/.chefdk/gem/ruby/2.3.0/bin:/Users/ggreen99/bin:/opt/X11/bin:/usr/local/go/bin:/opt/local/bin:/opt/local/sbin:/opt/local/libexec/gnubin:/opt/local/libexec/qt4/bin:/opt/local/Library/Frameworks/wxWidgets.framework/Versions/wxWidgets/3.1/bin:/usr/local/mysql/bin:/Users/ggreene99/Development/hrs:/bin:/sbin:/usr/bin:/usr/sbin:/usr/local/bin:/usr/local/sbin:/Users/ggreen99/.rvm/bin
PERL5LIB =
PERL5OPT =
PERL5_CPANPLUS_IS_RUNNING = 48270
PERL5_CPAN_IS_RUNNING = 48270
SHELL = /bin/zsh
TERM = xterm
TMPDIR = /var/folders/rz/kxg21j6s3nd00x242vzhlmtd3ybnw8/T/
Perl special variables (and OS-specific diagnostics, for MSWin32):
$^X = /opt/Perl/bin/perl
$UID/$EUID = 1206245256 / 1206245256
$GID = 998356008 998356008 702 574656082 206 817903461 1211601704 1476154620 1637154486 1655261767 61570889 319075944 457182168 12 20 62 79
$EGID = 998356008 998356008 702 574656082 206 817903461 1211601704 1476154620 1637154486 1655261767 61570889 319075944 457182168 12 20 62 79
Perl module toolchain versions installed:
Module Have
------------------- --------
CPAN 2.16
CPAN::Meta 2.150010
Cwd 3.74
ExtUtils::CBuilder 0.280230
ExtUtils::Command 7.32
ExtUtils::Install 2.14
ExtUtils::MakeMaker 7.32
ExtUtils::Manifest 1.70
ExtUtils::ParseXS 3.35
File::Spec 3.74
JSON 2.97001
JSON::PP 2.97001
Module::Build 0.4224
Module::Signature 0.81
Parse::CPAN::Meta 2.150010
Test::Harness 3.41
Test::More 1.302135
YAML 1.24
YAML::Syck 1.30
version 0.9924
--
Summary of my perl5 (revision 5 version 24 subversion 1) configuration:
Platform:
osname=darwin, osvers=16.6.0, archname=darwin-thread-multi-2level
uname='darwin mgc000002952.fmcc.ford.com 16.6.0 darwin kernel version 16.6.0: fri apr 14 16:21:16 pdt 2017; root:xnu-3789.60.24~6release_x86_64 x86_64 i386 macbookpro13,3 darwin '
config_args=''
hint=previous, useposix=true, d_sigaction=define
useithreads=define, usemultiplicity=define
use64bitint=define, use64bitall=define, uselongdouble=undef
usemymalloc=n, bincompat5005=undef
Compiler:
cc='cc', ccflags ='-fno-common -DPERL_DARWIN -mmacosx-version-min=10.12 -fno-strict-aliasing -pipe -fstack-protector-strong -I/opt/local/include -DPERL_USE_SAFE_PUTENV -Werror=partial-availability',
optimize='-O3',
cppflags='-fno-common -DPERL_DARWIN -mmacosx-version-min=10.12 -fno-strict-aliasing -pipe -fstack-protector-strong -I/opt/local/include'
ccversion='', gccversion='4.2.1 Compatible Apple LLVM 8.1.0 (clang-802.0.41)', gccosandvers=''
intsize=4, longsize=8, ptrsize=8, doublesize=8, byteorder=12345678, doublekind=3
d_longlong=define, longlongsize=8, d_longdbl=define, longdblsize=16, longdblkind=3
ivtype='long', ivsize=8, nvtype='double', nvsize=8, Off_t='off_t', lseeksize=8
alignbytes=8, prototype=define
Linker and Libraries:
ld='cc', ldflags =' -mmacosx-version-min=10.12 -fstack-protector-strong -L/usr/local/lib -L/opt/local/lib'
libpth=/Applications/Xcode.app/Contents/Developer/Toolchains/XcodeDefault.xctoolchain/usr/bin/../lib/clang/8.1.0/lib /Applications/Xcode.app/Contents/Developer/Toolchains/XcodeDefault.xctoolchain/usr/lib /usr/lib /usr/local/lib /opt/local/lib /Applications/Xcode.app/Contents/Developer/Toolchains/XcodeDefault.xctoolchain/usr/bin/../lib/clang/8.1.0/lib /Applications/Xcode.app/Contents/Developer/Toolchains/XcodeDefault.xctoolchain/usr/lib /usr/lib
libs=-lpthread -lgdbm -ldbm -ldl -lm -lutil -lc
perllibs=-lpthread -ldl -lm -lutil -lc
libc=, so=dylib, useshrplib=false, libperl=libperl.a
gnulibc_version=''
Dynamic Linking:
dlsrc=dl_dlopen.xs, dlext=bundle, d_dlsymun=undef, ccdlflags=' '
cccdlflags=' ', lddlflags=' -mmacosx-version-min=10.12 -bundle -undefined dynamic_lookup -L/usr/local/lib -L/opt/local/lib -fstack-protector-strong'
Characteristics of this binary (from libperl):
Compile-time options: HAS_TIMES MULTIPLICITY PERLIO_LAYERS
PERL_COPY_ON_WRITE PERL_DONT_CREATE_GVSV
PERL_HASH_FUNC_ONE_AT_A_TIME_HARD
PERL_IMPLICIT_CONTEXT PERL_MALLOC_WRAP
PERL_PRESERVE_IVUV PERL_USE_SAFE_PUTENV
USE_64_BIT_ALL USE_64_BIT_INT USE_ITHREADS
USE_LARGE_FILES USE_LOCALE USE_LOCALE_COLLATE
USE_LOCALE_CTYPE USE_LOCALE_NUMERIC USE_LOCALE_TIME
USE_PERLIO USE_PERL_ATOF
Built under darwin
Compiled at May 22 2017 11:02:38
%ENV:
PERL5LIB=""
PERL5OPT=""
PERL5_CPANPLUS_IS_RUNNING="48270"
PERL5_CPAN_IS_RUNNING="48270"
@INC:
/opt/Perl/lib/perl5/site_perl/5.24.1/darwin-thread-multi-2level
/opt/Perl/lib/perl5/site_perl/5.24.1
/opt/Perl/lib/perl5/5.24.1/darwin-thread-multi-2level
/opt/Perl/lib/perl5/5.24.1
.