Unicode-Collate v1.31 Perl 5 v5.32.0 x86_64-linux-thread-multi

Status
Pass
From
Nigel Horne
Dist
Unicode-Collate v1.31
Platform
Perl 5 v5.32.0 x86_64-linux-thread-multi
Date
2021-08-23 18:18:50
ID
90c4dc84-043e-11ec-8b64-02f1cda39d0c
This distribution has been tested as part of the CPAN Testers
project, supporting the Perl programming language.  See
http://wiki.cpantesters.org/ for more information or email
questions to cpan-testers-discuss@perl.org


--
Dear SADAHIRO Tomoyuki,

This is a computer-generated report for Unicode-Collate-1.31
on perl 5.32.0, created by CPAN-Reporter-1.2018.

Thank you for uploading your work to CPAN.  Congratulations!
All tests were successful.

Sections of this report:

    * Tester comments
    * Program output
    * Prerequisites
    * Environment and other context

------------------------------
TESTER COMMENTS
------------------------------

Additional comments from tester:

none provided

------------------------------
PROGRAM OUTPUT
------------------------------

Output from '/usr/bin/make test':

"/home/opc/perl5/perlbrew/perls/perl-5.32.0-thread/bin/perl5.32.0" -MExtUtils::Command::MM -e 'cp_nonempty' -- Collate.bs blib/arch/auto/Unicode/Collate/Collate.bs 644
PERL_DL_NONLAZY=1 "/home/opc/perl5/perlbrew/perls/perl-5.32.0-thread/bin/perl5.32.0" "-MExtUtils::Command::MM" "-MTest::Harness" "-e" "undef *Test::Harness::Switches; test_harness(0, 'blib/lib', 'blib/arch')" t/*.t
t/altern.t .... ok
t/backwds.t ... ok
t/cjk_b5.t .... ok
t/cjk_gb.t .... ok
t/cjk_ja.t .... ok
t/cjk_ko.t .... ok
t/cjk_py.t .... ok
t/cjk_st.t .... ok
t/cjk_zy.t .... ok
t/cjkrange.t .. ok
t/compatui.t .. ok
t/contract.t .. ok
t/default.t ... ok
t/hangtype.t .. ok
t/hangul.t .... ok
t/ident.t ..... ok
t/iglevel2.t .. ok
t/ignor.t ..... ok
t/illegalp.t .. ok
t/illegal.t ... ok
t/khitan.t .... ok
t/index.t ..... ok
t/loc_af.t .... ok
t/loc_ar.t .... ok
t/loc_as.t .... ok
t/loc_az.t .... ok
t/loc_be.t .... ok
t/loc_bg.t .... ok
t/loc_bn.t .... ok
t/loc_bs.t .... ok
t/loc_bscy.t .. ok
t/loc_ca.t .... ok
t/loc_cjk.t ... ok
t/loc_cs.t .... ok
t/loc_cu.t .... ok
t/loc_cy.t .... ok
t/loc_cyrl.t .. ok
t/loc_da.t .... ok
t/loc_de.t .... ok
t/loc_deat.t .. ok
t/loc_cjkc.t .. ok
t/loc_deph.t .. ok
t/loc_dsb.t ... ok
t/loc_ee.t .... ok
t/loc_eo.t .... ok
t/loc_es.t .... ok
t/loc_estr.t .. ok
t/loc_et.t .... ok
t/loc_fa.t .... ok
t/loc_fi.t .... ok
t/loc_fil.t ... ok
t/loc_fiph.t .. ok
t/loc_fo.t .... ok
t/loc_fr.t .... ok
t/loc_frca.t .. ok
t/loc_gu.t .... ok
t/loc_ha.t .... ok
t/loc_haw.t ... ok
t/loc_he.t .... ok
t/loc_hi.t .... ok
t/loc_hr.t .... ok
t/loc_hu.t .... ok
t/loc_hy.t .... ok
t/loc_ig.t .... ok
t/loc_is.t .... ok
t/loc_ja.t .... ok
t/loc_jait.t .. ok
t/loc_kk.t .... ok
t/loc_japr.t .. ok
t/loc_kl.t .... ok
t/loc_kn.t .... ok
t/loc_ko.t .... ok
t/loc_kok.t ... ok
t/loc_lkt.t ... ok
t/loc_ln.t .... ok
t/loc_lt.t .... ok
t/loc_lv.t .... ok
t/loc_mk.t .... ok
t/loc_ml.t .... ok
t/loc_mr.t .... ok
t/loc_mncy.t .. ok
t/loc_mt.t .... ok
t/loc_nb.t .... ok
t/loc_nn.t .... ok
t/loc_nso.t ... ok
t/loc_om.t .... ok
t/loc_or.t .... ok
t/loc_pl.t .... ok
t/loc_pa.t .... ok
t/loc_ro.t .... ok
t/loc_ru.t .... ok
t/loc_sa.t .... ok
t/loc_se.t .... ok
t/loc_si.t .... ok
t/loc_sidt.t .. ok
t/loc_sk.t .... ok
t/loc_sl.t .... ok
t/loc_sq.t .... ok
t/loc_sr.t .... ok
t/loc_srla.t .. ok
t/loc_sv.t .... ok
t/loc_svrf.t .. ok
t/loc_sw.t .... ok
t/loc_ta.t .... ok
t/loc_te.t .... ok
t/loc_th.t .... ok
t/loc_test.t .. ok
t/loc_tn.t .... ok
t/loc_to.t .... ok
t/loc_tr.t .... ok
t/loc_ugcy.t .. ok
t/loc_uk.t .... ok
t/loc_ur.t .... ok
t/loc_vo.t .... ok
t/loc_vi.t .... ok
t/loc_wae.t ... ok
t/loc_wo.t .... ok
t/loc_yo.t .... ok
t/loc_zh.t .... ok
t/loc_zhb5.t .. ok
t/loc_zhgb.t .. ok
t/loc_zhpy.t .. ok
t/loc_zhst.t .. ok
t/nonchar.t ... ok
t/loc_zhzy.t .. ok
t/normal.t .... ok
t/notable.t ... ok
t/nushu.t ..... ok
t/overcjk0.t .. ok
t/override.t .. ok
t/overcjk1.t .. ok
t/rearrang.t .. ok
t/tangut.t .... ok
t/test.t ...... ok
t/trailwt.t ... ok
t/variable.t .. ok
t/version.t ... ok
t/view.t ...... ok
t/rewrite.t ... ok
All tests successful.
Files=139, Tests=31005, 20 wallclock secs ( 1.76 usr  0.15 sys +  7.23 cusr  0.64 csys =  9.78 CPU)
Result: PASS

------------------------------
PREREQUISITES
------------------------------

Prerequisite modules loaded:

requires:

    Module              Need Have
    ------------------- ---- ----
    Carp                0    1.50
    constant            0    1.33
    File::Spec          0    3.78
    strict              0    1.11
    warnings            0    1.47
    XSLoader            0    0.30

build_requires:

    Module              Need Have
    ------------------- ---- ----
    ExtUtils::MakeMaker 0    7.62

configure_requires:

    Module              Need Have
    ------------------- ---- ----
    ExtUtils::MakeMaker 0    7.62


------------------------------
ENVIRONMENT AND OTHER CONTEXT
------------------------------

Environment variables:

    HARNESS_OPTIONS = j2:c
    LANG = en_US.UTF-8
    NONINTERACTIVE_TESTING = 1
    PATH = /home/opc/perl5/perlbrew/bin:/home/opc/perl5/perlbrew/perls/perl-5.32.0-thread/bin:/home/opc/perl5/perlbrew/bin:/usr/local/bin:/usr/bin:/home/opc/.local/bin:/home/opc/bin
    PERL5LIB = 
    PERL5OPT = 
    PERL5_CPANPLUS_IS_RUNNING = 21494
    PERL5_CPAN_IS_RUNNING = 21494
    PERLBREW_HOME = /home/opc/.perlbrew
    PERLBREW_LIB = 
    PERLBREW_MANPATH = /home/opc/perl5/perlbrew/perls/perl-5.32.0-thread/man
    PERLBREW_PATH = /home/opc/perl5/perlbrew/bin:/home/opc/perl5/perlbrew/perls/perl-5.32.0-thread/bin
    PERLBREW_PERL = perl-5.32.0-thread
    PERLBREW_ROOT = /home/opc/perl5/perlbrew
    PERLBREW_SHELLRC_VERSION = 0.92
    PERLBREW_VERSION = 0.92
    PERL_LOCAL_LIB_ROOT = 
    PERL_MM_USE_DEFAULT = 1
    PERL_USE_UNSAFE_INC = 1
    SHELL = /bin/bash

Perl special variables (and OS-specific diagnostics, for MSWin32):

    $^X = /home/opc/perl5/perlbrew/perls/perl-5.32.0-thread/bin/perl5.32.0
    $UID/$EUID = 1000 / 1000
    $GID = 1000 4 10 190 1000
    $EGID = 1000 4 10 190 1000

Perl module toolchain versions installed:

    Module              Have    
    ------------------- --------
    CPAN                2.28    
    CPAN::Meta          2.150010
    Cwd                 3.78    
    ExtUtils::CBuilder  0.280236
    ExtUtils::Command   7.62    
    ExtUtils::Install   2.20    
    ExtUtils::MakeMaker 7.62    
    ExtUtils::Manifest  1.73    
    ExtUtils::ParseXS   3.40    
    File::Spec          3.78    
    JSON                4.02    
    JSON::PP            4.05    
    Module::Build       0.4231  
    Module::Signature   0.87    
    Parse::CPAN::Meta   2.150010
    Test::Harness       3.42    
    Test::More          1.302186
    YAML                1.30    
    YAML::Syck          1.34    
    version             0.9929  


--

Summary of my perl5 (revision 5 version 32 subversion 0) configuration:
   
  Platform:
    osname=linux
    osvers=4.14.35-1902.10.8.el7uek.x86_64
    archname=x86_64-linux-thread-multi
    uname='linux instance-20191218-1736 4.14.35-1902.10.8.el7uek.x86_64 #2 smp thu feb 6 11:02:28 pst 2020 x86_64 x86_64 x86_64 gnulinux '
    config_args='-de -Dprefix=/home/opc/perl5/perlbrew/perls/perl-5.32.0-thread -Dusedevel -Dusethreads -Accflags=-O2 -W -Wformat=2 -Wswitch -Wshadow -Wwrite-strings -Wuninitialized -Wall -pipe -fomit-frame-pointer -pedantic -D_FORTIFY_SOURCE=2 -Wpointer-arith -Wstrict-prototypes -fstack-protector -Wstack-protector -Wextra -Wbad-function-cast -Wcast-align -Wcast-qual -Wdisabled-optimization -Wendif-labels -Wfloat-equal -Wformat-nonliteral -Winline -Wmissing-declarations -Wmissing-prototypes -Wnested-externs -Wpointer-arith -Wundef -Wformat-security -ftree-vectorize -msse -mfpmath=sse -msse2 -mssse3 -msse4.1 -msse4.2 -maes -mtune=native -march=native -Aeval:scriptdir=/home/opc/perl5/perlbrew/perls/perl-5.32.0-thread/bin'
    hint=recommended
    useposix=true
    d_sigaction=define
    useithreads=define
    usemultiplicity=define
    use64bitint=define
    use64bitall=define
    uselongdouble=undef
    usemymalloc=n
    default_inc_excludes_dot=define
    bincompat5005=undef
  Compiler:
    cc='cc'
    ccflags ='-D_REENTRANT -D_GNU_SOURCE -O2 -W -Wformat=2 -Wswitch -Wshadow -Wwrite-strings -Wuninitialized -Wall -pipe -fomit-frame-pointer -pedantic -D_FORTIFY_SOURCE=2 -Wpointer-arith -Wstrict-prototypes -fstack-protector -Wstack-protector -Wextra -Wbad-function-cast -Wcast-align -Wcast-qual -Wdisabled-optimization -Wendif-labels -Wfloat-equal -Wformat-nonliteral -Winline -Wmissing-declarations -Wmissing-prototypes -Wnested-externs -Wpointer-arith -Wundef -Wformat-security -ftree-vectorize -msse -mfpmath=sse -msse2 -mssse3 -msse4.1 -msse4.2 -maes -mtune=native -march=native -fwrapv -fno-strict-aliasing -fstack-protector-strong -I/usr/local/include -D_LARGEFILE_SOURCE -D_FILE_OFFSET_BITS=64'
    optimize='-O2'
    cppflags='-D_REENTRANT -D_GNU_SOURCE -O2 -W -Wformat=2 -Wswitch -Wshadow -Wwrite-strings -Wuninitialized -Wall -pipe -fomit-frame-pointer -pedantic -D_FORTIFY_SOURCE=2 -Wpointer-arith -Wstrict-prototypes -fstack-protector -Wstack-protector -Wextra -Wbad-function-cast -Wcast-align -Wcast-qual -Wdisabled-optimization -Wendif-labels -Wfloat-equal -Wformat-nonliteral -Winline -Wmissing-declarations -Wmissing-prototypes -Wnested-externs -Wpointer-arith -Wundef -Wformat-security -ftree-vectorize -msse -mfpmath=sse -msse2 -mssse3 -msse4.1 -msse4.2 -maes -mtune=native -march=native -fwrapv -fno-strict-aliasing -fstack-protector-strong -I/usr/local/include'
    ccversion=''
    gccversion='4.8.5 20150623 (Red Hat 4.8.5-39.0.3)'
    gccosandvers=''
    intsize=4
    longsize=8
    ptrsize=8
    doublesize=8
    byteorder=12345678
    doublekind=3
    d_longlong=define
    longlongsize=8
    d_longdbl=define
    longdblsize=16
    longdblkind=3
    ivtype='long'
    ivsize=8
    nvtype='double'
    nvsize=8
    Off_t='off_t'
    lseeksize=8
    alignbytes=8
    prototype=define
  Linker and Libraries:
    ld='cc'
    ldflags =' -fstack-protector-strong -L/usr/local/lib'
    libpth=/usr/local/lib /usr/lib /lib/../lib64 /usr/lib/../lib64 /lib /lib64 /usr/lib64 /usr/local/lib64
    libs=-lpthread -lnsl -lgdbm -ldb -ldl -lm -lcrypt -lutil -lc -lgdbm_compat
    perllibs=-lpthread -lnsl -ldl -lm -lcrypt -lutil -lc
    libc=libc-2.17.so
    so=so
    useshrplib=false
    libperl=libperl.a
    gnulibc_version='2.17'
  Dynamic Linking:
    dlsrc=dl_dlopen.xs
    dlext=so
    d_dlsymun=undef
    ccdlflags='-Wl,-E'
    cccdlflags='-fPIC'
    lddlflags='-shared -O2 -L/usr/local/lib -fstack-protector-strong'


Characteristics of this binary (from libperl): 
  Compile-time options:
    HAS_TIMES
    MULTIPLICITY
    PERLIO_LAYERS
    PERL_COPY_ON_WRITE
    PERL_DONT_CREATE_GVSV
    PERL_IMPLICIT_CONTEXT
    PERL_MALLOC_WRAP
    PERL_OP_PARENT
    PERL_PRESERVE_IVUV
    PERL_USE_DEVEL
    USE_64_BIT_ALL
    USE_64_BIT_INT
    USE_ITHREADS
    USE_LARGE_FILES
    USE_LOCALE
    USE_LOCALE_COLLATE
    USE_LOCALE_CTYPE
    USE_LOCALE_NUMERIC
    USE_LOCALE_TIME
    USE_PERLIO
    USE_PERL_ATOF
    USE_REENTRANT_API
    USE_THREAD_SAFE_LOCALE
  Built under linux
  Compiled at Jul  3 2020 08:31:54
  %ENV:
    PERL5LIB=""
    PERL5OPT=""
    PERL5_CPANPLUS_IS_RUNNING="21494"
    PERL5_CPAN_IS_RUNNING="21494"
    PERLBREW_HOME="/home/opc/.perlbrew"
    PERLBREW_LIB=""
    PERLBREW_MANPATH="/home/opc/perl5/perlbrew/perls/perl-5.32.0-thread/man"
    PERLBREW_PATH="/home/opc/perl5/perlbrew/bin:/home/opc/perl5/perlbrew/perls/perl-5.32.0-thread/bin"
    PERLBREW_PERL="perl-5.32.0-thread"
    PERLBREW_ROOT="/home/opc/perl5/perlbrew"
    PERLBREW_SHELLRC_VERSION="0.92"
    PERLBREW_VERSION="0.92"
    PERL_LOCAL_LIB_ROOT=""
    PERL_MM_USE_DEFAULT="1"
    PERL_USE_UNSAFE_INC="1"
  @INC:
    /home/opc/perl5/perlbrew/perls/perl-5.32.0-thread/lib/site_perl/5.32.0/x86_64-linux-thread-multi
    /home/opc/perl5/perlbrew/perls/perl-5.32.0-thread/lib/site_perl/5.32.0
    /home/opc/perl5/perlbrew/perls/perl-5.32.0-thread/lib/5.32.0/x86_64-linux-thread-multi
    /home/opc/perl5/perlbrew/perls/perl-5.32.0-thread/lib/5.32.0
    .