Report for Dancer2-0.13

Back
From: metabase:user:30ae4450-2aae-11df-837a-5e0a49663a4f
Subject: PASS Dancer2-0.13 v5.10.1 
Date: 2014-04-19T17:08:55Z

This distribution has been tested as part of the CPAN Testers
project, supporting the Perl programming language.  See
http://wiki.cpantesters.org/ for more information or email
questions to cpan-testers-discuss@perl.org


--
Dear Sawyer X,

This is a computer-generated report for Dancer2-0.13
on perl 5.10.1, created by CPAN-Reporter-1.2011.

Thank you for uploading your work to CPAN.  Congratulations!
All tests were successful.

Sections of this report:

    * Tester comments
    * Program output
    * Prerequisites
    * Environment and other context

------------------------------
TESTER COMMENTS
------------------------------

Additional comments from tester:

this report is from an automated smoke testing program
and was not reviewed by a human for accuracy

------------------------------
PROGRAM OUTPUT
------------------------------

Output from 'C:\strawberry\perl\bin\perl.exe ./Build test':

script/dancer2 syntax OK
t/00-compile.t ............................. ok
# Prerequisite Report:
#    Version Module                      
#   -------- ----------------------------
#      0.320 App::Cmd::Setup             
#       0.07 CGI::Deurl::XS              
#       0.21 Capture::Tiny               
#       1.26 Carp                        
#       0.20 Class::Load                 
#       0.06 Class::Load::XS             
#       0.23 Config::Any                 
#       0.30 Crypt::URandom              
#       3.40 Cwd                         
#      2.128 Data::Dumper                
#       5.82 Digest::SHA                 
#       2.48 Encode                      
#       5.67 Exporter                    
#       6.64 ExtUtils::MakeMaker         
#       1.06 Fcntl                       
#       2.77 File::Basename              
#       2.14 File::Copy                  
#       1.14 File::Find                  
#       2.08 File::Path                  
#       1.03 File::ShareDir              
#       0.04 File::ShareDir::Install     
#       3.40 File::Spec                  
#       3.40 File::Spec::Functions       
#       0.22 File::Temp                  
#       1.50 FindBin                     
#       1.17 HTTP::Body                  
#       6.02 HTTP::Date                  
#       6.05 HTTP::Headers               
#       6.00 HTTP::Request               
#       6.04 HTTP::Request::Common       
#       0.14 HTTP::Server::Simple::PSGI  
#      0.051 Hash::Merge::Simple         
#       1.14 IO::File                    
#       1.28 IO::Handle                  
#       1.04 IPC::Open3                  
#       2.53 JSON                        
#       2.33 JSON::XS                    
#       0.06 LWP::Protocol::PSGI         
#       6.04 LWP::UserAgent              
#       1.27 List::Util                  
#       3.13 MIME::Base64                
#       1.38 MIME::Types                 
#      1.004 Math::Random::ISAAC::XS     
#     0.4003 Module::Build               
#   1.004002 Moo                         
#   1.004002 Moo::Role                   
#       0.21 MooX::Types::MooseLike      
#       0.21 MooX::Types::MooseLike::Base
#       1.17 POSIX                       
#     1.0030 Plack::Request              
#      undef Plack::Test                 
#       3.25 Pod::Simple::Search         
#       3.25 Pod::Simple::SimpleTree     
#       0.03 Return::MultiLevel          
#   1.003003 Role::Tiny                  
#       1.27 Scalar::Util                
#       0.22 Scope::Upper                
#       2.24 Template                    
#       1.12 Template::Tiny              
#       0.98 Test::Builder               
#      0.010 Test::Fatal                 
#       0.12 Test::MockTime              
#       0.98 Test::More                  
#       1.07 Test::Script                
#       2.02 Test::TCP                   
#       1.60 URI                         
#       3.31 URI::Escape                 
#       0.01 URL::Encode::XS             
#       0.84 YAML                        
#       0.62 lib                         
#       1.07 overload                    
#      0.225 parent                      
#       1.04 strict                      
#       1.07 utf8                        
#       1.01 vars                        
#       1.06 warnings                    
t/00-report-prereqs.t ...................... ok
t/ajax_plugin.t ............................ ok
t/any.t .................................... ok
t/app.t .................................... ok
t/auto_page.t .............................. ok
>> Dancer2 v0.13 server -7780 listening on http://0.0.0.0:50776
t/charset_server.t ......................... ok
t/config.t ................................. ok
t/config_app1.t ............................ ok
t/config_app2.t ............................ ok
t/config_app3.t ............................ ok
t/config_settings.t ........................ ok
t/context.t ................................ ok
>> Dancer2 v0.13 server -7248 listening on http://0.0.0.0:50309
t/context_trigger.t ........................ ok
t/cookie.t ................................. ok
t/custom_dsl.t ............................. ok
t/dancer-test.t ............................ ok
t/deserialize.t ............................ ok
t/dispatcher.t ............................. ok
t/dsl.t .................................... ok
t/dsl/halt.t ............................... ok
t/engine.t ................................. ok
t/error.t .................................. ok
t/error_template.t ......................... ok
t/factory.t ................................ ok
t/file_utils.t ............................. ok
t/forward.t ................................ ok
t/forward_before_hook.t .................... ok
>> Dancer2 v0.13 server -8136 listening on http://0.0.0.0:50345
t/forward_test_tcp.t ....................... ok
t/handler_file.t ........................... ok
t/hooks.t .................................. ok
t/http_methods.t ........................... ok
t/http_status.t ............................ ok
t/logger.t ................................. ok
t/logger_console.t ......................... ok
t/mime.t ................................... ok
t/plugin_import.t .......................... ok
t/plugin_multiple_apps.t ................... ok
t/plugin_register.t ........................ ok
t/plugin_syntax.t .......................... ok
t/redirect.t ............................... ok
t/release-distmeta.t ....................... skipped: these tests are for release candidate testing
t/release-no-tabs.t ........................ skipped: these tests are for release candidate testing
t/release-pod-syntax.t ..................... skipped: these tests are for release candidate testing
# Run test with XS_URL_DECODE
# Run test with XS_PARSE_QUERY_STRING
# Run test without XS_PARSE_QUERY_STRING
# Run test without XS_URL_DECODE
t/request.t ................................ ok
# Run test with XS_URL_DECODE
# Run test with XS_PARSE_QUERY_STRING
# Run test without XS_PARSE_QUERY_STRING
# Run test without XS_URL_DECODE
t/request_params.t ......................... ok
# Run test with XS_URL_DECODE
# Run test with XS_PARSE_QUERY_STRING
# Run test without XS_PARSE_QUERY_STRING
# Run test without XS_URL_DECODE
t/request_upload.t ......................... ok
t/response.t ............................... ok
t/roles/headers.t .......................... ok
t/roles/hook.t ............................. ok
t/roles/server.t ........................... ok
t/route-pod-coverage/route-pod-coverage.t .. ok
t/route.t .................................. ok
t/runner.t ................................. ok
t/serializer.t ............................. ok
t/serializer_json.t ........................ ok
t/server.t ................................. ok
>> Dancer2 v0.13 server -6412 listening on http://0.0.0.0:50190
t/server_standalone.t ...................... ok
>> Dancer2 v0.13 server -6280 listening on http://0.0.0.0:50043
>> Dancer2 v0.13 server -6664 listening on http://0.0.0.0:50066
>> Dancer2 v0.13 server -5724 listening on http://0.0.0.0:50909
t/session_config.t ......................... ok
>> Dancer2 v0.13 server -4408 listening on http://0.0.0.0:50084
>> Dancer2 v0.13 server -7468 listening on http://0.0.0.0:50328
t/session_engines.t ........................ ok
>> Dancer2 v0.13 server -6392 listening on http://0.0.0.0:50162
t/session_forward.t ........................ ok
t/session_hooks.t .......................... ok
# Testing engine YAML
>> Dancer2 v0.13 server -6632 listening on http://0.0.0.0:50308
# Testing engine Simple
>> Dancer2 v0.13 server -6584 listening on http://0.0.0.0:50318
t/session_lifecycle.t ...................... ok
# Crypto strength tokens
t/session_object.t ......................... ok
>> Dancer2 v0.13 server -7988 listening on http://0.0.0.0:50079
t/shared_engines.t ......................... ok
t/splat.t .................................. ok
t/template.t ............................... ok
t/template_default_tokens.t ................ ok
t/template_ext.t ........................... ok
t/template_name.t .......................... ok
t/template_simple.t ........................ ok
t/template_tiny/01_compile.t ............... ok
t/template_tiny/02_trivial.t ............... ok
t/template_tiny/03_samples.t ............... ok
t/template_tiny/04_compat.t ................ ok
t/template_tiny/05_preparse.t .............. ok
t/time.t ................................... ok
t/types.t .................................. ok
t/uri_for.t ................................ ok
t/vars.t ................................... ok
All tests successful.
Files=80, Tests=1231, 113 wallclock secs ( 0.16 usr +  0.60 sys =  0.76 CPU)
Result: PASS

------------------------------
PREREQUISITES
------------------------------

Prerequisite modules loaded:

requires:

    Module                       Need     Have    
    ---------------------------- -------- --------
    App::Cmd::Setup              0        0.320   
    Carp                         0        1.26    
    Class::Load                  0        0.20    
    Config::Any                  0        0.23    
    Cwd                          0        3.40    
    Data::Dumper                 0        2.128   
    Digest::SHA                  0        5.82    
    Encode                       0        2.48    
    Exporter                     5.57     5.67    
    Fcntl                        0        1.06    
    File::Basename               0        2.77    
    File::Copy                   0        2.14    
    File::Find                   0        1.14    
    File::Path                   0        2.08    
    File::ShareDir               1.00     1.03    
    File::Spec                   0        3.40    
    File::Spec::Functions        0        3.40    
    File::Temp                   0.22     0.22    
    Hash::Merge::Simple          0        0.051   
    HTTP::Body                   0        1.17    
    HTTP::Date                   0        6.02    
    HTTP::Headers                0        6.05    
    HTTP::Server::Simple::PSGI   0        0.14    
    IO::File                     0        1.14    
    JSON                         0        2.53    
    List::Util                   0        1.27    
    LWP::UserAgent               0        6.04    
    MIME::Base64                 3.13     3.13    
    MIME::Types                  0        1.38    
    Moo                          1.003000 1.004002
    Moo::Role                    0        1.004002
    MooX::Types::MooseLike       0.16     0.21    
    MooX::Types::MooseLike::Base 0        0.21    
    overload                     0        1.07    
    parent                       0        0.225   
    perl                         5.00503  5.010001
    Plack::Request               0        1.0030  
    Pod::Simple::Search          0        3.25    
    Pod::Simple::SimpleTree      0        3.25    
    POSIX                        0        1.17    
    Return::MultiLevel           0        0.03    
    Role::Tiny                   1.003000 1.003003
    Scalar::Util                 0        1.27    
    strict                       0        1.04    
    Template                     0        2.24    
    Template::Tiny               0        1.12    
    Test::Builder                0        0.98    
    Test::More                   0.92     0.98    
    URI                          0        1.60    
    URI::Escape                  0        3.31    
    warnings                     0        1.06    
    YAML                         0        0.84    

build_requires:

    Module                       Need     Have    
    ---------------------------- -------- --------
    Capture::Tiny                0.12     0.21    
    ExtUtils::MakeMaker          0        6.64    
    File::Temp                   0.22     0.22    
    FindBin                      0        1.50    
    HTTP::Body                   0        1.17    
    HTTP::Request                0        6.00    
    HTTP::Request::Common        0        6.04    
    HTTP::Server::Simple::PSGI   0        0.14    
    IO::Handle                   0        1.28    
    IPC::Open3                   0        1.04    
    lib                          0        0.62    
    LWP::Protocol::PSGI          0.06     0.06    
    Module::Build                0.3601   0.4003  
    Plack::Test                  0        0       
    Test::Fatal                  0        0.010   
    Test::MockTime               0        0.12    
    Test::More                   0.92     0.98    
    Test::Script                 0        1.07    
    Test::TCP                    1.13     2.02    
    utf8                         0        1.07    
    vars                         0        1.01    
    YAML                         0        0.84    

configure_requires:

    Module                       Need     Have    
    ---------------------------- -------- --------
    ExtUtils::MakeMaker          6.30     6.64    
    File::ShareDir::Install      0.03     0.04    
    Module::Build                0.3601   0.4003  


------------------------------
ENVIRONMENT AND OTHER CONTEXT
------------------------------

Environment variables:

    AUTOMATED_TESTING = 1
    COMSPEC = C:\WINDOWS\system32\cmd.exe
    NUMBER_OF_PROCESSORS = 1
    PATH = C:\Program Files\Far Manager\;C:\WINDOWS\system32;C:\WINDOWS;C:\WINDOWS\System32\Wbem;C:\strawberry\c\bin;C:\strawberry\perl\site\bin;C:\strawberry\perl\bin
    PERL5LIB = C:\strawberry\cpan\build\Moo-1.004002-jM4Vwg/blib/arch;C:\strawberry\cpan\build\Moo-1.004002-jM4Vwg/blib/lib;C:\strawberry\cpan\build\Import-Into-1.002001-iIBO2_/blib/arch;C:\strawberry\cpan\build\Import-Into-1.002001-iIBO2_/blib/lib;C:\strawberry\cpan\build\Devel-GlobalDestruction-0.12-jrh2V1/blib/arch;C:\strawberry\cpan\build\Devel-GlobalDestruction-0.12-jrh2V1/blib/lib;C:\strawberry\cpan\build\Devel-GlobalDestruction-XS-0.01-7ZXuQR/blib/arch;C:\strawberry\cpan\build\Devel-GlobalDestruction-XS-0.01-7ZXuQR/blib/lib;C:\strawberry\cpan\build\Sub-Exporter-Progressive-0.001011-5f42yx/blib/arch;C:\strawberry\cpan\build\Sub-Exporter-Progressive-0.001011-5f42yx/blib/lib;C:\strawberry\cpan\build\LWP-Protocol-PSGI-0.06-KyViUd/blib/arch;C:\strawberry\cpan\build\LWP-Protocol-PSGI-0.06-KyViUd/blib/lib;C:\strawberry\cpan\build\Module-Build-Tiny-0.035-UodrPa/blib/arch;C:\strawberry\cpan\build\Module-Build-Tiny-0.035-UodrPa/blib/lib;C:\strawberry\cpan\build\ExtUtils-Helpers-0.022-HIgMk7/blib/arch;C:\strawberry\cpan\build\ExtUtils-Helpers-0.022-HIgMk7/blib/lib;C:\strawberry\cpan\build\ExtUtils-InstallPaths-0.010-4hJlZ1/blib/arch;C:\strawberry\cpan\build\ExtUtils-InstallPaths-0.010-4hJlZ1/blib/lib;C:\strawberry\cpan\build\Test-Harness-3.30-SSacPP/blib/arch;C:\strawberry\cpan\build\Test-Harness-3.30-SSacPP/blib/lib;C:\strawberry\cpan\build\Role-Tiny-1.003003-wk01cE/blib/arch;C:\strawberry\cpan\build\Role-Tiny-1.003003-wk01cE/blib/lib;C:\strawberry\cpan\build\Return-MultiLevel-0.03-jyi4yz/blib/arch;C:\strawberry\cpan\build\Return-MultiLevel-0.03-jyi4yz/blib/lib;C:\strawberry\cpan\build\Plack-1.0030-PoLR3u/blib/arch;C:\strawberry\cpan\build\Plack-1.0030-PoLR3u/blib/lib;C:\strawberry\cpan\build\Apache-LogFormat-Compiler-0.30-7LqSR7/blib/arch;C:\strawberry\cpan\build\Apache-LogFormat-Compiler-0.30-7LqSR7/blib/lib;C:\strawberry\cpan\build\POSIX-strftime-Compiler-0.31-ImXawK/blib/arch;C:\strawberry\cpan\build\POSIX-strftime-Compiler-0.31-ImXawK/blib/lib;C:\strawberry\cpan\build\Test-TCP-2.02-oqUg2k/blib/arch;C:\strawberry\cpan\build\Test-TCP-2.02-oqUg2k/blib/lib
    PERL5OPT = 
    PERL5_CPANPLUS_IS_RUNNING = 6560
    PERL5_CPAN_IS_RUNNING = 6560
    PERL5_CPAN_IS_RUNNING_IN_RECURSION = 1612,6560
    PERL_CR_SMOKER_CURRENT = Dancer2-Session-PSGI-0.004
    PERL_EXTUTILS_AUTOINSTALL = --defaultdeps
    PERL_JSON_BACKEND = JSON::XS
    PERL_MM_USE_DEFAULT = 1
    PERL_YAML_BACKEND = YAML
    PROCESSOR_IDENTIFIER = x86 Family 16 Model 5 Stepping 3, AuthenticAMD
    TEMP = C:\DOCUME~1\c\LOCALS~1\Temp
    TERM = dumb

Perl special variables (and OS-specific diagnostics, for MSWin32):

    $^X = C:\strawberry\perl\bin\perl.exe
    $UID/$EUID = 0 / 0
    $GID = 0
    $EGID = 0
    Win32::GetOSName = WinXP/.Net
    Win32::GetOSVersion = Service Pack 3, 5, 1, 2600, 2, 3, 0, 256, 1
    Win32::FsType = NTFS
    Win32::IsAdminUser = 1

Perl module toolchain versions installed:

    Module              Have    
    ------------------- --------
    CPAN                1.9800  
    CPAN::Meta          2.120921
    Cwd                 3.40    
    ExtUtils::CBuilder  0.280202
    ExtUtils::Command   1.17    
    ExtUtils::Install   1.54    
    ExtUtils::MakeMaker 6.64    
    ExtUtils::Manifest  1.60    
    ExtUtils::ParseXS   3.18    
    File::Spec          3.40    
    JSON                2.53    
    JSON::PP            2.27200 
    Module::Build       0.4003  
    Module::Signature   0.66    
    Parse::CPAN::Meta   1.4404  
    Test::Harness       3.30    
    Test::More          0.98    
    YAML                0.84    
    YAML::Syck          1.22    
    version             0.9901  


--

Summary of my perl5 (revision 5 version 10 subversion 1) configuration:
   
  Platform:
    osname=MSWin32, osvers=5.1, archname=MSWin32-x86-multi-thread
    uname='Win32 strawberryperl 5.10.1.5 #1 Sun May 15 09:44:53 2011 i386'
    config_args='undef'
    hint=recommended, useposix=true, d_sigaction=undef
    useithreads=define, usemultiplicity=define
    useperlio=define, d_sfio=undef, uselargefiles=define, usesocks=undef
    use64bitint=undef, use64bitall=undef, uselongdouble=undef
    usemymalloc=n, bincompat5005=undef
  Compiler:
    cc='gcc', ccflags =' -s -O2 -DWIN32 -DHAVE_DES_FCRYPT  -DUSE_SITECUSTOMIZE -DPERL_IMPLICIT_CONTEXT -DPERL_IMPLICIT_SYS -fno-strict-aliasing -DPERL_MSVCRT_READFIX',
    optimize='-s -O2',
    cppflags='-DWIN32'
    ccversion='', gccversion='3.4.5', gccosandvers=''
    intsize=4, longsize=4, ptrsize=4, doublesize=8, byteorder=1234
    d_longlong=undef, longlongsize=8, d_longdbl=define, longdblsize=12
    ivtype='long', ivsize=4, nvtype='double', nvsize=8, Off_t='long long', lseeksize=8
    alignbytes=8, prototype=define
  Linker and Libraries:
    ld='g++', ldflags ='-s -L"C:\strawberry\perl\lib\CORE" -L"C:\strawberry\c\lib"'
    libpth=C:\strawberry\c\lib
    libs= -lmoldname -lkernel32 -luser32 -lgdi32 -lwinspool -lcomdlg32 -ladvapi32 -lshell32 -lole32 -loleaut32 -lnetapi32 -luuid -lws2_32 -lmpr -lwinmm -lversion -lodbc32 -lodbccp32
    perllibs= -lmoldname -lkernel32 -luser32 -lgdi32 -lwinspool -lcomdlg32 -ladvapi32 -lshell32 -lole32 -loleaut32 -lnetapi32 -luuid -lws2_32 -lmpr -lwinmm -lversion -lodbc32 -lodbccp32
    libc=, so=dll, useshrplib=true, libperl=libperl510.a
    gnulibc_version=''
  Dynamic Linking:
    dlsrc=dl_win32.xs, dlext=dll, d_dlsymun=undef, ccdlflags=' '
    cccdlflags=' ', lddlflags='-mdll -s -L"C:\strawberry\perl\lib\CORE" -L"C:\strawberry\c\lib"'


Characteristics of this binary (from libperl): 
  Compile-time options: MULTIPLICITY PERL_DONT_CREATE_GVSV
                        PERL_IMPLICIT_CONTEXT PERL_IMPLICIT_SYS
                        PERL_MALLOC_WRAP PL_OP_SLAB_ALLOC USE_ITHREADS
                        USE_LARGE_FILES USE_PERLIO USE_SITECUSTOMIZE
  Built under MSWin32
  Compiled at May 15 2011 09:50:23
  %ENV:
    PERL5LIB="C:\strawberry\cpan\build\Moo-1.004002-jM4Vwg/blib/arch;C:\strawberry\cpan\build\Moo-1.004002-jM4Vwg/blib/lib;C:\strawberry\cpan\build\Import-Into-1.002001-iIBO2_/blib/arch;C:\strawberry\cpan\build\Import-Into-1.002001-iIBO2_/blib/lib;C:\strawberry\cpan\build\Devel-GlobalDestruction-0.12-jrh2V1/blib/arch;C:\strawberry\cpan\build\Devel-GlobalDestruction-0.12-jrh2V1/blib/lib;C:\strawberry\cpan\build\Devel-GlobalDestruction-XS-0.01-7ZXuQR/blib/arch;C:\strawberry\cpan\build\Devel-GlobalDestruction-XS-0.01-7ZXuQR/blib/lib;C:\strawberry\cpan\build\Sub-Exporter-Progressive-0.001011-5f42yx/blib/arch;C:\strawberry\cpan\build\Sub-Exporter-Progressive-0.001011-5f42yx/blib/lib;C:\strawberry\cpan\build\LWP-Protocol-PSGI-0.06-KyViUd/blib/arch;C:\strawberry\cpan\build\LWP-Protocol-PSGI-0.06-KyViUd/blib/lib;C:\strawberry\cpan\build\Module-Build-Tiny-0.035-UodrPa/blib/arch;C:\strawberry\cpan\build\Module-Build-Tiny-0.035-UodrPa/blib/lib;C:\strawberry\cpan\build\ExtUtils-Helpers-0.022-HIgMk7/blib/arch;C:\strawberry\cpan\build\ExtUtils-Helpers-0.022-HIgMk7/blib/lib;C:\strawberry\cpan\build\ExtUtils-InstallPaths-0.010-4hJlZ1/blib/arch;C:\strawberry\cpan\build\ExtUtils-InstallPaths-0.010-4hJlZ1/blib/lib;C:\strawberry\cpan\build\Test-Harness-3.30-SSacPP/blib/arch;C:\strawberry\cpan\build\Test-Harness-3.30-SSacPP/blib/lib;C:\strawberry\cpan\build\Role-Tiny-1.003003-wk01cE/blib/arch;C:\strawberry\cpan\build\Role-Tiny-1.003003-wk01cE/blib/lib;C:\strawberry\cpan\build\Return-MultiLevel-0.03-jyi4yz/blib/arch;C:\strawberry\cpan\build\Return-MultiLevel-0.03-jyi4yz/blib/lib;C:\strawberry\cpan\build\Plack-1.0030-PoLR3u/blib/arch;C:\strawberry\cpan\build\Plack-1.0030-PoLR3u/blib/lib;C:\strawberry\cpan\build\Apache-LogFormat-Compiler-0.30-7LqSR7/blib/arch;C:\strawberry\cpan\build\Apache-LogFormat-Compiler-0.30-7LqSR7/blib/lib;C:\strawberry\cpan\build\POSIX-strftime-Compiler-0.31-ImXawK/blib/arch;C:\strawberry\cpan\build\POSIX-strftime-Compiler-0.31-ImXawK/blib/lib;C:\strawberry\cpan\build\Test-TCP-2.02-oqUg2k/blib/arch;C:\strawberry\cpan\build\Test-TCP-2.02-oqUg2k/blib/lib"
    PERL5_CPANPLUS_IS_RUNNING="6560"
    PERL5_CPAN_IS_RUNNING="6560"
    PERL5_CPAN_IS_RUNNING_IN_RECURSION="1612,6560"
    PERL_CR_SMOKER_CURRENT="Dancer2-Session-PSGI-0.004"
    PERL_EXTUTILS_AUTOINSTALL="--defaultdeps"
    PERL_JSON_BACKEND="JSON::XS"
    PERL_MM_USE_DEFAULT="1"
    PERL_YAML_BACKEND="YAML"
  @INC:
    C:\strawberry\cpan\build\Moo-1.004002-jM4Vwg/blib/arch
    C:\strawberry\cpan\build\Moo-1.004002-jM4Vwg/blib/lib
    C:\strawberry\cpan\build\Import-Into-1.002001-iIBO2_/blib/arch
    C:\strawberry\cpan\build\Import-Into-1.002001-iIBO2_/blib/lib
    C:\strawberry\cpan\build\Devel-GlobalDestruction-0.12-jrh2V1/blib/arch
    C:\strawberry\cpan\build\Devel-GlobalDestruction-0.12-jrh2V1/blib/lib
    C:\strawberry\cpan\build\Devel-GlobalDestruction-XS-0.01-7ZXuQR/blib/arch
    C:\strawberry\cpan\build\Devel-GlobalDestruction-XS-0.01-7ZXuQR/blib/lib
    C:\strawberry\cpan\build\Sub-Exporter-Progressive-0.001011-5f42yx/blib/arch
    C:\strawberry\cpan\build\Sub-Exporter-Progressive-0.001011-5f42yx/blib/lib
    C:\strawberry\cpan\build\LWP-Protocol-PSGI-0.06-KyViUd/blib/arch
    C:\strawberry\cpan\build\LWP-Protocol-PSGI-0.06-KyViUd/blib/lib
    C:\strawberry\cpan\build\Module-Build-Tiny-0.035-UodrPa/blib/arch
    C:\strawberry\cpan\build\Module-Build-Tiny-0.035-UodrPa/blib/lib
    C:\strawberry\cpan\build\ExtUtils-Helpers-0.022-HIgMk7/blib/arch
    C:\strawberry\cpan\build\ExtUtils-Helpers-0.022-HIgMk7/blib/lib
    C:\strawberry\cpan\build\ExtUtils-InstallPaths-0.010-4hJlZ1/blib/arch
    C:\strawberry\cpan\build\ExtUtils-InstallPaths-0.010-4hJlZ1/blib/lib
    C:\strawberry\cpan\build\Test-Harness-3.30-SSacPP/blib/arch
    C:\strawberry\cpan\build\Test-Harness-3.30-SSacPP/blib/lib
    C:\strawberry\cpan\build\Role-Tiny-1.003003-wk01cE/blib/arch
    C:\strawberry\cpan\build\Role-Tiny-1.003003-wk01cE/blib/lib
    C:\strawberry\cpan\build\Return-MultiLevel-0.03-jyi4yz/blib/arch
    C:\strawberry\cpan\build\Return-MultiLevel-0.03-jyi4yz/blib/lib
    C:\strawberry\cpan\build\Plack-1.0030-PoLR3u/blib/arch
    C:\strawberry\cpan\build\Plack-1.0030-PoLR3u/blib/lib
    C:\strawberry\cpan\build\Apache-LogFormat-Compiler-0.30-7LqSR7/blib/arch
    C:\strawberry\cpan\build\Apache-LogFormat-Compiler-0.30-7LqSR7/blib/lib
    C:\strawberry\cpan\build\POSIX-strftime-Compiler-0.31-ImXawK/blib/arch
    C:\strawberry\cpan\build\POSIX-strftime-Compiler-0.31-ImXawK/blib/lib
    C:\strawberry\cpan\build\Test-TCP-2.02-oqUg2k/blib/arch
    C:\strawberry\cpan\build\Test-TCP-2.02-oqUg2k/blib/lib
    C:/strawberry/perl/lib
    C:/strawberry/perl/site/lib
    C:\strawberry\perl\vendor\lib
    .