JSON-PP v4.17_01 Perl 5 v5.32.1 x86_64-linux-thread-multi

Status
Pass
From
David Cantrell (DCANTRELL)
Dist
JSON-PP v4.17_01
Platform
Perl 5 v5.32.1 x86_64-linux-thread-multi
Date
2023-07-30 02:05:32
ID
90a6cf26-2e7d-11ee-b72e-7b8f635487fb
This distribution has been tested as part of the CPAN Testers
project, supporting the Perl programming language.  See
http://wiki.cpantesters.org/ for more information or email
questions to cpan-testers-discuss@perl.org


--
Dear Kenichi Ishigaki,

This is a computer-generated report for JSON-PP-4.17_01
on perl 5.32.1, created by CPAN-Reporter-1.2018.

Thank you for uploading your work to CPAN.  Congratulations!
All tests were successful.

Sections of this report:

    * Tester comments
    * Program output
    * Prerequisites
    * Environment and other context

------------------------------
TESTER COMMENTS
------------------------------

Additional comments from tester:

this report is from an automated smoke testing program
and was not reviewed by a human for accuracy

------------------------------
PROGRAM OUTPUT
------------------------------

Output from '/usr/bin/make test':

PERL_DL_NONLAZY=1 "/home/david/cpantesting/perl-5.32.1/bin/perl" "-MExtUtils::Command::MM" "-MTest::Harness" "-e" "undef *Test::Harness::Switches; test_harness(0, 'blib/lib', 'blib/arch')" t/*.t
t/000_load.t .......................... ok
t/001_utf8.t .......................... ok
t/002_error.t ......................... ok
t/003_types.t ......................... ok
t/004_dwiw_encode.t ................... ok
t/005_dwiw_decode.t ................... ok
t/006_pc_pretty.t ..................... ok
t/007_pc_esc.t ........................ ok
t/008_pc_base.t ....................... ok
t/009_pc_extra_number.t ............... ok
t/010_pc_keysort.t .................... ok
t/011_pc_expo.t ....................... ok
t/012_blessed.t ....................... ok
t/013_limit.t ......................... ok
t/014_latin1.t ........................ ok
t/015_prefix.t ........................ ok
t/016_tied.t .......................... ok
t/017_relaxed.t ....................... ok
t/018_json_checker.t .................. ok
t/019_incr.t .......................... ok
t/020_faihu.t ......................... ok
t/020_unknown.t ....................... ok
t/021_evans.t ......................... ok
t/022_comment_at_eof.t ................ ok
t/052_object.t ........................ ok
t/099_binary00.t ...................... ok
t/099_binary01.t ...................... ok
t/099_binary02.t ...................... ok
t/099_binary03.t ...................... ok
t/099_binary04.t ...................... ok
t/099_binary05.t ...................... ok
t/099_binary06.t ...................... ok
t/099_binary07.t ...................... ok
t/099_binary08.t ...................... ok
t/099_binary09.t ...................... ok
t/099_binary10.t ...................... ok
t/099_binary11.t ...................... ok
t/099_binary12.t ...................... ok
t/099_binary13.t ...................... ok
t/099_binary14.t ...................... ok
t/099_binary15.t ...................... ok
t/104_sortby.t ........................ ok
t/105_esc_slash.t ..................... ok
t/106_allow_barekey.t ................. ok
t/107_allow_singlequote.t ............. ok
t/108_decode.t ........................ ok
t/109_encode.t ........................ ok
t/110_bignum.t ........................ ok
t/112_upgrade.t ....................... ok
t/113_overloaded_eq.t ................. ok
t/114_decode_prefix.t ................. ok
t/115_tie_ixhash.t .................... ok
t/116_incr_parse_fixed.t .............. ok
t/117_numbers.t ....................... ok
t/118_boolean_values.t ................ ok
t/119_incr_parse_utf8.t ............... ok
t/120_incr_parse_truncated.t .......... ok
t/121_reentrant.t ..................... ok
t/core_bools.t ........................ ok
t/gh_28_json_test_suite.t ............. ok
t/gh_29_trailing_false_value.t ........ ok
t/rt_116998_wrong_character_offset.t .. ok
t/rt_122270_old_xs_boolean.t .......... ok
t/rt_90071_incr_parse.t ............... ok
t/zero-mojibake.t ..................... ok
All tests successful.
Files=65, Tests=25906, 603 wallclock secs ( 4.68 usr  0.41 sys + 93.96 cusr  1.83 csys = 100.88 CPU)
Result: PASS

------------------------------
PREREQUISITES
------------------------------

Prerequisite modules loaded:

requires:

    Module              Need Have    
    ------------------- ---- --------
    Scalar::Util        1.08 1.63    
    Test::More          0    1.302195

build_requires:

    Module              Need Have    
    ------------------- ---- --------
    ExtUtils::MakeMaker 0    7.70    

configure_requires:

    Module              Need Have    
    ------------------- ---- --------
    ExtUtils::MakeMaker 0    7.70    


------------------------------
ENVIRONMENT AND OTHER CONTEXT
------------------------------

Environment variables:

    AUTOMATED_TESTING = 1
    LANG = en_GB.UTF-8
    LANGUAGE = en_GB:en
    LC_TERMINAL = iTerm2
    LC_TERMINAL_VERSION = 3.4.19
    NONINTERACTIVE_TESTING = 1
    PATH = /home/david/.nvm/versions/node/v18.16.1/bin:/home/david/.cargo/bin:/home/david/perl5/perlbrew/bin:/home/david/perl5/perlbrew/perls/perl-5.30.2/bin:/home/david/bin:/usr/local/bin:/usr/bin:/bin:/usr/local/games:/usr/games
    PERL = 5.32.1
    PERL5LIB = 
    PERL5OPT = 
    PERL5_CPANPLUS_IS_RUNNING = 919402
    PERL5_CPAN_IS_RUNNING = 919402
    PERLBREW_HOME = /home/david/.perlbrew
    PERLBREW_MANPATH = /home/david/perl5/perlbrew/perls/perl-5.30.2/man
    PERLBREW_PATH = /home/david/perl5/perlbrew/bin:/home/david/perl5/perlbrew/perls/perl-5.30.2/bin
    PERLBREW_PERL = perl-5.30.2
    PERLBREW_ROOT = /home/david/perl5/perlbrew
    PERLBREW_SHELLRC_VERSION = 0.89
    PERLBREW_VERSION = 0.89
    PERLVER = 5.32.1
    PERL_INLINE_DIRECTORY = /home/david/.Inline-5.32.1
    PERL_MM_USE_DEFAULT = 1
    PERL_USE_UNSAFE_INC = 0
    SHELL = /bin/bash
    TERM = screen

Perl special variables (and OS-specific diagnostics, for MSWin32):

    $^X = /home/david/cpantesting/perl-5.32.1/bin/perl
    $UID/$EUID = 1000 / 1000
    $GID = 1000 24 25 27 29 30 44 46 109 1000
    $EGID = 1000 24 25 27 29 30 44 46 109 1000

Perl module toolchain versions installed:

    Module              Have    
    ------------------- --------
    CPAN                2.27    
    CPAN::Meta          2.150010
    Cwd                 3.75    
    ExtUtils::CBuilder  0.280236
    ExtUtils::Command   7.70    
    ExtUtils::Install   2.22    
    ExtUtils::MakeMaker 7.70    
    ExtUtils::Manifest  1.75    
    ExtUtils::ParseXS   3.44    
    File::Spec          3.75    
    JSON                4.10    
    JSON::PP            4.16    
    Module::Build       0.4234  
    Module::Signature   n/a     
    Parse::CPAN::Meta   2.150010
    Test::Harness       3.44    
    Test::More          1.302195
    YAML                1.30    
    YAML::Syck          n/a     
    version             0.9929  


--

Summary of my perl5 (revision 5 version 32 subversion 1) configuration:
   
  Platform:
    osname=linux
    osvers=5.10.0-11-amd64
    archname=x86_64-linux-thread-multi
    uname='linux cpantesting-linux-utm 5.10.0-11-amd64 #1 smp debian 5.10.92-1 (2022-01-18) x86_64 gnulinux '
    config_args='-de -Dprefix=/home/david/cpantesting/perl-5.32.1 -Dusethreads'
    hint=recommended
    useposix=true
    d_sigaction=define
    useithreads=define
    usemultiplicity=define
    use64bitint=define
    use64bitall=define
    uselongdouble=undef
    usemymalloc=n
    default_inc_excludes_dot=define
    bincompat5005=undef
  Compiler:
    cc='cc'
    ccflags ='-D_REENTRANT -D_GNU_SOURCE -fwrapv -fno-strict-aliasing -pipe -fstack-protector-strong -I/usr/local/include -D_LARGEFILE_SOURCE -D_FILE_OFFSET_BITS=64 -D_FORTIFY_SOURCE=2'
    optimize='-O2'
    cppflags='-D_REENTRANT -D_GNU_SOURCE -fwrapv -fno-strict-aliasing -pipe -fstack-protector-strong -I/usr/local/include'
    ccversion=''
    gccversion='10.2.1 20210110'
    gccosandvers=''
    intsize=4
    longsize=8
    ptrsize=8
    doublesize=8
    byteorder=12345678
    doublekind=3
    d_longlong=define
    longlongsize=8
    d_longdbl=define
    longdblsize=16
    longdblkind=3
    ivtype='long'
    ivsize=8
    nvtype='double'
    nvsize=8
    Off_t='off_t'
    lseeksize=8
    alignbytes=8
    prototype=define
  Linker and Libraries:
    ld='cc'
    ldflags =' -fstack-protector-strong -L/usr/local/lib'
    libpth=/usr/local/lib /usr/include/x86_64-linux-gnu /usr/lib /lib/x86_64-linux-gnu /lib/../lib /usr/lib/x86_64-linux-gnu /usr/lib/../lib /lib /lib64 /usr/lib64
    libs=-lpthread -lnsl -ldl -lm -lcrypt -lutil -lc
    perllibs=-lpthread -lnsl -ldl -lm -lcrypt -lutil -lc
    libc=libc-2.31.so
    so=so
    useshrplib=false
    libperl=libperl.a
    gnulibc_version='2.31'
  Dynamic Linking:
    dlsrc=dl_dlopen.xs
    dlext=so
    d_dlsymun=undef
    ccdlflags='-Wl,-E'
    cccdlflags='-fPIC'
    lddlflags='-shared -O2 -L/usr/local/lib -fstack-protector-strong'


Characteristics of this binary (from libperl): 
  Compile-time options:
    HAS_TIMES
    MULTIPLICITY
    PERLIO_LAYERS
    PERL_COPY_ON_WRITE
    PERL_DONT_CREATE_GVSV
    PERL_IMPLICIT_CONTEXT
    PERL_MALLOC_WRAP
    PERL_OP_PARENT
    PERL_PRESERVE_IVUV
    USE_64_BIT_ALL
    USE_64_BIT_INT
    USE_ITHREADS
    USE_LARGE_FILES
    USE_LOCALE
    USE_LOCALE_COLLATE
    USE_LOCALE_CTYPE
    USE_LOCALE_NUMERIC
    USE_LOCALE_TIME
    USE_PERLIO
    USE_PERL_ATOF
    USE_REENTRANT_API
    USE_THREAD_SAFE_LOCALE
  Built under linux
  Compiled at Feb  5 2022 21:10:07
  %ENV:
    PERL="5.32.1"
    PERL5LIB=""
    PERL5OPT=""
    PERL5_CPANPLUS_IS_RUNNING="919402"
    PERL5_CPAN_IS_RUNNING="919402"
    PERLBREW_HOME="/home/david/.perlbrew"
    PERLBREW_MANPATH="/home/david/perl5/perlbrew/perls/perl-5.30.2/man"
    PERLBREW_PATH="/home/david/perl5/perlbrew/bin:/home/david/perl5/perlbrew/perls/perl-5.30.2/bin"
    PERLBREW_PERL="perl-5.30.2"
    PERLBREW_ROOT="/home/david/perl5/perlbrew"
    PERLBREW_SHELLRC_VERSION="0.89"
    PERLBREW_VERSION="0.89"
    PERLVER="5.32.1"
    PERL_INLINE_DIRECTORY="/home/david/.Inline-5.32.1"
    PERL_MM_USE_DEFAULT="1"
    PERL_USE_UNSAFE_INC="0"
  @INC:
    /home/david/cpantesting/perl-5.32.1/lib/site_perl/5.32.1/x86_64-linux-thread-multi
    /home/david/cpantesting/perl-5.32.1/lib/site_perl/5.32.1
    /home/david/cpantesting/perl-5.32.1/lib/5.32.1/x86_64-linux-thread-multi
    /home/david/cpantesting/perl-5.32.1/lib/5.32.1