App-Chart v274 Perl 5 v5.26.0 amd64-freebsd

Status
Pass
From
Slaven Rezić
Dist
App-Chart v274
Platform
Perl 5 v5.26.0 amd64-freebsd
Date
2024-05-17T01:41:22
ID
90992ffe-13ee-11ef-ab80-df126e8775ea
This distribution has been tested as part of the CPAN Testers
project, supporting the Perl programming language.  See
http://wiki.cpantesters.org/ for more information or email
questions to cpan-testers-discuss@perl.org


--
Dear Kevin Ryde,

This is a computer-generated report for App-Chart-274
on perl 5.26.0, created by CPAN-Reporter-1.2019.

Thank you for uploading your work to CPAN.  Congratulations!
All tests were successful.

Sections of this report:

    * Tester comments
    * Program output
    * Prerequisites
    * Environment and other context

------------------------------
TESTER COMMENTS
------------------------------

Additional comments from tester:

none provided

------------------------------
PROGRAM OUTPUT
------------------------------

Output from '/usr/bin/make test':

PERL_DL_NONLAZY=1 "/usr/perl5.26.0p/bin/perl" "-MExtUtils::Command::MM" "-MTest::Harness" "-e" "undef *Test::Harness::Switches; test_harness(0, 'blib/lib', 'blib/arch')" t/*.t
# tempdir /var/tmp/cpansmoker-1023/2024051703/chart-test-omf-mItQet
t/1-omf.t ...................... ok
# loading 76 suffix modules
t/1-symbol-setups.t ............ ok
# skip GT modules, GT::Prices not available -- Can't locate GT/Prices.pm in @INC (you may need to install the GT::Prices module) (@INC contains: t /home/cpansand/.cpan/build/2024051703/App-Chart-274-2/blib/lib /home/cpansand/.cpan/build/2024051703/App-Chart-274-2/blib/arch /usr/perl5.26.0p/lib/site_perl/5.26.0/amd64-freebsd /usr/perl5.26.0p/lib/site_perl/5.26.0 /usr/perl5.26.0p/lib/5.26.0/amd64-freebsd /usr/perl5.26.0p/lib/5.26.0 .) at t/1-Test-Compile.t line 51.
# skip TA modules, Finance::TA not available -- Can't locate Finance/TA.pm in @INC (you may need to install the Finance::TA module) (@INC contains: t /home/cpansand/.cpan/build/2024051703/App-Chart-274-2/blib/lib /home/cpansand/.cpan/build/2024051703/App-Chart-274-2/blib/arch /usr/perl5.26.0p/lib/site_perl/5.26.0/amd64-freebsd /usr/perl5.26.0p/lib/site_perl/5.26.0 /usr/perl5.26.0p/lib/5.26.0/amd64-freebsd /usr/perl5.26.0p/lib/5.26.0 .) at t/1-Test-Compile.t line 55.
t/1-Test-Compile.t ............. ok
t/1-Test-UseAllModules.t ....... ok
Xlib:  extension "RANDR" missing on display ":1".
# main_iterations(): ran 2 events/iterations
# main_iterations(): ran 2 events/iterations
t/AnnotationsDialog.t .......... ok
t/App-Chart-TZ.t ............... ok
t/Aroon.t ...................... ok
t/ATH.t ........................ ok
t/AX.t ......................... ok
# Test::MockTime::DateCalc not available -- Can't locate Test/MockTime/DateCalc.pm in @INC (you may need to install the Test::MockTime::DateCalc module) (@INC contains: t /home/cpansand/.cpan/build/2024051703/App-Chart-274-2/blib/lib /home/cpansand/.cpan/build/2024051703/App-Chart-274-2/blib/arch /usr/perl5.26.0p/lib/site_perl/5.26.0/amd64-freebsd /usr/perl5.26.0p/lib/site_perl/5.26.0 /usr/perl5.26.0p/lib/5.26.0/amd64-freebsd /usr/perl5.26.0p/lib/5.26.0 .) at t/Barchart.t line 42.
t/Barchart.t ................... ok
# have_bash 1
# bash_version: GNU bash, Version 4.4.5(0)-release (amd64-portbld-freebsd10.1)
# Copyright (C) 2016 Free Software Foundation, Inc.
# Lizenz GPLv3+: GNU GPL Version 3 oder jünger <http://gnu.org/licenses/gpl.html>
# 
# Dies ist freie Software.  Sie darf verändert und verteilt werden.
# Es wird keine Garantie gewährt, soweit das Gesetz es zulässt.
# have_sqlite3 1
# sqlite3_version: 3.15.1 2016-11-04 12:08:49 1136863c76576110e710dd5d69ab6bf347c65e36
t/bash-completion.t ............ ok
t/Calculation.t ................ ok
t/Chart.t ...................... ok
t/COG.t ........................ ok
t/Collapse.t ................... ok
# temp database file /var/tmp/cpansmoker-1023/2024051703/chart-test-database-transaction-F9TWfe.sqdb
t/Database.t ................... ok
Xlib:  extension "RANDR" missing on display ":1".
# main_iterations(): ran 1 events/iterations
# main_iterations(): ran 1 events/iterations
t/DeleteDialog.t ............... ok
Xlib:  extension "RANDR" missing on display ":1".
# main_iterations(): ran 1 events/iterations
# main_iterations(): ran 1 events/iterations
t/DeleteSymlistDialog.t ........ ok
t/DEMA.t ....................... ok
Xlib:  extension "RANDR" missing on display ":1".
# main_iterations(): ran 1 events/iterations
# main_iterations(): ran 6 events/iterations
# main_iterations(): ran 7 events/iterations
t/Diagnostics.t ................ ok
t/DMI.t ........................ ok
t/Download.t ................... ok
t/DownloadHandler.t ............ ok
t/EMA.t ........................ ok
t/EMAx2.t ...................... ok
t/EMAx3.t ...................... ok
t/Finance-Quote-Chart-load.t ... skipped: due to Finance::Quote not available
# Finance::Quote version 1.58
t/Finance-Quote-Chart.t ........ ok
t/FQ.t ......................... ok
t/Glib-Ex-DirBroadcast.t ....... ok
# Perl-Glib    version 1.3291
# Compiled against Glib version 2.46.2.
# Running on       Glib version 2.46.2.
t/Glib-Ex-MoreUtils.t .......... ok
# values: HASH(0x8020c72a0)
t/Glib-Ex-TieWeakNotify.t ...... ok
t/Graph.t ...................... ok
t/GT-DB-Chart-load.t ........... skipped: due to GT::DB not available
t/GT-DB-Chart.t ................ skipped: GT::DB not available -- Can't locate GT/DB.pm in @INC (you may need to install the GT::DB module) (@INC contains: t /home/cpansand/.cpan/build/2024051703/App-Chart-274-2/blib/lib /home/cpansand/.cpan/build/2024051703/App-Chart-274-2/blib/arch /usr/perl5.26.0p/lib/site_perl/5.26.0/amd64-freebsd /usr/perl5.26.0p/lib/site_perl/5.26.0 /usr/perl5.26.0p/lib/5.26.0/amd64-freebsd /usr/perl5.26.0p/lib/5.26.0 .) at t/GT-DB-Chart.t line 23.
t/GT.t ......................... skipped: GT::Indicators not available -- Can't locate GT/Indicators.pm in @INC (you may need to install the GT::Indicators module) (@INC contains: t /home/cpansand/.cpan/build/2024051703/App-Chart-274-2/blib/lib /home/cpansand/.cpan/build/2024051703/App-Chart-274-2/blib/arch /usr/perl5.26.0p/lib/site_perl/5.26.0/amd64-freebsd /usr/perl5.26.0p/lib/site_perl/5.26.0 /usr/perl5.26.0p/lib/5.26.0/amd64-freebsd /usr/perl5.26.0p/lib/5.26.0 .) at t/GT.t line 40.
t/Gtk2-Ex-ListModelPos.t ....... ok
Xlib:  extension "RANDR" missing on display ":1".
Xlib:  extension "RANDR" missing on display ":1".
t/Gtk2-Ex-ToplevelSingleton.t .. ok
Xlib:  extension "RANDR" missing on display ":1".
t/Gtk2-Ex-TreeRowPosition.t .... ok
Xlib:  extension "RANDR" missing on display ":1".
# Perl-Gtk2    version 1.24992
# Perl-Glib    version 1.3291
# Compiled against Glib version 2.46.2.
# Running on       Glib version 2.46.2.
# Compiled against Gtk version 2.24.29.
# Running on       Gtk version 2.24.29.
# has_screen ''
t/Gtk2-Ex-WidgetBits.t ......... ok
Xlib:  extension "RANDR" missing on display ":1".
t/GUI.t ........................ ok
# warmup_count() on 60: 207
t/GuppyMMA.t ................... ok
Xlib:  extension "RANDR" missing on display ":1".
t/HAxis.t ...................... ok
Xlib:  extension "RANDR" missing on display ":1".
# Test::Weaken::ExtraBits not available -- Can't locate Test/Weaken/ExtraBits.pm in @INC (you may need to install the Test::Weaken::ExtraBits module) (@INC contains: t /home/cpansand/.cpan/build/2024051703/App-Chart-274-2/blib/lib /home/cpansand/.cpan/build/2024051703/App-Chart-274-2/blib/arch /usr/perl5.26.0p/lib/site_perl/5.26.0/amd64-freebsd /usr/perl5.26.0p/lib/site_perl/5.26.0 /usr/perl5.26.0p/lib/5.26.0/amd64-freebsd /usr/perl5.26.0p/lib/5.26.0 .) at (eval 24) line 1.
# BEGIN failed--compilation aborted at (eval 24) line 1.
t/Heading.t .................... ok
Xlib:  extension "RANDR" missing on display ":1".
t/HScale.t ..................... ok
t/Ichimoku.t ................... ok
# FindBin /home/cpansand/.cpan/build/2024051703/App-Chart-274-2/t
# 108 series modules
t/IndicatorInfo.t .............. ok
t/IndicatorModel.t ............. ok
Xlib:  extension "RANDR" missing on display ":1".
# main_iterations(): ran 2 events/iterations
# main_iterations(): ran 9 events/iterations
# Test::Weaken::ExtraBits not available -- Can't locate Test/Weaken/ExtraBits.pm in @INC (you may need to install the Test::Weaken::ExtraBits module) (@INC contains: t /home/cpansand/.cpan/build/2024051703/App-Chart-274-2/blib/lib /home/cpansand/.cpan/build/2024051703/App-Chart-274-2/blib/arch /usr/perl5.26.0p/lib/site_perl/5.26.0/amd64-freebsd /usr/perl5.26.0p/lib/site_perl/5.26.0 /usr/perl5.26.0p/lib/5.26.0/amd64-freebsd /usr/perl5.26.0p/lib/5.26.0 .) at (eval 35) line 1.
# BEGIN failed--compilation aborted at (eval 35) line 1.
t/IntradayDialog.t ............. ok
Xlib:  extension "RANDR" missing on display ":1".
t/IntradayImage.t .............. ok
t/Job.t ........................ ok
t/JobStatusbarMessage.t ........ ok
Xlib:  extension "RANDR" missing on display ":1".
# main_iterations(): ran 1 events/iterations
# main_iterations(): ran 0 events/iterations
t/JobStopMenu.t ................ ok
t/KAMA.t ....................... ok
t/LaguerreFilter.t ............. ok
t/LatestHandler.t .............. ok
# Test::Weaken::ExtraBits not available -- Can't locate Test/Weaken/ExtraBits.pm in @INC (you may need to install the Test::Weaken::ExtraBits module) (@INC contains: t /home/cpansand/.cpan/build/2024051703/App-Chart-274-2/blib/lib /home/cpansand/.cpan/build/2024051703/App-Chart-274-2/blib/arch /usr/perl5.26.0p/lib/site_perl/5.26.0/amd64-freebsd /usr/perl5.26.0p/lib/site_perl/5.26.0 /usr/perl5.26.0p/lib/5.26.0/amd64-freebsd /usr/perl5.26.0p/lib/5.26.0 .) at (eval 24) line 1.
# BEGIN failed--compilation aborted at (eval 24) line 1.
t/ListStoreDBISeq.t ............ ok
# #LWP-Cookies-1.0
# #LWP-Cookies-1.0
# Set-Cookie3: timestamp="2024-05-17 01:40:29+00:00"; path="/"; domain=chart-lme-logged-in.local; port=0; expires="2024-05-17 02:40:29Z"; version=0
t/LME.t ........................ ok
# texi nodes 125
# no chart.texi node for "Dividends and Splits" ref in lib/App/Chart/Series/Derived/Adjust.pm
# no chart.texi node for "Weighted Close" ref in lib/App/Chart/Series/Derived/WeightedClose.pm
# no chart.texi node for "Barchart" ref in lib/App/Chart/Barchart.pm
# no chart.texi node for "Raw Data" ref in lib/App/Chart/Gtk2/RawDialog.pm
# no chart.texi node for "Typical Price" ref in lib/App/Chart/Series/Derived/TypicalPrice.pm
# no chart.texi node for "Midpoint" ref in lib/App/Chart/Series/Derived/Midpoint.pm
# no chart.texi node for "Casablanca Stock Exchange" ref in lib/App/Chart/Suffix/CAS.pm
# no chart.texi node for "Preferences" ref in lib/App/Chart/Gtk2/PreferencesDialog.pm
# source nodes 123
t/Manual.t ..................... ok
t/MLC.t ........................ ok
t/MX.t ......................... ok
t/NoSuffix.t ................... ok
# Test::MockTime::DateCalc not available -- Can't locate Test/MockTime/DateCalc.pm in @INC (you may need to install the Test::MockTime::DateCalc module) (@INC contains: t /home/cpansand/.cpan/build/2024051703/App-Chart-274-2/blib/lib /home/cpansand/.cpan/build/2024051703/App-Chart-274-2/blib/arch /usr/perl5.26.0p/lib/site_perl/5.26.0/amd64-freebsd /usr/perl5.26.0p/lib/site_perl/5.26.0 /usr/perl5.26.0p/lib/5.26.0/amd64-freebsd /usr/perl5.26.0p/lib/5.26.0 .) at t/NZ.t line 42.
t/NZ.t ......................... ok
t/OBV.t ........................ ok
Xlib:  extension "RANDR" missing on display ":1".
# main_iterations(): ran 2 events/iterations
# main_iterations(): ran 10 events/iterations
t/OpenDialog.t ................. ok
Xlib:  extension "RANDR" missing on display ":1".
GLib-GObject-CRITICAL **: Object class Gtk2__Ex__Datasheet__DBI__CellEditableText doesn't implement property 'editing-canceled' from interface 'GtkCellEditable' at /usr/perl5.26.0p/lib/site_perl/5.26.0/amd64-freebsd/Glib/Object/Subclass.pm line 235.
# Perl-Gtk2    version 1.24992
# Perl-Glib    version 1.3291
# Compiled against Glib version 2.46.2.
# Running on       Glib version 2.46.2.
# Compiled against Gtk version 2.24.29.
# Running on       Gtk version 2.24.29.
# main_iterations(): ran 2 events/iterations
# main_iterations(): ran 2 events/iterations
# Test::Weaken::ExtraBits not available -- Can't locate Test/Weaken/ExtraBits.pm in @INC (you may need to install the Test::Weaken::ExtraBits module) (@INC contains: t /home/cpansand/.cpan/build/2024051703/App-Chart-274-2/blib/lib /home/cpansand/.cpan/build/2024051703/App-Chart-274-2/blib/arch /usr/perl5.26.0p/lib/site_perl/5.26.0/amd64-freebsd /usr/perl5.26.0p/lib/site_perl/5.26.0 /usr/perl5.26.0p/lib/5.26.0/amd64-freebsd /usr/perl5.26.0p/lib/5.26.0 .) at (eval 27) line 1.
# BEGIN failed--compilation aborted at (eval 27) line 1.
t/RawDialog.t .................. ok
t/RBA.t ........................ ok
# multiply
# divide
# power
# abs
# neg
# unary +
# add
# sub
# cos
# exp
# int
# log
# sin
# sqrt
# prev
t/Series.t ..................... ok
t/SineMA.t ..................... ok
t/SMA.t ........................ ok
t/SymbolMatch.t ................ ok
# testlist insert
t/Symlist.t .................... ok
# Test::Weaken::ExtraBits not available -- Can't locate Test/Weaken/ExtraBits.pm in @INC (you may need to install the Test::Weaken::ExtraBits module) (@INC contains: t /home/cpansand/.cpan/build/2024051703/App-Chart-274-2/blib/lib /home/cpansand/.cpan/build/2024051703/App-Chart-274-2/blib/arch /usr/perl5.26.0p/lib/site_perl/5.26.0/amd64-freebsd /usr/perl5.26.0p/lib/site_perl/5.26.0 /usr/perl5.26.0p/lib/5.26.0/amd64-freebsd /usr/perl5.26.0p/lib/5.26.0 .) at (eval 29) line 1.
# BEGIN failed--compilation aborted at (eval 29) line 1.
t/SymlistListModel.t ........... ok
t/Sympred.t .................... ok
t/TA.t ......................... skipped: Cannot load Finance::TA -- Can't locate Finance/TA.pm in @INC (you may need to install the Finance::TA module) (@INC contains: t /home/cpansand/.cpan/build/2024051703/App-Chart-274-2/blib/lib /home/cpansand/.cpan/build/2024051703/App-Chart-274-2/blib/arch /usr/perl5.26.0p/lib/site_perl/5.26.0/amd64-freebsd /usr/perl5.26.0p/lib/site_perl/5.26.0 /usr/perl5.26.0p/lib/5.26.0/amd64-freebsd /usr/perl5.26.0p/lib/5.26.0 .) at t/TA.t line 41.
t/Texinfo-Util.t ............... ok
Xlib:  extension "RANDR" missing on display ":1".
# Test::Weaken::ExtraBits not available -- Can't locate Test/Weaken/ExtraBits.pm in @INC (you may need to install the Test::Weaken::ExtraBits module) (@INC contains: t /home/cpansand/.cpan/build/2024051703/App-Chart-274-2/blib/lib /home/cpansand/.cpan/build/2024051703/App-Chart-274-2/blib/arch /usr/perl5.26.0p/lib/site_perl/5.26.0/amd64-freebsd /usr/perl5.26.0p/lib/site_perl/5.26.0 /usr/perl5.26.0p/lib/5.26.0/amd64-freebsd /usr/perl5.26.0p/lib/5.26.0 .) at (eval 29) line 1.
# BEGIN failed--compilation aborted at (eval 29) line 1.
t/Ticker.t ..................... ok
Xlib:  extension "RANDR" missing on display ":1".
# main_iterations(): ran 6 events/iterations
# Glib->VERSION is 1.3291
# Test::Weaken::ExtraBits not available -- Can't locate Test/Weaken/ExtraBits.pm in @INC (you may need to install the Test::Weaken::ExtraBits module) (@INC contains: t /home/cpansand/.cpan/build/2024051703/App-Chart-274-2/blib/lib /home/cpansand/.cpan/build/2024051703/App-Chart-274-2/blib/arch /usr/perl5.26.0p/lib/site_perl/5.26.0/amd64-freebsd /usr/perl5.26.0p/lib/site_perl/5.26.0 /usr/perl5.26.0p/lib/5.26.0/amd64-freebsd /usr/perl5.26.0p/lib/5.26.0 .) at (eval 29) line 1.
# BEGIN failed--compilation aborted at (eval 29) line 1.
t/TickerMain.t ................. ok
t/TickerModel.t ................ ok
t/Timebase.t ................... ok
t/TMA.t ........................ ok
t/TO.t ......................... ok
t/VHF.t ........................ ok
Xlib:  extension "RANDR" missing on display ":1".
# Test::Weaken::ExtraBits not available -- Can't locate Test/Weaken/ExtraBits.pm in @INC (you may need to install the Test::Weaken::ExtraBits module) (@INC contains: t /home/cpansand/.cpan/build/2024051703/App-Chart-274-2/blib/lib /home/cpansand/.cpan/build/2024051703/App-Chart-274-2/blib/arch /usr/perl5.26.0p/lib/site_perl/5.26.0/amd64-freebsd /usr/perl5.26.0p/lib/site_perl/5.26.0 /usr/perl5.26.0p/lib/5.26.0/amd64-freebsd /usr/perl5.26.0p/lib/5.26.0 .) at (eval 26) line 1.
# BEGIN failed--compilation aborted at (eval 26) line 1.
t/View.t ....................... ok
t/Volume.t ..................... ok
Xlib:  extension "RANDR" missing on display ":1".
# main_iterations(): ran 3 events/iterations
# main_iterations(): ran 33 events/iterations
t/WatchlistDialog.t ............ ok
t/WatchlistModel.t ............. ok
# Test::MockTime and/or Test::MockTime::DateCalc not available
#   Can't locate Test/MockTime/DateCalc.pm in @INC (you may need to install the Test::MockTime::DateCalc module) (@INC contains: t /home/cpansand/.cpan/build/2024051703/App-Chart-274-2/blib/lib /home/cpansand/.cpan/build/2024051703/App-Chart-274-2/blib/arch /usr/perl5.26.0p/lib/site_perl/5.26.0/amd64-freebsd /usr/perl5.26.0p/lib/site_perl/5.26.0 /usr/perl5.26.0p/lib/5.26.0/amd64-freebsd /usr/perl5.26.0p/lib/5.26.0 .) at t/Yahoo.t line 35.
t/Yahoo.t ...................... ok
All tests successful.
Files=88, Tests=1682, 44 wallclock secs ( 0.21 usr  0.17 sys + 24.14 cusr 17.84 csys = 42.37 CPU)
Result: PASS

------------------------------
PREREQUISITES
------------------------------

Prerequisite modules loaded:

requires:

    Module                               Need  Have      
    ------------------------------------ ----- ----------
    Class::Singleton                     1.4   1.5       
    Class::WeakSingleton                 0     1.05      
    constant::defer                      0     6         
    Date::Calc                           5.0   6.4       
    Date::Parse                          0     2.32      
    DBD::SQLite                          1.27  1.74      
    DBI                                  0     1.643     
    DBI::Const::GetInfoType              0     2.008697  
    Encode::Locale                       0     1.05      
    File::HomeDir                        0.61  1.006     
    File::Slurp                          0     9999.32   
    File::Spec                           0     3.75      
    File::Temp                           0     0.2311    
    Glib                                 1.220 1.3291    
    Glib::Ex::ConnectProperties          18    19        
    Glib::Ex::FreezeNotify               1     16        
    Glib::Ex::ObjectBits                 12    16        
    Glib::Ex::SignalBits                 9     16        
    Glib::Ex::SignalIds                  16    16        
    Glib::Ex::SourceIds                  2     16        
    Glib::Object::Subclass               0     1.3291    
    Gtk2                                 1.220 1.24992   
    Gtk2::Ex::ActionTooltips             10    48        
    Gtk2::Ex::AdjustmentBits             47    48        
    Gtk2::Ex::CrossHair                  17    23        
    Gtk2::Ex::Datasheet::DBI             0     2.1       
    Gtk2::Ex::DateSpinner                2     10        
    Gtk2::Ex::DateSpinner::CellRenderer  0     10        
    Gtk2::Ex::Dragger                    2     10        
    Gtk2::Ex::EntryBits                  11    48        
    Gtk2::Ex::ErrorTextDialog            2     11        
    Gtk2::Ex::ErrorTextDialog::Handler   2     11        
    Gtk2::Ex::GdkBits                    23    48        
    Gtk2::Ex::History                    1     8         
    Gtk2::Ex::History::Action            1     8         
    Gtk2::Ex::KeySnooper                 3     48        
    Gtk2::Ex::Lasso                      1     23        
    Gtk2::Ex::ListModelConcat            1     11        
    Gtk2::Ex::MenuBits                   17    48        
    Gtk2::Ex::MenuView                   1     4         
    Gtk2::Ex::NoShrink                   2     4         
    Gtk2::Ex::NumAxis                    4     6         
    Gtk2::Ex::PixbufBits                 35    48        
    Gtk2::Ex::Statusbar::Message         47    48        
    Gtk2::Ex::Statusbar::MessageUntilKey 11    48        
    Gtk2::Ex::TableBits                  47    48        
    Gtk2::Ex::TextBufferBits             18    48        
    Gtk2::Ex::TextView::FollowAppend     1     11        
    Gtk2::Ex::TickerView                 7     15        
    Gtk2::Ex::TreeModel::ImplBits        17    48        
    Gtk2::Ex::TreeModelBits              16    48        
    Gtk2::Ex::TreeModelFilter::Change    9     48        
    Gtk2::Ex::TreeModelFilter::Draggable 0     3         
    Gtk2::Ex::TreeViewBits               8     48        
    Gtk2::Ex::Units                      13    48        
    Gtk2::Ex::WidgetBits                 10    48        
    Gtk2::Ex::WidgetCursor               8     16        
    Gtk2::Ex::WidgetEvents               21    48        
    Gtk2::Pango                          0     0.01      
    HTML::Form                           0     6.11      
    HTML::LinkExtor                      0     3.78      
    HTML::TableExtract                   0     2.15      
    HTML::TreeBuilder                    0     5.07      
    HTTP::Cookies                        0     6.11      
    HTTP::Message                        5.814 6.45      
    HTTP::Request                        0     6.45      
    IO::String                           1.07  1.08      
    JSON                                 0     4.10      
    Lisp::Printer                        0     1.07      
    Lisp::Reader                         0.04  1.10      
    Lisp::Symbol                         0     1.06      
    List::MoreUtils                      0.24  0.430     
    Locale::Messages                     1.19  1.32      
    Locale::TextDomain                   1.19  1.32      
    LWP                                  5.814 6.72      
    LWP::UserAgent                       0     6.72      
    Math::Round                          0     0.07      
    Module::Find                         0.06  0.14      
    Module::Pluggable                    0     5.2       
    Module::Util                         0     1.09      
    Number::Format                       1.60  1.75      
    perl                                 5.010 5.026000  
    PerlIO::via::EscStatus               2     11        
    PerlIO::via::EscStatus::Parser       0     11        
    PerlIO::via::EscStatus::ShowAll      0     11        
    PerlIO::via::EscStatus::ShowNone     0     11        
    POSIX::Wide                          0     10        
    Proc::SyncExec                       0     1.01      
    Regexp::Common                       0     2017060201
    Regexp::Tr                           0     0.05      
    Set::IntSpan::Fast                   1.10  1.15      
    Software::License::GPL_3             0.001 0.104001  
    Spreadsheet::ParseExcel              0     0.66      
    Spreadsheet::ParseExcel::Utility     0     0.66      
    Text::Glob                           0     0.11      
    Tie::Cache                           0     0.21      
    Tie::IxHash                          0     1.23      
    Tie::TZ                              1     11        
    Time::HiRes                          0     1.9764    
    Time::Local                          1.27  1.35      
    Time::TZ                             6     11        
    URI::Escape                          0     5.26      
    URI::file                            0     5.26      

build_requires:

    Module                               Need  Have      
    ------------------------------------ ----- ----------
    ExtUtils::MakeMaker                  0     7.70      
    Test::More                           0     1.302198  
    Test::Weaken::Gtk2                   17    48        

configure_requires:

    Module                               Need  Have      
    ------------------------------------ ----- ----------
    ExtUtils::MakeMaker                  0     7.70      


------------------------------
ENVIRONMENT AND OTHER CONTEXT
------------------------------

Environment variables:

    LC_ALL = de_DE.ISO8859-1
    PATH = /usr/local/bin:/usr/bin:/bin:/usr/local/sbin:/usr/sbin:/sbin:/home/cpansand/bin/freebsd10.3:/home/cpansand/bin/sh:/home/cpansand/bin:/usr/games:/home/cpansand/devel:/home/eserte/src/srezic-misc/scripts
    PERL5LIB = 
    PERL5OPT = 
    PERL5_CPANPLUS_IS_RUNNING = 96078
    PERL5_CPAN_IS_RUNNING = 96078
    PERL5_CPAN_IS_RUNNING_IN_RECURSION = 80903,96078
    PERLDOC = -MPod::Perldoc::ToTextOverstrike
    PERL_BATCH = yes
    PERL_CANARY_STABILITY_NOPROMPT = 1
    PERL_CPAN_REPORTER_CONFIG = /var/tmp/cpansmoker-1023/2024051703/cpanreporter_000_config.ini
    PERL_EXTUTILS_AUTOINSTALL = --defaultdeps
    PERL_USE_UNSAFE_INC = 1
    SHELL = /usr/local/bin/zsh
    TERM = screen
    TMPDIR = /var/tmp/cpansmoker-1023/2024051703

Perl special variables (and OS-specific diagnostics, for MSWin32):

    $^X = /usr/perl5.26.0p/bin/perl
    $UID/$EUID = 1023 / 1023
    $GID = 1023 1023
    $EGID = 1023 1023

Perl module toolchain versions installed:

    Module              Have    
    ------------------- --------
    CPAN                2.34    
    CPAN::Meta          2.150010
    Cwd                 3.75    
    ExtUtils::CBuilder  0.280236
    ExtUtils::Command   7.70    
    ExtUtils::Install   2.22    
    ExtUtils::MakeMaker 7.70    
    ExtUtils::Manifest  1.75    
    ExtUtils::ParseXS   3.51    
    File::Spec          3.75    
    JSON                4.10    
    JSON::PP            4.16    
    Module::Build       0.4234  
    Module::Signature   0.87    
    Parse::CPAN::Meta   2.150010
    Test2               1.302198
    Test::Harness       3.47    
    Test::More          1.302198
    YAML                1.30    
    YAML::Syck          1.34    
    version             0.9930  


--

Summary of my perl5 (revision 5 version 26 subversion 0) configuration:
   
  Platform:
    osname=freebsd
    osvers=10.3-release-p11
    archname=amd64-freebsd
    uname='freebsd cvrsnica-freebsd-101.herceg.de 10.3-release-p11 freebsd 10.3-release-p11 #0: mon oct 24 18:49:24 utc 2016 root@amd64-builder.daemonology.net:usrobjusrsrcsysgeneric amd64 '
    config_args='-ds -e -Dprefix=/usr/perl5.26.0p -Dcf_email=srezic@cpan.org -Doptimize=-O2 -pipe'
    hint=recommended
    useposix=true
    d_sigaction=define
    useithreads=undef
    usemultiplicity=undef
    use64bitint=define
    use64bitall=define
    uselongdouble=undef
    usemymalloc=n
    default_inc_excludes_dot=define
    bincompat5005=undef
  Compiler:
    cc='cc'
    ccflags ='-DHAS_FPSETMASK -DHAS_FLOATINGPOINT_H -fno-strict-aliasing -pipe -fstack-protector -I/usr/local/include -D_FORTIFY_SOURCE=2'
    optimize='-O2 -pipe'
    cppflags='-DHAS_FPSETMASK -DHAS_FLOATINGPOINT_H -fno-strict-aliasing -pipe -fstack-protector -I/usr/local/include'
    ccversion=''
    gccversion='4.2.1 Compatible FreeBSD Clang 3.4.1 (tags/RELEASE_34/dot1-final 208032)'
    gccosandvers=''
    intsize=4
    longsize=8
    ptrsize=8
    doublesize=8
    byteorder=12345678
    doublekind=3
    d_longlong=define
    longlongsize=8
    d_longdbl=define
    longdblsize=16
    longdblkind=3
    ivtype='long'
    ivsize=8
    nvtype='double'
    nvsize=8
    Off_t='off_t'
    lseeksize=8
    alignbytes=8
    prototype=define
  Linker and Libraries:
    ld='cc'
    ldflags ='-pthread -Wl,-E  -fstack-protector -L/usr/local/lib'
    libpth=/usr/lib /usr/local/lib /usr/include/clang/3.4.1 /usr/lib
    libs=-lpthread -lgdbm -lm -lcrypt -lutil -lc -lelf
    perllibs=-lpthread -lm -lcrypt -lutil -lc -lelf
    libc=
    so=so
    useshrplib=false
    libperl=libperl.a
    gnulibc_version=''
  Dynamic Linking:
    dlsrc=dl_dlopen.xs
    dlext=so
    d_dlsymun=undef
    ccdlflags=' '
    cccdlflags='-DPIC -fPIC'
    lddlflags='-shared  -L/usr/local/lib -fstack-protector'


Characteristics of this binary (from libperl): 
  Compile-time options:
    HAS_TIMES
    PERLIO_LAYERS
    PERL_COPY_ON_WRITE
    PERL_DONT_CREATE_GVSV
    PERL_MALLOC_WRAP
    PERL_OP_PARENT
    PERL_PRESERVE_IVUV
    USE_64_BIT_ALL
    USE_64_BIT_INT
    USE_LARGE_FILES
    USE_LOCALE
    USE_LOCALE_COLLATE
    USE_LOCALE_CTYPE
    USE_LOCALE_NUMERIC
    USE_LOCALE_TIME
    USE_PERLIO
    USE_PERL_ATOF
  Built under freebsd
  Compiled at Jun  3 2017 22:58:33
  %ENV:
    PERL5LIB=""
    PERL5OPT=""
    PERL5_CPANPLUS_IS_RUNNING="96078"
    PERL5_CPAN_IS_RUNNING="96078"
    PERL5_CPAN_IS_RUNNING_IN_RECURSION="80903,96078"
    PERLDOC="-MPod::Perldoc::ToTextOverstrike"
    PERL_BATCH="yes"
    PERL_CANARY_STABILITY_NOPROMPT="1"
    PERL_CPAN_REPORTER_CONFIG="/var/tmp/cpansmoker-1023/2024051703/cpanreporter_000_config.ini"
    PERL_EXTUTILS_AUTOINSTALL="--defaultdeps"
    PERL_USE_UNSAFE_INC="1"
  @INC:
    /usr/perl5.26.0p/lib/site_perl/5.26.0/amd64-freebsd
    /usr/perl5.26.0p/lib/site_perl/5.26.0
    /usr/perl5.26.0p/lib/5.26.0/amd64-freebsd
    /usr/perl5.26.0p/lib/5.26.0
    .