Report for Sub-Spec-Gen-ForModule-0.02

Back
From: metabase:user:30f4dfbe-2aae-11df-837a-5e0a49663a4f
Subject: PASS Sub-Spec-Gen-ForModule-0.02 v5.10.0 NetBSD
Date: 2012-01-21T20:00:27Z

This distribution has been tested as part of the CPAN Testers
project, supporting the Perl programming language.  See
http://wiki.cpantesters.org/ for more information or email
questions to cpan-testers-discuss@perl.org


--
Dear Steven Haryanto,

This is a computer-generated report for Sub-Spec-Gen-ForModule-0.02
on perl 5.10.0, created by CPAN-Reporter-1.2003.

Thank you for uploading your work to CPAN.  Congratulations!
All tests were successful.

Sections of this report:

    * Tester comments
    * Program output
    * Prerequisites
    * Environment and other context

------------------------------
TESTER COMMENTS
------------------------------

Additional comments from tester:

this report is from an automated smoke testing program
and was not reviewed by a human for accuracy

------------------------------
PROGRAM OUTPUT
------------------------------

Output from './Build test':

t/00-compile.t ............ ok
t/release-pod-coverage.t .. skipped: these tests are for release candidate testing
t/release-pod-syntax.t .... skipped: these tests are for release candidate testing
All tests successful.
Files=3, Tests=1,  1 wallclock secs ( 0.03 usr  0.00 sys +  0.24 cusr  0.03 csys =  0.30 CPU)
Result: PASS

------------------------------
PREREQUISITES
------------------------------

Prerequisite modules loaded:

requires:

    Module           Need     Have    
    ---------------- -------- --------
    Exporter::Lite   0        0.02    
    Module::Info     0        0.32    
    perl             5.010000 5.010000
    SHARYANTO::Utils 0.06     0.09    
    Sub::Spec        v1.0.3   1.0.7   
    Test::More       0.96     0.98    

build_requires:

    Module           Need     Have    
    ---------------- -------- --------
    Module::Build    0.3601   0.3800  

configure_requires:

    Module           Need     Have    
    ---------------- -------- --------
    Module::Build    0.3601   0.3800  


------------------------------
ENVIRONMENT AND OTHER CONTEXT
------------------------------

Environment variables:

    AUTOMATED_TESTING = 1
    LD_LIBRARY_PATH = :/usr/local/lib:/usr/lib/qt-3.3/lib:/usr/X11R6/lib
    PATH = /home/njh/perl5/perlbrew/bin:/home/njh/perl5/perlbrew/perls/perl-5.10.0/bin:/home/njh/perl5/perlbrew/bin:/usr/bin:/bin:/usr/pkg/bin:/usr/local/bin:/home/njh/bin::/opt/intel/cc/9.1.038/bin:/opt/IBMJava2-13/bin:/usr/X11R6/bin:/home/njh/linux/bin:/usr/pkg/lib/perl5/site_perl/bin
    PATH_WITHOUT_PERLBREW = /usr/bin:/bin:/usr/pkg/bin:/usr/local/bin:/home/njh/bin::/opt/intel/cc/9.1.038/bin:/opt/IBMJava2-13/bin:/usr/X11R6/bin
    PERL5LIB = /home/njh/.cpan/build/SHARYANTO-Utils-0.09-nfdm3i/blib/arch:/home/njh/.cpan/build/SHARYANTO-Utils-0.09-nfdm3i/blib/lib:/home/njh/.cpan/build/Data-Clone-0.003-kIB3nc/blib/arch:/home/njh/.cpan/build/Data-Clone-0.003-kIB3nc/blib/lib:/home/njh/.cpan/build/Parse-Netstat-0.03-rzhast/blib/arch:/home/njh/.cpan/build/Parse-Netstat-0.03-rzhast/blib/lib:/home/njh/.cpan/build/Template-Tiny-1.12-b0o6v9/blib/arch:/home/njh/.cpan/build/Template-Tiny-1.12-b0o6v9/blib/lib:/home/njh/.cpan/build/Sub-Spec-1.0.7-aOz_kX/blib/arch:/home/njh/.cpan/build/Sub-Spec-1.0.7-aOz_kX/blib/lib
    PERL5OPT = 
    PERL5_CPANPLUS_IS_RUNNING = 9809
    PERL5_CPAN_IS_RUNNING = 9809
    PERL5_CPAN_IS_RUNNING_IN_RECURSION = 10600,9809
    PERLBREW_HOME = /home/njh/.perlbrew
    PERLBREW_MANPATH = /home/njh/perl5/perlbrew/perls/perl-5.10.0/man
    PERLBREW_PATH = /home/njh/perl5/perlbrew/bin:/home/njh/perl5/perlbrew/perls/perl-5.10.0/bin
    PERLBREW_PERL = perl-5.10.0
    PERLBREW_ROOT = /home/njh/perl5/perlbrew
    PERLBREW_VERSION = 0.39
    PERL_CR_SMOKER_CURRENT = Sub-Spec-Gen-ForModule-0.02
    PERL_EXTUTILS_AUTOINSTALL = --defaultdeps
    PERL_MM_USE_DEFAULT = 1
    SHELL = /usr/pkg/bin/bash
    TERM = vt100

Perl special variables (and OS-specific diagnostics, for MSWin32):

    $^X = /home/njh/perl5/perlbrew/perls/perl-5.10.0/bin/perl
    $UID/$EUID = 500 / 500
    $GID = 100 0 100
    $EGID = 100 0 100

Perl module toolchain versions installed:

    Module              Have    
    ------------------- --------
    CPAN                1.9800  
    CPAN::Meta          2.113640
    Cwd                 3.33    
    ExtUtils::CBuilder  0.280202
    ExtUtils::Command   1.17    
    ExtUtils::Install   1.54    
    ExtUtils::MakeMaker 6.62    
    ExtUtils::Manifest  1.60    
    ExtUtils::ParseXS   3.11    
    File::Spec          3.33    
    JSON                2.53    
    JSON::PP            2.27200 
    Module::Build       0.3800  
    Module::Signature   n/a     
    Parse::CPAN::Meta   1.4401  
    Test::Harness       3.23    
    Test::More          0.98    
    YAML                0.78    
    YAML::Syck          1.19    
    version             0.95    


--

Summary of my perl5 (revision 5 version 10 subversion 0) configuration:
  Platform:
    osname=netbsd, osvers=4.0, archname=i386-netbsd
    uname='netbsd philips.bandsman.co.uk 4.0 netbsd 4.0 (generic) #0: sun dec 16 00:20:10 pst 2007 builds@wb34:homebuildsabnetbsd-4-0-releasei386200712160005z-objhomebuildsabnetbsd-4-0-releasesrcsysarchi386compilegeneric i386 '
    config_args='-de -Dprefix=/home/njh/perl5/perlbrew/perls/perl-5.10.0'
    hint=recommended, useposix=true, d_sigaction=define
    useithreads=undef, usemultiplicity=undef
    useperlio=define, d_sfio=undef, uselargefiles=define, usesocks=undef
    use64bitint=undef, use64bitall=undef, uselongdouble=undef
    usemymalloc=n, bincompat5005=undef
  Compiler:
    cc='cc', ccflags ='-fno-strict-aliasing -pipe -I/usr/pkg/include -I/usr/local/include',
    optimize='-O',
    cppflags='-fno-strict-aliasing -pipe -I/usr/pkg/include -I/usr/local/include'
    ccversion='', gccversion='4.1.2 20061021 prerelease (NetBSD nb3 20061125)', gccosandvers=''
    intsize=4, longsize=4, ptrsize=4, doublesize=8, byteorder=1234
    d_longlong=define, longlongsize=8, d_longdbl=define, longdblsize=12
    ivtype='long', ivsize=4, nvtype='double', nvsize=8, Off_t='off_t', lseeksize=8
    alignbytes=4, prototype=define
  Linker and Libraries:
    ld='cc', ldflags =' -Wl,-rpath,/usr/pkg/lib -Wl,-rpath,/usr/local/lib -L/usr/pkg/lib -L/usr/local/lib'
    libpth=/usr/pkg/lib /usr/local/lib /lib /usr/lib
    libs=-lgdbm -lm -lcrypt -lutil -lc -lposix
    perllibs=-lm -lcrypt -lutil -lc -lposix
    libc=/lib/libc.so, so=so, useshrplib=false, libperl=libperl.a
    gnulibc_version=''
  Dynamic Linking:
    dlsrc=dl_dlopen.xs, dlext=so, d_dlsymun=undef, ccdlflags='-Wl,-E '
    cccdlflags='-DPIC -fPIC ', lddlflags='--whole-archive -shared  -L/usr/pkg/lib -L/usr/local/lib'


Characteristics of this binary (from libperl): 
  Compile-time options: PERL_DONT_CREATE_GVSV PERL_MALLOC_WRAP
                        USE_LARGE_FILES USE_PERLIO
  Built under netbsd
  Compiled at Jul 15 2011 23:01:57
  %ENV:
    PERL5LIB="/home/njh/.cpan/build/SHARYANTO-Utils-0.09-nfdm3i/blib/arch:/home/njh/.cpan/build/SHARYANTO-Utils-0.09-nfdm3i/blib/lib:/home/njh/.cpan/build/Data-Clone-0.003-kIB3nc/blib/arch:/home/njh/.cpan/build/Data-Clone-0.003-kIB3nc/blib/lib:/home/njh/.cpan/build/Parse-Netstat-0.03-rzhast/blib/arch:/home/njh/.cpan/build/Parse-Netstat-0.03-rzhast/blib/lib:/home/njh/.cpan/build/Template-Tiny-1.12-b0o6v9/blib/arch:/home/njh/.cpan/build/Template-Tiny-1.12-b0o6v9/blib/lib:/home/njh/.cpan/build/Sub-Spec-1.0.7-aOz_kX/blib/arch:/home/njh/.cpan/build/Sub-Spec-1.0.7-aOz_kX/blib/lib"
    PERL5OPT=""
    PERL5_CPANPLUS_IS_RUNNING="9809"
    PERL5_CPAN_IS_RUNNING="9809"
    PERL5_CPAN_IS_RUNNING_IN_RECURSION="10600,9809"
    PERLBREW_HOME="/home/njh/.perlbrew"
    PERLBREW_MANPATH="/home/njh/perl5/perlbrew/perls/perl-5.10.0/man"
    PERLBREW_PATH="/home/njh/perl5/perlbrew/bin:/home/njh/perl5/perlbrew/perls/perl-5.10.0/bin"
    PERLBREW_PERL="perl-5.10.0"
    PERLBREW_ROOT="/home/njh/perl5/perlbrew"
    PERLBREW_VERSION="0.39"
    PERL_CR_SMOKER_CURRENT="Sub-Spec-Gen-ForModule-0.02"
    PERL_EXTUTILS_AUTOINSTALL="--defaultdeps"
    PERL_MM_USE_DEFAULT="1"
  @INC:
    /home/njh/.cpan/build/SHARYANTO-Utils-0.09-nfdm3i/blib/arch
    /home/njh/.cpan/build/SHARYANTO-Utils-0.09-nfdm3i/blib/lib
    /home/njh/.cpan/build/Data-Clone-0.003-kIB3nc/blib/arch
    /home/njh/.cpan/build/Data-Clone-0.003-kIB3nc/blib/lib
    /home/njh/.cpan/build/Parse-Netstat-0.03-rzhast/blib/arch
    /home/njh/.cpan/build/Parse-Netstat-0.03-rzhast/blib/lib
    /home/njh/.cpan/build/Template-Tiny-1.12-b0o6v9/blib/arch
    /home/njh/.cpan/build/Template-Tiny-1.12-b0o6v9/blib/lib
    /home/njh/.cpan/build/Sub-Spec-1.0.7-aOz_kX/blib/arch
    /home/njh/.cpan/build/Sub-Spec-1.0.7-aOz_kX/blib/lib
    /home/njh/perl5/perlbrew/perls/perl-5.10.0/lib/5.10.0/i386-netbsd
    /home/njh/perl5/perlbrew/perls/perl-5.10.0/lib/5.10.0
    /home/njh/perl5/perlbrew/perls/perl-5.10.0/lib/site_perl/5.10.0/i386-netbsd
    /home/njh/perl5/perlbrew/perls/perl-5.10.0/lib/site_perl/5.10.0
    .